{"text_format":"3","workbook":"xlsx","n_sheets":66,"sheets":["Инструкция","Лог обновления","Титульный","modSheetTitle","Список территорий","Список объектов","TECHSHEET","TECH_HORISONTAL","TECH_VERTICAL","REESTR_ORG","REESTR_SOURCE","ТС.БПр","ТС.БТр","ТС.РО","ТС.Т","ХВС.БПр","ХВС.БТр","ХВС.РО","ХВС.Р","БПр","БТр","РО","Р","Комментарии","Проверка","REESTR_MO","REESTR_LOCATION","AUTHORISATION","DICTIONARIES","PLAN1X_LIST_ORG","PLAN1X_LIST_MO","PLAN1X_LIST_SUBSIDIARY","PLAN1X_LIST_DPR","PLAN1X_LIST_SRC","PLAN1X_LIST_TMX","modGetGeoBase","modInfo","modUIButtons","modVLDCommon","modVLDIntegrity","modVLDData","modCommonProcedures","modBalPr","modBalTr","modCalc","modFuel","modReagent","modListMO","modListObjects","modRequestSpecificData","modRequestGenericData","modfrmRegion","modVLDGeneral","modPLAN1XUpdate","modVLDUniqueness","modfrmReestr","modfrmOrg","modUpdTemplMain","modfrmCheckUpdates","modfrmDateChoose","modIHLCommandBar","modfrmHEATAdditionalOrgData","modfrmHEATFUELSelector","modfrmPLAN1XCheckInIsInProgress","modfrmPLAN1XUpdateIsInProgress","modfrmReportMode"],"not_rendered":{"images":34,"macros":1,"defined_names":545,"comments":9},"read":"whole","date_system":"1900"}

{"sheet":"Инструкция","index":0,"n_rows":105,"n_cols":27,"rows_kept":105,"merged":[[1,1,1,6],[2,1,2,2],[4,1,4,24],[6,4,18,23],[20,5,20,12],[20,15,20,23],[21,5,21,12],[21,15,21,23],[34,4,38,23],[40,4,40,16],[40,17,40,24],[45,4,56,23],[58,4,58,9],[58,10,58,23],[59,4,59,9],[59,10,59,23],[72,4,72,9],[72,10,72,23],[75,4,75,6],[75,7,75,23],[76,4,76,9],[76,10,76,23],[77,4,77,9],[77,10,77,23],[78,4,78,9],[78,10,78,23],[92,4,92,23],[94,5,94,18],[96,5,96,23],[102,4,102,16],[102,17,102,24],[103,4,103,16],[103,17,103,24],[104,4,104,16],[104,17,104,24]]}
[{"$nulls":26}," (требуется обновление)"]
[null,{"$f":"\"Код отчёта: \" & GetCode()","v":"Код отчёта: BALANCE.CALC.TARIFF.VOTV.2017.FACT"}]
[null,{"$f":"\"Версия \" & GetVersion()","v":"Версия 1.0"}]
[]
[null,"Показатели организаций коммунального комплекса за 2017 год (факт)"]
[]
[{"$nulls":4},"• На рабочем месте должен быть установлен MS Office 2003 SP3, 2007 SP3, 2010, 2013 с полной версией MS Excel\n\n• Макросы во время работы должны быть включены (!)\n\n• Для корректной работы отчёта требуется выбрать низкий уровень безопасности\n(В меню MS Excel 2003: Сервис | Макрос | Безопасность | выбрать пункт «Низкая безопасность» | OK)\n(В меню MS Excel 2007/2010/2013: Параметры Excel | Центр управления безопасностью | Параметры центра управления безопасностью | Параметры макросов | Включить все макросы | ОК)\n\n• Если Вы работаете в табличном процессоре MS Excel 2007 и выше, то можете использовать для работы формат XLSB (Двоичная книга Excel). При работе в формате XLSB заметно быстрее происходит сохранение файла, а также уменьшается размер по сравнению с форматами XLS и XLSM\n\n• Не рекомендуется снимать защиту с листов и каким-либо образом модифицировать защищаемые формулы и расчётные поля, в противном случае, отчёт будет отклонён системой\n\n• При сохранении не следует выбирать формат XLSX (Книга Excel), так как в указанном формате макросы, необходимые для работы отчёта, безвозвратно удаляются"]
{"$rows_empty":13}
[{"$nulls":4},"A"," - предназначенные для заполнения",{"$nulls":8},"A"," - ссылки и автозаполняемые поля"]
[{"$nulls":4},"A"," - с формулами и константами",{"$nulls":8},"A"," - обязательные для заполнения"]
{"$rows_empty":12}
[{"$nulls":4},"Если в предложенном Вам списке необходимая организация, МР/МО отсутствуют, обновите реестры с помощью кнопок на листе \"Список организаций\"\n\nВ результате синхронизации с базой данных список организаций (МР/МО) будет заменён актуальным (механизм синхронизации требует подключения к сети Интернет и основан на использовании протокола HTTPS (TCP порт 443))\n\nЕсли после обновления Вам не удалось найти необходимую организацию в списке, обратитесь к ответственному за поддержание реестра Вашего региона."]
[]
[]
[]
[]
[]
[{"$nulls":4},"Адрес сервера ЕИАС для запроса данных:",{"$nulls":12},"https://eias.ru"]
[]
[]
[]
[]
[{"$nulls":4},"• При сохранении шаблона осуществляется проверка корректности данных, в том числе на наличие значений в ячейках, обязательных для заполнения\n\n• Если какая-то ячейка не удовлетворяет условию проверки, на лист «Проверка» добавляется гиперссылка на данную ячейку и указывается причина ошибки\n\n• В колонке «Статус» для каждого сообщения возможны 2 значения: ошибка и предупреждение\n\n• При наличии сообщений со статусом «Ошибка» шаблон будет отклонён системой и не будет загружен в хранилище данных, сообщения со статусом «Предупреждение» носят информационный характер, и такой шаблон будет принят системой"]
{"$rows_empty":12}
[{"$nulls":4},"Консультации:",{"$nulls":5},"Обратиться за помощью"]
[{"$nulls":4},"Дистрибутивы:",{"$nulls":5},"Перейти"]
{"$rows_empty":12}
[{"$nulls":4},"Руководство по заполнению:",{"$nulls":5},"Перейти к руководству по заполнению"]
[]
[]
[]
[{"$nulls":4},"Сопровождение:",{"$nulls":5},"Обратиться за помощью"]
[{"$nulls":4},"Отчётные формы:",{"$nulls":5},"Перейти к разделу"]
[{"$nulls":4},"Хранилище документов:",{"$nulls":5},"Руководство по загрузке документов"]
{"$rows_empty":13}
[{"$nulls":4},"При наличии подключения к Интернет, можно автоматически проверять наличие доступных обновлений. Выберите способ оповещения о наличии обновлений для отчёта:"]
[]
[{"$nulls":5},"проверять доступные обновления (рекомендуется)",{"$nulls":20},"y"]
[]
[{"$nulls":5},"никогда не проверять наличие обновлений (не рекомендуется)"]
[]
[]
[]
[]
[]
[{"$nulls":4},"Использовать прокси-сервер для запроса обновлений",{"$nulls":12},"нет"]
[{"$nulls":4},"Адрес прокси-сервера"]
[{"$nulls":4},"Порт"]

{"sheet":"Лог обновления","index":1,"n_rows":12,"n_cols":4,"rows_kept":12,"hidden":true}
[]
["3/17/2012  12:12:41 AM","Дата/Время","Сообщение","Статус"]
[null,"7/25/2018  3:13:18 PM","Проверка доступных обновлений...","Информация"]
[null,"7/25/2018  3:13:20 PM","Нет доступных обновлений для отчёта с кодом BALANCE.CALC.TARIFF.VOTV.2017.FACT!","Информация"]
[null,"7/27/2018  11:20:54 AM","Проверка доступных обновлений...","Информация"]
[null,"7/27/2018  11:21:00 AM","Нет доступных обновлений для отчёта с кодом BALANCE.CALC.TARIFF.VOTV.2017.FACT!","Информация"]
[null,"7/31/2018  2:41:20 PM","Проверка доступных обновлений...","Информация"]
[null,"7/31/2018  2:41:21 PM","Нет доступных обновлений для отчёта с кодом BALANCE.CALC.TARIFF.VOTV.2017.FACT!","Информация"]
[null,"8/1/2018  5:03:30 PM","Проверка доступных обновлений...","Информация"]
[null,"8/1/2018  5:03:31 PM","Нет доступных обновлений для отчёта с кодом BALANCE.CALC.TARIFF.VOTV.2017.FACT!","Информация"]
[null,"8/6/2018  11:22:11 AM","Проверка доступных обновлений...","Информация"]
[null,"8/6/2018  11:22:13 AM","Нет доступных обновлений для отчёта с кодом BALANCE.CALC.TARIFF.VOTV.2017.FACT!","Информация"]

{"sheet":"Титульный","index":2,"n_rows":53,"n_cols":17,"rows_kept":53,"merged":[[4,4,4,7],[6,4,6,5],[8,4,9,5],[11,4,11,5],[13,4,13,5],[14,4,14,5],[15,4,15,5],[16,4,16,5],[17,4,17,5],[18,4,18,5],[19,4,19,5],[20,4,20,5],[22,4,22,5],[23,4,23,5],[24,4,24,5],[25,4,25,5],[29,4,29,5],[30,4,30,5],[34,4,36,4],[38,4,38,5],[41,4,41,7],[43,4,46,4],[48,4,48,7],[49,4,49,7],[50,4,50,7],[52,4,52,5]]}
[]
[]
[]
[{"$nulls":4},"- обновление индикаторов проверки отчёта"]
[{"$nulls":4},"Технико-экономические показатели регулируемой организации (факт)"]
[]
[{"$nulls":4},"Субъект РФ",null,null,"Республика Башкортостан",{"$nulls":8},"MANDATORY"]
[]
[{"$nulls":4},"Отчётный период",null,null,"2017",{"$nulls":8},"MANDATORY"]
[{"$nulls":7},"Год",{"$nulls":8},"MANDATORY"]
[]
[{"$nulls":4},"RST_ORG_ID",null,null,"26758634",{"$nulls":8},"MANDATORY"]
[]
[{"$nulls":4},"Наименование юридического лица",null,null,"ЗАО \"ВодоСнабжающая Компания\"",{"$nulls":8},"MANDATORY"]
[{"$nulls":4},"Наименование (описание) обособленного подразделения",null,null,"",{"$nulls":6},"5412526",null,"OPTIONAL"]
[{"$nulls":4},"ИНН",null,null,"0268055772",{"$nulls":6},"502298559",null,"MANDATORY"]
[{"$nulls":4},"КПП",null,null,"026801001",{"$nulls":6},"56440075",null,"MANDATORY"]
[{"$nulls":4},"Организационно-правовая форма",null,null,"1 22 47 | Публичные акционерные общества",null,"Где найти?",{"$nulls":6},"MANDATORY"]
[{"$nulls":4},"Вид(-ы) деятельности организации",null,null,"Приём сточных вод :: Очистка сточных вод :: Транспортировка сточных вод",{"$nulls":6},"2385677281",null,"MANDATORY"]
[{"$nulls":4},{"$f":"\"Наличие статуса \" & SPHERE_SPECIFIC_STATUS & \" *\"","v":"Наличие статуса ГО *"},null,null,"нет",null,{"$f":"IF(SPHERE_SPECIFIC_STATUS_DESCRIPTION=\"\",\"\",SPHERE_SPECIFIC_STATUS_DESCRIPTION)","v":"* ГО - гарантирующая организация"},{"$nulls":6},"OPTIONAL"]
[{"$nulls":4},{"$f":"\"URL-ссылка на документ, подтверждающий статус \" & SPHERE_SPECIFIC_STATUS","v":"URL-ссылка на документ, подтверждающий статус ГО"},null,null,"",{"$nulls":8},"OPTIONAL"]
[]
[{"$nulls":4},{"$f":"\"Наличие нерегулируемых (других регулируемых, кроме \" & TEMPLATE_SPHERE & \") видов деятельности\"","v":"Наличие нерегулируемых (других регулируемых, кроме водоотведения) видов деятельности"},null,null,"да",{"$nulls":8},"MANDATORY"]
[{"$nulls":4},{"$f":"\"Наличие раздельного учёта затрат по регулируемым видам деятельности в сфере \" & TEMPLATE_SPHERE","v":"Наличие раздельного учёта затрат по регулируемым видам деятельности в сфере водоотведения"},null,null,"да",{"$nulls":8},"MANDATORY"]
[{"$nulls":4},"Плательщик НДС",null,null,"да",{"$nulls":8},"MANDATORY"]
[{"$nulls":4},"Является ли организация подведомственной Министерства Обороны РФ",null,null,"нет",{"$nulls":8},"MANDATORY"]
[]
[]
[]
[{"$nulls":4},"ОГРН",null,null,"1100268002933",null,"Где найти?",{"$nulls":6},"MANDATORY"]
[{"$nulls":4},"Код по ОКПО",null,null,"67829044",null,"Где найти?",{"$nulls":6},"MANDATORY"]
[]
[]
[]
[{"$nulls":4},{"$f":"\"Государственное и (или) муниципальное участие \" & IF(H17=\"отсутствует\",\"в индивидуальном предпринимателе\",\"в юридическом лице\")","v":"Государственное и (или) муниципальное участие в юридическом лице"},"Наличие",null,"нет",{"$nulls":8},"MANDATORY"]
[{"$nulls":5},"Сведения о доле",null,"0 %",{"$nulls":8},"MANDATORY"]
[{"$nulls":5},{"$f":"\"Преобладающий тип собственности \" & IF(H17=\"отсутствует\",\"в индивидуальном предпринимателе\",\"в юридическом лице\")","v":"Преобладающий тип собственности в юридическом лице"},null,"частная",{"$nulls":8},"MANDATORY"]
[]
[{"$nulls":4},{"$f":"IF(OR(TEMPLATE_SPHERE_CODE=\"UTBO\",TEMPLATE_SPHERE_CODE=\"OTKO\"),\"\",\"Тариф на транспортировку \" & RESOURCE_IDENTIFIER)","v":"Тариф на транспортировку стоков"},null,null,"руб/куб.м",{"$nulls":8},"OPTIONAL"]
[]
[]
[{"$nulls":4},"Контактные данные"]
[]
[{"$nulls":4},"Ответственный за предоставление информации","ФИО",null,"Кадынцева Наталья Николаевна",{"$nulls":8},"MANDATORY"]
[{"$nulls":5},"Должность",null,"начальник ПЭО МУП \"Межрайкоммунводоканал\" г.о. город Стерлитамак",{"$nulls":8},"MANDATORY"]
[{"$nulls":5},"Контактный телефон",null,"8 (3473) 24-00-98",{"$nulls":8},"MANDATORY"]
[{"$nulls":5},"e-mail",null,"stervod3@mail.ru",{"$nulls":8},"MANDATORY"]
[]
[{"$nulls":4},"Дата последнего обновления реестра организаций: 25.07.2018 8:43:29"]
[{"$nulls":4},"Дата последнего обновления данных мониторинга принятых тарифных решений на 2017 год: 25.07.2018 15:16:02"]
[{"$nulls":4},"Дата последнего обновления обновления параметров проверки отчёта: 25.07.2018 8:43:30"]
[]
[{"$nulls":4},"Показывать настройки проверки при сохранении",null,null,"a"]

{"sheet":"modSheetTitle","index":3,"n_rows":0,"n_cols":0,"rows_kept":0,"hidden":true}

{"sheet":"Список территорий","index":4,"n_rows":19,"n_cols":99,"rows_kept":19,"merged":[[3,6,3,13],[4,8,4,9],[11,5,13,5],[11,6,13,6],[11,7,13,7],[11,8,13,8],[11,9,13,9],[11,10,13,10],[11,11,13,11],[11,12,13,12],[11,13,13,13],[11,16,13,16],[11,28,13,28],[11,35,13,35],[11,42,13,42],[11,86,11,98],[12,86,13,86],[12,87,13,87],[12,88,13,88],[12,89,13,89],[12,90,13,90],[12,91,13,91],[12,92,13,92],[12,93,13,93],[12,94,13,94],[12,95,13,95],[12,96,13,96],[12,97,13,97],[12,98,13,98],[18,5,18,10]]}
[]
[]
[]
[{"$nulls":6},{"$f":"\"Перечень муниципальных образований, на территории которых организация оказывает услуги \" & TEMPLATE_SPHERE","v":"Перечень муниципальных образований, на территории которых организация оказывает услуги водоотведения"}]
{"$rows_empty":7}
[{"$nulls":5},"№ п/п","Муниципальный район","Муниципальное образование","ОКТМО","Тип муниципального образования",null,null,"Плательщик НДС","Дополнительные признаки дифференциации тарифов",null,null,"SRC",{"$nulls":11},"Вид(-ы) теплоносителя(-ей)",{"$nulls":6},"Вид воды",{"$nulls":6},"Вид сточных вод",{"$nulls":43},{"$f":"\"Оказание услуг в течение \" & god & \" года (все потребители, включая собственные нужды)\"","v":"Оказание услуг в течение 2017 года (все потребители, включая собственные нужды)"}]
[{"$nulls":87},"Январь","Февраль","Март","Апрель","Май","Июнь","Июль","Август","Сентябрь","Октябрь","Ноябрь","Декабрь"]
[]
[{"$nulls":5},0]
[{"$nulls":4},"О","1","Город Стерлитамак","Город Стерлитамак","80745000",{"$f":"IF(LEN(I16)=0,\"\",VLOOKUP(I16,OKTMO_VS_TYPE_LIST,2,FALSE))","v":"городской округ"},null,null,{"$f":"IF(TAX=\"\",\"\",TAX)","v":"да"},{"$nulls":3},{"$f":"IF('Список объектов'!$Q$16=\"\",\"Не определено\",'Список объектов'!$Q$16)","v":14},{"$nulls":25},"Без дифференциации",{"$nulls":44},"a","a","a","a","a","a","a","a","a","a","a","a"]
[null,null," ",{"$nulls":3},"Добавить территорию"]
[{"$nulls":4},"   "]
[{"$nulls":5},"Дата последнего обновления реестра МР/МО/ОКТМО: 25.07.2018 8:43:28"]

{"sheet":"Список объектов","index":5,"n_rows":38,"n_cols":82,"rows_kept":38,"merged":[[3,6,3,13],[4,8,4,9],[11,5,13,5],[11,6,13,6],[11,7,13,7],[11,8,13,8],[11,9,13,9],[11,10,13,10],[11,11,13,11],[11,12,13,12],[11,13,13,13],[11,14,13,14],[11,15,13,15],[11,16,13,16],[11,17,13,17],[11,18,12,19],[11,20,12,21],[11,22,12,23],[11,24,13,24],[11,25,13,25],[11,26,13,26],[11,27,13,27],[11,28,13,28],[11,29,13,29],[11,30,11,32],[11,33,11,39],[11,40,13,40],[11,41,13,41],[11,42,13,42],[11,43,13,43],[11,44,13,44],[11,45,13,45],[11,46,11,53],[11,54,13,54],[11,55,13,55],[11,56,13,56],[11,57,13,57],[11,58,13,58],[11,59,11,60],[11,61,11,62],[11,63,11,64],[11,65,13,65],[11,66,13,66],[11,67,13,67],[11,68,13,68],[11,69,13,69],[11,70,13,70],[11,71,13,71],[11,72,13,72],[11,73,13,73],[11,74,13,74],[11,75,13,75],[11,76,13,76],[11,77,13,77],[11,78,13,78],[11,79,13,79],[11,80,13,80],[11,81,13,81],[12,30,13,30],[12,31,13,31],[12,32,13,32],[12,33,13,33],[12,34,13,34],[12,35,13,35],[12,36,13,36],[12,37,13,37],[12,38,13,38],[12,39,13,39],[12,46,13,46],[12,47,13,47],[12,48,13,48],[12,49,13,49],[12,50,13,50],[12,51,13,51],[12,52,13,52],[12,53,13,53],[12,59,13,59],[12,60,13,60],[12,61,13,61],[12,62,13,62],[12,63,13,63],[12,64,13,64],[15,5,30,5],[15,6,30,6],[15,7,30,7],[15,8,30,8],[15,9,30,9],[15,10,30,10],[15,11,30,11],[15,12,30,12],[15,13,30,13],[15,14,30,14],[15,15,30,15],[15,16,30,16],[34,6,34,16],[35,6,35,16],[37,5,37,10]]}
[]
[]
[]
[{"$nulls":6},{"$f":"\"Перечень объектов организаций, оказывающих услуги \" & TEMPLATE_SPHERE","v":"Перечень объектов организаций, оказывающих услуги водоотведения"}]
{"$rows_empty":7}
[{"$nulls":5},"№ п/п","Муниципальный район","Муниципальное образование","ОКТМО",{"$nulls":7},"Количество объектов","NUMBER",{"$f":"IF(TEMPLATE_SPHERE_CODE=\"HEAT\",\"Производство\",IF(TEMPLATE_SPHERE_CODE=\"COLDVSNA\",\"Производство (подъём / добыча)\",IF(TEMPLATE_SPHERE_CODE=\"VOTV\",\"Приём сточных вод\",\"\")))","v":"Приём сточных вод"},null,{"$f":"IF(TEMPLATE_SPHERE_CODE=\"HEAT\",\"Передача\",IF(TEMPLATE_SPHERE_CODE=\"COLDVSNA\",\"Очистка воды\",IF(TEMPLATE_SPHERE_CODE=\"VOTV\",\"Очистка сточных вод\",\"\")))","v":"Очистка сточных вод"},null,{"$f":"IF(TEMPLATE_SPHERE_CODE=\"HEAT\",\"Сбыт\",IF(TEMPLATE_SPHERE_CODE=\"COLDVSNA\",\"Транспортировка воды\",IF(TEMPLATE_SPHERE_CODE=\"VOTV\",\"Транспортировка сточных вод\",\"\")))","v":"Транспортировка сточных вод"},{"$nulls":4},"№ п/п","Наименование объекта","Тип объекта","Виды деятельности",null,null,"Адрес объекта",{"$nulls":12},"Территория оказания услуг",{"$nulls":12},{"$f":"IF(TEMPLATE_SPHERE_CODE=\"HEAT\",\"Производство\",IF(TEMPLATE_SPHERE_CODE=\"COLDVSNA\",\"Производство (подъём / добыча)\",IF(TEMPLATE_SPHERE_CODE=\"VOTV\",\"Приём сточных вод\",\"\")))","v":"Приём сточных вод"},null,{"$f":"IF(TEMPLATE_SPHERE_CODE=\"HEAT\",\"Передача\",IF(TEMPLATE_SPHERE_CODE=\"COLDVSNA\",\"Очистка воды\",IF(TEMPLATE_SPHERE_CODE=\"VOTV\",\"Очистка сточных вод\",\"\")))","v":"Очистка сточных вод"},null,{"$f":"IF(TEMPLATE_SPHERE_CODE=\"HEAT\",\"Сбыт\",IF(TEMPLATE_SPHERE_CODE=\"COLDVSNA\",\"Транспортировка воды\",IF(TEMPLATE_SPHERE_CODE=\"VOTV\",\"Транспортировка сточных вод\",\"\")))","v":"Транспортировка сточных вод"},{"$nulls":17},"Комментарии"]
[{"$nulls":30},{"$f":"IF(TEMPLATE_SPHERE_CODE=\"HEAT\",\"Производство\",IF(TEMPLATE_SPHERE_CODE=\"COLDVSNA\",\"Производство (подъём / добыча)\",IF(TEMPLATE_SPHERE_CODE=\"VOTV\",\"Приём сточных вод\",\"\")))","v":"Приём сточных вод"},{"$f":"IF(TEMPLATE_SPHERE_CODE=\"HEAT\",\"Передача\",IF(TEMPLATE_SPHERE_CODE=\"COLDVSNA\",\"Очистка воды\",IF(TEMPLATE_SPHERE_CODE=\"VOTV\",\"Очистка сточных вод\",\"\")))","v":"Очистка сточных вод"},{"$f":"IF(TEMPLATE_SPHERE_CODE=\"HEAT\",\"Сбыт\",IF(TEMPLATE_SPHERE_CODE=\"COLDVSNA\",\"Транспортировка воды\",IF(TEMPLATE_SPHERE_CODE=\"VOTV\",\"Транспортировка сточных вод\",\"\")))","v":"Транспортировка сточных вод"},"Муниципальный район","Муниципальное образование","ОКТМО","Населённый пункт","ОКТМО","улица, проезд, проспект, переулок и т.п.","дом, корпус, строение",{"$nulls":6},"Муниципальный район","Муниципальное образование","ОКТМО","Населённый пункт","ОКТМО",{"$nulls":8},{"$f":"\"Установленная мощность, \" & IF(TEMPLATE_SPHERE_CODE=\"HEAT\",\"Гкал/час\",IF(TEMPLATE_SPHERE_CODE=\"COLDVSNA\",\"куб.м/час\",IF(TEMPLATE_SPHERE_CODE=\"VOTV\",\"куб.м/час\",\"\")))","v":"Установленная мощность, куб.м/час"},{"$f":"\"Подключенная нагрузка, \" & IF(TEMPLATE_SPHERE_CODE=\"HEAT\",\"Гкал/час\",IF(TEMPLATE_SPHERE_CODE=\"COLDVSNA\",\"куб.м/час\",IF(TEMPLATE_SPHERE_CODE=\"VOTV\",\"куб.м/час\",\"\")))","v":"Подключенная нагрузка, куб.м/час"},{"$f":"\"Установленная мощность, \" & IF(TEMPLATE_SPHERE_CODE=\"HEAT\",\"Гкал/час\",IF(TEMPLATE_SPHERE_CODE=\"COLDVSNA\",\"куб.м/час\",IF(TEMPLATE_SPHERE_CODE=\"VOTV\",\"куб.м/час\",\"\")))","v":"Установленная мощность, куб.м/час"},{"$f":"\"Подключенная нагрузка, \" & IF(TEMPLATE_SPHERE_CODE=\"HEAT\",\"Гкал/час\",IF(TEMPLATE_SPHERE_CODE=\"COLDVSNA\",\"куб.м/час\",IF(TEMPLATE_SPHERE_CODE=\"VOTV\",\"куб.м/час\",\"\")))","v":"Подключенная нагрузка, куб.м/час"},{"$f":"\"Установленная мощность, \" & IF(TEMPLATE_SPHERE_CODE=\"HEAT\",\"Гкал/час\",IF(TEMPLATE_SPHERE_CODE=\"COLDVSNA\",\"куб.м/час\",IF(TEMPLATE_SPHERE_CODE=\"VOTV\",\"куб.м/час\",\"\")))","v":"Установленная мощность, куб.м/час"},{"$f":"\"Подключенная нагрузка, \" & IF(TEMPLATE_SPHERE_CODE=\"HEAT\",\"Гкал/час\",IF(TEMPLATE_SPHERE_CODE=\"COLDVSNA\",\"куб.м/час\",IF(TEMPLATE_SPHERE_CODE=\"VOTV\",\"куб.м/час\",\"\")))","v":"Подключенная нагрузка, куб.м/час"}]
[{"$nulls":18},"IC","CL","IC","CL","IC","CL"]
[{"$nulls":5},0]
[{"$nulls":4},"Удалить",{"$f":"IF('Список территорий'!$F$16=\"\",\"\",'Список территорий'!$F$16)","v":"1"},{"$f":"IF('Список территорий'!$G$16=\"\",\"\",'Список территорий'!$G$16)","v":"Город Стерлитамак"},{"$f":"IF('Список территорий'!$H$16=\"\",\"\",'Список территорий'!$H$16)","v":"Город Стерлитамак"},{"$f":"IF('Список территорий'!$I$16=\"\",\"\",'Список территорий'!$I$16)","v":"80745000"},{"$nulls":7},{"$f":"ROW(P31)-ROW(P16)-1","v":14},{"$f":"F16 & \".0\"","v":"1.0"},{"$f":"SUM(BH16:BH31)","v":16732},1490,1040,1000,16732,1490,{"$nulls":3},"0"]
[{"$nulls":25},"Изменить","О","1","Канализационная насосная станция","КНС","да","нет","нет","Город Стерлитамак","Город Стерлитамак","80745000","г Стерлитамак","80745000001","ул. Зои Космодемьянской","16",{"$nulls":6},"Город Стерлитамак","Город Стерлитамак","80745000","г Стерлитамак","80745000001",{"$nulls":8},200,65,0,0,0,0]
[{"$nulls":25},"Изменить","О","2","Канализационная насосная станция","КНС","да","нет","нет","Город Стерлитамак","Город Стерлитамак","80745000","г Стерлитамак","80745000001","ул. Гоголя","141д",{"$nulls":6},"Город Стерлитамак","Город Стерлитамак","80745000","г Стерлитамак","80745000001",{"$nulls":8},300,85,0,0,0,0]
[{"$nulls":25},"Изменить","О","3","Канализационная насосная станция","КНС","да","нет","нет","Город Стерлитамак","Город Стерлитамак","80745000","г Стерлитамак","80745000001","ул. Казина","7",{"$nulls":6},"Город Стерлитамак","Город Стерлитамак","80745000","г Стерлитамак","80745000001",{"$nulls":8},300,50,0,0,0,0]
[{"$nulls":25},"Изменить","О","4","Канализационная насосная станция - 2","КНС","да","нет","нет","Город Стерлитамак","Город Стерлитамак","80745000","г Стерлитамак","80745000001","ул. Пугачева","88а",{"$nulls":6},"Город Стерлитамак","Город Стерлитамак","80745000","г Стерлитамак","80745000001",{"$nulls":8},8100,0,0,0,0,0]
[{"$nulls":25},"Изменить","О","5","Насосная станция перекачки сточных вод","КНС","да","нет","нет","Город Стерлитамак","Город Стерлитамак","80745000","г Стерлитамак","80745000001","ул. 7 Ноября","111",{"$nulls":6},"Город Стерлитамак","Город Стерлитамак","80745000","г Стерлитамак","80745000001",{"$nulls":8},3150,500,0,0,0,0]
[{"$nulls":25},"Изменить","О","6","Насосная станция перекачки сточных вод РНС-1","КНС","да","нет","нет","Город Стерлитамак","Город Стерлитамак","80745000","г Стерлитамак","80745000001","ул. Мира","128а",{"$nulls":6},"Город Стерлитамак","Город Стерлитамак","80745000","г Стерлитамак","80745000001",{"$nulls":8},450,85,0,0,0,0]
[{"$nulls":25},"Изменить","О","7","Насосная станция перекачки сточных вод РНС-2 Бугоровка","КНС","да","нет","нет","Город Стерлитамак","Город Стерлитамак","80745000","г Стерлитамак","80745000001","ул. Кочетова","47",{"$nulls":6},"Город Стерлитамак","Город Стерлитамак","80745000","г Стерлитамак","80745000001",{"$nulls":8},300,65,0,0,0,0]
[{"$nulls":25},"Изменить","О","8","Насосная станция перекачки сточных вод РНС-3","КНС","да","нет","нет","Город Стерлитамак","Город Стерлитамак","80745000","г Стерлитамак","80745000001","ул. Совхозная","2а",{"$nulls":6},"Город Стерлитамак","Город Стерлитамак","80745000","г Стерлитамак","80745000001",{"$nulls":8},300,40,0,0,0,0]
[{"$nulls":25},"Изменить","О","9","Насосная станция перекачки сточных вод РНС-5","КНС","да","нет","нет","Город Стерлитамак","Город Стерлитамак","80745000","г Стерлитамак","80745000001","ул. Ильича","101а",{"$nulls":6},"Город Стерлитамак","Город Стерлитамак","80745000","г Стерлитамак","80745000001",{"$nulls":8},272,40,0,0,0,0]
[{"$nulls":25},"Изменить","О","10","биологические очистные сооружения","ОС","нет","да","нет","Город Стерлитамак","Город Стерлитамак","80745000","г Стерлитамак","80745000001","ул. Бабушкина","12",{"$nulls":6},"Город Стерлитамак","Город Стерлитамак","80745000","г Стерлитамак","80745000001",{"$nulls":8},0,0,1040,1000,0,0]
[{"$nulls":25},"Изменить","О","11","канализационная сеть","сеть","нет","нет","да","Город Стерлитамак","Город Стерлитамак","80745000","г Стерлитамак","80745000001","г. Стерлитамак","/",{"$nulls":6},"Город Стерлитамак","Город Стерлитамак","80745000","г Стерлитамак","80745000001",{"$nulls":8},0,0,0,0,16732,1490]
[{"$nulls":25},"Изменить","О","12","насосная станция","КНС","да","нет","нет","Город Стерлитамак","Город Стерлитамак","80745000","г Стерлитамак","80745000001","пер. Российский","26а",{"$nulls":6},"Город Стерлитамак","Город Стерлитамак","80745000","г Стерлитамак","80745000001",{"$nulls":8},280,20,0,0,0,0]
[{"$nulls":25},"Изменить","О","13","насосная станция перекачки","КНС","да","нет","нет","Город Стерлитамак","Город Стерлитамак","80745000","г Стерлитамак","80745000001","тракт. Оренбургский","2",{"$nulls":6},"Город Стерлитамак","Город Стерлитамак","80745000","г Стерлитамак","80745000001",{"$nulls":8},200,40,0,0,0,0]
[{"$nulls":25},"Изменить","О","14","насосная станция перекачки","КНС","да","нет","нет","Город Стерлитамак","Город Стерлитамак","80745000","г Стерлитамак","80745000001","ул. Днепровская","1",{"$nulls":6},"Город Стерлитамак","Город Стерлитамак","80745000","г Стерлитамак","80745000001",{"$nulls":8},2880,500,0,0,0,0]
[{"$nulls":28},"Добавить объект"]
[null,null," ",null," ",null,"Добавить территорию"]
[{"$nulls":4},"   "]
[{"$nulls":6},"Примечания:"]
[{"$nulls":6},"1. Необходимо перечислить все объекты регулируемой инфраструктуры, для которых предоставляются технико-экономические показатели на расчётных листах блока по территории"]
[{"$nulls":6},"2. Выбор объектов доступен только в рамках территорий (ОКТМО), для которых информация по соответствующим видам деятельности представлена в мониторингах реестра объектов инфраструктуры"]
[]
[{"$nulls":5},"Дата последнего обновления данных мониторинга \"Реестр объектов инфраструктуры\": 25.07.2018 15:16:02"]

{"sheet":"TECHSHEET","index":6,"n_rows":144,"n_cols":28,"rows_kept":144,"hidden":true}
["Алтайский край","RU22","Алтайский край",null,"HEAT_PRODUCTION_TYPE_LIST",null,"TEMPLATE_SPHERE",null,"HEAT_TRANSMISSION_TARIFF_UNIT",null,"YES_NO",null,"SAX_PARSER_FEATURE",null,"VALIDATION_SETTINGS",null,"DNS",{"$nulls":6},"yukuznetsov_ftci","LOGIN",null,"YEAR_LIST","MONTH_LIST"]
["Амурская область","RU28","Амурская область",null,"некомбинированное",null,"водоотведения",null,"руб/Гкал",null,"да",null,"YES",null,"NO",null,{"$f":"USE_DNS_SERVICE","v":"https://eias.ru"},{"$nulls":7},"PASSWORD",null,2010,"Январь"]
["Архангельская область","RU29","Архангельская область",null,"комбинированное, более 25 МВт",null,"теплоснабжения",null,"руб/Гкал/час в мес",null,"нет",{"$nulls":3},"NO",{"$nulls":8},"MD5","ATH_SCHEME",null,2011,"Февраль"]
["Астраханская область","RU30","Астраханская область",null,"комбинированное, менее 25 МВт",null,"холодного водоснабжения",{"$nulls":7},"YES",null,"NDS",{"$nulls":6},"NO","RETAIN_PASSWORD",null,2012,"Март"]
["Белгородская область","RU31","Белгородская область",{"$nulls":3},"водоотведения",null,"COLDVSNA_TRANSMISSION_TARIFF_UNIT",{"$nulls":3},"PROTECT_MARKER",null,"NO",null,1.18,{"$nulls":9},2013,"Апрель"]
["Брянская область","RU32","Брянская область",null,"HEAT_VD_COMPONENTS",{"$nulls":3},"руб/куб.м",{"$nulls":3},"FEDERAL.2017",{"$nulls":13},2014,"Май"]
["Владимирская область","RU33","Владимирская область",null,"Производство",null,"TEMPLATE_SPHERE_OKK_SOURCE",{"$nulls":9},"PERIOD",{"$nulls":6},"XML_ORG_LIST_TAG_NAMES",null,null,2015,"Июнь"]
["Волгоградская область","RU34","Волгоградская область",null,"Передача",null,"Канализационно-насосная станция",null,"VOTV_TRANSMISSION_TARIFF_UNIT",{"$nulls":7},{"$f":"god","v":"2017"},{"$nulls":6},"REGION_NAME",null,null,2016,"Июль"]
["Вологодская область","RU35","Вологодская область",null,"Сбыт",null,"Теплоисточник",null,"руб/куб.м",{"$nulls":14},"MR_NAME",null,null,2017,"Август"]
["Воронежская область","RU36","Воронежская область",{"$nulls":3},"Насосная станция",{"$nulls":9},"Организация",{"$nulls":6},"OKTMR_NAME",null,null,2018,"Сентябрь"]
["г. Москва","RU77","Москва",null,"COLDVSNA_VD_COMPONENTS",null,"Канализационно-насосная станция",null,"COLDVSNA_VTOV",{"$nulls":7},{"$f":"\"01.01.\" & PERIOD","v":"01.01.2017"},{"$nulls":6},"MO_NAME",null,null,2019,"Октябрь"]
["г. Байконур","RU00",null,null,"Производство (подъём / добыча) воды",{"$nulls":3},"питьевая вода",{"$nulls":7},{"$f":"\"31.12.\" & PERIOD","v":"31.12.2017"},{"$nulls":6},"OKTMO_NAME",null,null,2020,"Ноябрь"]
["г. Санкт-Петербург","RU78","Cанкт-Петербург",null,"Очистка воды",null,"CALC_IDENTIFIER",null,"техническая вода",{"$nulls":14},"RST_ORG_ID",null,null,2021,"Декабрь"]
["г. Севастополь","RU92","Севастополь",null,"Транспортировка воды",null,"Вид стоков",{"$nulls":9},"Виды деятельности",{"$nulls":6},"ORG_NAME"]
["Еврейская автономная область","RU79","Еврейская автономная область",null,"Сбыт (распределение) воды",{"$nulls":3},"VOTV_VTOV",{"$nulls":7},{"$f":"\"01.01.\" & PERIOD","v":"01.01.2017"},{"$nulls":6},"INN_NAME"]
["Забайкальский край","RU75","Забайкальский край",null,"Подвоз воды",null,"Вид воды",null,"Без дифференциации",{"$nulls":7},{"$f":"\"31.12.\" & PERIOD","v":"31.12.2017"},{"$nulls":6},"KPP_NAME"]
["Ивановская область","RU37","Ивановская область",{"$nulls":3},"Вид стоков",null,"ЖБО","жидкие бытовые отходы",{"$nulls":13},"VDET_NAME"]
["Иркутская область","RU38","Иркутская область",null,"VOTV_VD_COMPONENTS",{"$nulls":3},"ПСВ","поверхностные сточные воды",{"$nulls":13},"VDET_NAME_LIST"]
["Кабардино-Балкарская республика","RU07","Республика Кабардино-Балкария",null,"Приём сточных вод",null,"RESOURCE_IDENTIFIER",null,"ХБСВ","хозяйственно-бытовые сточные воды, отводимые товариществами собственников жилья, жилищно-строительными, жилищными и иными специализированными потребительскими кооперативами, управляющими организациями и другими лицами, осуществляющими деятельность по управлению многоквартирными домами, жителями индивидуальных жилых домов и другими абонентами, отводящими преимущественно сточные воды, связанные с хозяйственно-бытовой деятельностью, в отношении которых не устанавливаются нормативы водоотведения (сброса) по составу сточных вод, нормативы допустимых сбросов абонентов",{"$nulls":13},"VDET_FULL_NAME_LIST"]
["Калининградская область","RU39","Калининградская область",null,"Очистка сточных вод",null,"стоков",null,"СВ (нормативы)","сточные воды, отводимые абонентами, для объектов которых устанавливаются нормативы водоотведения (сброса) по составу сточных вод, нормативы допустимых сбросов абонентов",{"$nulls":13},"ORG_START_DATE"]
["Калужская область","RU40","Калужская область",null,"Транспортировка сточных вод",null,"ТЭ",null,"СВ (иные)","сточные воды, отводимые иными абонентами",{"$nulls":13},"ORG_END_DATE"]
["Камчатский край","RU41","Камчатский край",{"$nulls":3},"холодной воды",{"$nulls":16},"VDET_START_DATE"]
["Карачаево-Черкесская республика","RU09","Республика Карачаево-Черкессия",null,"STATE_SHARE",null,"стоков",{"$nulls":16},"VDET_END_DATE"]
["Кемеровская область","RU42","Кемеровская область",null,"VALUABLE_STATE_SHARE"]
["Кировская область","RU43","Кировская область",null,"0 %",null,"TEMPLATE_CLAIM"]
["Костромская область","RU44","Костромская область",null,"менее 50 %",null,"F",{"$nulls":16},"XML_MR_MO_OKTMO_LIST_TAG_NAMES"]
["Краснодарский край","RU23","Краснодарский край",null,"50 % и более",{"$nulls":18},"NSRF"]
["Красноярский край","RU24","Красноярский край",null,"100 %",{"$nulls":18},"MR_NAME"]
["Курганская область","RU45","Курганская область",{"$nulls":3},"TEMPLATE_PERIOD_COUNT",{"$nulls":16},"OKTMO_MR_NAME"]
["Курская область","RU46","Курская область",null,"OWNERSHIP_TYPE",null,"2",{"$nulls":16},"MO_NAME"]
["Ленинградская область","RU47","Ленинградская область",null,"NONPRIVATE_OWNERSHIP_TYPE",{"$nulls":18},"OKTMO_NAME"]
["Липецкая область","RU48","Липецкая область",null,"федеральная",null,"TEMPLATE_SPHERE_CODE",{"$nulls":16},"TYPE"]
["Магаданская область","RU49","Магаданская область",null,"субъект РФ",null,"VOTV",{"$nulls":16},"TOTAL_PPL_COUNT"]
["Московская область","RU50","Московская область",null,"муниципальная",null,"HEAT"]
["Мурманская область","RU51","Мурманская область",null,"частная",null,"COLDVSNA"]
["Ненецкий автономный округ","RU83","Ненецкий автономный округ",{"$nulls":3},"VOTV",{"$nulls":16},"XML_AUTHORISATION_TAG_NAMES"]
["Нижегородская область","RU52","Нижегородская область",{"$nulls":20},"L1"]
["Новгородская область","RU53","Новгородская область",{"$nulls":3},"SPHERE_SPECIFIC_STATUS"]
["Новосибирская область","RU54","Новосибирская область",{"$nulls":3},"ГО"]
["Омская область","RU55","Омская область",{"$nulls":3},"ЕТО",{"$nulls":16},"XML_LOCATION_LIST_TAG_NAMES"]
["Оренбургская область","RU56","Оренбургская область",{"$nulls":3},"ГО",{"$nulls":16},"OKTMO_LOCATION_NAME"]
["Орловская область","RU57","Орловская область",{"$nulls":3},"ГО",{"$nulls":16},"LOCATION_NAME"]
["Пензенская область","RU58","Пензенская область"]
["Пермский край","RU59","Пермский край",{"$nulls":3},"SPHERE_SPECIFIC_STATUS_DESCRIPTION"]
["Приморский край","RU25","Приморский край",{"$nulls":3},"* ГО - гарантирующая организация",{"$nulls":16},"XML_DICTIONARIES_TAG_NAMES"]
["Псковская область","RU60","Псковская область",{"$nulls":3},"* ЕТО - единая теплоснабжающая организация",{"$nulls":16},"DIC_NAME"]
["Республика Адыгея","RU01","Республика Адыгея",{"$nulls":3},"* ГО - гарантирующая организация",{"$nulls":16},"DIC_VALUE"]
["Республика Алтай","RU04","Республика Алтай",{"$nulls":3},"* ГО - гарантирующая организация"]
["Республика Башкортостан","RU02","Республика Башкортостан"]
["Республика Бурятия","RU03","Республика Бурятия",{"$nulls":20},"XML_SUBSIDIARY_LIST_TAG_NAMES"]
["Республика Дагестан","RU05","Республика Дагестан",{"$nulls":20},"DIC_NAME"]
["Республика Ингушетия","RU06","Республика Ингушетия",{"$nulls":20},"DIC_VALUE"]
["Республика Калмыкия","RU08","Республика Калмыкия"]
["Республика Карелия","RU10","Республика Карелия"]
["Республика Коми","RU11","Республика Коми",{"$nulls":20},"XML_DPR_LIST_TAG_NAMES"]
["Республика Крым","RU82","Крым",{"$nulls":20},"DIC_NAME"]
["Республика Марий Эл","RU12","Республика Марий Эл",{"$nulls":20},"DIC_VALUE"]
["Республика Мордовия","RU13","Республика Мордовия"]
["Республика Саха (Якутия)","RU14","Республика Саха (Якутия)",{"$nulls":7},"XML_PLAN1X_HEAT_LIST_SRC_TAG_NAMES",null,"XML_PLAN1X_COLDVSNA_LIST_SRC_TAG_NAMES",null,"XML_PLAN1X_VOTV_LIST_SRC_TAG_NAMES"]
["Республика Северная Осетия-Алания","RU15","Республика Северная Осетия (Алания)",{"$nulls":7},"LGL_ID",null,"LGL_ID",null,"LGL_ID"]
["Республика Татарстан","RU16","Республика Татарстан",{"$nulls":7},"NOMER_NAME",null,"NOMER_NAME",null,"NOMER_NAME"]
["Республика Тыва","RU17","Республика Тыва (Тува)",{"$nulls":7},"L_SERVICE_PRODUCTION",null,"L_SERVICE_PRODUCTION",null,"L_SERVICE_PRODUCTION"]
["Республика Хакасия","RU19","Республика Хакасия",{"$nulls":7},"L_SERVICE_TRANSMISSION",null,"L_SERVICE_CLEANING",null,"L_SERVICE_CLEANING"]
["Ростовская область","RU61","Ростовская область",{"$nulls":7},"L_SERVICE_SALE",null,"L_SERVICE_TRANSMISSION",null,"L_SERVICE_TRANSMISSION"]
["Рязанская область","RU62","Рязанская область",{"$nulls":7},"ORG_NAME",null,"ORG_NAME",null,"ORG_NAME"]
["Самарская область","RU63","Самарская область",{"$nulls":7},"INN_NAME",null,"INN_NAME",null,"INN_NAME"]
["Саратовская область","RU64","Саратовская область",{"$nulls":7},"KPP_NAME",null,"KPP_NAME",null,"KPP_NAME"]
["Сахалинская область","RU65","Сахалинская область",{"$nulls":7},"FIL_NAME",null,"FIL_NAME",null,"FIL_NAME"]
["Свердловская область","RU66","Свердловская область",{"$nulls":7},"NOMER2_NAME",null,"NOMER2_NAME",null,"NOMER2_NAME"]
["Смоленская область","RU67","Смоленская область",{"$nulls":7},"NMOB_NAME",null,"NMOB_NAME",null,"NMOB_NAME"]
["Ставропольский край","RU26","Ставропольский край",{"$nulls":7},"DET_NAME",null,"DET_NAME",null,"DET_NAME"]
["Тамбовская область","RU68","Тамбовская область",{"$nulls":7},"L_ADDRESS_MR",null,"L_ADDRESS_MR",null,"L_ADDRESS_MR"]
["Тверская область","RU69","Тверская область",{"$nulls":7},"L_ADDRESS_MO",null,"L_ADDRESS_MO",null,"L_ADDRESS_MO"]
["Томская область","RU70","Томская область",{"$nulls":7},"L_ADDRESS_OKTMO",null,"L_ADDRESS_OKTMO",null,"L_ADDRESS_OKTMO"]
["Тульская область","RU71","Тульская область",{"$nulls":7},"L_ADDRESS_LOCATION",null,"L_ADDRESS_LOCATION",null,"L_ADDRESS_LOCATION"]
["Тюменская область","RU72","Тюменская область",{"$nulls":7},"L_ADDRESS_LOC_OKTMO",null,"L_ADDRESS_LOC_OKTMO",null,"L_ADDRESS_LOC_OKTMO"]
["Удмуртская республика","RU18","Республика Удмуртия",{"$nulls":7},"L_ADDRESS_STREET",null,"L_ADDRESS_STREET",null,"L_ADDRESS_STREET"]
["Ульяновская область","RU73","Ульяновская область",{"$nulls":7},"L_ADDRESS_BUILDING",null,"L_ADDRESS_BUILDING",null,"L_ADDRESS_BUILDING"]
["Хабаровский край","RU27","Хабаровский край",{"$nulls":7},"DET2_NAME",null,"DET2_NAME",null,"DET2_NAME"]
["Ханты-Мансийский автономный округ","RU86","Ханты-Мансийский автономный округ",{"$nulls":7},"MR_NAME",null,"MR_NAME",null,"MR_NAME"]
["Челябинская область","RU74","Челябинская область",{"$nulls":7},"MO_NAME",null,"MO_NAME",null,"MO_NAME"]
["Чеченская республика","RU20","Республика Чечня",{"$nulls":7},"OKTMO_NAME",null,"OKTMO_NAME",null,"OKTMO_NAME"]
["Чувашская республика","RU21","Республика Чувашия",{"$nulls":7},"LOCATION_NAME",null,"LOCATION_NAME",null,"LOCATION_NAME"]
["Чукотский автономный округ","RU87","Чукотский автономный округ",{"$nulls":7},"LOCATION_OKTMO_NAME",null,"LOCATION_OKTMO_NAME",null,"LOCATION_OKTMO_NAME"]
["Ямало-Ненецкий автономный округ","RU89","Ямало-Ненецкий автономный округ",{"$nulls":7},"L_PR_IC",null,"L_PR_IC",null,"L_PR_IC"]
["Ярославская область","RU76","Ярославская область",{"$nulls":7},"L_PR_CL",null,"L_PR_CL",null,"L_PR_CL"]
[{"$nulls":10},"L_TR_IC",null,"L_CLN_IC",null,"L_CLN_IC"]
[{"$nulls":10},"L_TR_CL",null,"L_CLN_CL",null,"L_CLN_CL"]
[{"$nulls":10},"L_SL_IC",null,"L_TR_IC",null,"L_TR_IC"]
[{"$nulls":10},"L_SL_CL",null,"L_TR_CL",null,"L_TR_CL"]
[]
[{"$nulls":10},"XML_PLAN1X_HEAT_LIST_ORG_TAG_NAMES",null,"XML_PLAN1X_COLDVSNA_LIST_ORG_TAG_NAMES",null,"XML_PLAN1X_VOTV_LIST_ORG_TAG_NAMES"]
[{"$nulls":10},"NMBR",null,"NMBR",null,"NMBR"]
[{"$nulls":10},"RST_ORG_ID",null,"RST_ORG_ID",null,"RST_ORG_ID"]
[{"$nulls":10},"OKPO",null,"OKPO",null,"OKPO"]
[{"$nulls":10},"OGRN",null,"OGRN",null,"OGRN"]
[{"$nulls":10},"ORG",null,"ORG",null,"ORG"]
[{"$nulls":10},"INN",null,"INN",null,"INN"]
[{"$nulls":10},"KPP",null,"KPP",null,"KPP"]
[{"$nulls":10},"FIL",null,"FIL",null,"FIL"]
[{"$nulls":10},"VDET",null,"VDET",null,"VDET"]
[{"$nulls":10},"INN_ID",null,"INN_ID",null,"INN_ID"]
[{"$nulls":10},"KPP_ID",null,"KPP_ID",null,"KPP_ID"]
[{"$nulls":10},"FIL_ID",null,"FIL_ID",null,"FIL_ID"]
[{"$nulls":10},"VDET_ID",null,"VDET_ID",null,"VDET_ID"]
[{"$nulls":10},"OKOPF",null,"OKOPF",null,"OKOPF"]
[{"$nulls":10},"SPECIFIC_STATUS",null,"SPECIFIC_STATUS",null,"SPECIFIC_STATUS"]
[{"$nulls":10},"SPECIFIC_STATUS_URL",null,"SPECIFIC_STATUS_URL",null,"SPECIFIC_STATUS_URL"]
[{"$nulls":10},"TR_TARIFF",null,"TR_TARIFF",null,"TR_TARIFF"]
[{"$nulls":10},"TAX",null,"TAX",null,"TAX"]
[{"$nulls":10},"STATE_SHARE_EXISTENCE",null,"STATE_SHARE_EXISTENCE",null,"STATE_SHARE_EXISTENCE"]
[{"$nulls":10},"STATE_SHARE_VALUE",null,"STATE_SHARE_VALUE",null,"STATE_SHARE_VALUE"]
[{"$nulls":10},"LGL_ID",null,"LGL_ID",null,"LGL_ID"]
[]
[{"$nulls":10},"XML_PLAN1X_HEAT_LIST_TMX_TAG_NAMES",null,"XML_PLAN1X_COLDVSNA_LIST_TMX_TAG_NAMES",null,"XML_PLAN1X_VOTV_LIST_TMX_TAG_NAMES"]
[{"$nulls":10},"NOMER",null,"NOMER",null,"NOMER"]
[{"$nulls":10},"ORG",null,"ORG",null,"ORG"]
[{"$nulls":10},"INN",null,"INN",null,"INN"]
[{"$nulls":10},"KPP",null,"KPP",null,"KPP"]
[{"$nulls":10},"FIL",null,"FIL",null,"FIL"]
[{"$nulls":10},"VDET",null,"VDET",null,"VDET"]
[{"$nulls":10},"DPR",null,"DPR",null,"DPR"]
[{"$nulls":10},"MR",null,"MR",null,"MR"]
[{"$nulls":10},"MO",null,"MO",null,"MO"]
[{"$nulls":10},"OKTMO",null,"OKTMO",null,"OKTMO"]
[{"$nulls":10},"DET",null,"DET",null,"DET"]
[{"$nulls":10},"TF_I_RSL",null,"TF_I_RSL",null,"TF_I_RSL"]
[{"$nulls":10},"TF_II_RSL",null,"TF_II_RSL",null,"TF_II_RSL"]
[{"$nulls":10},"TF_I_BDG",null,"TF_I_BDG",null,"TF_I_BDG"]
[{"$nulls":10},"TF_II_BDG",null,"TF_II_BDG",null,"TF_II_BDG"]
[{"$nulls":10},"TF_I_PPL",null,"TF_I_PPL",null,"TF_I_PPL"]
[{"$nulls":10},"TF_II_PPL",null,"TF_II_PPL",null,"TF_II_PPL"]
[{"$nulls":10},"TF_I_OTH",null,"TF_I_OTH",null,"TF_I_OTH"]
[{"$nulls":10},"TF_II_OTH",null,"TF_II_OTH",null,"TF_II_OTH"]
[]
[{"$nulls":10},"XML_PLAN1X_HEAT_LIST_MO_TAG_NAMES",null,"XML_PLAN1X_COLDVSNA_LIST_MO_TAG_NAMES",null,"XML_PLAN1X_VOTV_LIST_MO_TAG_NAMES"]
[{"$nulls":10},"POSITION",null,"POSITION",null,"POSITION"]
[{"$nulls":10},"MR",null,"MR",null,"MR"]
[{"$nulls":10},"MO",null,"MO",null,"MO"]
[{"$nulls":10},"OKTMO",null,"OKTMO",null,"OKTMO"]
[{"$nulls":10},"TAX",null,"TAX",null,"TAX"]
[{"$nulls":10},"DPR",null,"DPR",null,"DPR"]
[{"$nulls":10},"VTOV",null,"VTOV",null,"VTOV"]
[{"$nulls":10},"LGL_ID",null,"LGL_ID",null,"LGL_ID"]

{"sheet":"TECH_HORISONTAL","index":7,"n_rows":19,"n_cols":99,"rows_kept":19,"hidden":true,"merged":[[2,0,2,1],[5,0,5,1],[8,0,8,1],[12,0,12,1],[13,5,14,5],[13,6,14,6],[13,7,14,7],[13,8,14,8],[13,9,14,9],[13,10,14,10],[13,11,14,11],[13,12,14,12],[13,13,14,13],[13,14,14,14],[13,15,14,15],[13,16,14,16],[17,0,17,1]]}
[]
[]
["LIST_MO_HEAT_ADD_RANGE"]
[{"$nulls":4},"О",{"$nulls":4},{"$f":"IF(LEN(I4)=0,\"\",VLOOKUP(I4,OKTMO_VS_TYPE_LIST,2,FALSE))","v":""},null,null,{"$f":"IF(TAX=\"\",\"\",TAX)","v":"да"},{"$nulls":74},"a","a","a","a","a","a","a","a","a","a","a","a"]
[]
["LIST_MO_COLDVSNA_ADD_RANGE"]
[{"$nulls":4},"О",{"$nulls":4},{"$f":"IF(LEN(I7)=0,\"\",VLOOKUP(I7,OKTMO_VS_TYPE_LIST,2,FALSE))","v":""},null,null,{"$f":"IF(TAX=\"\",\"\",TAX)","v":"да"},{"$nulls":74},"a","a","a","a","a","a","a","a","a","a","a","a"]
[]
["LIST_MO_VOTV_ADD_RANGE"]
[{"$nulls":4},"О",{"$nulls":4},{"$f":"IF(LEN(I10)=0,\"\",VLOOKUP(I10,OKTMO_VS_TYPE_LIST,2,FALSE))","v":""},null,null,{"$f":"IF(TAX=\"\",\"\",TAX)","v":"да"},{"$nulls":74},"a","a","a","a","a","a","a","a","a","a","a","a"]
[]
[]
["LIST_SRC_ADD_RANGE"]
[{"$nulls":4},"О",{"$nulls":11},{"$f":"ROW(P15)-ROW(P14)-1","v":0},{"$f":"F14 & \".0\"","v":".0"},{"$f":"SUM(BH14:BH15)","v":0},0,0,0,0,0,{"$nulls":3},"0"]
[{"$nulls":28},"Добавить объект"]
[]
[]
["LIST_SRC_ADD_OBJECT_RANGE"]
[{"$nulls":25},"Изменить","О"]

{"sheet":"TECH_VERTICAL","index":8,"n_rows":3109,"n_cols":77,"rows_kept":3109,"hidden":true,"merged":[[1,28,1,30],[13,28,13,30],[17,28,17,30],[18,12,19,12],[18,13,19,13],[18,14,19,14],[18,28,18,30],[19,28,19,30],[20,28,20,30],[20,34,20,48],[21,28,21,30],[21,34,21,48],[912,28,912,30],[924,28,924,30],[928,28,928,30],[929,12,930,12],[929,13,930,13],[929,14,930,14],[929,28,929,30],[930,28,930,30],[930,46,930,60],[931,28,931,30],[931,46,931,60],[932,28,932,30],[932,46,932,60],[1954,28,1954,30],[1966,28,1966,30],[1970,28,1970,30],[1971,12,1972,12],[1971,13,1972,13],[1971,14,1972,14],[1971,28,1971,30],[1972,28,1972,30],[1973,28,1973,30],[1973,34,1973,48],[1974,28,1974,30],[1974,34,1974,48],[2223,28,2223,30],[2235,28,2235,30],[2239,28,2239,30],[2240,12,2241,12],[2240,13,2241,13],[2240,14,2241,14],[2240,28,2240,30],[2240,76,2240,90],[2241,28,2241,30],[2241,46,2241,60],[2241,76,2241,90],[2242,28,2242,30],[2242,46,2242,60],[2242,76,2242,90],[2243,28,2243,30],[2243,46,2243,60],[2243,61,2243,75],[2243,76,2243,90],[2538,28,2538,30],[2550,28,2550,30],[2554,28,2554,30],[2555,12,2556,12],[2555,13,2556,13],[2555,14,2556,14],[2555,28,2555,30],[2556,28,2556,30],[2557,28,2557,30],[2557,34,2557,48],[2558,28,2558,30],[2558,34,2558,48],[2807,28,2807,30],[2819,28,2819,30],[2823,28,2823,30],[2824,12,2825,12],[2824,13,2825,13],[2824,14,2825,14],[2824,28,2824,30],[2824,76,2824,90],[2825,28,2825,30],[2825,46,2825,60],[2825,76,2825,90],[2826,28,2826,30],[2826,46,2826,60],[2826,76,2826,90],[2827,28,2827,30],[2827,46,2827,60],[2827,61,2827,75],[2827,76,2827,90]]}
[]
[{"$nulls":28},"HEAT_CALC_ADD_RANGE"]
[]
[]
[]
[{"$nulls":28},12,6,6]
[]
[]
[{"$nulls":28},"Y","I","II"]
[]
[]
[]
[{"$nulls":28},"Год","I полугодие","II полугодие"]
[]
[{"$nulls":28},{"$f":"AC17 & \"_\" & AC9","v":"0_Y"},{"$f":"AD17 & \"_\" & AD9","v":"0_I"},{"$f":"AE17 & \"_\" & AE9","v":"0_II"}]
[]
[{"$nulls":28},{"$f":"AC19","v":0},{"$f":"AC19","v":0},{"$f":"AC19","v":0}]
[{"$nulls":28},"Удалить"]
[{"$nulls":12},"№ п/п","Наименование показателя","Единица измерения"]
[]
[{"$nulls":13},"Является ли организация плательщиком НДС",{"$nulls":20},"HEAT_CALC_EMPTY_BASE_RANGE"]
[{"$nulls":34},"HEAT_CALC_SINGLE_BASE_RANGE"]
{"$rows_empty":13}
[{"$nulls":12},"4","Стоимость натурального топлива с учётом транспортировки (перевозки) (топливо на технологические цели)","тыс.руб.",{"$nulls":16},{"$f":"ТС.Т!AF36","v":{"v":0,"d":"0.00"}},{"$f":"ТС.Т!AG36","v":{"v":0,"d":"0.00"}},{"$f":"ТС.Т!AH36","v":{"v":0,"d":"0.00"}}]
[{"$nulls":12},"4.NG","Газ природный","тыс.руб.",{"$nulls":16},{"$f":"ТС.Т!AF37","v":"NG"},{"$f":"ТС.Т!AG37","v":{"v":0,"d":"0.00"}},{"$f":"ТС.Т!AH37","v":{"v":0,"d":"0.00"}}]
[{"$nulls":12},"4.NGL","Газ лимитный","тыс.руб.",{"$nulls":16},{"$f":"ТС.Т!AF38","v":"NGL"},{"$f":"ТС.Т!AG38","v":{"v":0,"d":"0.00"}},{"$f":"ТС.Т!AH38","v":{"v":0,"d":"0.00"}}]
[{"$nulls":12},"4.NGU","Газ сверхлимитный","тыс.руб.",{"$nulls":16},{"$f":"ТС.Т!AF39","v":"NGU"},{"$f":"ТС.Т!AG39","v":{"v":0,"d":"0.00"}},{"$f":"ТС.Т!AH39","v":{"v":0,"d":"0.00"}}]
[{"$nulls":12},"4.NGC","Газ коммерческий","тыс.руб.",{"$nulls":16},{"$f":"ТС.Т!AF40","v":"NGC"},{"$f":"ТС.Т!AG40","v":{"v":0,"d":"0.00"}},{"$f":"ТС.Т!AH40","v":{"v":0,"d":"0.00"}}]
[{"$nulls":12},"4.GBL","Газ доменный","тыс.руб.",{"$nulls":16},{"$f":"ТС.Т!AF41","v":"GBL"},{"$f":"ТС.Т!AG41","v":{"v":0,"d":"0.00"}},{"$f":"ТС.Т!AH41","v":{"v":0,"d":"0.00"}}]
[{"$nulls":12},"4.GCK","Газ коксовый","тыс.руб.",{"$nulls":16},{"$f":"ТС.Т!AF42","v":"GCK"},{"$f":"ТС.Т!AG42","v":{"v":0,"d":"0.00"}},{"$f":"ТС.Т!AH42","v":{"v":0,"d":"0.00"}}]
[{"$nulls":12},"4.GOA","Газ нефтяной (попутный)","тыс.руб.",{"$nulls":16},{"$f":"ТС.Т!AF43","v":"GOA"},{"$f":"ТС.Т!AG43","v":{"v":0,"d":"0.00"}},{"$f":"ТС.Т!AH43","v":{"v":0,"d":"0.00"}}]
[{"$nulls":12},"4.DSG","Газ сухой отбензиненный","тыс.руб.",{"$nulls":16},{"$f":"ТС.Т!AF44","v":"DSG"},{"$f":"ТС.Т!AG44","v":{"v":0,"d":"0.00"}},{"$f":"ТС.Т!AH44","v":{"v":0,"d":"0.00"}}]
[{"$nulls":12},"4.GCN","Газовый конденсат","тыс.руб.",{"$nulls":16},{"$f":"ТС.Т!AF45","v":"GCN"},{"$f":"ТС.Т!AG45","v":{"v":0,"d":"0.00"}},{"$f":"ТС.Т!AH45","v":{"v":0,"d":"0.00"}}]
[{"$nulls":12},"4.LNG","Газ сжиженный","тыс.руб.",{"$nulls":16},{"$f":"ТС.Т!AF46","v":"LNG"},{"$f":"ТС.Т!AG46","v":{"v":0,"d":"0.00"}},{"$f":"ТС.Т!AH46","v":{"v":0,"d":"0.00"}}]
[{"$nulls":12},"4.DSL","Дизельное топливо","тыс.руб.",{"$nulls":16},{"$f":"ТС.Т!AF47","v":"DSL"},{"$f":"ТС.Т!AG47","v":{"v":0,"d":"0.00"}},{"$f":"ТС.Т!AH47","v":{"v":0,"d":"0.00"}}]
[{"$nulls":12},"4.DSLA","А (арктическое)","тыс.руб.",{"$nulls":16},{"$f":"ТС.Т!AF48","v":"DSLA"},{"$f":"ТС.Т!AG48","v":{"v":0,"d":"0.00"}},{"$f":"ТС.Т!AH48","v":{"v":0,"d":"0.00"}}]
[{"$nulls":12},"4.DSLW","З (зимнее)","тыс.руб.",{"$nulls":16},{"$f":"ТС.Т!AF49","v":"DSLW"},{"$f":"ТС.Т!AG49","v":{"v":0,"d":"0.00"}},{"$f":"ТС.Т!AH49","v":{"v":0,"d":"0.00"}}]
[{"$nulls":12},"4.DSLS","Л (летнее)","тыс.руб.",{"$nulls":16},{"$f":"ТС.Т!AF50","v":"DSLS"},{"$f":"ТС.Т!AG50","v":{"v":0,"d":"0.00"}},{"$f":"ТС.Т!AH50","v":{"v":0,"d":"0.00"}}]
[{"$nulls":12},"4.DSLO","Е (межсезонное)","тыс.руб.",{"$nulls":16},{"$f":"ТС.Т!AF51","v":"DSLO"},{"$f":"ТС.Т!AG51","v":{"v":0,"d":"0.00"}},{"$f":"ТС.Т!AH51","v":{"v":0,"d":"0.00"}}]
[{"$nulls":12},"4.MST","Мазут","тыс.руб.",{"$nulls":16},{"$f":"ТС.Т!AF52","v":"MST"},{"$f":"ТС.Т!AG52","v":{"v":0,"d":"0.00"}},{"$f":"ТС.Т!AH52","v":{"v":0,"d":"0.00"}}]
[{"$nulls":12},"4.MSTM40","М-40","тыс.руб.",{"$nulls":16},{"$f":"ТС.Т!AF53","v":"MSTM40"},{"$f":"ТС.Т!AG53","v":{"v":0,"d":"0.00"}},{"$f":"ТС.Т!AH53","v":{"v":0,"d":"0.00"}}]
[{"$nulls":12},"4.MSTM100","М-100","тыс.руб.",{"$nulls":16},{"$f":"ТС.Т!AF54","v":"MSTM100"},{"$f":"ТС.Т!AG54","v":{"v":0,"d":"0.00"}},{"$f":"ТС.Т!AH54","v":{"v":0,"d":"0.00"}}]
[{"$nulls":12},"4.MSTM200","М-200","тыс.руб.",{"$nulls":16},{"$f":"ТС.Т!AF55","v":"MSTM200"},{"$f":"ТС.Т!AG55","v":{"v":0,"d":"0.00"}},{"$f":"ТС.Т!AH55","v":{"v":0,"d":"0.00"}}]
[{"$nulls":12},"4.MSTT","мазут марки \"Т\"","тыс.руб.",{"$nulls":16},{"$f":"ТС.Т!AF56","v":"MSTT"},{"$f":"ТС.Т!AG56","v":{"v":0,"d":"0.00"}},{"$f":"ТС.Т!AH56","v":{"v":0,"d":"0.00"}}]
[{"$nulls":12},"4.MSTF5","Ф-5","тыс.руб.",{"$nulls":16},{"$f":"ТС.Т!AF57","v":"MSTF5"},{"$f":"ТС.Т!AG57","v":{"v":0,"d":"0.00"}},{"$f":"ТС.Т!AH57","v":{"v":0,"d":"0.00"}}]
[{"$nulls":12},"4.MSTF12","Ф-12","тыс.руб.",{"$nulls":16},{"$f":"ТС.Т!AF58","v":"MSTF12"},{"$f":"ТС.Т!AG58","v":{"v":0,"d":"0.00"}},{"$f":"ТС.Т!AH58","v":{"v":0,"d":"0.00"}}]
[{"$nulls":12},"4.OIL","Нефть","тыс.руб.",{"$nulls":16},{"$f":"ТС.Т!AF59","v":"OIL"},{"$f":"ТС.Т!AG59","v":{"v":0,"d":"0.00"}},{"$f":"ТС.Т!AH59","v":{"v":0,"d":"0.00"}}]
[{"$nulls":12},"4.COA","Уголь","тыс.руб.",{"$nulls":16},{"$f":"ТС.Т!AF60","v":"COA"},{"$f":"ТС.Т!AG60","v":{"v":0,"d":"0.00"}},{"$f":"ТС.Т!AH60","v":{"v":0,"d":"0.00"}}]
[{"$nulls":12},"4.COAA","Уголь антрацит","тыс.руб.",{"$nulls":16},{"$f":"ТС.Т!AF61","v":"COAA"},{"$f":"ТС.Т!AG61","v":{"v":0,"d":"0.00"}},{"$f":"ТС.Т!AH61","v":{"v":0,"d":"0.00"}}]
[{"$nulls":12},"4.COAB","Уголь бурый","тыс.руб.",{"$nulls":16},{"$f":"ТС.Т!AF62","v":"COAB"},{"$f":"ТС.Т!AG62","v":{"v":0,"d":"0.00"}},{"$f":"ТС.Т!AH62","v":{"v":0,"d":"0.00"}}]
[{"$nulls":12},"4.COAG","Уголь газовый","тыс.руб.",{"$nulls":16},{"$f":"ТС.Т!AF63","v":"COAG"},{"$f":"ТС.Т!AG63","v":{"v":0,"d":"0.00"}},{"$f":"ТС.Т!AH63","v":{"v":0,"d":"0.00"}}]
[{"$nulls":12},"4.COALF","Уголь длиннопламенный","тыс.руб.",{"$nulls":16},{"$f":"ТС.Т!AF64","v":"COALF"},{"$f":"ТС.Т!AG64","v":{"v":0,"d":"0.00"}},{"$f":"ТС.Т!AH64","v":{"v":0,"d":"0.00"}}]
[{"$nulls":12},"4.COAF","Уголь жирный","тыс.руб.",{"$nulls":16},{"$f":"ТС.Т!AF65","v":"COAF"},{"$f":"ТС.Т!AG65","v":{"v":0,"d":"0.00"}},{"$f":"ТС.Т!AH65","v":{"v":0,"d":"0.00"}}]
[{"$nulls":12},"4.COAC","Уголь коксовый","тыс.руб.",{"$nulls":16},{"$f":"ТС.Т!AF66","v":"COAC"},{"$f":"ТС.Т!AG66","v":{"v":0,"d":"0.00"}},{"$f":"ТС.Т!AH66","v":{"v":0,"d":"0.00"}}]
[{"$nulls":12},"4.COASC","Уголь отощённо-спекающийся","тыс.руб.",{"$nulls":16},{"$f":"ТС.Т!AF67","v":"COASC"},{"$f":"ТС.Т!AG67","v":{"v":0,"d":"0.00"}},{"$f":"ТС.Т!AH67","v":{"v":0,"d":"0.00"}}]
[{"$nulls":12},"4.COAWC","Уголь слабоспекающийся","тыс.руб.",{"$nulls":16},{"$f":"ТС.Т!AF68","v":"COAWC"},{"$f":"ТС.Т!AG68","v":{"v":0,"d":"0.00"}},{"$f":"ТС.Т!AH68","v":{"v":0,"d":"0.00"}}]
[{"$nulls":12},"4.COAS","Уголь тощий","тыс.руб.",{"$nulls":16},{"$f":"ТС.Т!AF69","v":"COAS"},{"$f":"ТС.Т!AG69","v":{"v":0,"d":"0.00"}},{"$f":"ТС.Т!AH69","v":{"v":0,"d":"0.00"}}]
[{"$nulls":12},"4.ENR","Энергия","тыс.руб.",{"$nulls":16},{"$f":"ТС.Т!AF70","v":"ENR"},{"$f":"ТС.Т!AG70","v":{"v":0,"d":"0.00"}},{"$f":"ТС.Т!AH70","v":{"v":0,"d":"0.00"}}]
[{"$nulls":12},"4.PWR","Заявленная мощность","тыс.руб.",{"$nulls":16},{"$f":"ТС.Т!AF71","v":"PWR"},{"$f":"ТС.Т!AG71","v":{"v":0,"d":"0.00"}},{"$f":"ТС.Т!AH71","v":{"v":0,"d":"0.00"}}]
[{"$nulls":12},"4.CWD","Уголь древесный","тыс.руб.",{"$nulls":16},{"$f":"ТС.Т!AF72","v":"CWD"},{"$f":"ТС.Т!AG72","v":{"v":0,"d":"0.00"}},{"$f":"ТС.Т!AH72","v":{"v":0,"d":"0.00"}}]
[{"$nulls":12},"4.WDS","Дрова","тыс.руб.",{"$nulls":16},{"$f":"ТС.Т!AF73","v":"WDS"},{"$f":"ТС.Т!AG73","v":{"v":0,"d":"0.00"}},{"$f":"ТС.Т!AH73","v":{"v":0,"d":"0.00"}}]
[{"$nulls":12},"4.PLT","Пеллеты","тыс.руб.",{"$nulls":16},{"$f":"ТС.Т!AF74","v":"PLT"},{"$f":"ТС.Т!AG74","v":{"v":0,"d":"0.00"}},{"$f":"ТС.Т!AH74","v":{"v":0,"d":"0.00"}}]
[{"$nulls":12},"4.SAW","Опилки","тыс.руб.",{"$nulls":16},{"$f":"ТС.Т!AF75","v":"SAW"},{"$f":"ТС.Т!AG75","v":{"v":0,"d":"0.00"}},{"$f":"ТС.Т!AH75","v":{"v":0,"d":"0.00"}}]
[{"$nulls":12},"4.PEA","Торф","тыс.руб.",{"$nulls":16},{"$f":"ТС.Т!AF76","v":"PEA"},{"$f":"ТС.Т!AG76","v":{"v":0,"d":"0.00"}},{"$f":"ТС.Т!AH76","v":{"v":0,"d":"0.00"}}]
[{"$nulls":12},"4.SHL","Сланцы","тыс.руб.",{"$nulls":16},{"$f":"ТС.Т!AF77","v":"SHL"},{"$f":"ТС.Т!AG77","v":{"v":0,"d":"0.00"}},{"$f":"ТС.Т!AH77","v":{"v":0,"d":"0.00"}}]
[{"$nulls":12},"4.STF","Печное бытовое топливо","тыс.руб.",{"$nulls":16},{"$f":"ТС.Т!AF78","v":"STF"},{"$f":"ТС.Т!AG78","v":{"v":0,"d":"0.00"}},{"$f":"ТС.Т!AH78","v":{"v":0,"d":"0.00"}}]
[{"$nulls":12},"4.OTH","Прочие виды топлива","тыс.руб.",{"$nulls":16},{"$f":"ТС.Т!AF79","v":"OTH"},{"$f":"ТС.Т!AG79","v":{"v":0,"d":"0.00"}},{"$f":"ТС.Т!AH79","v":{"v":0,"d":"0.00"}}]
{"$rows_empty":10}
[{"$nulls":12},"5","Энергия, в том числе ","тыс.руб.",{"$nulls":16},{"$f":"SUM(AF91,AF154)","v":{"v":0,"d":"0.00"}},{"$f":"SUM(AG91,AG154)","v":{"v":0,"d":"0.00"}},{"$f":"SUM(AH91,AH154)","v":{"v":0,"d":"0.00"}}]
[{"$nulls":12},"5.1","энергия (покупная энергия) на технологические цели ","тыс.руб.",{"$nulls":16},{"$f":"SUM(AF92,AF126,AF127)","v":{"v":0,"d":"0.00"}},{"$f":"SUM(AG92,AG126,AG127)","v":{"v":0,"d":"0.00"}},{"$f":"SUM(AH92,AH126,AH127)","v":{"v":0,"d":"0.00"}}]
[{"$nulls":12},"5.1.1","затраты на покупную тепловую энергию ","тыс.руб.",{"$nulls":16},{"$f":"SUM(AF93,AF109)","v":{"v":0,"d":"0.00"}},{"$f":"SUM(AG93,AG109)","v":{"v":0,"d":"0.00"}},{"$f":"SUM(AH93,AH109)","v":{"v":0,"d":"0.00"}}]
[{"$nulls":12},{"$f":"M92 & \".1\"","v":"5.1.1.1"},"С коллекторов, всего","тыс.руб.",{"$nulls":16},{"$f":"SUM(AF94,AF98,AF102)","v":{"v":0,"d":"0.00"}},{"$f":"SUM(AG94,AG98,AG102)","v":{"v":0,"d":"0.00"}},{"$f":"SUM(AH94,AH98,AH102)","v":{"v":0,"d":"0.00"}}]
[{"$nulls":12},{"$f":"M92 & \".1.1\"","v":"5.1.1.1.1"},"от станций с мощностью производства >= 25 МВт","тыс.руб.",{"$nulls":16},{"$f":"AG94+AH94","v":{"v":0,"d":"0.00"}}]
[{"$nulls":12},{"$f":"M92 & \".1.1.0.1\"","v":"5.1.1.1.1.0.1"},"объём ТЭ","тыс. Гкал",{"$nulls":16},{"$f":"AG95+AH95","v":{"v":0,"d":"0.00"}}]
[{"$nulls":12},{"$f":"M92 & \".1.1.0.2\"","v":"5.1.1.1.1.0.2"},"цена ТЭ","руб./Гкал",{"$nulls":16},{"$f":"IF(AF95=0,0,AF94/AF95)","v":{"v":0,"d":"0.00"}},{"$f":"IF(AG95=0,0,AG94/AG95)","v":{"v":0,"d":"0.00"}},{"$f":"IF(AH95=0,0,AH94/AH95)","v":{"v":0,"d":"0.00"}}]
[]
[{"$nulls":12},{"$f":"M92 & \".1.2\"","v":"5.1.1.1.2"},"от станций с мощностью производства < 25 МВт","тыс.руб.",{"$nulls":16},{"$f":"AG98+AH98","v":{"v":0,"d":"0.00"}}]
[{"$nulls":12},{"$f":"M92 & \".1.2.0.1\"","v":"5.1.1.1.2.0.1"},"объём ТЭ","тыс. Гкал",{"$nulls":16},{"$f":"AG99+AH99","v":{"v":0,"d":"0.00"}}]
[{"$nulls":12},{"$f":"M92 & \".1.2.0.2\"","v":"5.1.1.1.2.0.2"},"цена ТЭ","руб./Гкал",{"$nulls":16},{"$f":"IF(AF99=0,0,AF98/AF99)","v":{"v":0,"d":"0.00"}},{"$f":"IF(AG99=0,0,AG98/AG99)","v":{"v":0,"d":"0.00"}},{"$f":"IF(AH99=0,0,AH98/AH99)","v":{"v":0,"d":"0.00"}}]
[]
[{"$nulls":12},{"$f":"M92 & \".1.3\"","v":"5.1.1.1.3"},"от котельных","тыс.руб.",{"$nulls":16},{"$f":"AG102+AH102","v":{"v":0,"d":"0.00"}}]
[{"$nulls":12},{"$f":"M92 & \".1.3.0.1\"","v":"5.1.1.1.3.0.1"},"объём ТЭ","тыс. Гкал",{"$nulls":16},{"$f":"AG103+AH103","v":{"v":0,"d":"0.00"}}]
[{"$nulls":12},{"$f":"M92 & \".1.3.0.2\"","v":"5.1.1.1.3.0.2"},"цена ТЭ","руб./Гкал",{"$nulls":16},{"$f":"IF(AF103=0,0,AF102/AF103)","v":{"v":0,"d":"0.00"}},{"$f":"IF(AG103=0,0,AG102/AG103)","v":{"v":0,"d":"0.00"}},{"$f":"IF(AH103=0,0,AH102/AH103)","v":{"v":0,"d":"0.00"}}]
[{"$nulls":12},{"$f":"M92 & \".2\"","v":"5.1.1.2"},"в том числе покупка потерь с коллекторов","тыс.руб.",{"$nulls":16},{"$f":"SUM(AF106:AF108)","v":{"v":0,"d":"0.00"}},{"$f":"SUM(AG106:AG108)","v":{"v":0,"d":"0.00"}},{"$f":"SUM(AH106:AH108)","v":{"v":0,"d":"0.00"}}]
[{"$nulls":12},{"$f":"M92 & \".2.1\"","v":"5.1.1.2.1"},"от станций с мощностью производства >= 25 МВт","тыс.руб.",{"$nulls":16},{"$f":"AG106+AH106","v":{"v":0,"d":"0.00"}}]
[{"$nulls":12},{"$f":"M92 & \".2.2\"","v":"5.1.1.2.2"},"от станций с мощностью производства < 25 МВт","тыс.руб.",{"$nulls":16},{"$f":"AG107+AH107","v":{"v":0,"d":"0.00"}}]
[{"$nulls":12},{"$f":"M92 & \".2.3\"","v":"5.1.1.2.3"},"от котельных","тыс.руб."]
[{"$nulls":12},{"$f":"M92 & \".3\"","v":"5.1.1.3"},"Из тепловой сети, всего","тыс.руб.",{"$nulls":16},{"$f":"SUM(AF110,AF114,AF118)","v":{"v":0,"d":"0.00"}},{"$f":"SUM(AG110,AG114,AG118)","v":{"v":0,"d":"0.00"}},{"$f":"SUM(AH110,AH114,AH118)","v":{"v":0,"d":"0.00"}}]
[{"$nulls":12},{"$f":"M92 & \".3.1\"","v":"5.1.1.3.1"},"от станций с мощностью производства >= 25 МВт","тыс.руб.",{"$nulls":16},{"$f":"AG110+AH110","v":{"v":0,"d":"0.00"}}]
[{"$nulls":12},{"$f":"M92 & \".3.1.0.1\"","v":"5.1.1.3.1.0.1"},"объём ТЭ","тыс. Гкал",{"$nulls":16},{"$f":"AG111+AH111","v":{"v":0,"d":"0.00"}}]
[{"$nulls":12},{"$f":"M92 & \".3.1.0.2\"","v":"5.1.1.3.1.0.2"},"цена ТЭ","руб./Гкал",{"$nulls":16},{"$f":"IF(AF111=0,0,AF110/AF111)","v":{"v":0,"d":"0.00"}},{"$f":"IF(AG111=0,0,AG110/AG111)","v":{"v":0,"d":"0.00"}},{"$f":"IF(AH111=0,0,AH110/AH111)","v":{"v":0,"d":"0.00"}}]
[]
[{"$nulls":12},{"$f":"M92 & \".3.2\"","v":"5.1.1.3.2"},"от станций с мощностью производства < 25 МВт","тыс.руб.",{"$nulls":16},{"$f":"AG114+AH114","v":{"v":0,"d":"0.00"}}]
[{"$nulls":12},{"$f":"M92 & \".3.2.0.1\"","v":"5.1.1.3.2.0.1"},"объём ТЭ","тыс. Гкал",{"$nulls":16},{"$f":"AG115+AH115","v":{"v":0,"d":"0.00"}}]
[{"$nulls":12},{"$f":"M92 & \".3.2.0.2\"","v":"5.1.1.3.2.0.2"},"цена ТЭ","руб./Гкал",{"$nulls":16},{"$f":"IF(AF115=0,0,AF114/AF115)","v":{"v":0,"d":"0.00"}},{"$f":"IF(AG115=0,0,AG114/AG115)","v":{"v":0,"d":"0.00"}},{"$f":"IF(AH115=0,0,AH114/AH115)","v":{"v":0,"d":"0.00"}}]
[]
[{"$nulls":12},{"$f":"M92 & \".3.3\"","v":"5.1.1.3.3"},"от котельных (некомбинированная выработка)","тыс.руб.",{"$nulls":16},{"$f":"AG118+AH118","v":{"v":0,"d":"0.00"}}]
[{"$nulls":12},{"$f":"M92 & \".3.3.0.1\"","v":"5.1.1.3.3.0.1"},"объём ТЭ","тыс. Гкал",{"$nulls":16},{"$f":"AG119+AH119","v":{"v":0,"d":"0.00"}}]
[{"$nulls":12},{"$f":"M92 & \".3.3.0.2\"","v":"5.1.1.3.3.0.2"},"цена ТЭ","руб./Гкал",{"$nulls":16},{"$f":"IF(AF119=0,0,AF118/AF119)","v":{"v":0,"d":"0.00"}},{"$f":"IF(AG119=0,0,AG118/AG119)","v":{"v":0,"d":"0.00"}},{"$f":"IF(AH119=0,0,AH118/AH119)","v":{"v":0,"d":"0.00"}}]
[]
[{"$nulls":12},{"$f":"M92 & \".4\"","v":"5.1.1.4"},"в том числе покупка потерь из тепловой сети","тыс.руб.",{"$nulls":16},{"$f":"SUM(AF123:AF125)","v":{"v":0,"d":"0.00"}},{"$f":"SUM(AG123:AG125)","v":{"v":0,"d":"0.00"}},{"$f":"SUM(AH123:AH125)","v":{"v":0,"d":"0.00"}}]
[{"$nulls":12},{"$f":"M92 & \".4.1\"","v":"5.1.1.4.1"},"от станций с мощностью производства >= 25 МВт","тыс.руб.",{"$nulls":16},{"$f":"AG123+AH123","v":{"v":0,"d":"0.00"}}]
[{"$nulls":12},{"$f":"M92 & \".4.2\"","v":"5.1.1.4.2"},"от станций с мощностью производства < 25 МВт","тыс.руб.",{"$nulls":16},{"v":0,"d":"0.00"}]
[{"$nulls":12},{"$f":"M92 & \".4.3\"","v":"5.1.1.4.3"},"от котельных (некомбинированная выработка)","тыс.руб.",{"$nulls":16},{"v":0,"d":"0.00"}]
[{"$nulls":12},"5.1.2","затраты на оплату услуг по передаче тепловой энергии","тыс.руб.",{"$nulls":16},{"v":0,"d":"0.00"}]
[{"$nulls":12},"5.1.3","затраты на покупную электрическую энергию, по уровням напряжения:","тыс.руб.",{"$nulls":16},{"v":0,"d":"0.00"},{"$f":"SUM(AG130,AG133,AG136,AG139,AG142,AG145,AG148,AG151)","v":{"v":0,"d":"0.00"}},{"$f":"SUM(AH130,AH133,AH136,AH139,AH142,AH145,AH148,AH151)","v":{"v":0,"d":"0.00"}}]
[{"$nulls":12},"5.1.3.0.1","объём энергии","тыс.кВт*ч",{"$nulls":16},{"v":0,"d":"0.00"},{"$f":"AG132+AG138+AG144+AG150","v":{"v":0,"d":"0.00"}},{"$f":"AH132+AH138+AH144+AH150","v":{"v":0,"d":"0.00"}}]
[{"$nulls":12},"5.1.3.0.2","объём заявленной мощности","МВт",{"$nulls":16},{"v":0,"d":"0.00"},{"$f":"AG135+AG141+AG147+AG153","v":{"v":0,"d":"0.00"}},{"$f":"AH135+AH141+AH147+AH153","v":{"v":0,"d":"0.00"}}]
[{"$nulls":12},"5.1.3.1.1","энергия НН (0,4 кВ и ниже)","тыс.руб.",{"$nulls":16},{"v":0,"d":"0.00"},{"$f":"AG131*AG132","v":{"v":0,"d":"0.00"}},{"$f":"AH131*AH132","v":{"v":0,"d":"0.00"}}]
[{"$nulls":12},"5.1.3.1.1.1","тариф на энергию","руб./кВт*ч",{"$nulls":16},{"$f":"IF(AF132=0,0,AF130/AF132)","v":{"v":0,"d":"0.00"}}]
[{"$nulls":12},"5.1.3.1.1.2","объём энергии","тыс.кВт*ч",{"$nulls":16},{"$f":"AG132+AH132","v":{"v":0,"d":"0.00"}}]
[{"$nulls":12},"5.1.3.1.2","заявленная мощность по НН (0,4 кВ и ниже)","тыс.руб.",{"$nulls":16},{"$f":"AG133+AH133","v":{"v":0,"d":"0.00"}},{"$f":"AG134*AG135","v":{"v":0,"d":"0.00"}},{"$f":"AH134*AH135","v":{"v":0,"d":"0.00"}}]
[{"$nulls":12},"5.1.3.1.2.1","тариф на заявленную мощность","руб./кВт*мес",{"$nulls":16},{"$f":"IF(AF135=0,0,AF133/AF135)","v":{"v":0,"d":"0.00"}}]
[{"$nulls":12},"5.1.3.1.2.2","годовой объём мощности","МВт",{"$nulls":16},{"$f":"AG135+AH135","v":{"v":0,"d":"0.00"}}]
[{"$nulls":12},"5.1.3.2.1","энергия СН 2 (1-20 кВ)","тыс.руб.",{"$nulls":16},{"$f":"AG136+AH136","v":{"v":0,"d":"0.00"}},{"$f":"AG137*AG138","v":{"v":0,"d":"0.00"}},{"$f":"AH137*AH138","v":{"v":0,"d":"0.00"}}]
[{"$nulls":12},"5.1.3.2.1.1","тариф на энергию","руб./кВт*ч",{"$nulls":16},{"$f":"IF(AF138=0,0,AF136/AF138)","v":{"v":0,"d":"0.00"}}]
[{"$nulls":12},"5.1.3.2.1.2","объём энергии","тыс.кВт*ч",{"$nulls":16},{"$f":"AG138+AH138","v":{"v":0,"d":"0.00"}}]
[{"$nulls":12},"5.1.3.2.2","заявленная мощность по СН 2 (1-20 кВ)","тыс.руб.",{"$nulls":16},{"$f":"AG139+AH139","v":{"v":0,"d":"0.00"}},{"$f":"AG140*AG141","v":{"v":0,"d":"0.00"}},{"$f":"AH140*AH141","v":{"v":0,"d":"0.00"}}]
[{"$nulls":12},"5.1.3.2.2.1","тариф на заявленную мощность","руб./кВт*мес",{"$nulls":16},{"$f":"IF(AF141=0,0,AF139/AF141)","v":{"v":0,"d":"0.00"}}]
[{"$nulls":12},"5.1.3.2.2.2","годовой объём мощности","МВт",{"$nulls":16},{"$f":"AG141+AH141","v":{"v":0,"d":"0.00"}}]
[{"$nulls":12},"5.1.3.3.1","энергия СН 1 (35 кВ)","тыс.руб.",{"$nulls":16},{"$f":"AG142+AH142","v":{"v":0,"d":"0.00"}},{"$f":"AG143*AG144","v":{"v":0,"d":"0.00"}},{"$f":"AH143*AH144","v":{"v":0,"d":"0.00"}}]
[{"$nulls":12},"5.1.3.3.1.1","тариф на энергию","руб./кВт*ч",{"$nulls":16},{"$f":"IF(AF144=0,0,AF142/AF144)","v":{"v":0,"d":"0.00"}}]
[{"$nulls":12},"5.1.3.3.1.2","объём энергии","тыс.кВт*ч",{"$nulls":16},{"$f":"AG144+AH144","v":{"v":0,"d":"0.00"}}]
[{"$nulls":12},"5.1.3.3.2","заявленная мощность по СН 1 (35 кВ)","тыс.руб.",{"$nulls":16},{"$f":"AG145+AH145","v":{"v":0,"d":"0.00"}},{"$f":"AG146*AG147","v":{"v":0,"d":"0.00"}},{"$f":"AH146*AH147","v":{"v":0,"d":"0.00"}}]
[{"$nulls":12},"5.1.3.3.2.1","тариф на заявленную мощность","руб./кВт*мес",{"$nulls":16},{"$f":"IF(AF147=0,0,AF145/AF147)","v":{"v":0,"d":"0.00"}}]
[{"$nulls":12},"5.1.3.3.2.2","годовой объём мощности","МВт",{"$nulls":16},{"$f":"AG147+AH147","v":{"v":0,"d":"0.00"}}]
[{"$nulls":12},"5.1.3.4.1","энергия ВН (110 кВ и выше)","тыс.руб.",{"$nulls":16},{"$f":"AG148+AH148","v":{"v":0,"d":"0.00"}},{"$f":"AG149*AG150","v":{"v":0,"d":"0.00"}},{"$f":"AH149*AH150","v":{"v":0,"d":"0.00"}}]
[{"$nulls":12},"5.1.3.4.1.1","тариф на энергию","руб./кВт*ч",{"$nulls":16},{"$f":"IF(AF150=0,0,AF148/AF150)","v":{"v":0,"d":"0.00"}}]
[{"$nulls":12},"5.1.3.4.1.2","объём энергии","тыс.кВт*ч",{"$nulls":16},{"$f":"AG150+AH150","v":{"v":0,"d":"0.00"}}]
[{"$nulls":12},"5.1.3.4.2","заявленная мощность по ВН (110 кВ и выше)","тыс.руб.",{"$nulls":16},{"$f":"AG151+AH151","v":{"v":0,"d":"0.00"}},{"$f":"AG152*AG153","v":{"v":0,"d":"0.00"}},{"$f":"AH152*AH153","v":{"v":0,"d":"0.00"}}]
[{"$nulls":12},"5.1.3.4.2.1","тариф на заявленную мощность","руб./кВт*мес",{"$nulls":16},{"$f":"IF(AF153=0,0,AF151/AF153)","v":{"v":0,"d":"0.00"}}]
[{"$nulls":12},"5.1.3.4.2.2","годовой объём мощности","МВт",{"$nulls":16},{"$f":"AG153+AH153","v":{"v":0,"d":"0.00"}}]
[{"$nulls":12},"5.2","энергия на хозяйственные нужды ","тыс.руб.",{"$nulls":16},{"$f":"SUM(AF155,AF189)","v":{"v":0,"d":"0.00"}},{"$f":"SUM(AG155,AG189)","v":{"v":0,"d":"0.00"}},{"$f":"SUM(AH155,AH189)","v":{"v":0,"d":"0.00"}}]
[{"$nulls":12},"5.2.1","тепловая энергия ","тыс.руб.",{"$nulls":16},{"$f":"SUM(AF156,AF172)","v":{"v":0,"d":"0.00"}},{"$f":"SUM(AG156,AG172)","v":{"v":0,"d":"0.00"}},{"$f":"SUM(AH156,AH172)","v":{"v":0,"d":"0.00"}}]
[{"$nulls":12},{"$f":"M155 & \".1\"","v":"5.2.1.1"},"С коллекторов, всего","тыс.руб.",{"$nulls":16},{"$f":"SUM(AF157,AF161,AF165)","v":{"v":0,"d":"0.00"}},{"$f":"SUM(AG157,AG161,AG165)","v":{"v":0,"d":"0.00"}},{"$f":"SUM(AH157,AH161,AH165)","v":{"v":0,"d":"0.00"}}]
[{"$nulls":12},{"$f":"M155 & \".1.1\"","v":"5.2.1.1.1"},"от станций с мощностью производства >= 25 МВт","тыс.руб.",{"$nulls":16},{"$f":"AG157+AH157","v":{"v":0,"d":"0.00"}}]
[{"$nulls":12},{"$f":"M155 & \".1.1.0.1\"","v":"5.2.1.1.1.0.1"},"объём ТЭ","тыс. Гкал",{"$nulls":16},{"$f":"AG158+AH158","v":{"v":0,"d":"0.00"}}]
[{"$nulls":12},{"$f":"M155 & \".1.1.0.2\"","v":"5.2.1.1.1.0.2"},"цена ТЭ","руб./Гкал",{"$nulls":16},{"$f":"IF(AF158=0,0,AF157/AF158)","v":{"v":0,"d":"0.00"}},{"$f":"IF(AG158=0,0,AG157/AG158)","v":{"v":0,"d":"0.00"}},{"$f":"IF(AH158=0,0,AH157/AH158)","v":{"v":0,"d":"0.00"}}]
[]
[{"$nulls":12},{"$f":"M155 & \".1.2\"","v":"5.2.1.1.2"},"от станций с мощностью производства < 25 МВт","тыс.руб.",{"$nulls":16},{"$f":"AG161+AH161","v":{"v":0,"d":"0.00"}}]
[{"$nulls":12},{"$f":"M155 & \".1.2.0.1\"","v":"5.2.1.1.2.0.1"},"объём ТЭ","тыс. Гкал",{"$nulls":16},{"$f":"AG162+AH162","v":{"v":0,"d":"0.00"}}]
[{"$nulls":12},{"$f":"M155 & \".1.2.0.2\"","v":"5.2.1.1.2.0.2"},"цена ТЭ","руб./Гкал",{"$nulls":16},{"$f":"IF(AF162=0,0,AF161/AF162)","v":{"v":0,"d":"0.00"}},{"$f":"IF(AG162=0,0,AG161/AG162)","v":{"v":0,"d":"0.00"}},{"$f":"IF(AH162=0,0,AH161/AH162)","v":{"v":0,"d":"0.00"}}]
[]
[{"$nulls":12},{"$f":"M155 & \".1.3\"","v":"5.2.1.1.3"},"от котельных","тыс.руб.",{"$nulls":16},{"$f":"AG165+AH165","v":{"v":0,"d":"0.00"}}]
[{"$nulls":12},{"$f":"M155 & \".1.3.0.1\"","v":"5.2.1.1.3.0.1"},"объём ТЭ","тыс. Гкал",{"$nulls":16},{"$f":"AG166+AH166","v":{"v":0,"d":"0.00"}}]
[{"$nulls":12},{"$f":"M155 & \".1.3.0.2\"","v":"5.2.1.1.3.0.2"},"цена ТЭ","руб./Гкал",{"$nulls":16},{"$f":"IF(AF166=0,0,AF165/AF166)","v":{"v":0,"d":"0.00"}},{"$f":"IF(AG166=0,0,AG165/AG166)","v":{"v":0,"d":"0.00"}},{"$f":"IF(AH166=0,0,AH165/AH166)","v":{"v":0,"d":"0.00"}}]
[{"$nulls":12},{"$f":"M155 & \".2\"","v":"5.2.1.2"},"в том числе покупка потерь с коллекторов","тыс.руб.",{"$nulls":16},{"$f":"SUM(AF169:AF171)","v":{"v":0,"d":"0.00"}},{"$f":"SUM(AG169:AG171)","v":{"v":0,"d":"0.00"}},{"$f":"SUM(AH169:AH171)","v":{"v":0,"d":"0.00"}}]
[{"$nulls":12},{"$f":"M155 & \".2.1\"","v":"5.2.1.2.1"},"от станций с мощностью производства >= 25 МВт","тыс.руб.",{"$nulls":16},{"$f":"AG169+AH169","v":{"v":0,"d":"0.00"}}]
[{"$nulls":12},{"$f":"M155 & \".2.2\"","v":"5.2.1.2.2"},"от станций с мощностью производства < 25 МВт","тыс.руб.",{"$nulls":16},{"$f":"AG170+AH170","v":{"v":0,"d":"0.00"}}]
[{"$nulls":12},{"$f":"M155 & \".2.3\"","v":"5.2.1.2.3"},"от котельных","тыс.руб."]
[{"$nulls":12},{"$f":"M155 & \".3\"","v":"5.2.1.3"},"Из тепловой сети, всего","тыс.руб.",{"$nulls":16},{"$f":"SUM(AF173,AF177,AF181)","v":{"v":0,"d":"0.00"}},{"$f":"SUM(AG173,AG177,AG181)","v":{"v":0,"d":"0.00"}},{"$f":"SUM(AH173,AH177,AH181)","v":{"v":0,"d":"0.00"}}]
[{"$nulls":12},{"$f":"M155 & \".3.1\"","v":"5.2.1.3.1"},"от станций с мощностью производства >= 25 МВт","тыс.руб.",{"$nulls":16},{"$f":"AG173+AH173","v":{"v":0,"d":"0.00"}}]
[{"$nulls":12},{"$f":"M155 & \".3.1.0.1\"","v":"5.2.1.3.1.0.1"},"объём ТЭ","тыс. Гкал",{"$nulls":16},{"$f":"AG174+AH174","v":{"v":0,"d":"0.00"}}]
[{"$nulls":12},{"$f":"M155 & \".3.1.0.2\"","v":"5.2.1.3.1.0.2"},"цена ТЭ","руб./Гкал",{"$nulls":16},{"$f":"IF(AF174=0,0,AF173/AF174)","v":{"v":0,"d":"0.00"}},{"$f":"IF(AG174=0,0,AG173/AG174)","v":{"v":0,"d":"0.00"}},{"$f":"IF(AH174=0,0,AH173/AH174)","v":{"v":0,"d":"0.00"}}]
[]
[{"$nulls":12},{"$f":"M155 & \".3.2\"","v":"5.2.1.3.2"},"от станций с мощностью производства < 25 МВт","тыс.руб.",{"$nulls":16},{"$f":"AG177+AH177","v":{"v":0,"d":"0.00"}}]
[{"$nulls":12},{"$f":"M155 & \".3.2.0.1\"","v":"5.2.1.3.2.0.1"},"объём ТЭ","тыс. Гкал",{"$nulls":16},{"$f":"AG178+AH178","v":{"v":0,"d":"0.00"}}]
[{"$nulls":12},{"$f":"M155 & \".3.2.0.2\"","v":"5.2.1.3.2.0.2"},"цена ТЭ","руб./Гкал",{"$nulls":16},{"$f":"IF(AF178=0,0,AF177/AF178)","v":{"v":0,"d":"0.00"}},{"$f":"IF(AG178=0,0,AG177/AG178)","v":{"v":0,"d":"0.00"}},{"$f":"IF(AH178=0,0,AH177/AH178)","v":{"v":0,"d":"0.00"}}]
[]
[{"$nulls":12},{"$f":"M155 & \".3.3\"","v":"5.2.1.3.3"},"от котельных (некомбинированная выработка)","тыс.руб.",{"$nulls":16},{"$f":"AG181+AH181","v":{"v":0,"d":"0.00"}}]
[{"$nulls":12},{"$f":"M155 & \".3.3.0.1\"","v":"5.2.1.3.3.0.1"},"объём ТЭ","тыс. Гкал",{"$nulls":16},{"$f":"AG182+AH182","v":{"v":0,"d":"0.00"}}]
[{"$nulls":12},{"$f":"M155 & \".3.3.0.2\"","v":"5.2.1.3.3.0.2"},"цена ТЭ","руб./Гкал",{"$nulls":16},{"$f":"IF(AF182=0,0,AF181/AF182)","v":{"v":0,"d":"0.00"}},{"$f":"IF(AG182=0,0,AG181/AG182)","v":{"v":0,"d":"0.00"}},{"$f":"IF(AH182=0,0,AH181/AH182)","v":{"v":0,"d":"0.00"}}]
[]
[{"$nulls":12},{"$f":"M155 & \".4\"","v":"5.2.1.4"},"в том числе покупка потерь из тепловой сети","тыс.руб.",{"$nulls":16},{"$f":"SUM(AF186:AF188)","v":{"v":0,"d":"0.00"}},{"$f":"SUM(AG186:AG188)","v":{"v":0,"d":"0.00"}},{"$f":"SUM(AH186:AH188)","v":{"v":0,"d":"0.00"}}]
[{"$nulls":12},{"$f":"M155 & \".4.1\"","v":"5.2.1.4.1"},"от станций с мощностью производства >= 25 МВт","тыс.руб.",{"$nulls":16},{"$f":"AG186+AH186","v":{"v":0,"d":"0.00"}}]
[{"$nulls":12},{"$f":"M155 & \".4.2\"","v":"5.2.1.4.2"},"от станций с мощностью производства < 25 МВт","тыс.руб.",{"$nulls":16},{"v":0,"d":"0.00"}]
[{"$nulls":12},{"$f":"M155 & \".4.3\"","v":"5.2.1.4.3"},"от котельных (некомбинированная выработка)","тыс.руб.",{"$nulls":16},{"v":0,"d":"0.00"}]
[{"$nulls":12},"5.2.2","электрическая энергия ","тыс.руб.",{"$nulls":16},{"v":0,"d":"0.00"},{"$f":"SUM(AG192,AG195,AG198,AG201,AG204,AG207,AG210,AG213)","v":{"v":0,"d":"0.00"}},{"$f":"SUM(AH192,AH195,AH198,AH201,AH204,AH207,AH210,AH213)","v":{"v":0,"d":"0.00"}}]
[{"$nulls":12},"5.2.2.0.1","объём энергии","тыс.кВт*ч",{"$nulls":16},{"v":0,"d":"0.00"},{"$f":"AG194+AG200+AG206+AG212","v":{"v":0,"d":"0.00"}},{"$f":"AH194+AH200+AH206+AH212","v":{"v":0,"d":"0.00"}}]
[{"$nulls":12},"5.2.2.0.2","объём заявленной мощности","МВт",{"$nulls":16},{"v":0,"d":"0.00"},{"$f":"AG197+AG203+AG209+AG215","v":{"v":0,"d":"0.00"}},{"$f":"AH197+AH203+AH209+AH215","v":{"v":0,"d":"0.00"}}]
[{"$nulls":12},"5.2.2.1.1","энергия НН (0,4 кВ и ниже)","тыс.руб.",{"$nulls":16},{"v":0,"d":"0.00"},{"$f":"AG193*AG194","v":{"v":0,"d":"0.00"}},{"$f":"AH193*AH194","v":{"v":0,"d":"0.00"}}]
[{"$nulls":12},"5.2.2.1.1.1","тариф на энергию","руб./кВт*ч",{"$nulls":16},{"$f":"IF(AF194=0,0,AF192/AF194)","v":{"v":0,"d":"0.00"}}]
[{"$nulls":12},"5.2.2.1.1.2","объём энергии","тыс.кВт*ч",{"$nulls":16},{"$f":"AG194+AH194","v":{"v":0,"d":"0.00"}}]
[{"$nulls":12},"5.2.2.1.2","заявленная мощность по НН (0,4 кВ и ниже)","тыс.руб.",{"$nulls":16},{"$f":"AG195+AH195","v":{"v":0,"d":"0.00"}},{"$f":"AG196*AG197","v":{"v":0,"d":"0.00"}},{"$f":"AH196*AH197","v":{"v":0,"d":"0.00"}}]
[{"$nulls":12},"5.2.2.1.2.1","тариф на заявленную мощность","руб./кВт*мес",{"$nulls":16},{"$f":"IF(AF197=0,0,AF195/AF197)","v":{"v":0,"d":"0.00"}}]
[{"$nulls":12},"5.2.2.1.2.2","годовой объём мощности","МВт",{"$nulls":16},{"$f":"AG197+AH197","v":{"v":0,"d":"0.00"}}]
[{"$nulls":12},"5.2.2.2.1","энергия СН 2 (1-20 кВ)","тыс.руб.",{"$nulls":16},{"$f":"AG198+AH198","v":{"v":0,"d":"0.00"}},{"$f":"AG199*AG200","v":{"v":0,"d":"0.00"}},{"$f":"AH199*AH200","v":{"v":0,"d":"0.00"}}]
[{"$nulls":12},"5.2.2.2.1.1","тариф на энергию","руб./кВт*ч",{"$nulls":16},{"$f":"IF(AF200=0,0,AF198/AF200)","v":{"v":0,"d":"0.00"}}]
[{"$nulls":12},"5.2.2.2.1.2","объём энергии","тыс.кВт*ч",{"$nulls":16},{"$f":"AG200+AH200","v":{"v":0,"d":"0.00"}}]
[{"$nulls":12},"5.2.2.2.2","заявленная мощность по СН 2 (1-20 кВ)","тыс.руб.",{"$nulls":16},{"$f":"AG201+AH201","v":{"v":0,"d":"0.00"}},{"$f":"AG202*AG203","v":{"v":0,"d":"0.00"}},{"$f":"AH202*AH203","v":{"v":0,"d":"0.00"}}]
[{"$nulls":12},"5.2.2.2.2.1","тариф на заявленную мощность","руб./кВт*мес",{"$nulls":16},{"$f":"IF(AF203=0,0,AF201/AF203)","v":{"v":0,"d":"0.00"}}]
[{"$nulls":12},"5.2.2.2.2.2","годовой объём мощности","МВт",{"$nulls":16},{"$f":"AG203+AH203","v":{"v":0,"d":"0.00"}}]
[{"$nulls":12},"5.2.2.3.1","энергия СН 1 (35 кВ)","тыс.руб.",{"$nulls":16},{"$f":"AG204+AH204","v":{"v":0,"d":"0.00"}},{"$f":"AG205*AG206","v":{"v":0,"d":"0.00"}},{"$f":"AH205*AH206","v":{"v":0,"d":"0.00"}}]
[{"$nulls":12},"5.2.2.3.1.1","тариф на энергию","руб./кВт*ч",{"$nulls":16},{"$f":"IF(AF206=0,0,AF204/AF206)","v":{"v":0,"d":"0.00"}}]
[{"$nulls":12},"5.2.2.3.1.2","объём энергии","тыс.кВт*ч",{"$nulls":16},{"$f":"AG206+AH206","v":{"v":0,"d":"0.00"}}]
[{"$nulls":12},"5.2.2.3.2","заявленная мощность по СН 1 (35 кВ)","тыс.руб.",{"$nulls":16},{"$f":"AG207+AH207","v":{"v":0,"d":"0.00"}},{"$f":"AG208*AG209","v":{"v":0,"d":"0.00"}},{"$f":"AH208*AH209","v":{"v":0,"d":"0.00"}}]
[{"$nulls":12},"5.2.2.3.2.1","тариф на заявленную мощность","руб./кВт*мес",{"$nulls":16},{"$f":"IF(AF209=0,0,AF207/AF209)","v":{"v":0,"d":"0.00"}}]
[{"$nulls":12},"5.2.2.3.2.2","годовой объём мощности","МВт",{"$nulls":16},{"$f":"AG209+AH209","v":{"v":0,"d":"0.00"}}]
[{"$nulls":12},"5.2.2.4.1","энергия ВН (110 кВ и выше)","тыс.руб.",{"$nulls":16},{"$f":"AG210+AH210","v":{"v":0,"d":"0.00"}},{"$f":"AG211*AG212","v":{"v":0,"d":"0.00"}},{"$f":"AH211*AH212","v":{"v":0,"d":"0.00"}}]
[{"$nulls":12},"5.2.2.4.1.1","тариф на энергию","руб./кВт*ч",{"$nulls":16},{"$f":"IF(AF212=0,0,AF210/AF212)","v":{"v":0,"d":"0.00"}}]
[{"$nulls":12},"5.2.2.4.1.2","объём энергии","тыс.кВт*ч",{"$nulls":16},{"$f":"AG212+AH212","v":{"v":0,"d":"0.00"}}]
[{"$nulls":12},"5.2.2.4.2","заявленная мощность по ВН (110 кВ и выше)","тыс.руб.",{"$nulls":16},{"$f":"AG213+AH213","v":{"v":0,"d":"0.00"}},{"$f":"AG214*AG215","v":{"v":0,"d":"0.00"}},{"$f":"AH214*AH215","v":{"v":0,"d":"0.00"}}]
[{"$nulls":12},"5.2.2.4.2.1","тариф на заявленную мощность","руб./кВт*мес",{"$nulls":16},{"$f":"IF(AF215=0,0,AF213/AF215)","v":{"v":0,"d":"0.00"}}]
[{"$nulls":12},"5.2.2.4.2.2","годовой объём мощности","МВт",{"$nulls":16},{"$f":"AG215+AH215","v":{"v":0,"d":"0.00"}}]
[{"$nulls":12},"6","Затраты на оплату труда ","тыс.руб.",{"$nulls":16},{"$f":"AG216+AH216","v":{"v":0,"d":"0.00"}},{"$f":"SUM(AG222,AG229,AG236,AG240,AG244)","v":{"v":0,"d":"0.00"}},{"$f":"SUM(AH222,AH229,AH236,AH240,AH244)","v":{"v":0,"d":"0.00"}}]
[{"$nulls":12},"6.0.1","Справочно: среднемесячная оплата труда в целом по организации","руб./мес.",{"$nulls":17},{"$f":"IF(AG218=0,0,(1000*AG216/AG218)/AG$6)","v":{"v":0,"d":"0.00"}},{"$f":"IF(AH218=0,0,(1000*AH216/AH218)/AH$6)","v":{"v":0,"d":"0.00"}}]
[{"$nulls":12},"6.0.2","Справочно: численность персонала в целом по организации","ед.",{"$nulls":17},{"$f":"SUM(AG224,AG231,AG238,AG242,AG246)","v":{"v":0,"d":"0.00"}},{"$f":"SUM(AH224,AH231,AH238,AH242,AH246)","v":{"v":0,"d":"0.00"}}]
[{"$nulls":12},{"$f":"M218 & \".1\"","v":"6.0.2.1"},"Справочно: нормативная численность персонала в целом по организации","ед.",{"$nulls":17},{"$f":"SUM(AG225,AG232,AG239,AG243,AG247)","v":{"v":0,"d":"0.00"}},{"$f":"SUM(AH225,AH232,AH239,AH243,AH247)","v":{"v":0,"d":"0.00"}}]
[{"$nulls":12},{"$f":"M218 & \".2\"","v":"6.0.2.2"},"Отношение фактической численности персонала к нормативной","%",{"$nulls":17},{"$f":"IF(AG219=0,0,AG218/AG219*100)","v":{"v":0,"d":"0.00"}},{"$f":"IF(AH219=0,0,AH218/AH219*100)","v":{"v":0,"d":"0.00"}}]
[{"$nulls":12},"6.0.3","Справочно: минимальный размер оплаты труда в целом по организации","руб./мес."]
[{"$nulls":12},"6.1","оплата труда основных производственных рабочих","тыс.руб.",{"$nulls":16},{"$f":"AG222+AH222","v":{"v":0,"d":"0.00"}}]
[{"$nulls":12},"6.1.1","среднемесячная оплата труда основных производственных рабочих","руб./мес.",{"$nulls":17},{"$f":"IF(AG224=0,0,(1000*AG222/AG224)/AG$6)","v":{"v":0,"d":"0.00"}},{"$f":"IF(AH224=0,0,(1000*AH222/AH224)/AH$6)","v":{"v":0,"d":"0.00"}}]
[{"$nulls":12},"6.1.2","численность основного производственного персонала, относимого на регулируемый вид деятельности","ед."]
[{"$nulls":12},{"$f":"M224 & \".0\"","v":"6.1.2.0"},{"$f":"\"справочно: нормативная \" & N224","v":"справочно: нормативная численность основного производственного персонала, относимого на регулируемый вид деятельности"},"ед."]
[{"$nulls":12},"6.1.3","Тарифная ставка рабочего 1-го разряда","руб./мес."]
[{"$nulls":12},"6.1.4","Базовая тарифная ставка рабочего 1-го разряда","руб./мес."]
[{"$nulls":12},"6.1.5","Минимальная тарифная ставка рабочего 1-го разряда","руб./мес."]
[{"$nulls":12},"6.2","оплата труда ремонтного персонала","тыс.руб.",{"$nulls":16},{"$f":"AG229+AH229","v":{"v":0,"d":"0.00"}}]
[{"$nulls":12},"6.2.1","среднемесячная оплата труда ремонтного персонала","руб./мес.",{"$nulls":17},{"$f":"IF(AG231=0,0,(1000*AG229/AG231)/AG$6)","v":{"v":0,"d":"0.00"}},{"$f":"IF(AH231=0,0,(1000*AH229/AH231)/AH$6)","v":{"v":0,"d":"0.00"}}]
[{"$nulls":12},"6.2.2","численность ремонтного персонала, относимого на регулируемый вид деятельности","ед."]
[{"$nulls":12},{"$f":"M231 & \".0\"","v":"6.2.2.0"},{"$f":"\"справочно: нормативная \" & N231","v":"справочно: нормативная численность ремонтного персонала, относимого на регулируемый вид деятельности"},"ед."]
[{"$nulls":12},"6.2.3","Тарифная ставка рабочего 1-го разряда","руб./мес."]
[{"$nulls":12},"6.2.4","Базовая тарифная ставка рабочего 1-го разряда","руб./мес."]
[{"$nulls":12},"6.2.5","Минимальная тарифная ставка рабочего 1-го разряда","руб./мес."]
[{"$nulls":12},"6.3","оплата труда цехового персонала","тыс.руб.",{"$nulls":16},{"$f":"AG236+AH236","v":{"v":0,"d":"0.00"}}]
[{"$nulls":12},"6.3.1","среднемесячная оплата труда цехового персонала","руб./мес.",{"$nulls":17},{"$f":"IF(AG238=0,0,(1000*AG236/AG238)/AG$6)","v":{"v":0,"d":"0.00"}},{"$f":"IF(AH238=0,0,(1000*AH236/AH238)/AH$6)","v":{"v":0,"d":"0.00"}}]
[{"$nulls":12},"6.3.2","численность цехового персонала, относимого на регулируемый вид деятельности","ед."]
[{"$nulls":12},{"$f":"M238 & \".0\"","v":"6.3.2.0"},{"$f":"\"справочно: нормативная \" & N238","v":"справочно: нормативная численность цехового персонала, относимого на регулируемый вид деятельности"},"ед."]
[{"$nulls":12},"6.4","оплата труда АУП","тыс.руб.",{"$nulls":16},{"$f":"AG240+AH240","v":{"v":0,"d":"0.00"}}]
[{"$nulls":12},"6.4.1","среднемесячная оплата труда АУП","руб./мес.",{"$nulls":17},{"$f":"IF(AG242=0,0,(1000*AG240/AG242)/AG$6)","v":{"v":0,"d":"0.00"}},{"$f":"IF(AH242=0,0,(1000*AH240/AH242)/AH$6)","v":{"v":0,"d":"0.00"}}]
[{"$nulls":12},"6.4.2","численность АУП, относимого на регулируемый вид деятельности","ед."]
[{"$nulls":12},{"$f":"M242 & \".0\"","v":"6.4.2.0"},{"$f":"\"справочно: нормативная \" & N242","v":"справочно: нормативная численность АУП, относимого на регулируемый вид деятельности"},"ед."]
[{"$nulls":12},"6.5","оплата труда прочего персонала, относимого на регулируемый вид деятельности","тыс.руб.",{"$nulls":16},{"$f":"AG244+AH244","v":{"v":0,"d":"0.00"}}]
[{"$nulls":12},"6.5.1","среднемесячная оплата труда прочего персонала, относимого на регулируемый вид деятельности","руб./мес.",{"$nulls":17},{"$f":"IF(AG246=0,0,(1000*AG244/AG246)/AG$6)","v":{"v":0,"d":"0.00"}},{"$f":"IF(AH246=0,0,(1000*AH244/AH246)/AH$6)","v":{"v":0,"d":"0.00"}}]
[{"$nulls":12},"6.5.2","численность прочего персонала, относимого на регулируемый вид деятельности","ед."]
[{"$nulls":12},{"$f":"M246 & \".0\"","v":"6.5.2.0"},{"$f":"\"справочно: нормативная \" & N246","v":"справочно: нормативная численность прочего персонала, относимого на регулируемый вид деятельности"},"ед."]
[{"$nulls":12},"7","Отчисления на социальные нужды, в том числе ","тыс.руб.",{"$nulls":16},{"$f":"AG248+AH248","v":{"v":0,"d":"0.00"}},{"$f":"SUM(AG250:AG254)","v":{"v":0,"d":"0.00"}},{"$f":"SUM(AH250:AH254)","v":{"v":0,"d":"0.00"}}]
[{"$nulls":12},"7.0","процент отчислений на социальные нужды","%"]
[{"$nulls":12},"7.1","отчисления на соц. нужды от заработной платы основных производственных рабочих","тыс.руб.",{"$nulls":16},{"$f":"AG250+AH250","v":{"v":0,"d":"0.00"}},{"$f":"AG222*AG249/100","v":{"v":0,"d":"0.00"}},{"$f":"AH222*AH249/100","v":{"v":0,"d":"0.00"}}]
[{"$nulls":12},"7.2","отчисления на соц. нужды от заработной платы ремонтного персонала","тыс.руб.",{"$nulls":16},{"$f":"AG251+AH251","v":{"v":0,"d":"0.00"}},{"$f":"AG229*AG249/100","v":{"v":0,"d":"0.00"}},{"$f":"AH229*AH249/100","v":{"v":0,"d":"0.00"}}]
[{"$nulls":12},"7.3","отчисления на соц. нужды от заработной платы цехового персонала","тыс.руб.",{"$nulls":16},{"$f":"AG252+AH252","v":{"v":0,"d":"0.00"}},{"$f":"AG236*AG249/100","v":{"v":0,"d":"0.00"}},{"$f":"AH236*AH249/100","v":{"v":0,"d":"0.00"}}]
[{"$nulls":12},"7.4","отчисления на соц. нужды от заработной платы АУП","тыс.руб.",{"$nulls":16},{"$f":"AG253+AH253","v":{"v":0,"d":"0.00"}},{"$f":"AG240*AG249/100","v":{"v":0,"d":"0.00"}},{"$f":"AH240*AH249/100","v":{"v":0,"d":"0.00"}}]
[{"$nulls":12},"7.5","отчисления на соц. нужды от заработной платы прочего персонала","тыс.руб.",{"$nulls":16},{"$f":"AG254+AH254","v":{"v":0,"d":"0.00"}},{"$f":"AG244*AG249/100","v":{"v":0,"d":"0.00"}},{"$f":"AH244*AH249/100","v":{"v":0,"d":"0.00"}}]
[]
[{"$nulls":12},"8","Холодная вода","тыс.руб.",{"$nulls":16},{"$f":"AG256+AH256","v":{"v":0,"d":"0.00"}},{"$f":"AG257*AG258","v":{"v":0,"d":"0.00"}},{"$f":"AH257*AH258","v":{"v":0,"d":"0.00"}}]
[{"$nulls":12},"8.1","Цена","руб./куб.м",{"$nulls":16},{"$f":"IF(AF258=0,0,AF256/AF258)","v":{"v":0,"d":"0.00"}}]
[{"$nulls":12},"8.2","Объём","тыс.куб.м",{"$nulls":16},{"v":0,"d":"0.00"}]
[{"$nulls":12},"9","Водоотведение","тыс.руб.",{"$nulls":16},{"v":0,"d":"0.00"},{"$f":"AG260*AG261","v":{"v":0,"d":"0.00"}},{"$f":"AH260*AH261","v":{"v":0,"d":"0.00"}}]
[{"$nulls":12},"9.1","Цена","руб./куб.м",{"$nulls":16},{"$f":"IF(AF261=0,0,AF259/AF261)","v":{"v":0,"d":"0.00"}}]
[{"$nulls":12},"9.2","Объём","тыс.куб.м",{"$nulls":16},{"v":0,"d":"0.00"}]
[{"$nulls":12},"10","Теплоноситель","тыс.руб.",{"$nulls":16},{"v":0,"d":"0.00"}]
[{"$nulls":12},"11","Расходы, связанные с созданием нормативных запасов топлива","тыс.руб.",{"$nulls":16},{"v":0,"d":"0.00"}]
[]
[{"$nulls":12},"12","Расходы на приобретение сырья и материалов","тыс.руб.",{"$nulls":16},{"$f":"AG265+AH265","v":{"v":0,"d":"0.00"}},{"$f":"SUM(AG266:AG272)","v":{"v":0,"d":"0.00"}},{"$f":"SUM(AH266:AH272)","v":{"v":0,"d":"0.00"}}]
[{"$nulls":12},{"$f":"M265 & \".1\"","v":"12.1"},"Реагенты, фильтрующие и ионообменные материалы для водоподготовки","тыс.руб.",{"$nulls":16},{"v":0,"d":"0.00"}]
[{"$nulls":12},{"$f":"M265 & \".2\"","v":"12.2"},"ГСМ","тыс.руб.",{"$nulls":16},{"v":0,"d":"0.00"}]
[{"$nulls":12},{"$f":"M265 & \".3\"","v":"12.3"},"На текущий и капитальный ремонт","тыс.руб.",{"$nulls":16},{"v":0,"d":"0.00"}]
[{"$nulls":12},{"$f":"M265 & \".4\"","v":"12.4"},"На текущее содержание и техническое обслуживание","тыс.руб.",{"$nulls":16},{"v":0,"d":"0.00"}]
[{"$nulls":12},{"$f":"M265 & \".5\"","v":"12.5"},"Специальная одежда","тыс.руб.",{"$nulls":16},{"v":0,"d":"0.00"}]
[{"$nulls":12},{"$f":"M265 & \".6\"","v":"12.6"},"Хозяйственный инвентарь и другие вспомогательные материалы","тыс.руб.",{"$nulls":16},{"v":0,"d":"0.00"}]
[{"$nulls":12},{"$f":"M265 & \".7\"","v":"12.7"},"Прочие расходы","тыс.руб.",{"$nulls":16},{"v":0,"d":"0.00"}]
[{"$nulls":12},"13","Ремонт основных средств, выполняемый подрядным способом","тыс.руб.",{"$nulls":16},{"v":0,"d":"0.00"}]
[{"$nulls":12},"14","Расходы на оплату работ и услуг производственного характера, выполняемых по договорам со сторонними организациями","тыс.руб.",{"$nulls":16},{"v":0,"d":"0.00"},{"$f":"SUM(AG275,AG276,AG277,AG278)","v":{"v":0,"d":"0.00"}},{"$f":"SUM(AH275,AH276,AH277,AH278)","v":{"v":0,"d":"0.00"}}]
[{"$nulls":12},{"$f":"M274 & \".1\"","v":"14.1"},"транспортные услуги","тыс.руб.",{"$nulls":16},{"v":0,"d":"0.00"}]
[{"$nulls":12},{"$f":"M274 & \".2\"","v":"14.2"},"работы по техническому регламенту","тыс.руб.",{"$nulls":16},{"v":0,"d":"0.00"}]
[{"$nulls":12},{"$f":"M274 & \".3\"","v":"14.3"},"прочие услуги вспомогательных производств","тыс.руб.",{"$nulls":16},{"v":0,"d":"0.00"}]
[{"$nulls":12},{"$f":"M274 & \".4\"","v":"14.4"},"иные работы и услуги производственного характера","тыс.руб.",{"$nulls":16},{"v":0,"d":"0.00"}]
[{"$nulls":12},"15","Расходы на оплату иных работ и услуг, выполняемых по договорам с организациями, включая:","тыс.руб.",{"$nulls":16},{"v":0,"d":"0.00"},{"$f":"SUM(AG280:AG291)","v":{"v":0,"d":"0.00"}},{"$f":"SUM(AH280:AH291)","v":{"v":0,"d":"0.00"}}]
[{"$nulls":12},{"$f":"M279 & \".1\"","v":"15.1"},"услуги связи","тыс.руб.",{"$nulls":16},{"v":0,"d":"0.00"}]
[{"$nulls":12},{"$f":"M279 & \".2\"","v":"15.2"},"услуги вневедомственной охраны ","тыс.руб.",{"$nulls":16},{"v":0,"d":"0.00"}]
[{"$nulls":12},{"$f":"M279 & \".3\"","v":"15.3"},"коммунальные услуги ","тыс.руб.",{"$nulls":16},{"v":0,"d":"0.00"}]
[{"$nulls":12},{"$f":"M279 & \".4\"","v":"15.4"},"расходы на консультационные услуги","тыс.руб.",{"$nulls":16},{"v":0,"d":"0.00"}]
[{"$nulls":12},{"$f":"M279 & \".5\"","v":"15.5"},"расходы на юридические услуги","тыс.руб.",{"$nulls":16},{"v":0,"d":"0.00"}]
[{"$nulls":12},{"$f":"M279 & \".6\"","v":"15.6"},"расходы на информационные услуги","тыс.руб.",{"$nulls":16},{"v":0,"d":"0.00"}]
[{"$nulls":12},{"$f":"M279 & \".7\"","v":"15.7"},"расходы на аудиторские услуги","тыс.руб.",{"$nulls":16},{"v":0,"d":"0.00"}]
[{"$nulls":12},{"$f":"M279 & \".8\"","v":"15.8"},"услуги по стратегическому управлению организацией","тыс.руб.",{"$nulls":16},{"v":0,"d":"0.00"}]
[{"$nulls":12},{"$f":"M279 & \".9\"","v":"15.9"},"расходы по подготовке и освоению производства (пуско-наладочные работы)","тыс.руб.",{"$nulls":16},{"v":0,"d":"0.00"}]
[{"$nulls":12},{"$f":"M279 & \".10\"","v":"15.10"},"целевые средства на НИОКР","тыс.руб.",{"$nulls":16},{"v":0,"d":"0.00"}]
[{"$nulls":12},{"$f":"M279 & \".11\"","v":"15.11"},"средства на необязательное (дополнительное) страхование","тыс.руб.",{"$nulls":16},{"v":0,"d":"0.00"}]
[{"$nulls":12},{"$f":"M279 & \".12\"","v":"15.12"},"иные работы и услуги","тыс.руб.",{"$nulls":16},{"v":0,"d":"0.00"}]
[]
[{"$nulls":12},"RENT","Аренда имущества","тыс.руб.",{"$nulls":16},{"$f":"AG293+AH293","v":{"v":0,"d":"0.00"}},{"$f":"SUM(AG294:AG296)","v":{"v":0,"d":"0.00"}},{"$f":"SUM(AH294:AH296)","v":{"v":0,"d":"0.00"}}]
[{"$nulls":12},"RENT.1","Аренда объектов в государственной собственности","тыс.руб.",{"$nulls":16},{"v":0,"d":"0.00"}]
[{"$nulls":12},"RENT.2","Аренда объектов в муниципальной собственности","тыс.руб.",{"$nulls":16},{"v":0,"d":"0.00"}]
[{"$nulls":12},"RENT.3","Прочее","тыс.руб.",{"$nulls":16},{"v":0,"d":"0.00"}]
[{"$nulls":12},"16","Расходы на служебные командировки","тыс.руб.",{"$nulls":16},{"v":0,"d":"0.00"}]
[{"$nulls":12},"17","Расходы на обучение персонала","тыс.руб.",{"$nulls":16},{"v":0,"d":"0.00"}]
[{"$nulls":12},"18","Расходы на вывод из эксплуатации (в том числе на консервацию) и вывод из консервации","тыс.руб.",{"$nulls":16},{"v":0,"d":"0.00"}]
[{"$nulls":12},"19","Услуги банков","тыс.руб.",{"$nulls":16},{"v":0,"d":"0.00"}]
[{"$nulls":12},"20","Прочие операционные расходы","тыс.руб.",{"$nulls":16},{"v":0,"d":"0.00"},{"$f":"SUM(AG302,AG303)","v":{"v":0,"d":"0.00"}},{"$f":"SUM(AH302,AH303)","v":{"v":0,"d":"0.00"}}]
[{"$nulls":12},{"$f":"M301 & \".1\"","v":"20.1"},"Общехозяйственные расходы","тыс.руб.",{"$nulls":16},{"v":0,"d":"0.00"}]
[{"$nulls":12},{"$f":"M301 & \".2\"","v":"20.2"},"Иные расходы","тыс.руб.",{"$nulls":16},{"v":0,"d":"0.00"}]
[{"$nulls":12},"21","Расходы на оплату услуг, оказываемых организациями, осуществляющими регулируемые виды деятельности","тыс.руб.",{"$nulls":16},{"v":0,"d":"0.00"}]
[{"$nulls":12},"22","Арендная плата","тыс.руб.",{"$nulls":16},{"v":0,"d":"0.00"},{"$f":"SUM(AG306,AG307)","v":{"v":0,"d":"0.00"}},{"$f":"SUM(AH306,AH307)","v":{"v":0,"d":"0.00"}}]
[{"$nulls":12},{"$f":"M305 & \".1\"","v":"22.1"},"аренда производственных объектов","тыс.руб.",{"$nulls":16},{"v":0,"d":"0.00"}]
[{"$nulls":12},{"$f":"M305 & \".2\"","v":"22.2"},"аренда непроизводственных объектов","тыс.руб.",{"$nulls":16},{"v":0,"d":"0.00"}]
[{"$nulls":12},"23","Концессионная плата","тыс.руб.",{"$nulls":16},{"v":0,"d":"0.00"}]
[{"$nulls":12},"24","Лизинговый платеж","тыс.руб.",{"$nulls":16},{"v":0,"d":"0.00"},{"$f":"SUM(AG310,AG311,AG312)","v":{"v":0,"d":"0.00"}},{"$f":"SUM(AH310,AH311,AH312)","v":{"v":0,"d":"0.00"}}]
[{"$nulls":12},{"$f":"M309 & \".1\"","v":"24.1"},"лизинг производственных объектов","тыс.руб.",{"$nulls":16},{"v":0,"d":"0.00"}]
[{"$nulls":12},{"$f":"M309 & \".2\"","v":"24.2"},"лизинг непроизводственных объектов (без перехода права собственности на предмет лизинга к лизингополучателю)","тыс.руб.",{"$nulls":16},{"v":0,"d":"0.00"}]
[{"$nulls":12},{"$f":"M309 & \".3\"","v":"24.3"},"лизинг непроизводственных объектов  (с переходом права собственности на предмет лизинга к лизингополучателю)","тыс.руб.",{"$nulls":16},{"v":0,"d":"0.00"}]
[{"$nulls":12},"25","Расходы на уплату налогов, сборов и других обязательных платежей, в том числе:","тыс.руб.",{"$nulls":16},{"v":0,"d":"0.00"},{"$f":"SUM(AG314:AG317)","v":{"v":0,"d":"0.00"}},{"$f":"SUM(AH314:AH317)","v":{"v":0,"d":"0.00"}}]
[{"$nulls":12},{"$f":"M313 & \".1\"","v":"25.1"},"плата за выбросы и сбросы загрязняющих веществ в окружающую среду, размещение отходов и другие виды негативного воздействия на окружающую среду в пределах установленных нормативов и (или) лимитов","тыс.руб.",{"$nulls":16},{"v":0,"d":"0.00"}]
[{"$nulls":12},{"$f":"M313 & \".2\"","v":"25.2"},"расходы на обязательное страхование","тыс.руб.",{"$nulls":16},{"v":0,"d":"0.00"}]
[{"$nulls":12},{"$f":"M313 & \".3\"","v":"25.3"},"иные расходы","тыс.руб.",{"$nulls":16},{"v":0,"d":"0.00"}]
[{"$nulls":12},{"$f":"M313 & \".4\"","v":"25.4"},"уплата налогов, всего","тыс.руб.",{"$nulls":16},{"v":0,"d":"0.00"},{"$f":"SUM(AG318:AG322)","v":{"v":0,"d":"0.00"}},{"$f":"SUM(AH318:AH322)","v":{"v":0,"d":"0.00"}}]
[{"$nulls":12},{"$f":"M317 & \".1\"","v":"25.4.1"},"налог на имущество организаций","тыс.руб.",{"$nulls":16},{"v":0,"d":"0.00"}]
[{"$nulls":12},{"$f":"M317 & \".2\"","v":"25.4.2"},"земельный налог","тыс.руб.",{"$nulls":16},{"v":0,"d":"0.00"}]
[{"$nulls":12},{"$f":"M317 & \".3\"","v":"25.4.3"},"транспортный налог","тыс.руб.",{"$nulls":16},{"v":0,"d":"0.00"}]
[{"$nulls":12},{"$f":"M317 & \".4\"","v":"25.4.4"},"водный налог","тыс.руб.",{"$nulls":16},{"v":0,"d":"0.00"}]
[{"$nulls":12},{"$f":"M317 & \".5\"","v":"25.4.5"},"прочие налоги","тыс.руб.",{"$nulls":16},{"v":0,"d":"0.00"}]
[{"$nulls":12},"26","Расходы по сомнительным долгам","тыс.руб.",{"$nulls":16},{"v":0,"d":"0.00"}]
[{"$nulls":12},"27","Амортизация основных средств и нематериальных активов","тыс.руб.",{"$nulls":16},{"v":0,"d":"0.00"},{"$f":"SUM(AG325:AG326)","v":{"v":0,"d":"0.00"}},{"$f":"SUM(AH325:AH326)","v":{"v":0,"d":"0.00"}}]
[{"$nulls":12},{"$f":"M324 & \".1\"","v":"27.1"},"Амортизация производственного оборудования","тыс.руб.",{"$nulls":16},{"v":0,"d":"0.00"}]
[{"$nulls":12},{"$f":"M324 & \".2\"","v":"27.2"},"Амортизация иных основных средств и нематериальных активов","тыс.руб.",{"$nulls":16},{"v":0,"d":"0.00"}]
[{"$nulls":12},"28","Расходы на выплаты по договорам займа и кредитным договорам, включая проценты по ним","тыс.руб.",{"$nulls":16},{"v":0,"d":"0.00"}]
[{"$nulls":12},"29","Прочие неподконтрольные расходы","тыс.руб.",{"$nulls":16},{"v":0,"d":"0.00"}]
[{"$nulls":12},"30","Налог на прибыль","тыс.руб.",{"$nulls":16},{"v":0,"d":"0.00"}]
[]
[{"$nulls":12},"РО","Итого расходы","тыс.руб.",{"$nulls":16},{"$f":"AG331+AH331","v":{"v":0,"d":"0.00"}},{"$f":"SUM(AG36,AG90,AG216,AG248,AG256,AG259,AG262,AG263,AG265,AG273,AG274,AG279,AG297,AG298,AG299,AG300,AG301,AG304,AG305,AG308,AG309,AG313,AG323,AG324,AG327,AG328,AG329)","v":{"v":0,"d":"0.00"}},{"$f":"SUM(AH36,AH90,AH216,AH248,AH256,AH259,AH262,AH263,AH265,AH273,AH274,AH279,AH297,AH298,AH299,AH300,AH301,AH304,AH305,AH308,AH309,AH313,AH323,AH324,AH327,AH328,AH329)","v":{"v":0,"d":"0.00"}}]
[]
[{"$nulls":12},"РР","Итого расходы на реализацию","тыс.руб.",{"$nulls":16},{"$f":"AG333+AH333","v":{"v":0,"d":"0.00"}},{"$f":"AG331*AG$372","v":{"v":0,"d":"0.00"}},{"$f":"AH331*AH$372","v":{"v":0,"d":"0.00"}}]
[]
[{"$nulls":12},"У","Убыток","тыс.руб.",{"$nulls":16},{"$f":"AG335+AH335","v":{"v":0,"d":"0.00"}}]
[{"$nulls":12},"П","Прибыль","тыс.руб.",{"$nulls":16},{"$f":"AG336+AH336","v":{"v":0,"d":"0.00"}},{"$f":"SUM(AG338:AG341)","v":{"v":0,"d":"0.00"}},{"$f":"SUM(AH338:AH341)","v":{"v":0,"d":"0.00"}}]
[]
[{"$nulls":12},"П.1","Прибыль на развитие производства (капитальные вложения)","тыс.руб.",{"$nulls":16},{"$f":"AG338+AH338","v":{"v":0,"d":"0.00"}}]
[{"$nulls":12},"П.2","Прибыль на социальное развитие","тыс.руб.",{"$nulls":16},{"$f":"AG339+AH339","v":{"v":0,"d":"0.00"}}]
[{"$nulls":12},"П.3","Прибыль на поощрение","тыс.руб.",{"$nulls":16},{"$f":"AG340+AH340","v":{"v":0,"d":"0.00"}}]
[{"$nulls":12},"П.4","Прибыль на прочие цели","тыс.руб.",{"$nulls":16},{"$f":"AG341+AH341","v":{"v":0,"d":"0.00"}}]
{"$rows_empty":8}
[{"$nulls":12},"РП","Итого расходы с учётом расходов из прибыли","тыс.руб.",{"$nulls":16},{"$f":"AG350+AH350","v":{"v":0,"d":"0.00"}},{"$f":"AG331+AG336","v":{"v":0,"d":"0.00"}},{"$f":"AH331+AH336","v":{"v":0,"d":"0.00"}}]
{"$rows_empty":19}
[{"$nulls":12},"UI.TOTAL","Полезный отпуск продукции всего:\n[БТр!п.3] - транспортировка\n[БПр!п.3 - БПр!п.3.6 + БПр!п.5.2] - производство","Гкал",{"$nulls":16},{"$f":"AG370+AH370","v":{"v":0,"d":"0.00"}},{"$f":"SUMIF(ТС.БПр!$BA$131:$BA$132,AG$17 & \".0-\" & AG$9,ТС.БПр!$M$131:$M$132)-SUMIF(ТС.БПр!$BA$131:$BA$132,AG$17 & \".0-\" & AG$9,ТС.БПр!$V$131:$V$132)+SUMIF(ТС.БПр!$BA$131:$BA$132,AG$17 & \".0-\" & AG$9,ТС.БПр!$AO$131:$AO$132)+SUMIF(ТС.БТр!$BA$131:$BA$132,AG$17 & \".0-\" & AG$9,ТС.БТр!$M$131:$M$132)","v":{"v":0,"d":"0.00"}},{"$f":"SUMIF(ТС.БПр!$BA$131:$BA$132,AH$17 & \".0-\" & AH$9,ТС.БПр!$M$131:$M$132)-SUMIF(ТС.БПр!$BA$131:$BA$132,AH$17 & \".0-\" & AH$9,ТС.БПр!$V$131:$V$132)+SUMIF(ТС.БПр!$BA$131:$BA$132,AH$17 & \".0-\" & AH$9,ТС.БПр!$AO$131:$AO$132)+SUMIF(ТС.БТр!$BA$131:$BA$132,AH$17 & \".0-\" & AH$9,ТС.БТр!$M$131:$M$132)","v":{"v":0,"d":"0.00"}}]
[{"$nulls":12},"UI.EC","Полезный отпуск продукции на реализацию потребителям:\n[БТр!п.3.2:3.5] - транспортировка\n[БПр!п.3.2:3.5 + БПр!п.5.2.2 + БПр!п.5.2.3] - производство","Гкал",{"$nulls":16},{"$f":"AG371+AH371","v":{"v":0,"d":"0.00"}},{"$f":"SUMIF(ТС.БПр!$BA$131:$BA$132,AG$17 & \".0-\" & AG$9,ТС.БПр!$R$131:$R$132)+SUMIF(ТС.БПр!$BA$131:$BA$132,AG$17 & \".0-\" & AG$9,ТС.БПр!$S$131:$S$132)+SUMIF(ТС.БПр!$BA$131:$BA$132,AG$17 & \".0-\" & AG$9,ТС.БПр!$T$131:$T$132)+SUMIF(ТС.БПр!$BA$131:$BA$132,AG$17 & \".0-\" & AG$9,ТС.БПр!$U$131:$U$132)+SUMIF(ТС.БПр!$BA$131:$BA$132,AG$17 & \".0-\" & AG$9,ТС.БПр!$AT$131:$AT$132)+SUMIF(ТС.БПр!$BA$131:$BA$132,AG$17 & \".0-\" & AG$9,ТС.БПр!$AU$131:$AU$132)+SUMIF(ТС.БТр!$BA$131:$BA$132,AG$17 & \".0-\" & AG$9,ТС.БТр!$Q$131:$Q$132)+SUMIF(ТС.БТр!$BA$131:$BA$132,AG$17 & \".0-\" & AG$9,ТС.БТр!$R$131:$R$132)+SUMIF(ТС.БТр!$BA$131:$BA$132,AG$17 & \".0-\" & AG$9,ТС.БТр!$S$131:$S$132)+SUMIF(ТС.БТр!$BA$131:$BA$132,AG$17 & \".0-\" & AG$9,ТС.БТр!$T$131:$T$132)","v":{"v":0,"d":"0.00"}},{"$f":"SUMIF(ТС.БПр!$BA$131:$BA$132,AH$17 & \".0-\" & AH$9,ТС.БПр!$R$131:$R$132)+SUMIF(ТС.БПр!$BA$131:$BA$132,AH$17 & \".0-\" & AH$9,ТС.БПр!$S$131:$S$132)+SUMIF(ТС.БПр!$BA$131:$BA$132,AH$17 & \".0-\" & AH$9,ТС.БПр!$T$131:$T$132)+SUMIF(ТС.БПр!$BA$131:$BA$132,AH$17 & \".0-\" & AH$9,ТС.БПр!$U$131:$U$132)+SUMIF(ТС.БПр!$BA$131:$BA$132,AH$17 & \".0-\" & AH$9,ТС.БПр!$AT$131:$AT$132)+SUMIF(ТС.БПр!$BA$131:$BA$132,AH$17 & \".0-\" & AH$9,ТС.БПр!$AU$131:$AU$132)+SUMIF(ТС.БТр!$BA$131:$BA$132,AH$17 & \".0-\" & AH$9,ТС.БТр!$Q$131:$Q$132)+SUMIF(ТС.БТр!$BA$131:$BA$132,AH$17 & \".0-\" & AH$9,ТС.БТр!$R$131:$R$132)+SUMIF(ТС.БТр!$BA$131:$BA$132,AH$17 & \".0-\" & AH$9,ТС.БТр!$S$131:$S$132)+SUMIF(ТС.БТр!$BA$131:$BA$132,AH$17 & \".0-\" & AH$9,ТС.БТр!$T$131:$T$132)","v":{"v":0,"d":"0.00"}}]
[{"$nulls":12},"UI.COEF","Коэффициент (доля) на реализацию потребителям",{"$nulls":17},{"$f":"IF(AF370=0,0,AF371/AF370)","v":{"v":0,"d":"0.00"}},{"$f":"IF(AG370=0,0,AG371/AG370)","v":{"v":0,"d":"0.00"}},{"$f":"IF(AH370=0,0,AH371/AH370)","v":{"v":0,"d":"0.00"}}]
[{"$nulls":12},"UI.PURE.EC","Полезный отпуск продукции на реализацию потребителям без учёта перепродажи:\n[БТр!п.3.3:3.5] - транспортировка\n[БПр!п.3.2:3.4 + БПр!п.5.2.3] - производство","Гкал",{"$nulls":16},{"$f":"AG373+AH373","v":{"v":0,"d":"0.00"}},{"$f":"SUMIF(ТС.БПр!$BA$131:$BA$132,AG$17 & \".0-\" & AG$9,ТС.БПр!$R$131:$R$132)+SUMIF(ТС.БПр!$BA$131:$BA$132,AG$17 & \".0-\" & AG$9,ТС.БПр!$S$131:$S$132)+SUMIF(ТС.БПр!$BA$131:$BA$132,AG$17 & \".0-\" & AG$9,ТС.БПр!$T$131:$T$132)+SUMIF(ТС.БПр!$BA$131:$BA$132,AG$17 & \".0-\" & AG$9,ТС.БПр!$AU$131:$AU$132)+SUMIF(ТС.БТр!$BA$131:$BA$132,AG$17 & \".0-\" & AG$9,ТС.БТр!$R$131:$R$132)+SUMIF(ТС.БТр!$BA$131:$BA$132,AG$17 & \".0-\" & AG$9,ТС.БТр!$S$131:$S$132)+SUMIF(ТС.БТр!$BA$131:$BA$132,AG$17 & \".0-\" & AG$9,ТС.БТр!$T$131:$T$132)","v":{"v":0,"d":"0.00"}},{"$f":"SUMIF(ТС.БПр!$BA$131:$BA$132,AH$17 & \".0-\" & AH$9,ТС.БПр!$R$131:$R$132)+SUMIF(ТС.БПр!$BA$131:$BA$132,AH$17 & \".0-\" & AH$9,ТС.БПр!$S$131:$S$132)+SUMIF(ТС.БПр!$BA$131:$BA$132,AH$17 & \".0-\" & AH$9,ТС.БПр!$T$131:$T$132)+SUMIF(ТС.БПр!$BA$131:$BA$132,AH$17 & \".0-\" & AH$9,ТС.БПр!$AU$131:$AU$132)+SUMIF(ТС.БТр!$BA$131:$BA$132,AH$17 & \".0-\" & AH$9,ТС.БТр!$R$131:$R$132)+SUMIF(ТС.БТр!$BA$131:$BA$132,AH$17 & \".0-\" & AH$9,ТС.БТр!$S$131:$S$132)+SUMIF(ТС.БТр!$BA$131:$BA$132,AH$17 & \".0-\" & AH$9,ТС.БТр!$T$131:$T$132)","v":{"v":0,"d":"0.00"}}]
[]
[{"$nulls":12},"PROFITABILITY","Рентабельность","%",{"$nulls":16},{"$f":"IF(AF331=0,0,(AF336-AF335)/AF331*100)","v":{"v":0,"d":"0.00"}},{"$f":"IF(AG331=0,0,(AG336-AG335)/AG331*100)","v":{"v":0,"d":"0.00"}},{"$f":"IF(AH331=0,0,(AH336-AH335)/AH331*100)","v":{"v":0,"d":"0.00"}}]
[]
[{"$nulls":12},"D","Справочно: результат деятельности в периоде регулирования","тыс.руб.",{"$nulls":16},{"$f":"AG377+AH377","v":{"v":0,"d":"0.00"}},{"$f":"AG378-(AG333+AG336-AG335)","v":{"v":0,"d":"0.00"}},{"$f":"AH378-(AH333+AH336-AH335)","v":{"v":0,"d":"0.00"}}]
[{"$nulls":12},{"$f":"M377 & \".0.1\"","v":"D.0.1"},"Общий доход от реализации потребителям без учёта НДС, исходя из утверждённых тарифов","тыс.руб.",{"$nulls":16},{"$f":"AG378+AH378","v":{"v":0,"d":"0.00"}},{"$f":"AG380+AG383+AG386+AG389+AG392+AG393","v":{"v":0,"d":"0.00"}},{"$f":"AH380+AH383+AH386+AH389+AH392+AH393","v":{"v":0,"d":"0.00"}}]
[{"$nulls":12},{"$f":"M377 & \".0.2\"","v":"D.0.2"},"Полезный отпуск продукции на реализацию потребителям","Гкал",{"$nulls":16},{"$f":"AG379+AH379","v":{"v":0,"d":"0.00"}},{"$f":"AG382+AG385+AG388+AG391","v":{"v":0,"d":"0.00"}},{"$f":"AH382+AH385+AH388+AH391","v":{"v":0,"d":"0.00"}}]
[{"$nulls":12},{"$f":"M377 & \".1\"","v":"D.1"},"Организации-перепродавцы / энергоснабжающие организации","тыс.руб.",{"$nulls":16},{"$f":"AG380+AH380","v":{"v":0,"d":"0.00"}},{"$f":"AG381*(AG382/IF(TRANSMISSION_TARIFF&\"::\"&VDET=\"руб/Гкал/час в мес::Передача\",AG$6,1))/1000","v":{"v":0,"d":"0.00"}},{"$f":"AH381*(AH382/IF(TRANSMISSION_TARIFF&\"::\"&VDET=\"руб/Гкал/час в мес::Передача\",AH$6,1))/1000","v":{"v":0,"d":"0.00"}}]
[{"$nulls":12},{"$f":"M380 & \".1\"","v":"D.1.1"},"средневзвешенный тариф","руб./Гкал",{"$nulls":16},{"$f":"IF(AF382=0,0,AF380*1000/AF382)","v":{"v":0,"d":"0.00"}}]
[{"$nulls":12},{"$f":"M380 & \".2\"","v":"D.1.2"},"объём","Гкал",{"$nulls":16},{"$f":"AG382+AH382","v":{"v":0,"d":"0.00"}},{"$f":"SUMIF(ТС.БПр!$BA$131:$BA$132,AG$17 & \".0-\" & AG$9,ТС.БПр!$U$131:$U$132)+SUMIF(ТС.БПр!$BA$131:$BA$132,AG$17 & \".0-\" & AG$9,ТС.БПр!$AT$131:$AT$132)+SUMIF(ТС.БТр!$BA$131:$BA$132,AG$17 & \".0-\" & AG$9,ТС.БТр!$Q$131:$Q$132)","v":{"v":0,"d":"0.00"}},{"$f":"SUMIF(ТС.БПр!$BA$131:$BA$132,AH$17 & \".0-\" & AH$9,ТС.БПр!$U$131:$U$132)+SUMIF(ТС.БПр!$BA$131:$BA$132,AH$17 & \".0-\" & AH$9,ТС.БПр!$AT$131:$AT$132)+SUMIF(ТС.БТр!$BA$131:$BA$132,AH$17 & \".0-\" & AH$9,ТС.БТр!$Q$131:$Q$132)","v":{"v":0,"d":"0.00"}}]
[{"$nulls":12},{"$f":"M377 & \".2\"","v":"D.2"},"Бюджетные потребители","тыс.руб.",{"$nulls":16},{"$f":"AG383+AH383","v":{"v":0,"d":"0.00"}},{"$f":"AG384*(AG385/IF(TRANSMISSION_TARIFF&\"::\"&VDET=\"руб/Гкал/час в мес::Передача\",AG$6,1))/1000","v":{"v":0,"d":"0.00"}},{"$f":"AH384*(AH385/IF(TRANSMISSION_TARIFF&\"::\"&VDET=\"руб/Гкал/час в мес::Передача\",AH$6,1))/1000","v":{"v":0,"d":"0.00"}}]
[{"$nulls":12},{"$f":"M383 & \".1\"","v":"D.2.1"},"средневзвешенный тариф","руб./Гкал",{"$nulls":16},{"$f":"IF(AF385=0,0,AF383*1000/AF385)","v":{"v":0,"d":"0.00"}}]
[{"$nulls":12},{"$f":"M383 & \".2\"","v":"D.2.2"},"объём","Гкал",{"$nulls":16},{"$f":"AG385+AH385","v":{"v":0,"d":"0.00"}},{"$f":"SUMIF(ТС.БПр!$BA$131:$BA$132,AG$17 & \".0-\" & AG$9,ТС.БПр!$R$131:$R$132)+SUMIF(ТС.БПр!$BA$131:$BA$132,AG$17 & \".0-\" & AG$9,ТС.БПр!$AV$131:$AV$132)+SUMIF(ТС.БТр!$BA$131:$BA$132,AG$17 & \".0-\" & AG$9,ТС.БТр!$R$131:$R$132)","v":{"v":0,"d":"0.00"}},{"$f":"SUMIF(ТС.БПр!$BA$131:$BA$132,AH$17 & \".0-\" & AH$9,ТС.БПр!$R$131:$R$132)+SUMIF(ТС.БПр!$BA$131:$BA$132,AH$17 & \".0-\" & AH$9,ТС.БПр!$AV$131:$AV$132)+SUMIF(ТС.БТр!$BA$131:$BA$132,AH$17 & \".0-\" & AH$9,ТС.БТр!$R$131:$R$132)","v":{"v":0,"d":"0.00"}}]
[{"$nulls":12},{"$f":"M377 & \".3\"","v":"D.3"},"Население","тыс.руб.",{"$nulls":16},{"$f":"AG386+AH386","v":{"v":0,"d":"0.00"}},{"$f":"AG387*(AG388/IF(TRANSMISSION_TARIFF&\"::\"&VDET=\"руб/Гкал/час в мес::Передача\",AG$6,1))/1000","v":{"v":0,"d":"0.00"}},{"$f":"AH387*(AH388/IF(TRANSMISSION_TARIFF&\"::\"&VDET=\"руб/Гкал/час в мес::Передача\",AH$6,1))/1000","v":{"v":0,"d":"0.00"}}]
[{"$nulls":12},{"$f":"M386 & \".1\"","v":"D.3.1"},"средневзвешенный тариф","руб./Гкал",{"$nulls":16},{"$f":"IF(AF388=0,0,AF386*1000/AF388)","v":{"v":0,"d":"0.00"}}]
[{"$nulls":12},{"$f":"M386 & \".2\"","v":"D.3.2"},"объём","Гкал",{"$nulls":16},{"$f":"AG388+AH388","v":{"v":0,"d":"0.00"}},{"$f":"SUMIF(ТС.БПр!$BA$131:$BA$132,AG$17 & \".0-\" & AG$9,ТС.БПр!$S$131:$S$132)+SUMIF(ТС.БПр!$BA$131:$BA$132,AG$17 & \".0-\" & AG$9,ТС.БПр!$AW$131:$AW$132)+SUMIF(ТС.БТр!$BA$131:$BA$132,AG$17 & \".0-\" & AG$9,ТС.БТр!$S$131:$S$132)","v":{"v":0,"d":"0.00"}},{"$f":"SUMIF(ТС.БПр!$BA$131:$BA$132,AH$17 & \".0-\" & AH$9,ТС.БПр!$S$131:$S$132)+SUMIF(ТС.БПр!$BA$131:$BA$132,AH$17 & \".0-\" & AH$9,ТС.БПр!$AW$131:$AW$132)+SUMIF(ТС.БТр!$BA$131:$BA$132,AH$17 & \".0-\" & AH$9,ТС.БТр!$S$131:$S$132)","v":{"v":0,"d":"0.00"}}]
[{"$nulls":12},{"$f":"M377 & \".4\"","v":"D.4"},"Прочие","тыс.руб.",{"$nulls":16},{"$f":"AG389+AH389","v":{"v":0,"d":"0.00"}},{"$f":"AG390*(AG391/IF(TRANSMISSION_TARIFF&\"::\"&VDET=\"руб/Гкал/час в мес::Передача\",AG$6,1))/1000","v":{"v":0,"d":"0.00"}},{"$f":"AH390*(AH391/IF(TRANSMISSION_TARIFF&\"::\"&VDET=\"руб/Гкал/час в мес::Передача\",AH$6,1))/1000","v":{"v":0,"d":"0.00"}}]
[{"$nulls":12},{"$f":"M389 & \".1\"","v":"D.4.1"},"средневзвешенный тариф","руб./Гкал",{"$nulls":16},{"$f":"IF(AF391=0,0,AF389*1000/AF391)","v":{"v":0,"d":"0.00"}}]
[{"$nulls":12},{"$f":"M389 & \".2\"","v":"D.4.2"},"объём","Гкал",{"$nulls":16},{"$f":"AG391+AH391","v":{"v":0,"d":"0.00"}},{"$f":"SUMIF(ТС.БПр!$BA$131:$BA$132,AG$17 & \".0-\" & AG$9,ТС.БПр!$T$131:$T$132)+SUMIF(ТС.БПр!$BA$131:$BA$132,AG$17 & \".0-\" & AG$9,ТС.БПр!$AX$131:$AX$132)+SUMIF(ТС.БТр!$BA$131:$BA$132,AG$17 & \".0-\" & AG$9,ТС.БТр!$T$131:$T$132)","v":{"v":0,"d":"0.00"}},{"$f":"SUMIF(ТС.БПр!$BA$131:$BA$132,AH$17 & \".0-\" & AH$9,ТС.БПр!$T$131:$T$132)+SUMIF(ТС.БПр!$BA$131:$BA$132,AH$17 & \".0-\" & AH$9,ТС.БПр!$AX$131:$AX$132)+SUMIF(ТС.БТр!$BA$131:$BA$132,AH$17 & \".0-\" & AH$9,ТС.БТр!$T$131:$T$132)","v":{"v":0,"d":"0.00"}}]
[{"$nulls":12},{"$f":"M377 & \".5\"","v":"D.5"},"Объём дотаций из всех уровней бюджета","тыс.руб.",{"$nulls":16},{"$f":"AG392+AH392","v":{"v":0,"d":"0.00"}}]
[{"$nulls":12},{"$f":"M377 & \".6\"","v":"D.6"},"Доходы, полученные сверх реализации по утверждённым тарифам","тыс.руб.",{"$nulls":16},{"$f":"AG393+AH393","v":{"v":0,"d":"0.00"}}]
{"$rows_empty":519}
[{"$nulls":28},"HEAT_FUEL_ADD_RANGE"]
[]
[]
[]
[{"$nulls":28},12,6,6]
[]
[]
[{"$nulls":28},"Y","I","II"]
[]
[{"$nulls":28},"Y","I","II"]
[]
[{"$nulls":28},"Год","I полугодие","II полугодие"]
[]
[{"$nulls":28},{"$f":"AC928 & \"_\" & AC920","v":"0_Y"},{"$f":"AD928 & \"_\" & AD920","v":"0_I"},{"$f":"AE928 & \"_\" & AE920","v":"0_II"}]
[]
[{"$nulls":28},{"$f":"AC930","v":0},{"$f":"AC930","v":0},{"$f":"AC930","v":0}]
[{"$nulls":28},"Удалить"]
[{"$nulls":12},"№ п/п","Наименование показателя","Единица измерения"]
[{"$nulls":46},"HEAT_FUEL_EMPTY_BASE_RANGE"]
[{"$nulls":13},"Является ли организация плательщиком НДС",{"$nulls":32},"HEAT_FUEL_SINGLE_BASE_RANGE"]
[{"$nulls":13},{"$f":"IF(CALC_IDENTIFIER=\"\",\"\",CALC_IDENTIFIER)","v":"Вид стоков"},{"$nulls":32},"HEAT_FUEL_TEMPLATE_RANGE"]
{"$rows_empty":13}
[{"$nulls":12},"4","Стоимость натурального топлива с учётом транспортировки (перевозки) (топливо на технологические цели)","тыс.руб.",{"$nulls":16},{"$f":"SUM(AF948,AF952:AF957,AF958,AF963,AF970,AF971,AF981:AF990)","v":{"v":0,"d":"0.00"}},{"$f":"SUM(AG948,AG952:AG957,AG958,AG963,AG970,AG971,AG981:AG990)","v":{"v":0,"d":"0.00"}},{"$f":"SUM(AH948,AH952:AH957,AH958,AH963,AH970,AH971,AH981:AH990)","v":{"v":0,"d":"0.00"}},{"$nulls":3},{"$f":"SUM(AL948,AL952:AL957,AL958,AL963,AL970,AL971,AL981:AL990)","v":{"v":0,"d":"0.00"}},{"$f":"SUM(AM948,AM952:AM957,AM958,AM963,AM970,AM971,AM981:AM990)","v":{"v":0,"d":"0.00"}},{"$f":"SUM(AN948,AN952:AN957,AN958,AN963,AN970,AN971,AN981:AN990)","v":{"v":0,"d":"0.00"}}]
[{"$nulls":12},"4.NG","Газ природный","тыс.руб.",{"$nulls":22},{"$f":"SUM(AL949:AL951)","v":{"v":0,"d":"0.00"}},{"$f":"SUM(AM949:AM951)","v":{"v":0,"d":"0.00"}},{"$f":"SUM(AN949:AN951)","v":{"v":0,"d":"0.00"}},{"$nulls":3},"NG"]
[{"$nulls":12},"4.NGL","Газ лимитный","тыс.руб.",{"$nulls":22},{"$f":"AL1321+AL1382+AL1390+AL1398","v":{"v":0,"d":"0.00"}},{"$f":"AM1321+AM1382+AM1390+AM1398","v":{"v":0,"d":"0.00"}},{"$f":"AN1321+AN1382+AN1390+AN1398","v":{"v":0,"d":"0.00"}},{"$nulls":3},"NGL"]
[{"$nulls":12},"4.NGU","Газ сверхлимитный","тыс.руб.",{"$nulls":22},{"$f":"AL1322+AL1417+AL1425+AL1433","v":{"v":0,"d":"0.00"}},{"$f":"AM1322+AM1417+AM1425+AM1433","v":{"v":0,"d":"0.00"}},{"$f":"AN1322+AN1417+AN1425+AN1433","v":{"v":0,"d":"0.00"}},{"$nulls":3},"NGU"]
[{"$nulls":12},"4.NGC","Газ коммерческий","тыс.руб.",{"$nulls":22},{"$f":"AL1323","v":{"v":0,"d":"0.00"}},{"$f":"AM1323","v":{"v":0,"d":"0.00"}},{"$f":"AN1323","v":{"v":0,"d":"0.00"}},{"$nulls":3},"NGC"]
[{"$nulls":12},"4.GBL","Газ доменный","тыс.руб.",{"$nulls":22},{"$f":"AL1324+AL1529+AL1661+AL1793","v":{"v":0,"d":"0.00"}},{"v":0,"d":"0.00"},{"v":0,"d":"0.00"},{"$nulls":3},"GBL"]
[{"$nulls":12},"4.GCK","Газ коксовый","тыс.руб.",{"$nulls":22},{"v":0,"d":"0.00"},{"v":0,"d":"0.00"},{"v":0,"d":"0.00"},{"$nulls":3},"GCK"]
[{"$nulls":12},"4.GOA","Газ нефтяной (попутный)","тыс.руб.",{"$nulls":22},{"v":0,"d":"0.00"},{"v":0,"d":"0.00"},{"v":0,"d":"0.00"},{"$nulls":3},"GOA"]
[{"$nulls":12},"4.DSG","Газ сухой отбензиненный","тыс.руб.",{"$nulls":22},{"v":0,"d":"0.00"},{"v":0,"d":"0.00"},{"v":0,"d":"0.00"},{"$nulls":3},"DSG"]
[{"$nulls":12},"4.GCN","Газовый конденсат","тыс.руб.",{"$nulls":22},{"v":0,"d":"0.00"},{"v":0,"d":"0.00"},{"v":0,"d":"0.00"},{"$nulls":3},"GCN"]
[{"$nulls":12},"4.LNG","Газ сжиженный","тыс.руб.",{"$nulls":22},{"v":0,"d":"0.00"},{"v":0,"d":"0.00"},{"v":0,"d":"0.00"},{"$nulls":3},"LNG"]
[{"$nulls":12},"4.DSL","Дизельное топливо","тыс.руб.",{"$nulls":22},{"v":0,"d":"0.00"},{"v":0,"d":"0.00"},{"v":0,"d":"0.00"},{"$nulls":3},"DSL"]
[{"$nulls":12},"4.DSLA","А (арктическое)","тыс.руб.",{"$nulls":22},{"v":0,"d":"0.00"},{"v":0,"d":"0.00"},{"v":0,"d":"0.00"},{"$nulls":3},"DSLA"]
[{"$nulls":12},"4.DSLW","З (зимнее)","тыс.руб.",{"$nulls":22},{"v":0,"d":"0.00"},{"v":0,"d":"0.00"},{"v":0,"d":"0.00"},{"$nulls":3},"DSLW"]
[{"$nulls":12},"4.DSLS","Л (летнее)","тыс.руб.",{"$nulls":22},{"v":0,"d":"0.00"},{"v":0,"d":"0.00"},{"v":0,"d":"0.00"},{"$nulls":3},"DSLS"]
[{"$nulls":12},"4.DSLO","Е (межсезонное)","тыс.руб.",{"$nulls":22},{"v":0,"d":"0.00"},{"v":0,"d":"0.00"},{"v":0,"d":"0.00"},{"$nulls":3},"DSLO"]
[{"$nulls":12},"4.MST","Мазут","тыс.руб.",{"$nulls":22},{"v":0,"d":"0.00"},{"v":0,"d":"0.00"},{"v":0,"d":"0.00"},{"$nulls":3},"MST"]
[{"$nulls":12},"4.MSTM40","М-40","тыс.руб.",{"$nulls":22},{"v":0,"d":"0.00"},{"v":0,"d":"0.00"},{"v":0,"d":"0.00"},{"$nulls":3},"MSTM40"]
[{"$nulls":12},"4.MSTM100","М-100","тыс.руб.",{"$nulls":22},{"v":0,"d":"0.00"},{"v":0,"d":"0.00"},{"v":0,"d":"0.00"},{"$nulls":3},"MSTM100"]
[{"$nulls":12},"4.MSTM200","М-200","тыс.руб.",{"$nulls":22},{"v":0,"d":"0.00"},{"v":0,"d":"0.00"},{"v":0,"d":"0.00"},{"$nulls":3},"MSTM200"]
[{"$nulls":12},"4.MSTT","мазут марки \"Т\"","тыс.руб.",{"$nulls":22},{"v":0,"d":"0.00"},{"v":0,"d":"0.00"},{"v":0,"d":"0.00"},{"$nulls":3},"MSTT"]
[{"$nulls":12},"4.MSTF5","Ф-5","тыс.руб.",{"$nulls":22},{"$f":"AL1340+AL1545+AL1677+AL1809","v":{"v":0,"d":"0.00"}},{"v":0,"d":"0.00"},{"v":0,"d":"0.00"},{"$nulls":3},"MSTF5"]
[{"$nulls":12},"4.MSTF12","Ф-12","тыс.руб.",{"$nulls":22},{"v":0,"d":"0.00"},{"v":0,"d":"0.00"},{"v":0,"d":"0.00"},{"$nulls":3},"MSTF12"]
[{"$nulls":12},"4.OIL","Нефть","тыс.руб.",{"$nulls":22},{"v":0,"d":"0.00"},{"v":0,"d":"0.00"},{"v":0,"d":"0.00"},{"$nulls":3},"OIL"]
[{"$nulls":12},"4.COA","Уголь","тыс.руб.",{"$nulls":22},{"v":0,"d":"0.00"},{"v":0,"d":"0.00"},{"v":0,"d":"0.00"},{"$nulls":3},"COA"]
[{"$nulls":12},"4.COAA","Уголь антрацит","тыс.руб.",{"$nulls":22},{"v":0,"d":"0.00"},{"v":0,"d":"0.00"},{"v":0,"d":"0.00"},{"$nulls":3},"COAA"]
[{"$nulls":12},"4.COAB","Уголь бурый","тыс.руб.",{"$nulls":22},{"v":0,"d":"0.00"},{"v":0,"d":"0.00"},{"v":0,"d":"0.00"},{"$nulls":3},"COAB"]
[{"$nulls":12},"4.COAG","Уголь газовый","тыс.руб.",{"$nulls":22},{"v":0,"d":"0.00"},{"v":0,"d":"0.00"},{"v":0,"d":"0.00"},{"$nulls":3},"COAG"]
[{"$nulls":12},"4.COALF","Уголь длиннопламенный","тыс.руб.",{"$nulls":22},{"v":0,"d":"0.00"},{"v":0,"d":"0.00"},{"v":0,"d":"0.00"},{"$nulls":3},"COALF"]
[{"$nulls":12},"4.COAF","Уголь жирный","тыс.руб.",{"$nulls":22},{"v":0,"d":"0.00"},{"v":0,"d":"0.00"},{"v":0,"d":"0.00"},{"$nulls":3},"COAF"]
[{"$nulls":12},"4.COAC","Уголь коксовый","тыс.руб.",{"$nulls":22},{"v":0,"d":"0.00"},{"v":0,"d":"0.00"},{"v":0,"d":"0.00"},{"$nulls":3},"COAC"]
[{"$nulls":12},"4.COASC","Уголь отощённо-спекающийся","тыс.руб.",{"$nulls":22},{"v":0,"d":"0.00"},{"v":0,"d":"0.00"},{"v":0,"d":"0.00"},{"$nulls":3},"COASC"]
[{"$nulls":12},"4.COAWC","Уголь слабоспекающийся","тыс.руб.",{"$nulls":22},{"v":0,"d":"0.00"},{"v":0,"d":"0.00"},{"v":0,"d":"0.00"},{"$nulls":3},"COAWC"]
[{"$nulls":12},"4.COAS","Уголь тощий","тыс.руб.",{"$nulls":22},{"v":0,"d":"0.00"},{"v":0,"d":"0.00"},{"v":0,"d":"0.00"},{"$nulls":3},"COAS"]
[{"$nulls":12},"4.ENR","Энергия","тыс.руб.",{"$nulls":22},{"$f":"SUM(AL1837,AL1843,AL1849,AL1855)","v":{"v":0,"d":"0.00"}},{"$f":"SUM(AM1837,AM1843,AM1849,AM1855)","v":{"v":0,"d":"0.00"}},{"$f":"SUM(AN1837,AN1843,AN1849,AN1855)","v":{"v":0,"d":"0.00"}},{"$nulls":3},"ENR"]
[{"$nulls":12},"4.PWR","Заявленная мощность","тыс.руб.",{"$nulls":22},{"$f":"SUM(AL1840,AL1846,AL1852,AL1858)","v":{"v":0,"d":"0.00"}},{"$f":"SUM(AM1840,AM1846,AM1852,AM1858)","v":{"v":0,"d":"0.00"}},{"$f":"SUM(AN1840,AN1846,AN1852,AN1858)","v":{"v":0,"d":"0.00"}},{"$nulls":3},"PWR"]
[{"$nulls":12},"4.CWD","Уголь древесный","тыс.руб.",{"$nulls":22},{"$f":"AL1355+AL1560+AL1692+AL1824","v":{"v":0,"d":"0.00"}},{"v":0,"d":"0.00"},{"v":0,"d":"0.00"},{"$nulls":3},"CWD"]
[{"$nulls":12},"4.WDS","Дрова","тыс.руб.",{"$nulls":22},{"v":0,"d":"0.00"},{"v":0,"d":"0.00"},{"v":0,"d":"0.00"},{"$nulls":3},"WDS"]
[{"$nulls":12},"4.PLT","Пеллеты","тыс.руб.",{"$nulls":22},{"v":0,"d":"0.00"},{"v":0,"d":"0.00"},{"v":0,"d":"0.00"},{"$nulls":3},"PLT"]
[{"$nulls":12},"4.SAW","Опилки","тыс.руб.",{"$nulls":22},{"v":0,"d":"0.00"},{"v":0,"d":"0.00"},{"v":0,"d":"0.00"},{"$nulls":3},"SAW"]
[{"$nulls":12},"4.PEA","Торф","тыс.руб.",{"$nulls":22},{"v":0,"d":"0.00"},{"v":0,"d":"0.00"},{"v":0,"d":"0.00"},{"$nulls":3},"PEA"]
[{"$nulls":12},"4.SHL","Сланцы","тыс.руб.",{"$nulls":22},{"v":0,"d":"0.00"},{"v":0,"d":"0.00"},{"v":0,"d":"0.00"},{"$nulls":3},"SHL"]
[{"$nulls":12},"4.STF","Печное бытовое топливо","тыс.руб.",{"$nulls":22},{"v":0,"d":"0.00"},{"v":0,"d":"0.00"},{"v":0,"d":"0.00"},{"$nulls":3},"STF"]
[{"$nulls":12},"4.OTH","Прочие виды топлива","тыс.руб.",{"$nulls":22},{"$f":"AL1862","v":{"v":0,"d":"0.00"}},{"$f":"AM1862","v":{"v":0,"d":"0.00"}},{"$f":"AN1862","v":{"v":0,"d":"0.00"}},{"$nulls":3},"OTH"]
[{"$nulls":12},"4.CFPTR","Цена условного топлива с учётом транспортировки (перевозки)","тыс.руб./тут",{"$nulls":16},{"$f":"IF(AF1079=0,0,AF947/AF1079)","v":{"v":0,"d":"0.00"}},{"$f":"IF(AG1079=0,0,AG947/AG1079)","v":{"v":0,"d":"0.00"}},{"$f":"IF(AH1079=0,0,AH947/AH1079)","v":{"v":0,"d":"0.00"}},{"$nulls":3},{"$f":"IF(AL1079=0,0,AL947/AL1079)","v":{"v":0,"d":"0.00"}},{"v":0,"d":"0.00"},{"v":0,"d":"0.00"}]
[{"$nulls":12},"4.CFPTR.NG","Газ природный","тыс.руб./тут",{"$nulls":22},{"v":0,"d":"0.00"},{"v":0,"d":"0.00"},{"v":0,"d":"0.00"},{"$nulls":3},"NG"]
[{"$nulls":12},"4.CFPTR.NGL","Газ лимитный","тыс.руб./тут",{"$nulls":22},{"v":0,"d":"0.00"},{"v":0,"d":"0.00"},{"v":0,"d":"0.00"},{"$nulls":3},"NGL"]
[{"$nulls":12},"4.CFPTR.NGU","Газ сверхлимитный","тыс.руб./тут",{"$nulls":22},{"v":0,"d":"0.00"},{"v":0,"d":"0.00"},{"v":0,"d":"0.00"},{"$nulls":3},"NGU"]
[{"$nulls":12},"4.CFPTR.NGC","Газ коммерческий","тыс.руб./тут",{"$nulls":22},{"v":0,"d":"0.00"},{"v":0,"d":"0.00"},{"v":0,"d":"0.00"},{"$nulls":3},"NGC"]
[{"$nulls":12},"4.CFPTR.GBL","Газ доменный","тыс.руб./тут",{"$nulls":22},{"v":0,"d":"0.00"},{"v":0,"d":"0.00"},{"v":0,"d":"0.00"},{"$nulls":3},"GBL"]
[{"$nulls":12},"4.CFPTR.GCK","Газ коксовый","тыс.руб./тут",{"$nulls":22},{"v":0,"d":"0.00"},{"v":0,"d":"0.00"},{"v":0,"d":"0.00"},{"$nulls":3},"GCK"]
[{"$nulls":12},"4.CFPTR.GOA","Газ нефтяной (попутный)","тыс.руб./тут",{"$nulls":22},{"v":0,"d":"0.00"},{"v":0,"d":"0.00"},{"v":0,"d":"0.00"},{"$nulls":3},"GOA"]
[{"$nulls":12},"4.CFPTR.DSG","Газ сухой отбензиненный","тыс.руб./тут",{"$nulls":22},{"v":0,"d":"0.00"},{"v":0,"d":"0.00"},{"v":0,"d":"0.00"},{"$nulls":3},"DSG"]
[{"$nulls":12},"4.CFPTR.GCN","Газовый конденсат","тыс.руб./тут",{"$nulls":22},{"v":0,"d":"0.00"},{"v":0,"d":"0.00"},{"v":0,"d":"0.00"},{"$nulls":3},"GCN"]
[{"$nulls":12},"4.CFPTR.LNG","Газ сжиженный","тыс.руб./тут",{"$nulls":22},{"v":0,"d":"0.00"},{"v":0,"d":"0.00"},{"v":0,"d":"0.00"},{"$nulls":3},"LNG"]
[{"$nulls":12},"4.CFPTR.DSL","Дизельное топливо","тыс.руб./тут",{"$nulls":22},{"v":0,"d":"0.00"},{"v":0,"d":"0.00"},{"v":0,"d":"0.00"},{"$nulls":3},"DSL"]
[{"$nulls":12},"4.CFPTR.DSLA","А (арктическое)","тыс.руб./тут",{"$nulls":22},{"v":0,"d":"0.00"},{"v":0,"d":"0.00"},{"v":0,"d":"0.00"},{"$nulls":3},"DSLA"]
[{"$nulls":12},"4.CFPTR.DSLW","З (зимнее)","тыс.руб./тут",{"$nulls":22},{"v":0,"d":"0.00"},{"v":0,"d":"0.00"},{"v":0,"d":"0.00"},{"$nulls":3},"DSLW"]
[{"$nulls":12},"4.CFPTR.DSLS","Л (летнее)","тыс.руб./тут",{"$nulls":22},{"v":0,"d":"0.00"},{"v":0,"d":"0.00"},{"v":0,"d":"0.00"},{"$nulls":3},"DSLS"]
[{"$nulls":12},"4.CFPTR.DSLO","Е (межсезонное)","тыс.руб./тут",{"$nulls":22},{"v":0,"d":"0.00"},{"v":0,"d":"0.00"},{"v":0,"d":"0.00"},{"$nulls":3},"DSLO"]
[{"$nulls":12},"4.CFPTR.MST","Мазут","тыс.руб./тут",{"$nulls":22},{"$f":"IF(AL1095=0,0,AL963/AL1095)","v":{"v":0,"d":"0.00"}},{"v":0,"d":"0.00"},{"v":0,"d":"0.00"},{"$nulls":3},"MST"]
[{"$nulls":12},"4.CFPTR.MSTM40","М-40","тыс.руб./тут",{"$nulls":22},{"v":0,"d":"0.00"},{"v":0,"d":"0.00"},{"v":0,"d":"0.00"},{"$nulls":3},"MSTM40"]
[{"$nulls":12},"4.CFPTR.MSTM100","М-100","тыс.руб./тут",{"$nulls":22},{"v":0,"d":"0.00"},{"v":0,"d":"0.00"},{"v":0,"d":"0.00"},{"$nulls":3},"MSTM100"]
[{"$nulls":12},"4.CFPTR.MSTM200","М-200","тыс.руб./тут",{"$nulls":22},{"v":0,"d":"0.00"},{"v":0,"d":"0.00"},{"v":0,"d":"0.00"},{"$nulls":3},"MSTM200"]
[{"$nulls":12},"4.CFPTR.MSTT","мазут марки \"Т\"","тыс.руб./тут",{"$nulls":22},{"v":0,"d":"0.00"},{"v":0,"d":"0.00"},{"v":0,"d":"0.00"},{"$nulls":3},"MSTT"]
[{"$nulls":12},"4.CFPTR.MSTF5","Ф-5","тыс.руб./тут",{"$nulls":22},{"v":0,"d":"0.00"},{"v":0,"d":"0.00"},{"v":0,"d":"0.00"},{"$nulls":3},"MSTF5"]
[{"$nulls":12},"4.CFPTR.MSTF12","Ф-12","тыс.руб./тут",{"$nulls":22},{"v":0,"d":"0.00"},{"v":0,"d":"0.00"},{"v":0,"d":"0.00"},{"$nulls":3},"MSTF12"]
[{"$nulls":12},"4.CFPTR.OIL","Нефть","тыс.руб./тут",{"$nulls":22},{"v":0,"d":"0.00"},{"v":0,"d":"0.00"},{"v":0,"d":"0.00"},{"$nulls":3},"OIL"]
[{"$nulls":12},"4.CFPTR.COA","Уголь","тыс.руб./тут",{"$nulls":22},{"v":0,"d":"0.00"},{"v":0,"d":"0.00"},{"v":0,"d":"0.00"},{"$nulls":3},"COA"]
[{"$nulls":12},"4.CFPTR.COAA","Уголь антрацит","тыс.руб./тут",{"$nulls":22},{"v":0,"d":"0.00"},{"v":0,"d":"0.00"},{"v":0,"d":"0.00"},{"$nulls":3},"COAA"]
[{"$nulls":12},"4.CFPTR.COAB","Уголь бурый","тыс.руб./тут",{"$nulls":22},{"v":0,"d":"0.00"},{"v":0,"d":"0.00"},{"v":0,"d":"0.00"},{"$nulls":3},"COAB"]
[{"$nulls":12},"4.CFPTR.COAG","Уголь газовый","тыс.руб./тут",{"$nulls":22},{"v":0,"d":"0.00"},{"v":0,"d":"0.00"},{"v":0,"d":"0.00"},{"$nulls":3},"COAG"]
[{"$nulls":12},"4.CFPTR.COALF","Уголь длиннопламенный","тыс.руб./тут",{"$nulls":22},{"v":0,"d":"0.00"},{"v":0,"d":"0.00"},{"v":0,"d":"0.00"},{"$nulls":3},"COALF"]
[{"$nulls":12},"4.CFPTR.COAF","Уголь жирный","тыс.руб./тут",{"$nulls":22},{"v":0,"d":"0.00"},{"v":0,"d":"0.00"},{"v":0,"d":"0.00"},{"$nulls":3},"COAF"]
[{"$nulls":12},"4.CFPTR.COAC","Уголь коксовый","тыс.руб./тут",{"$nulls":22},{"v":0,"d":"0.00"},{"v":0,"d":"0.00"},{"v":0,"d":"0.00"},{"$nulls":3},"COAC"]
[{"$nulls":12},"4.CFPTR.COASC","Уголь отощённо-спекающийся","тыс.руб./тут",{"$nulls":22},{"v":0,"d":"0.00"},{"v":0,"d":"0.00"},{"v":0,"d":"0.00"},{"$nulls":3},"COASC"]
[{"$nulls":12},"4.CFPTR.COAWC","Уголь слабоспекающийся","тыс.руб./тут",{"$nulls":22},{"$f":"IF(AL1111=0,0,AL979/AL1111)","v":{"v":0,"d":"0.00"}},{"v":0,"d":"0.00"},{"v":0,"d":"0.00"},{"$nulls":3},"COAWC"]
[{"$nulls":12},"4.CFPTR.COAS","Уголь тощий","тыс.руб./тут",{"$nulls":22},{"v":0,"d":"0.00"},{"v":0,"d":"0.00"},{"v":0,"d":"0.00"},{"$nulls":3},"COAS"]
[]
[]
[{"$nulls":12},"4.CFPTR.CWD","Уголь древесный","тыс.руб./тут",{"$nulls":22},{"$f":"IF(AL1115=0,0,AL983/AL1115)","v":{"v":0,"d":"0.00"}},{"v":0,"d":"0.00"},{"v":0,"d":"0.00"},{"$nulls":3},"CWD"]
[{"$nulls":12},"4.CFPTR.WDS","Дрова","тыс.руб./тут",{"$nulls":22},{"v":0,"d":"0.00"},{"v":0,"d":"0.00"},{"v":0,"d":"0.00"},{"$nulls":3},"WDS"]
[{"$nulls":12},"4.CFPTR.PLT","Пеллеты","тыс.руб./тут",{"$nulls":22},{"v":0,"d":"0.00"},{"v":0,"d":"0.00"},{"v":0,"d":"0.00"},{"$nulls":3},"PLT"]
[{"$nulls":12},"4.CFPTR.SAW","Опилки","тыс.руб./тут",{"$nulls":22},{"v":0,"d":"0.00"},{"v":0,"d":"0.00"},{"v":0,"d":"0.00"},{"$nulls":3},"SAW"]
[{"$nulls":12},"4.CFPTR.PEA","Торф","тыс.руб./тут",{"$nulls":22},{"v":0,"d":"0.00"},{"v":0,"d":"0.00"},{"v":0,"d":"0.00"},{"$nulls":3},"PEA"]
[{"$nulls":12},"4.CFPTR.SHL","Сланцы","тыс.руб./тут",{"$nulls":22},{"v":0,"d":"0.00"},{"v":0,"d":"0.00"},{"v":0,"d":"0.00"},{"$nulls":3},"SHL"]
[{"$nulls":12},"4.CFPTR.STF","Печное бытовое топливо","тыс.руб./тут",{"$nulls":22},{"v":0,"d":"0.00"},{"v":0,"d":"0.00"},{"v":0,"d":"0.00"},{"$nulls":3},"STF"]
[]
[{"$nulls":12},"4.NFPTR","Цена натурального топлива с учётом транспортировки (перевозки)"]
[{"$nulls":12},"4.NFPTR.NG","Газ природный","руб./тыс.м3",{"$nulls":22},{"$f":"IF(AL1212=0,0,AL948/AL1212*1000)","v":{"v":0,"d":"0.00"}},{"v":0,"d":"0.00"},{"v":0,"d":"0.00"},{"$nulls":3},"NG"]
[{"$nulls":12},"4.NFPTR.NGL","Газ лимитный","руб./тыс.м3",{"$nulls":22},{"v":0,"d":"0.00"},{"v":0,"d":"0.00"},{"v":0,"d":"0.00"},{"$nulls":3},"NGL"]
[{"$nulls":12},"4.NFPTR.NGU","Газ сверхлимитный","руб./тыс.м3",{"$nulls":22},{"v":0,"d":"0.00"},{"v":0,"d":"0.00"},{"v":0,"d":"0.00"},{"$nulls":3},"NGU"]
[{"$nulls":12},"4.NFPTR.NGC","Газ коммерческий","руб./тыс.м3",{"$nulls":22},{"v":0,"d":"0.00"},{"v":0,"d":"0.00"},{"v":0,"d":"0.00"},{"$nulls":3},"NGC"]
[{"$nulls":12},"4.NFPTR.GBL","Газ доменный","руб./тнт",{"$nulls":22},{"v":0,"d":"0.00"},{"v":0,"d":"0.00"},{"v":0,"d":"0.00"},{"$nulls":3},"GBL"]
[{"$nulls":12},"4.NFPTR.GCK","Газ коксовый","руб./тнт",{"$nulls":22},{"v":0,"d":"0.00"},{"v":0,"d":"0.00"},{"v":0,"d":"0.00"},{"$nulls":3},"GCK"]
[{"$nulls":12},"4.NFPTR.GOA","Газ нефтяной (попутный)","руб./тнт",{"$nulls":22},{"v":0,"d":"0.00"},{"v":0,"d":"0.00"},{"v":0,"d":"0.00"},{"$nulls":3},"GOA"]
[{"$nulls":12},"4.NFPTR.DSG","Газ сухой отбензиненный","руб./тнт",{"$nulls":22},{"v":0,"d":"0.00"},{"v":0,"d":"0.00"},{"v":0,"d":"0.00"},{"$nulls":3},"DSG"]
[{"$nulls":12},"4.NFPTR.GCN","Газовый конденсат","руб./тнт",{"$nulls":22},{"v":0,"d":"0.00"},{"v":0,"d":"0.00"},{"v":0,"d":"0.00"},{"$nulls":3},"GCN"]
[{"$nulls":12},"4.NFPTR.LNG","Газ сжиженный","руб./тнт",{"$nulls":22},{"v":0,"d":"0.00"},{"v":0,"d":"0.00"},{"v":0,"d":"0.00"},{"$nulls":3},"LNG"]
[{"$nulls":12},"4.NFPTR.DSL","Дизельное топливо","руб./тнт",{"$nulls":22},{"v":0,"d":"0.00"},{"v":0,"d":"0.00"},{"v":0,"d":"0.00"},{"$nulls":3},"DSL"]
[{"$nulls":12},"4.NFPTR.DSLA","А (арктическое)","руб./тнт",{"$nulls":22},{"v":0,"d":"0.00"},{"v":0,"d":"0.00"},{"v":0,"d":"0.00"},{"$nulls":3},"DSLA"]
[{"$nulls":12},"4.NFPTR.DSLW","З (зимнее)","руб./тнт",{"$nulls":22},{"v":0,"d":"0.00"},{"v":0,"d":"0.00"},{"v":0,"d":"0.00"},{"$nulls":3},"DSLW"]
[{"$nulls":12},"4.NFPTR.DSLS","Л (летнее)","руб./тнт",{"$nulls":22},{"v":0,"d":"0.00"},{"v":0,"d":"0.00"},{"v":0,"d":"0.00"},{"$nulls":3},"DSLS"]
[{"$nulls":12},"4.NFPTR.DSLO","Е (межсезонное)","руб./тнт",{"$nulls":22},{"v":0,"d":"0.00"},{"v":0,"d":"0.00"},{"v":0,"d":"0.00"},{"$nulls":3},"DSLO"]
[{"$nulls":12},"4.NFPTR.MST","Мазут","руб./тнт",{"$nulls":22},{"v":0,"d":"0.00"},{"v":0,"d":"0.00"},{"v":0,"d":"0.00"},{"$nulls":3},"MST"]
[{"$nulls":12},"4.NFPTR.MSTM40","М-40","руб./тнт",{"$nulls":22},{"$f":"IF(AL1228=0,0,AL964/AL1228*1000)","v":{"v":0,"d":"0.00"}},{"v":0,"d":"0.00"},{"v":0,"d":"0.00"},{"$nulls":3},"MSTM40"]
[{"$nulls":12},"4.NFPTR.MSTM100","М-100","руб./тнт",{"$nulls":22},{"v":0,"d":"0.00"},{"v":0,"d":"0.00"},{"v":0,"d":"0.00"},{"$nulls":3},"MSTM100"]
[{"$nulls":12},"4.NFPTR.MSTM200","М-200","руб./тнт",{"$nulls":22},{"v":0,"d":"0.00"},{"v":0,"d":"0.00"},{"v":0,"d":"0.00"},{"$nulls":3},"MSTM200"]
[{"$nulls":12},"4.NFPTR.MSTT","мазут марки \"Т\"","руб./тнт",{"$nulls":22},{"v":0,"d":"0.00"},{"v":0,"d":"0.00"},{"v":0,"d":"0.00"},{"$nulls":3},"MSTT"]
[{"$nulls":12},"4.NFPTR.MSTF5","Ф-5","руб./тнт",{"$nulls":22},{"v":0,"d":"0.00"},{"v":0,"d":"0.00"},{"v":0,"d":"0.00"},{"$nulls":3},"MSTF5"]
[{"$nulls":12},"4.NFPTR.MSTF12","Ф-12","руб./тнт",{"$nulls":22},{"v":0,"d":"0.00"},{"v":0,"d":"0.00"},{"v":0,"d":"0.00"},{"$nulls":3},"MSTF12"]
[{"$nulls":12},"4.NFPTR.OIL","Нефть","руб./тнт",{"$nulls":22},{"v":0,"d":"0.00"},{"v":0,"d":"0.00"},{"v":0,"d":"0.00"},{"$nulls":3},"OIL"]
[{"$nulls":12},"4.NFPTR.COA","Уголь","руб./тнт",{"$nulls":22},{"v":0,"d":"0.00"},{"v":0,"d":"0.00"},{"v":0,"d":"0.00"},{"$nulls":3},"COA"]
[{"$nulls":12},"4.NFPTR.COAA","Уголь антрацит","руб./тнт",{"$nulls":22},{"v":0,"d":"0.00"},{"v":0,"d":"0.00"},{"v":0,"d":"0.00"},{"$nulls":3},"COAA"]
[{"$nulls":12},"4.NFPTR.COAB","Уголь бурый","руб./тнт",{"$nulls":22},{"v":0,"d":"0.00"},{"v":0,"d":"0.00"},{"v":0,"d":"0.00"},{"$nulls":3},"COAB"]
[{"$nulls":12},"4.NFPTR.COAG","Уголь газовый","руб./тнт",{"$nulls":22},{"v":0,"d":"0.00"},{"v":0,"d":"0.00"},{"v":0,"d":"0.00"},{"$nulls":3},"COAG"]
[{"$nulls":12},"4.NFPTR.COALF","Уголь длиннопламенный","руб./тнт",{"$nulls":22},{"v":0,"d":"0.00"},{"v":0,"d":"0.00"},{"v":0,"d":"0.00"},{"$nulls":3},"COALF"]
[{"$nulls":12},"4.NFPTR.COAF","Уголь жирный","руб./тнт",{"$nulls":22},{"v":0,"d":"0.00"},{"v":0,"d":"0.00"},{"v":0,"d":"0.00"},{"$nulls":3},"COAF"]
[{"$nulls":12},"4.NFPTR.COAC","Уголь коксовый","руб./тнт",{"$nulls":22},{"v":0,"d":"0.00"},{"v":0,"d":"0.00"},{"v":0,"d":"0.00"},{"$nulls":3},"COAC"]
[{"$nulls":12},"4.NFPTR.COASC","Уголь отощённо-спекающийся","руб./тнт",{"$nulls":22},{"v":0,"d":"0.00"},{"v":0,"d":"0.00"},{"v":0,"d":"0.00"},{"$nulls":3},"COASC"]
[{"$nulls":12},"4.NFPTR.COAWC","Уголь слабоспекающийся","руб./тнт",{"$nulls":22},{"v":0,"d":"0.00"},{"v":0,"d":"0.00"},{"v":0,"d":"0.00"},{"$nulls":3},"COAWC"]
[{"$nulls":12},"4.NFPTR.COAS","Уголь тощий","руб./тнт",{"$nulls":22},{"$f":"IF(AL1244=0,0,AL980/AL1244*1000)","v":{"v":0,"d":"0.00"}},{"$f":"IF(AM1244=0,0,AM980/AM1244*1000)","v":{"v":0,"d":"0.00"}},{"$f":"IF(AN1244=0,0,AN980/AN1244*1000)","v":{"v":0,"d":"0.00"}},{"$nulls":3},"COAS"]
[{"$nulls":12},"4.NFPTR.ENR","Энергия","руб./кВт*ч",{"$nulls":22},{"$f":"IF(AL1835=0,0,AL981/AL1835)","v":{"v":0,"d":"0.00"}},{"v":0,"d":"0.00"},{"v":0,"d":"0.00"},{"$nulls":3},"ENR"]
[{"$nulls":12},"4.NFPTR.PWR","Заявленная мощность","руб./кВт*мес",{"$nulls":22},{"v":0,"d":"0.00"},{"v":0,"d":"0.00"},{"v":0,"d":"0.00"},{"$nulls":3},"PWR"]
[{"$nulls":12},"4.NFPTR.CWD","Уголь древесный","руб./тнт",{"$nulls":22},{"$f":"IF(AL1247=0,0,AL983/AL1247*1000)","v":{"v":0,"d":"0.00"}},{"v":0,"d":"0.00"},{"v":0,"d":"0.00"},{"$nulls":3},"CWD"]
[{"$nulls":12},"4.NFPTR.WDS","Дрова","руб./тнт",{"$nulls":22},{"v":0,"d":"0.00"},{"v":0,"d":"0.00"},{"v":0,"d":"0.00"},{"$nulls":3},"WDS"]
[{"$nulls":12},"4.NFPTR.PLT","Пеллеты","руб./тнт",{"$nulls":22},{"v":0,"d":"0.00"},{"v":0,"d":"0.00"},{"v":0,"d":"0.00"},{"$nulls":3},"PLT"]
[{"$nulls":12},"4.NFPTR.SAW","Опилки","руб./тнт",{"$nulls":22},{"v":0,"d":"0.00"},{"v":0,"d":"0.00"},{"v":0,"d":"0.00"},{"$nulls":3},"SAW"]
[{"$nulls":12},"4.NFPTR.PEA","Торф","руб./тнт",{"$nulls":22},{"v":0,"d":"0.00"},{"v":0,"d":"0.00"},{"v":0,"d":"0.00"},{"$nulls":3},"PEA"]
[{"$nulls":12},"4.NFPTR.SHL","Сланцы","руб./тнт",{"$nulls":22},{"v":0,"d":"0.00"},{"v":0,"d":"0.00"},{"v":0,"d":"0.00"},{"$nulls":3},"SHL"]
[{"$nulls":12},"4.NFPTR.STF","Печное бытовое топливо","руб./тнт",{"$nulls":22},{"v":0,"d":"0.00"},{"v":0,"d":"0.00"},{"v":0,"d":"0.00"},{"$nulls":3},"STF"]
[]
[{"$nulls":12},"4.CFV","Расход условного топлива","тут",{"$nulls":16},{"$f":"SUM(AF1080,AF1084:AF1089,AF1090,AF1095,AF1102,AF1103,AF1115:AF1121)","v":{"v":0,"d":"0.00"}},{"$f":"SUM(AG1080,AG1084:AG1089,AG1090,AG1095,AG1102,AG1103,AG1115:AG1121)","v":{"v":0,"d":"0.00"}},{"$f":"SUM(AH1080,AH1084:AH1089,AH1090,AH1095,AH1102,AH1103,AH1115:AH1121)","v":{"v":0,"d":"0.00"}},{"$nulls":3},{"$f":"SUM(AL1080,AL1084:AL1089,AL1090,AL1095,AL1102,AL1103,AL1115:AL1121)","v":{"v":0,"d":"0.00"}},{"$f":"SUM(AM1080,AM1084:AM1089,AM1090,AM1095,AM1102,AM1103,AM1115:AM1121)","v":{"v":0,"d":"0.00"}},{"$f":"SUM(AN1080,AN1084:AN1089,AN1090,AN1095,AN1102,AN1103,AN1115:AN1121)","v":{"v":0,"d":"0.00"}}]
[{"$nulls":12},"4.CFV.NG","Газ природный","тут",{"$nulls":22},{"$f":"AM1080+AN1080","v":{"v":0,"d":"0.00"}},{"$f":"SUM(AM1081:AM1083)","v":{"v":0,"d":"0.00"}},{"$f":"SUM(AN1081:AN1083)","v":{"v":0,"d":"0.00"}},{"$nulls":3},"NG"]
[{"$nulls":12},"4.CFV.NGL","Газ лимитный","тут",{"$nulls":22},{"v":0,"d":"0.00"},{"$f":"AM1169*AM1213","v":{"v":0,"d":"0.00"}},{"v":0,"d":"0.00"},{"$nulls":3},"NGL"]
[{"$nulls":12},"4.CFV.NGU","Газ сверхлимитный","тут",{"$nulls":22},{"v":0,"d":"0.00"},{"v":0,"d":"0.00"},{"v":0,"d":"0.00"},{"$nulls":3},"NGU"]
[{"$nulls":12},"4.CFV.NGC","Газ коммерческий","тут",{"$nulls":22},{"v":0,"d":"0.00"},{"v":0,"d":"0.00"},{"v":0,"d":"0.00"},{"$nulls":3},"NGC"]
[{"$nulls":12},"4.CFV.GBL","Газ доменный","тут",{"$nulls":22},{"v":0,"d":"0.00"},{"v":0,"d":"0.00"},{"v":0,"d":"0.00"},{"$nulls":3},"GBL"]
[{"$nulls":12},"4.CFV.GCK","Газ коксовый","тут",{"$nulls":22},{"v":0,"d":"0.00"},{"v":0,"d":"0.00"},{"v":0,"d":"0.00"},{"$nulls":3},"GCK"]
[{"$nulls":12},"4.CFV.GOA","Газ нефтяной (попутный)","тут",{"$nulls":22},{"v":0,"d":"0.00"},{"v":0,"d":"0.00"},{"v":0,"d":"0.00"},{"$nulls":3},"GOA"]
[{"$nulls":12},"4.CFV.DSG","Газ сухой отбензиненный","тут",{"$nulls":22},{"v":0,"d":"0.00"},{"v":0,"d":"0.00"},{"v":0,"d":"0.00"},{"$nulls":3},"DSG"]
[{"$nulls":12},"4.CFV.GCN","Газовый конденсат","тут",{"$nulls":22},{"v":0,"d":"0.00"},{"v":0,"d":"0.00"},{"v":0,"d":"0.00"},{"$nulls":3},"GCN"]
[{"$nulls":12},"4.CFV.LNG","Газ сжиженный","тут",{"$nulls":22},{"v":0,"d":"0.00"},{"v":0,"d":"0.00"},{"v":0,"d":"0.00"},{"$nulls":3},"LNG"]
[{"$nulls":12},"4.CFV.DSL","Дизельное топливо","тут",{"$nulls":22},{"v":0,"d":"0.00"},{"$f":"SUM(AM1091:AM1094)","v":{"v":0,"d":"0.00"}},{"$f":"SUM(AN1091:AN1094)","v":{"v":0,"d":"0.00"}},{"$nulls":3},"DSL"]
[{"$nulls":12},"4.CFV.DSLA","А (арктическое)","тут",{"$nulls":22},{"v":0,"d":"0.00"},{"v":0,"d":"0.00"},{"v":0,"d":"0.00"},{"$nulls":3},"DSLA"]
[{"$nulls":12},"4.CFV.DSLW","З (зимнее)","тут",{"$nulls":22},{"v":0,"d":"0.00"},{"v":0,"d":"0.00"},{"v":0,"d":"0.00"},{"$nulls":3},"DSLW"]
[{"$nulls":12},"4.CFV.DSLS","Л (летнее)","тут",{"$nulls":22},{"v":0,"d":"0.00"},{"v":0,"d":"0.00"},{"v":0,"d":"0.00"},{"$nulls":3},"DSLS"]
[{"$nulls":12},"4.CFV.DSLO","Е (межсезонное)","тут",{"$nulls":22},{"v":0,"d":"0.00"},{"v":0,"d":"0.00"},{"v":0,"d":"0.00"},{"$nulls":3},"DSLO"]
[{"$nulls":12},"4.CFV.MST","Мазут","тут",{"$nulls":22},{"v":0,"d":"0.00"},{"$f":"SUM(AM1096:AM1101)","v":{"v":0,"d":"0.00"}},{"$f":"SUM(AN1096:AN1101)","v":{"v":0,"d":"0.00"}},{"$nulls":3},"MST"]
[{"$nulls":12},"4.CFV.MSTM40","М-40","тут",{"$nulls":22},{"v":0,"d":"0.00"},{"v":0,"d":"0.00"},{"v":0,"d":"0.00"},{"$nulls":3},"MSTM40"]
[{"$nulls":12},"4.CFV.MSTM100","М-100","тут",{"$nulls":22},{"v":0,"d":"0.00"},{"$f":"AM1185*AM1229","v":{"v":0,"d":"0.00"}},{"v":0,"d":"0.00"},{"$nulls":3},"MSTM100"]
[{"$nulls":12},"4.CFV.MSTM200","М-200","тут",{"$nulls":22},{"v":0,"d":"0.00"},{"v":0,"d":"0.00"},{"v":0,"d":"0.00"},{"$nulls":3},"MSTM200"]
[{"$nulls":12},"4.CFV.MSTT","мазут марки \"Т\"","тут",{"$nulls":22},{"v":0,"d":"0.00"},{"v":0,"d":"0.00"},{"v":0,"d":"0.00"},{"$nulls":3},"MSTT"]
[{"$nulls":12},"4.CFV.MSTF5","Ф-5","тут",{"$nulls":22},{"v":0,"d":"0.00"},{"v":0,"d":"0.00"},{"v":0,"d":"0.00"},{"$nulls":3},"MSTF5"]
[{"$nulls":12},"4.CFV.MSTF12","Ф-12","тут",{"$nulls":22},{"v":0,"d":"0.00"},{"v":0,"d":"0.00"},{"v":0,"d":"0.00"},{"$nulls":3},"MSTF12"]
[{"$nulls":12},"4.CFV.OIL","Нефть","тут",{"$nulls":22},{"v":0,"d":"0.00"},{"v":0,"d":"0.00"},{"v":0,"d":"0.00"},{"$nulls":3},"OIL"]
[{"$nulls":12},"4.CFV.COA","Уголь","тут",{"$nulls":22},{"v":0,"d":"0.00"},{"$f":"SUM(AM1104:AM1112)","v":{"v":0,"d":"0.00"}},{"$f":"SUM(AN1104:AN1112)","v":{"v":0,"d":"0.00"}},{"$nulls":3},"COA"]
[{"$nulls":12},"4.CFV.COAA","Уголь антрацит","тут",{"$nulls":22},{"v":0,"d":"0.00"},{"v":0,"d":"0.00"},{"v":0,"d":"0.00"},{"$nulls":3},"COAA"]
[{"$nulls":12},"4.CFV.COAB","Уголь бурый","тут",{"$nulls":22},{"v":0,"d":"0.00"},{"v":0,"d":"0.00"},{"v":0,"d":"0.00"},{"$nulls":3},"COAB"]
[{"$nulls":12},"4.CFV.COAG","Уголь газовый","тут",{"$nulls":22},{"v":0,"d":"0.00"},{"v":0,"d":"0.00"},{"v":0,"d":"0.00"},{"$nulls":3},"COAG"]
[{"$nulls":12},"4.CFV.COALF","Уголь длиннопламенный","тут",{"$nulls":22},{"v":0,"d":"0.00"},{"v":0,"d":"0.00"},{"v":0,"d":"0.00"},{"$nulls":3},"COALF"]
[{"$nulls":12},"4.CFV.COAF","Уголь жирный","тут",{"$nulls":22},{"v":0,"d":"0.00"},{"v":0,"d":"0.00"},{"v":0,"d":"0.00"},{"$nulls":3},"COAF"]
[{"$nulls":12},"4.CFV.COAC","Уголь коксовый","тут",{"$nulls":22},{"v":0,"d":"0.00"},{"v":0,"d":"0.00"},{"v":0,"d":"0.00"},{"$nulls":3},"COAC"]
[{"$nulls":12},"4.CFV.COASC","Уголь отощённо-спекающийся","тут",{"$nulls":22},{"v":0,"d":"0.00"},{"v":0,"d":"0.00"},{"v":0,"d":"0.00"},{"$nulls":3},"COASC"]
[{"$nulls":12},"4.CFV.COAWC","Уголь слабоспекающийся","тут",{"$nulls":22},{"v":0,"d":"0.00"},{"v":0,"d":"0.00"},{"v":0,"d":"0.00"},{"$nulls":3},"COAWC"]
[{"$nulls":12},"4.CFV.COAS","Уголь тощий","тут",{"$nulls":22},{"v":0,"d":"0.00"},{"v":0,"d":"0.00"},{"v":0,"d":"0.00"},{"$nulls":3},"COAS"]
[]
[]
[{"$nulls":12},"4.CFV.CWD","Уголь древесный","тут",{"$nulls":22},{"$f":"AM1115+AN1115","v":{"v":0,"d":"0.00"}},{"$f":"AM1203*AM1247","v":{"v":0,"d":"0.00"}},{"v":0,"d":"0.00"},{"$nulls":3},"CWD"]
[{"$nulls":12},"4.CFV.WDS","Дрова","тут",{"$nulls":22},{"v":0,"d":"0.00"},{"v":0,"d":"0.00"},{"v":0,"d":"0.00"},{"$nulls":3},"WDS"]
[{"$nulls":12},"4.CFV.PLT","Пеллеты","тут",{"$nulls":22},{"v":0,"d":"0.00"},{"v":0,"d":"0.00"},{"v":0,"d":"0.00"},{"$nulls":3},"PLT"]
[{"$nulls":12},"4.CFV.SAW","Опилки","тут",{"$nulls":22},{"v":0,"d":"0.00"},{"v":0,"d":"0.00"},{"v":0,"d":"0.00"},{"$nulls":3},"SAW"]
[{"$nulls":12},"4.CFV.PEA","Торф","тут",{"$nulls":22},{"v":0,"d":"0.00"},{"v":0,"d":"0.00"},{"v":0,"d":"0.00"},{"$nulls":3},"PEA"]
[{"$nulls":12},"4.CFV.SHL","Сланцы","тут",{"$nulls":22},{"v":0,"d":"0.00"},{"v":0,"d":"0.00"},{"v":0,"d":"0.00"},{"$nulls":3},"SHL"]
[{"$nulls":12},"4.CFV.STF","Печное бытовое топливо","тут",{"$nulls":22},{"v":0,"d":"0.00"},{"v":0,"d":"0.00"},{"v":0,"d":"0.00"},{"$nulls":3},"STF"]
[]
[{"$nulls":12},"4.P","Доля","%",{"$nulls":16},{"$f":"SUM(AF1124,AF1128:AF1133,AF1134,AF1139,AF1146,AF1147,AF1159:AF1165)","v":{"v":0,"d":"0.00"}},{"$f":"SUM(AG1124,AG1128:AG1133,AG1134,AG1139,AG1146,AG1147,AG1159:AG1165)","v":{"v":0,"d":"0.00"}},{"$f":"SUM(AH1124,AH1128:AH1133,AH1134,AH1139,AH1146,AH1147,AH1159:AH1165)","v":{"v":0,"d":"0.00"}},{"$nulls":3},{"$f":"SUM(AL1124,AL1128:AL1133,AL1134,AL1139,AL1146,AL1147,AL1159:AL1165)","v":{"v":0,"d":"0.00"}},{"$f":"SUM(AM1124,AM1128:AM1133,AM1134,AM1139,AM1146,AM1147,AM1159:AM1165)","v":{"v":0,"d":"0.00"}},{"$f":"SUM(AN1124,AN1128:AN1133,AN1134,AN1139,AN1146,AN1147,AN1159:AN1165)","v":{"v":0,"d":"0.00"}}]
[{"$nulls":12},"4.P.NG","Газ природный","%",{"$nulls":22},{"$f":"IF(AL1079=0,0,AL1080/AL1079*100)","v":{"v":0,"d":"0.00"}},{"$f":"IF(AM1079=0,0,AM1080/AM1079*100)","v":{"v":0,"d":"0.00"}},{"$f":"IF(AN1079=0,0,AN1080/AN1079*100)","v":{"v":0,"d":"0.00"}},{"$nulls":3},"NG"]
[{"$nulls":12},"4.P.NGL","Газ лимитный","%",{"$nulls":22},{"$f":"IF(AL1079=0,0,AL1081/AL1079*100)","v":{"v":0,"d":"0.00"}},{"$f":"IF(AM1079=0,0,AM1081/AM1079*100)","v":{"v":0,"d":"0.00"}},{"$f":"IF(AN1079=0,0,AN1081/AN1079*100)","v":{"v":0,"d":"0.00"}},{"$nulls":3},"NGL"]
[{"$nulls":12},"4.P.NGU","Газ сверхлимитный","%",{"$nulls":22},{"$f":"IF(AL1079=0,0,AL1082/AL1079*100)","v":{"v":0,"d":"0.00"}},{"$f":"IF(AM1079=0,0,AM1082/AM1079*100)","v":{"v":0,"d":"0.00"}},{"$f":"IF(AN1079=0,0,AN1082/AN1079*100)","v":{"v":0,"d":"0.00"}},{"$nulls":3},"NGU"]
[{"$nulls":12},"4.P.NGC","Газ коммерческий","%",{"$nulls":22},{"$f":"IF(AL1079=0,0,AL1083/AL1079*100)","v":{"v":0,"d":"0.00"}},{"$f":"IF(AM1079=0,0,AM1083/AM1079*100)","v":{"v":0,"d":"0.00"}},{"$f":"IF(AN1079=0,0,AN1083/AN1079*100)","v":{"v":0,"d":"0.00"}},{"$nulls":3},"NGC"]
[{"$nulls":12},"4.P.GBL","Газ доменный","%",{"$nulls":22},{"$f":"IF(AL1079=0,0,AL1084/AL1079*100)","v":{"v":0,"d":"0.00"}},{"$f":"IF(AM1079=0,0,AM1084/AM1079*100)","v":{"v":0,"d":"0.00"}},{"$f":"IF(AN1079=0,0,AN1084/AN1079*100)","v":{"v":0,"d":"0.00"}},{"$nulls":3},"GBL"]
[{"$nulls":12},"4.P.GCK","Газ коксовый","%",{"$nulls":22},{"$f":"IF(AL1079=0,0,AL1085/AL1079*100)","v":{"v":0,"d":"0.00"}},{"$f":"IF(AM1079=0,0,AM1085/AM1079*100)","v":{"v":0,"d":"0.00"}},{"$f":"IF(AN1079=0,0,AN1085/AN1079*100)","v":{"v":0,"d":"0.00"}},{"$nulls":3},"GCK"]
[{"$nulls":12},"4.P.GOA","Газ нефтяной (попутный)","%",{"$nulls":22},{"$f":"IF(AL1079=0,0,AL1086/AL1079*100)","v":{"v":0,"d":"0.00"}},{"$f":"IF(AM1079=0,0,AM1086/AM1079*100)","v":{"v":0,"d":"0.00"}},{"$f":"IF(AN1079=0,0,AN1086/AN1079*100)","v":{"v":0,"d":"0.00"}},{"$nulls":3},"GOA"]
[{"$nulls":12},"4.P.DSG","Газ сухой отбензиненный","%",{"$nulls":22},{"$f":"IF(AL1079=0,0,AL1087/AL1079*100)","v":{"v":0,"d":"0.00"}},{"$f":"IF(AM1079=0,0,AM1087/AM1079*100)","v":{"v":0,"d":"0.00"}},{"$f":"IF(AN1079=0,0,AN1087/AN1079*100)","v":{"v":0,"d":"0.00"}},{"$nulls":3},"DSG"]
[{"$nulls":12},"4.P.GCN","Газовый конденсат","%",{"$nulls":22},{"$f":"IF(AL1079=0,0,AL1088/AL1079*100)","v":{"v":0,"d":"0.00"}},{"$f":"IF(AM1079=0,0,AM1088/AM1079*100)","v":{"v":0,"d":"0.00"}},{"$f":"IF(AN1079=0,0,AN1088/AN1079*100)","v":{"v":0,"d":"0.00"}},{"$nulls":3},"GCN"]
[{"$nulls":12},"4.P.LNG","Газ сжиженный","%",{"$nulls":22},{"$f":"IF(AL1079=0,0,AL1089/AL1079*100)","v":{"v":0,"d":"0.00"}},{"$f":"IF(AM1079=0,0,AM1089/AM1079*100)","v":{"v":0,"d":"0.00"}},{"$f":"IF(AN1079=0,0,AN1089/AN1079*100)","v":{"v":0,"d":"0.00"}},{"$nulls":3},"LNG"]
[{"$nulls":12},"4.P.DSL","Дизельное топливо","%",{"$nulls":22},{"$f":"IF(AL1079=0,0,AL1090/AL1079*100)","v":{"v":0,"d":"0.00"}},{"$f":"IF(AM1079=0,0,AM1090/AM1079*100)","v":{"v":0,"d":"0.00"}},{"$f":"IF(AN1079=0,0,AN1090/AN1079*100)","v":{"v":0,"d":"0.00"}},{"$nulls":3},"DSL"]
[{"$nulls":12},"4.P.DSLA","А (арктическое)","%",{"$nulls":22},{"$f":"IF(AL1079=0,0,AL1091/AL1079*100)","v":{"v":0,"d":"0.00"}},{"$f":"IF(AM1079=0,0,AM1091/AM1079*100)","v":{"v":0,"d":"0.00"}},{"$f":"IF(AN1079=0,0,AN1091/AN1079*100)","v":{"v":0,"d":"0.00"}},{"$nulls":3},"DSLA"]
[{"$nulls":12},"4.P.DSLW","З (зимнее)","%",{"$nulls":22},{"$f":"IF(AL1079=0,0,AL1092/AL1079*100)","v":{"v":0,"d":"0.00"}},{"$f":"IF(AM1079=0,0,AM1092/AM1079*100)","v":{"v":0,"d":"0.00"}},{"$f":"IF(AN1079=0,0,AN1092/AN1079*100)","v":{"v":0,"d":"0.00"}},{"$nulls":3},"DSLW"]
[{"$nulls":12},"4.P.DSLS","Л (летнее)","%",{"$nulls":22},{"$f":"IF(AL1079=0,0,AL1093/AL1079*100)","v":{"v":0,"d":"0.00"}},{"$f":"IF(AM1079=0,0,AM1093/AM1079*100)","v":{"v":0,"d":"0.00"}},{"$f":"IF(AN1079=0,0,AN1093/AN1079*100)","v":{"v":0,"d":"0.00"}},{"$nulls":3},"DSLS"]
[{"$nulls":12},"4.P.DSLO","Е (межсезонное)","%",{"$nulls":22},{"$f":"IF(AL1079=0,0,AL1094/AL1079*100)","v":{"v":0,"d":"0.00"}},{"$f":"IF(AM1079=0,0,AM1094/AM1079*100)","v":{"v":0,"d":"0.00"}},{"$f":"IF(AN1079=0,0,AN1094/AN1079*100)","v":{"v":0,"d":"0.00"}},{"$nulls":3},"DSLO"]
[{"$nulls":12},"4.P.MST","Мазут","%",{"$nulls":22},{"$f":"IF(AL1079=0,0,AL1095/AL1079*100)","v":{"v":0,"d":"0.00"}},{"$f":"IF(AM1079=0,0,AM1095/AM1079*100)","v":{"v":0,"d":"0.00"}},{"$f":"IF(AN1079=0,0,AN1095/AN1079*100)","v":{"v":0,"d":"0.00"}},{"$nulls":3},"MST"]
[{"$nulls":12},"4.P.MSTM40","М-40","%",{"$nulls":22},{"$f":"IF(AL1079=0,0,AL1096/AL1079*100)","v":{"v":0,"d":"0.00"}},{"$f":"IF(AM1079=0,0,AM1096/AM1079*100)","v":{"v":0,"d":"0.00"}},{"$f":"IF(AN1079=0,0,AN1096/AN1079*100)","v":{"v":0,"d":"0.00"}},{"$nulls":3},"MSTM40"]
[{"$nulls":12},"4.P.MSTM100","М-100","%",{"$nulls":22},{"$f":"IF(AL1079=0,0,AL1097/AL1079*100)","v":{"v":0,"d":"0.00"}},{"$f":"IF(AM1079=0,0,AM1097/AM1079*100)","v":{"v":0,"d":"0.00"}},{"$f":"IF(AN1079=0,0,AN1097/AN1079*100)","v":{"v":0,"d":"0.00"}},{"$nulls":3},"MSTM100"]
[{"$nulls":12},"4.P.MSTM200","М-200","%",{"$nulls":22},{"$f":"IF(AL1079=0,0,AL1098/AL1079*100)","v":{"v":0,"d":"0.00"}},{"$f":"IF(AM1079=0,0,AM1098/AM1079*100)","v":{"v":0,"d":"0.00"}},{"$f":"IF(AN1079=0,0,AN1098/AN1079*100)","v":{"v":0,"d":"0.00"}},{"$nulls":3},"MSTM200"]
[{"$nulls":12},"4.P.MSTT","мазут марки \"Т\"","%",{"$nulls":22},{"$f":"IF(AL1079=0,0,AL1099/AL1079*100)","v":{"v":0,"d":"0.00"}},{"$f":"IF(AM1079=0,0,AM1099/AM1079*100)","v":{"v":0,"d":"0.00"}},{"$f":"IF(AN1079=0,0,AN1099/AN1079*100)","v":{"v":0,"d":"0.00"}},{"$nulls":3},"MSTT"]
[{"$nulls":12},"4.P.MSTF5","Ф-5","%",{"$nulls":22},{"$f":"IF(AL1079=0,0,AL1100/AL1079*100)","v":{"v":0,"d":"0.00"}},{"$f":"IF(AM1079=0,0,AM1100/AM1079*100)","v":{"v":0,"d":"0.00"}},{"$f":"IF(AN1079=0,0,AN1100/AN1079*100)","v":{"v":0,"d":"0.00"}},{"$nulls":3},"MSTF5"]
[{"$nulls":12},"4.P.MSTF12","Ф-12","%",{"$nulls":22},{"$f":"IF(AL1079=0,0,AL1101/AL1079*100)","v":{"v":0,"d":"0.00"}},{"$f":"IF(AM1079=0,0,AM1101/AM1079*100)","v":{"v":0,"d":"0.00"}},{"$f":"IF(AN1079=0,0,AN1101/AN1079*100)","v":{"v":0,"d":"0.00"}},{"$nulls":3},"MSTF12"]
[{"$nulls":12},"4.P.OIL","Нефть","%",{"$nulls":22},{"$f":"IF(AL1079=0,0,AL1102/AL1079*100)","v":{"v":0,"d":"0.00"}},{"$f":"IF(AM1079=0,0,AM1102/AM1079*100)","v":{"v":0,"d":"0.00"}},{"$f":"IF(AN1079=0,0,AN1102/AN1079*100)","v":{"v":0,"d":"0.00"}},{"$nulls":3},"OIL"]
[{"$nulls":12},"4.P.COA","Уголь","%",{"$nulls":22},{"$f":"IF(AL1079=0,0,AL1103/AL1079*100)","v":{"v":0,"d":"0.00"}},{"$f":"IF(AM1079=0,0,AM1103/AM1079*100)","v":{"v":0,"d":"0.00"}},{"$f":"IF(AN1079=0,0,AN1103/AN1079*100)","v":{"v":0,"d":"0.00"}},{"$nulls":3},"COA"]
[{"$nulls":12},"4.P.COAA","Уголь антрацит","%",{"$nulls":22},{"$f":"IF(AL1079=0,0,AL1104/AL1079*100)","v":{"v":0,"d":"0.00"}},{"$f":"IF(AM1079=0,0,AM1104/AM1079*100)","v":{"v":0,"d":"0.00"}},{"$f":"IF(AN1079=0,0,AN1104/AN1079*100)","v":{"v":0,"d":"0.00"}},{"$nulls":3},"COAA"]
[{"$nulls":12},"4.P.COAB","Уголь бурый","%",{"$nulls":22},{"$f":"IF(AL1079=0,0,AL1105/AL1079*100)","v":{"v":0,"d":"0.00"}},{"$f":"IF(AM1079=0,0,AM1105/AM1079*100)","v":{"v":0,"d":"0.00"}},{"$f":"IF(AN1079=0,0,AN1105/AN1079*100)","v":{"v":0,"d":"0.00"}},{"$nulls":3},"COAB"]
[{"$nulls":12},"4.P.COAG","Уголь газовый","%",{"$nulls":22},{"$f":"IF(AL1079=0,0,AL1106/AL1079*100)","v":{"v":0,"d":"0.00"}},{"$f":"IF(AM1079=0,0,AM1106/AM1079*100)","v":{"v":0,"d":"0.00"}},{"$f":"IF(AN1079=0,0,AN1106/AN1079*100)","v":{"v":0,"d":"0.00"}},{"$nulls":3},"COAG"]
[{"$nulls":12},"4.P.COALF","Уголь длиннопламенный","%",{"$nulls":22},{"$f":"IF(AL1079=0,0,AL1107/AL1079*100)","v":{"v":0,"d":"0.00"}},{"$f":"IF(AM1079=0,0,AM1107/AM1079*100)","v":{"v":0,"d":"0.00"}},{"$f":"IF(AN1079=0,0,AN1107/AN1079*100)","v":{"v":0,"d":"0.00"}},{"$nulls":3},"COALF"]
[{"$nulls":12},"4.P.COAF","Уголь жирный","%",{"$nulls":22},{"$f":"IF(AL1079=0,0,AL1108/AL1079*100)","v":{"v":0,"d":"0.00"}},{"$f":"IF(AM1079=0,0,AM1108/AM1079*100)","v":{"v":0,"d":"0.00"}},{"$f":"IF(AN1079=0,0,AN1108/AN1079*100)","v":{"v":0,"d":"0.00"}},{"$nulls":3},"COAF"]
[{"$nulls":12},"4.P.COAC","Уголь коксовый","%",{"$nulls":22},{"$f":"IF(AL1079=0,0,AL1109/AL1079*100)","v":{"v":0,"d":"0.00"}},{"$f":"IF(AM1079=0,0,AM1109/AM1079*100)","v":{"v":0,"d":"0.00"}},{"$f":"IF(AN1079=0,0,AN1109/AN1079*100)","v":{"v":0,"d":"0.00"}},{"$nulls":3},"COAC"]
[{"$nulls":12},"4.P.COASC","Уголь отощённо-спекающийся","%",{"$nulls":22},{"$f":"IF(AL1079=0,0,AL1110/AL1079*100)","v":{"v":0,"d":"0.00"}},{"$f":"IF(AM1079=0,0,AM1110/AM1079*100)","v":{"v":0,"d":"0.00"}},{"$f":"IF(AN1079=0,0,AN1110/AN1079*100)","v":{"v":0,"d":"0.00"}},{"$nulls":3},"COASC"]
[{"$nulls":12},"4.P.COAWC","Уголь слабоспекающийся","%",{"$nulls":22},{"$f":"IF(AL1079=0,0,AL1111/AL1079*100)","v":{"v":0,"d":"0.00"}},{"$f":"IF(AM1079=0,0,AM1111/AM1079*100)","v":{"v":0,"d":"0.00"}},{"$f":"IF(AN1079=0,0,AN1111/AN1079*100)","v":{"v":0,"d":"0.00"}},{"$nulls":3},"COAWC"]
[{"$nulls":12},"4.P.COAS","Уголь тощий","%",{"$nulls":22},{"$f":"IF(AL1079=0,0,AL1112/AL1079*100)","v":{"v":0,"d":"0.00"}},{"$f":"IF(AM1079=0,0,AM1112/AM1079*100)","v":{"v":0,"d":"0.00"}},{"$f":"IF(AN1079=0,0,AN1112/AN1079*100)","v":{"v":0,"d":"0.00"}},{"$nulls":3},"COAS"]
[]
[]
[{"$nulls":12},"4.P.CWD","Уголь древесный","%",{"$nulls":22},{"$f":"IF(AL1079=0,0,AL1115/AL1079*100)","v":{"v":0,"d":"0.00"}},{"$f":"IF(AM1079=0,0,AM1115/AM1079*100)","v":{"v":0,"d":"0.00"}},{"$f":"IF(AN1079=0,0,AN1115/AN1079*100)","v":{"v":0,"d":"0.00"}},{"$nulls":3},"CWD"]
[{"$nulls":12},"4.P.WDS","Дрова","%",{"$nulls":22},{"$f":"IF(AL1079=0,0,AL1116/AL1079*100)","v":{"v":0,"d":"0.00"}},{"$f":"IF(AM1079=0,0,AM1116/AM1079*100)","v":{"v":0,"d":"0.00"}},{"$f":"IF(AN1079=0,0,AN1116/AN1079*100)","v":{"v":0,"d":"0.00"}},{"$nulls":3},"WDS"]
[{"$nulls":12},"4.P.PLT","Пеллеты","%",{"$nulls":22},{"$f":"IF(AL1079=0,0,AL1117/AL1079*100)","v":{"v":0,"d":"0.00"}},{"$f":"IF(AM1079=0,0,AM1117/AM1079*100)","v":{"v":0,"d":"0.00"}},{"$f":"IF(AN1079=0,0,AN1117/AN1079*100)","v":{"v":0,"d":"0.00"}},{"$nulls":3},"PLT"]
[{"$nulls":12},"4.P.SAW","Опилки","%",{"$nulls":22},{"$f":"IF(AL1079=0,0,AL1118/AL1079*100)","v":{"v":0,"d":"0.00"}},{"$f":"IF(AM1079=0,0,AM1118/AM1079*100)","v":{"v":0,"d":"0.00"}},{"$f":"IF(AN1079=0,0,AN1118/AN1079*100)","v":{"v":0,"d":"0.00"}},{"$nulls":3},"SAW"]
[{"$nulls":12},"4.P.PEA","Торф","%",{"$nulls":22},{"$f":"IF(AL1079=0,0,AL1119/AL1079*100)","v":{"v":0,"d":"0.00"}},{"$f":"IF(AM1079=0,0,AM1119/AM1079*100)","v":{"v":0,"d":"0.00"}},{"$f":"IF(AN1079=0,0,AN1119/AN1079*100)","v":{"v":0,"d":"0.00"}},{"$nulls":3},"PEA"]
[{"$nulls":12},"4.P.SHL","Сланцы","%",{"$nulls":22},{"$f":"IF(AL1079=0,0,AL1120/AL1079*100)","v":{"v":0,"d":"0.00"}},{"$f":"IF(AM1079=0,0,AM1120/AM1079*100)","v":{"v":0,"d":"0.00"}},{"$f":"IF(AN1079=0,0,AN1120/AN1079*100)","v":{"v":0,"d":"0.00"}},{"$nulls":3},"SHL"]
[{"$nulls":12},"4.P.STF","Печное бытовое топливо","%",{"$nulls":22},{"$f":"IF(AL1079=0,0,AL1121/AL1079*100)","v":{"v":0,"d":"0.00"}},{"$f":"IF(AM1079=0,0,AM1121/AM1079*100)","v":{"v":0,"d":"0.00"}},{"$f":"IF(AN1079=0,0,AN1121/AN1079*100)","v":{"v":0,"d":"0.00"}},{"$nulls":3},"STF"]
[]
[{"$nulls":12},"4.CF","Переводной коэффициент"]
[{"$nulls":12},"4.CF.NG","Газ природный",{"$nulls":23},{"$f":"IF(AL1212=0,0,AL1080/AL1212)","v":{"v":0,"d":"0.00"}},{"$f":"IF(AM1212=0,0,AM1080/AM1212)","v":{"v":0,"d":"0.00"}},{"$f":"IF(AN1212=0,0,AN1080/AN1212)","v":{"v":0,"d":"0.00"}},{"$nulls":3},"NG"]
[{"$nulls":12},"4.CF.NGL","Газ лимитный",{"$nulls":24},{"$f":"AL1169","v":{"v":0,"d":"0.00"}},{"v":0,"d":"0.00"},{"$nulls":3},"NGL"]
[{"$nulls":12},"4.CF.NGU","Газ сверхлимитный",{"$nulls":24},{"v":0,"d":"0.00"},{"v":0,"d":"0.00"},{"$nulls":3},"NGU"]
[{"$nulls":12},"4.CF.NGC","Газ коммерческий",{"$nulls":24},{"v":0,"d":"0.00"},{"v":0,"d":"0.00"},{"$nulls":3},"NGC"]
[{"$nulls":12},"4.CF.GBL","Газ доменный",{"$nulls":24},{"v":0,"d":"0.00"},{"v":0,"d":"0.00"},{"$nulls":3},"GBL"]
[{"$nulls":12},"4.CF.GCK","Газ коксовый",{"$nulls":24},{"v":0,"d":"0.00"},{"v":0,"d":"0.00"},{"$nulls":3},"GCK"]
[{"$nulls":12},"4.CF.GOA","Газ нефтяной (попутный)",{"$nulls":24},{"v":0,"d":"0.00"},{"v":0,"d":"0.00"},{"$nulls":3},"GOA"]
[{"$nulls":12},"4.CF.DSG","Газ сухой отбензиненный",{"$nulls":24},{"v":0,"d":"0.00"},{"v":0,"d":"0.00"},{"$nulls":3},"DSG"]
[{"$nulls":12},"4.CF.GCN","Газовый конденсат",{"$nulls":24},{"v":0,"d":"0.00"},{"v":0,"d":"0.00"},{"$nulls":3},"GCN"]
[{"$nulls":12},"4.CF.LNG","Газ сжиженный",{"$nulls":24},{"v":0,"d":"0.00"},{"v":0,"d":"0.00"},{"$nulls":3},"LNG"]
[{"$nulls":12},"4.CF.DSL","Дизельное топливо",{"$nulls":23},{"$f":"IF(AL1222=0,0,AL1090/AL1222)","v":{"v":0,"d":"0.00"}},{"$f":"IF(AM1222=0,0,AM1090/AM1222)","v":{"v":0,"d":"0.00"}},{"$f":"IF(AN1222=0,0,AN1090/AN1222)","v":{"v":0,"d":"0.00"}},{"$nulls":3},"DSL"]
[{"$nulls":12},"4.CF.DSLA","А (арктическое)",{"$nulls":24},{"v":0,"d":"0.00"},{"v":0,"d":"0.00"},{"$nulls":3},"DSLA"]
[{"$nulls":12},"4.CF.DSLW","З (зимнее)",{"$nulls":24},{"v":0,"d":"0.00"},{"v":0,"d":"0.00"},{"$nulls":3},"DSLW"]
[{"$nulls":12},"4.CF.DSLS","Л (летнее)",{"$nulls":24},{"v":0,"d":"0.00"},{"v":0,"d":"0.00"},{"$nulls":3},"DSLS"]
[{"$nulls":12},"4.CF.DSLO","Е (межсезонное)",{"$nulls":24},{"v":0,"d":"0.00"},{"v":0,"d":"0.00"},{"$nulls":3},"DSLO"]
[{"$nulls":12},"4.CF.MST","Мазут",{"$nulls":23},{"$f":"IF(AL1227=0,0,AL1095/AL1227)","v":{"v":0,"d":"0.00"}},{"$f":"IF(AM1227=0,0,AM1095/AM1227)","v":{"v":0,"d":"0.00"}},{"$f":"IF(AN1227=0,0,AN1095/AN1227)","v":{"v":0,"d":"0.00"}},{"$nulls":3},"MST"]
[{"$nulls":12},"4.CF.MSTM40","М-40",{"$nulls":24},{"v":0,"d":"0.00"},{"v":0,"d":"0.00"},{"$nulls":3},"MSTM40"]
[{"$nulls":12},"4.CF.MSTM100","М-100",{"$nulls":24},{"v":0,"d":"0.00"},{"v":0,"d":"0.00"},{"$nulls":3},"MSTM100"]
[{"$nulls":12},"4.CF.MSTM200","М-200",{"$nulls":24},{"v":0,"d":"0.00"},{"v":0,"d":"0.00"},{"$nulls":3},"MSTM200"]
[{"$nulls":12},"4.CF.MSTT","мазут марки \"Т\"",{"$nulls":24},{"v":0,"d":"0.00"},{"v":0,"d":"0.00"},{"$nulls":3},"MSTT"]
[{"$nulls":12},"4.CF.MSTF5","Ф-5",{"$nulls":24},{"v":0,"d":"0.00"},{"v":0,"d":"0.00"},{"$nulls":3},"MSTF5"]
[{"$nulls":12},"4.CF.MSTF12","Ф-12",{"$nulls":24},{"v":0,"d":"0.00"},{"v":0,"d":"0.00"},{"$nulls":3},"MSTF12"]
[{"$nulls":12},"4.CF.OIL","Нефть",{"$nulls":24},{"v":0,"d":"0.00"},{"v":0,"d":"0.00"},{"$nulls":3},"OIL"]
[{"$nulls":12},"4.CF.COA","Уголь",{"$nulls":23},{"$f":"IF(AL1235=0,0,AL1103/AL1235)","v":{"v":0,"d":"0.00"}},{"$f":"IF(AM1235=0,0,AM1103/AM1235)","v":{"v":0,"d":"0.00"}},{"$f":"IF(AN1235=0,0,AN1103/AN1235)","v":{"v":0,"d":"0.00"}},{"$nulls":3},"COA"]
[{"$nulls":12},"4.CF.COAA","Уголь антрацит",{"$nulls":24},{"v":0,"d":"0.00"},{"v":0,"d":"0.00"},{"$nulls":3},"COAA"]
[{"$nulls":12},"4.CF.COAB","Уголь бурый",{"$nulls":24},{"v":0,"d":"0.00"},{"v":0,"d":"0.00"},{"$nulls":3},"COAB"]
[{"$nulls":12},"4.CF.COAG","Уголь газовый",{"$nulls":24},{"v":0,"d":"0.00"},{"v":0,"d":"0.00"},{"$nulls":3},"COAG"]
[{"$nulls":12},"4.CF.COALF","Уголь длиннопламенный",{"$nulls":24},{"v":0,"d":"0.00"},{"v":0,"d":"0.00"},{"$nulls":3},"COALF"]
[{"$nulls":12},"4.CF.COAF","Уголь жирный",{"$nulls":24},{"v":0,"d":"0.00"},{"v":0,"d":"0.00"},{"$nulls":3},"COAF"]
[{"$nulls":12},"4.CF.COAC","Уголь коксовый",{"$nulls":24},{"v":0,"d":"0.00"},{"v":0,"d":"0.00"},{"$nulls":3},"COAC"]
[{"$nulls":12},"4.CF.COASC","Уголь отощённо-спекающийся",{"$nulls":24},{"v":0,"d":"0.00"},{"v":0,"d":"0.00"},{"$nulls":3},"COASC"]
[{"$nulls":12},"4.CF.COAWC","Уголь слабоспекающийся",{"$nulls":24},{"v":0,"d":"0.00"},{"v":0,"d":"0.00"},{"$nulls":3},"COAWC"]
[{"$nulls":12},"4.CF.COAS","Уголь тощий",{"$nulls":24},{"v":0,"d":"0.00"},{"v":0,"d":"0.00"},{"$nulls":3},"COAS"]
[]
[]
[{"$nulls":12},"4.CF.CWD","Уголь древесный",{"$nulls":24},{"$f":"AL1203","v":{"v":0,"d":"0.00"}},{"v":0,"d":"0.00"},{"$nulls":3},"CWD"]
[{"$nulls":12},"4.CF.WDS","Дрова",{"$nulls":24},{"v":0,"d":"0.00"},{"v":0,"d":"0.00"},{"$nulls":3},"WDS"]
[{"$nulls":12},"4.CF.PLT","Пеллеты",{"$nulls":24},{"v":0,"d":"0.00"},{"v":0,"d":"0.00"},{"$nulls":3},"PLT"]
[{"$nulls":12},"4.CF.SAW","Опилки",{"$nulls":24},{"v":0,"d":"0.00"},{"v":0,"d":"0.00"},{"$nulls":3},"SAW"]
[{"$nulls":12},"4.CF.PEA","Торф",{"$nulls":24},{"v":0,"d":"0.00"},{"v":0,"d":"0.00"},{"$nulls":3},"PEA"]
[{"$nulls":12},"4.CF.SHL","Сланцы",{"$nulls":24},{"v":0,"d":"0.00"},{"v":0,"d":"0.00"},{"$nulls":3},"SHL"]
[{"$nulls":12},"4.CF.STF","Печное бытовое топливо",{"$nulls":24},{"v":0,"d":"0.00"},{"v":0,"d":"0.00"},{"$nulls":3},"STF"]
[]
[{"$nulls":12},"4.NFV","Расход натурального топлива"]
[{"$nulls":12},"4.NFV.NG","Газ природный","тыс.м3",{"$nulls":22},{"$f":"AM1212+AN1212","v":{"v":0,"d":"0.00"}},{"$f":"SUM(AM1213:AM1215)","v":{"v":0,"d":"0.00"}},{"$f":"SUM(AN1213:AN1215)","v":{"v":0,"d":"0.00"}},{"$nulls":3},"NG"]
[{"$nulls":12},"4.NFV.NGL","Газ лимитный","тыс.м3",{"$nulls":22},{"$f":"AL1256","v":{"v":0,"d":"0.00"}},{"$f":"AM1256","v":{"v":0,"d":"0.00"}},{"$f":"AN1256","v":{"v":0,"d":"0.00"}},{"$nulls":3},"NGL"]
[{"$nulls":12},"4.NFV.NGU","Газ сверхлимитный","тыс.м3",{"$nulls":22},{"$f":"AL1264","v":{"v":0,"d":"0.00"}},{"$f":"AM1264","v":{"v":0,"d":"0.00"}},{"$f":"AN1264","v":{"v":0,"d":"0.00"}},{"$nulls":3},"NGU"]
[{"$nulls":12},"4.NFV.NGC","Газ коммерческий","тыс.м3",{"$nulls":22},{"$f":"AM1215+AN1215","v":{"v":0,"d":"0.00"}},{"$nulls":5},"NGC"]
[{"$nulls":12},"4.NFV.GBL","Газ доменный","тнт",{"$nulls":22},{"v":0,"d":"0.00"},{"$nulls":5},"GBL"]
[{"$nulls":12},"4.NFV.GCK","Газ коксовый","тнт",{"$nulls":22},{"v":0,"d":"0.00"},{"$nulls":5},"GCK"]
[{"$nulls":12},"4.NFV.GOA","Газ нефтяной (попутный)","тнт",{"$nulls":22},{"v":0,"d":"0.00"},{"$nulls":5},"GOA"]
[{"$nulls":12},"4.NFV.DSG","Газ сухой отбензиненный","тнт",{"$nulls":22},{"v":0,"d":"0.00"},{"$nulls":5},"DSG"]
[{"$nulls":12},"4.NFV.GCN","Газовый конденсат","тнт",{"$nulls":22},{"v":0,"d":"0.00"},{"$nulls":5},"GCN"]
[{"$nulls":12},"4.NFV.LNG","Газ сжиженный","тнт",{"$nulls":22},{"v":0,"d":"0.00"},{"$nulls":5},"LNG"]
[{"$nulls":12},"4.NFV.DSL","Дизельное топливо","тнт",{"$nulls":22},{"v":0,"d":"0.00"},{"$f":"SUM(AM1223:AM1226)","v":{"v":0,"d":"0.00"}},{"$f":"SUM(AN1223:AN1226)","v":{"v":0,"d":"0.00"}},{"$nulls":3},"DSL"]
[{"$nulls":12},"4.NFV.DSLA","А (арктическое)","тнт",{"$nulls":22},{"v":0,"d":"0.00"},{"$nulls":5},"DSLA"]
[{"$nulls":12},"4.NFV.DSLW","З (зимнее)","тнт",{"$nulls":22},{"v":0,"d":"0.00"},{"$nulls":5},"DSLW"]
[{"$nulls":12},"4.NFV.DSLS","Л (летнее)","тнт",{"$nulls":22},{"v":0,"d":"0.00"},{"$nulls":5},"DSLS"]
[{"$nulls":12},"4.NFV.DSLO","Е (межсезонное)","тнт",{"$nulls":22},{"v":0,"d":"0.00"},{"$nulls":5},"DSLO"]
[{"$nulls":12},"4.NFV.MST","Мазут","тнт",{"$nulls":22},{"v":0,"d":"0.00"},{"$f":"SUM(AM1228:AM1233)","v":{"v":0,"d":"0.00"}},{"$f":"SUM(AN1228:AN1233)","v":{"v":0,"d":"0.00"}},{"$nulls":3},"MST"]
[{"$nulls":12},"4.NFV.MSTM40","М-40","тнт",{"$nulls":22},{"v":0,"d":"0.00"},{"$nulls":5},"MSTM40"]
[{"$nulls":12},"4.NFV.MSTM100","М-100","тнт",{"$nulls":22},{"v":0,"d":"0.00"},{"$nulls":5},"MSTM100"]
[{"$nulls":12},"4.NFV.MSTM200","М-200","тнт",{"$nulls":22},{"v":0,"d":"0.00"},{"$nulls":5},"MSTM200"]
[{"$nulls":12},"4.NFV.MSTT","мазут марки \"Т\"","тнт",{"$nulls":22},{"v":0,"d":"0.00"},{"$nulls":5},"MSTT"]
[{"$nulls":12},"4.NFV.MSTF5","Ф-5","тнт",{"$nulls":22},{"v":0,"d":"0.00"},{"$nulls":5},"MSTF5"]
[{"$nulls":12},"4.NFV.MSTF12","Ф-12","тнт",{"$nulls":22},{"v":0,"d":"0.00"},{"$nulls":5},"MSTF12"]
[{"$nulls":12},"4.NFV.OIL","Нефть","тнт",{"$nulls":22},{"v":0,"d":"0.00"},{"$nulls":5},"OIL"]
[{"$nulls":12},"4.NFV.COA","Уголь","тнт",{"$nulls":22},{"v":0,"d":"0.00"},{"$f":"SUM(AM1236:AM1244)","v":{"v":0,"d":"0.00"}},{"$f":"SUM(AN1236:AN1244)","v":{"v":0,"d":"0.00"}},{"$nulls":3},"COA"]
[{"$nulls":12},"4.NFV.COAA","Уголь антрацит","тнт",{"$nulls":22},{"v":0,"d":"0.00"},{"$nulls":5},"COAA"]
[{"$nulls":12},"4.NFV.COAB","Уголь бурый","тнт",{"$nulls":22},{"v":0,"d":"0.00"},{"$nulls":5},"COAB"]
[{"$nulls":12},"4.NFV.COAG","Уголь газовый","тнт",{"$nulls":22},{"v":0,"d":"0.00"},{"$nulls":5},"COAG"]
[{"$nulls":12},"4.NFV.COALF","Уголь длиннопламенный","тнт",{"$nulls":22},{"v":0,"d":"0.00"},{"$nulls":5},"COALF"]
[{"$nulls":12},"4.NFV.COAF","Уголь жирный","тнт",{"$nulls":22},{"v":0,"d":"0.00"},{"$nulls":5},"COAF"]
[{"$nulls":12},"4.NFV.COAC","Уголь коксовый","тнт",{"$nulls":22},{"v":0,"d":"0.00"},{"$nulls":5},"COAC"]
[{"$nulls":12},"4.NFV.COASC","Уголь отощённо-спекающийся","тнт",{"$nulls":22},{"v":0,"d":"0.00"},{"$nulls":5},"COASC"]
[{"$nulls":12},"4.NFV.COAWC","Уголь слабоспекающийся","тнт",{"$nulls":22},{"v":0,"d":"0.00"},{"$nulls":5},"COAWC"]
[{"$nulls":12},"4.NFV.COAS","Уголь тощий","тнт",{"$nulls":22},{"v":0,"d":"0.00"},{"$nulls":5},"COAS"]
[{"$nulls":12},"4.NFV.ENR","Энергия","тыс.кВт*ч",{"$nulls":22},{"$f":"AL1835","v":{"v":0,"d":"0.00"}},{"v":0,"d":"0.00"},{"v":0,"d":"0.00"},{"$nulls":3},"ENR"]
[{"$nulls":12},"4.NFV.PWR","Заявленная мощность","МВт",{"$nulls":22},{"v":0,"d":"0.00"},{"v":0,"d":"0.00"},{"v":0,"d":"0.00"},{"$nulls":3},"PWR"]
[{"$nulls":12},"4.NFV.CWD","Уголь древесный","тнт",{"$nulls":22},{"$f":"AM1247+AN1247","v":{"v":0,"d":"0.00"}},{"$nulls":5},"CWD"]
[{"$nulls":12},"4.NFV.WDS","Дрова","тнт",{"$nulls":22},{"v":0,"d":"0.00"},{"$nulls":5},"WDS"]
[{"$nulls":12},"4.NFV.PLT","Пеллеты","тнт",{"$nulls":22},{"v":0,"d":"0.00"},{"$nulls":5},"PLT"]
[{"$nulls":12},"4.NFV.SAW","Опилки","тнт",{"$nulls":22},{"v":0,"d":"0.00"},{"$nulls":5},"SAW"]
[{"$nulls":12},"4.NFV.PEA","Торф","тнт",{"$nulls":22},{"v":0,"d":"0.00"},{"$nulls":5},"PEA"]
[{"$nulls":12},"4.NFV.SHL","Сланцы","тнт",{"$nulls":22},{"v":0,"d":"0.00"},{"$nulls":5},"SHL"]
[{"$nulls":12},"4.NFV.STF","Печное бытовое топливо","тнт",{"$nulls":22},{"v":0,"d":"0.00"},{"$nulls":5},"STF"]
[]
[{"$nulls":12},"4.NGV","Расход природного газа"]
[{"$nulls":12},"4.NGV.NGL","Газ лимитный","тыс.м3",{"$nulls":22},{"$f":"AM1256+AN1256","v":{"v":0,"d":"0.00"}},{"$f":"SUM(AM1257:AM1263)","v":{"v":0,"d":"0.00"}},{"$f":"SUM(AN1257:AN1263)","v":{"v":0,"d":"0.00"}},{"$nulls":3},"NGL"]
[{"$nulls":12},"4.NGV.1.NGL","1 группа: свыше 500 млн.м3","тыс.м3",{"$nulls":22},{"v":0,"d":"0.00"},{"$nulls":5},"NGL"]
[{"$nulls":12},"4.NGV.2.NGL","2 группа: от 100 до 500 млн.м3 включительно","тыс.м3",{"$nulls":22},{"v":0,"d":"0.00"},{"$nulls":5},"NGL"]
[{"$nulls":12},"4.NGV.3.NGL","3 группа: от 10 до 100 млн.м3 включительно","тыс.м3",{"$nulls":22},{"v":0,"d":"0.00"},{"$nulls":5},"NGL"]
[{"$nulls":12},"4.NGV.4.NGL","4 группа: от 1 до 10 млн.м3 включительно","тыс.м3",{"$nulls":22},{"v":0,"d":"0.00"},{"$nulls":5},"NGL"]
[{"$nulls":12},"4.NGV.5.NGL","5 группа: от 0,1 до 1 млн.м3 включительно","тыс.м3",{"$nulls":22},{"v":0,"d":"0.00"},{"$nulls":5},"NGL"]
[{"$nulls":12},"4.NGV.6.NGL","6 группа: от 0,01 до 0,1 млн.м3 включительно","тыс.м3",{"$nulls":22},{"v":0,"d":"0.00"},{"$nulls":5},"NGL"]
[{"$nulls":12},"4.NGV.7.NGL","7 группа: до 0,01 млн.м3 включительно","тыс.м3",{"$nulls":22},{"v":0,"d":"0.00"},{"$nulls":5},"NGL"]
[{"$nulls":12},"4.NGV.NGU","Газ сверхлимитный","тыс.м3",{"$nulls":22},{"v":0,"d":"0.00"},{"$f":"SUM(AM1265:AM1271)","v":{"v":0,"d":"0.00"}},{"$f":"SUM(AN1265:AN1271)","v":{"v":0,"d":"0.00"}},{"$nulls":3},"NGU"]
[{"$nulls":12},"4.NGV.1.NGU","1 группа: свыше 500 млн.м3","тыс.м3",{"$nulls":22},{"v":0,"d":"0.00"},{"$nulls":5},"NGU"]
[{"$nulls":12},"4.NGV.2.NGU","2 группа: от 100 до 500 млн.м3 включительно","тыс.м3",{"$nulls":22},{"v":0,"d":"0.00"},{"$nulls":5},"NGU"]
[{"$nulls":12},"4.NGV.3.NGU","3 группа: от 10 до 100 млн.м3 включительно","тыс.м3",{"$nulls":22},{"v":0,"d":"0.00"},{"$nulls":5},"NGU"]
[{"$nulls":12},"4.NGV.4.NGU","4 группа: от 1 до 10 млн.м3 включительно","тыс.м3",{"$nulls":22},{"v":0,"d":"0.00"},{"$nulls":5},"NGU"]
[{"$nulls":12},"4.NGV.5.NGU","5 группа: от 0,1 до 1 млн.м3 включительно","тыс.м3",{"$nulls":22},{"v":0,"d":"0.00"},{"$nulls":5},"NGU"]
[{"$nulls":12},"4.NGV.6.NGU","6 группа: от 0,01 до 0,1 млн.м3 включительно","тыс.м3",{"$nulls":22},{"v":0,"d":"0.00"},{"$nulls":5},"NGU"]
[{"$nulls":12},"4.NGV.7.NGU","7 группа: до 0,01 млн.м3 включительно","тыс.м3",{"$nulls":22},{"v":0,"d":"0.00"},{"$nulls":5},"NGU"]
[]
[{"$nulls":13},"Показатели себестоимости топлива "]
[]
[{"$nulls":12},"4.NFP","Цена натурального топлива без учёта транспортировки (перевозки)"]
[{"$nulls":12},"4.NFP.NG","Газ природный","руб./тыс.м3",{"$nulls":22},{"$f":"IF(AL1212=0,0,AL1320/AL1212*1000)","v":{"v":0,"d":"0.00"}},{"$f":"IF(AM1212=0,0,AM1320/AM1212*1000)","v":{"v":0,"d":"0.00"}},{"$f":"IF(AN1212=0,0,AN1320/AN1212*1000)","v":{"v":0,"d":"0.00"}},{"$nulls":3},"NG"]
[{"$nulls":12},"4.NFP.NGL","Газ лимитный","руб./тыс.м3",{"$nulls":22},{"$f":"IF(AL1213=0,0,AL1321/AL1213*1000)","v":{"v":0,"d":"0.00"}},{"$nulls":5},"NGL"]
[{"$nulls":12},"4.NFP.NGU","Газ сверхлимитный","руб./тыс.м3",{"$nulls":22},{"v":0,"d":"0.00"},{"$nulls":5},"NGU"]
[{"$nulls":12},"4.NFP.NGC","Газ коммерческий","руб./тыс.м3",{"$nulls":22},{"v":0,"d":"0.00"},{"$nulls":5},"NGC"]
[{"$nulls":12},"4.NFP.GBL","Газ доменный","руб./тнт",{"$nulls":22},{"v":0,"d":"0.00"},{"$nulls":5},"GBL"]
[{"$nulls":12},"4.NFP.GCK","Газ коксовый","руб./тнт",{"$nulls":22},{"v":0,"d":"0.00"},{"$nulls":5},"GCK"]
[{"$nulls":12},"4.NFP.GOA","Газ нефтяной (попутный)","руб./тнт",{"$nulls":22},{"v":0,"d":"0.00"},{"$nulls":5},"GOA"]
[{"$nulls":12},"4.NFP.DSG","Газ сухой отбензиненный","руб./тнт",{"$nulls":22},{"v":0,"d":"0.00"},{"$nulls":5},"DSG"]
[{"$nulls":12},"4.NFP.GCN","Газовый конденсат","руб./тнт",{"$nulls":22},{"v":0,"d":"0.00"},{"$nulls":5},"GCN"]
[{"$nulls":12},"4.NFP.LNG","Газ сжиженный","руб./тнт",{"$nulls":22},{"v":0,"d":"0.00"},{"$nulls":5},"LNG"]
[{"$nulls":12},"4.NFP.DSL","Дизельное топливо","руб./тнт",{"$nulls":22},{"v":0,"d":"0.00"},{"$f":"IF(AM1222=0,0,AM1330/AM1222*1000)","v":{"v":0,"d":"0.00"}},{"$f":"IF(AN1222=0,0,AN1330/AN1222*1000)","v":{"v":0,"d":"0.00"}},{"$nulls":3},"DSL"]
[{"$nulls":12},"4.NFP.DSLA","А (арктическое)","руб./тнт",{"$nulls":22},{"v":0,"d":"0.00"},{"$nulls":5},"DSLA"]
[{"$nulls":12},"4.NFP.DSLW","З (зимнее)","руб./тнт",{"$nulls":22},{"v":0,"d":"0.00"},{"$nulls":5},"DSLW"]
[{"$nulls":12},"4.NFP.DSLS","Л (летнее)","руб./тнт",{"$nulls":22},{"v":0,"d":"0.00"},{"$nulls":5},"DSLS"]
[{"$nulls":12},"4.NFP.DSLO","Е (межсезонное)","руб./тнт",{"$nulls":22},{"v":0,"d":"0.00"},{"$nulls":5},"DSLO"]
[{"$nulls":12},"4.NFP.MST","Мазут","руб./тнт",{"$nulls":22},{"v":0,"d":"0.00"},{"$f":"IF(AM1227=0,0,AM1335/AM1227*1000)","v":{"v":0,"d":"0.00"}},{"$f":"IF(AN1227=0,0,AN1335/AN1227*1000)","v":{"v":0,"d":"0.00"}},{"$nulls":3},"MST"]
[{"$nulls":12},"4.NFP.MSTM40","М-40","руб./тнт",{"$nulls":22},{"v":0,"d":"0.00"},{"$nulls":5},"MSTM40"]
[{"$nulls":12},"4.NFP.MSTM100","М-100","руб./тнт",{"$nulls":22},{"v":0,"d":"0.00"},{"$nulls":5},"MSTM100"]
[{"$nulls":12},"4.NFP.MSTM200","М-200","руб./тнт",{"$nulls":22},{"v":0,"d":"0.00"},{"$nulls":5},"MSTM200"]
[{"$nulls":12},"4.NFP.MSTT","мазут марки \"Т\"","руб./тнт",{"$nulls":22},{"v":0,"d":"0.00"},{"$nulls":5},"MSTT"]
[{"$nulls":12},"4.NFP.MSTF5","Ф-5","руб./тнт",{"$nulls":22},{"v":0,"d":"0.00"},{"$nulls":5},"MSTF5"]
[{"$nulls":12},"4.NFP.MSTF12","Ф-12","руб./тнт",{"$nulls":22},{"v":0,"d":"0.00"},{"$nulls":5},"MSTF12"]
[{"$nulls":12},"4.NFP.OIL","Нефть","руб./тнт",{"$nulls":22},{"v":0,"d":"0.00"},{"$nulls":5},"OIL"]
[{"$nulls":12},"4.NFP.COA","Уголь","руб./тнт",{"$nulls":22},{"v":0,"d":"0.00"},{"$f":"IF(AM1235=0,0,AM1343/AM1235*1000)","v":{"v":0,"d":"0.00"}},{"$f":"IF(AN1235=0,0,AN1343/AN1235*1000)","v":{"v":0,"d":"0.00"}},{"$nulls":3},"COA"]
[{"$nulls":12},"4.NFP.COAA","Уголь антрацит","руб./тнт",{"$nulls":22},{"v":0,"d":"0.00"},{"$nulls":5},"COAA"]
[{"$nulls":12},"4.NFP.COAB","Уголь бурый","руб./тнт",{"$nulls":22},{"v":0,"d":"0.00"},{"$nulls":5},"COAB"]
[{"$nulls":12},"4.NFP.COAG","Уголь газовый","руб./тнт",{"$nulls":22},{"v":0,"d":"0.00"},{"$nulls":5},"COAG"]
[{"$nulls":12},"4.NFP.COALF","Уголь длиннопламенный","руб./тнт",{"$nulls":22},{"v":0,"d":"0.00"},{"$nulls":5},"COALF"]
[{"$nulls":12},"4.NFP.COAF","Уголь жирный","руб./тнт",{"$nulls":22},{"v":0,"d":"0.00"},{"$nulls":5},"COAF"]
[{"$nulls":12},"4.NFP.COAC","Уголь коксовый","руб./тнт",{"$nulls":22},{"v":0,"d":"0.00"},{"$nulls":5},"COAC"]
[{"$nulls":12},"4.NFP.COASC","Уголь отощённо-спекающийся","руб./тнт",{"$nulls":22},{"v":0,"d":"0.00"},{"$nulls":5},"COASC"]
[{"$nulls":12},"4.NFP.COAWC","Уголь слабоспекающийся","руб./тнт",{"$nulls":22},{"v":0,"d":"0.00"},{"$nulls":5},"COAWC"]
[{"$nulls":12},"4.NFP.COAS","Уголь тощий","руб./тнт",{"$nulls":22},{"v":0,"d":"0.00"},{"$nulls":5},"COAS"]
[]
[]
[{"$nulls":12},"4.NFP.CWD","Уголь древесный","руб./тнт",{"$nulls":22},{"$f":"IF(AL1247=0,0,AL1355/AL1247*1000)","v":{"v":0,"d":"0.00"}},{"$nulls":5},"CWD"]
[{"$nulls":12},"4.NFP.WDS","Дрова","руб./тнт",{"$nulls":22},{"v":0,"d":"0.00"},{"$nulls":5},"WDS"]
[{"$nulls":12},"4.NFP.PLT","Пеллеты","руб./тнт",{"$nulls":22},{"v":0,"d":"0.00"},{"$nulls":5},"PLT"]
[{"$nulls":12},"4.NFP.SAW","Опилки","руб./тнт",{"$nulls":22},{"v":0,"d":"0.00"},{"$nulls":5},"SAW"]
[{"$nulls":12},"4.NFP.PEA","Торф","руб./тнт",{"$nulls":22},{"v":0,"d":"0.00"},{"$nulls":5},"PEA"]
[{"$nulls":12},"4.NFP.SHL","Сланцы","руб./тнт",{"$nulls":22},{"v":0,"d":"0.00"},{"$nulls":5},"SHL"]
[{"$nulls":12},"4.NFP.STF","Печное бытовое топливо","руб./тнт",{"$nulls":22},{"v":0,"d":"0.00"},{"$nulls":5},"STF"]
[]
[{"$nulls":12},"4.NFC","Стоимость натурального топлива без учёта транспортировки (перевозки)","тыс.руб.",{"$nulls":16},{"$f":"SUM(AF1320,AF1324:AF1329,AF1330,AF1335,AF1342,AF1343,AF1355:AF1361)","v":{"v":0,"d":"0.00"}},{"$f":"SUM(AG1320,AG1324:AG1329,AG1330,AG1335,AG1342,AG1343,AG1355:AG1361)","v":{"v":0,"d":"0.00"}},{"$f":"SUM(AH1320,AH1324:AH1329,AH1330,AH1335,AH1342,AH1343,AH1355:AH1361)","v":{"v":0,"d":"0.00"}},{"$nulls":3},{"$f":"SUM(AL1320,AL1324:AL1329,AL1330,AL1335,AL1342,AL1343,AL1355:AL1361)","v":{"v":0,"d":"0.00"}},{"$f":"SUM(AM1320,AM1324:AM1329,AM1330,AM1335,AM1342,AM1343,AM1355:AM1361)","v":{"v":0,"d":"0.00"}},{"$f":"SUM(AN1320,AN1324:AN1329,AN1330,AN1335,AN1342,AN1343,AN1355:AN1361)","v":{"v":0,"d":"0.00"}}]
[{"$nulls":12},"NFC.NG","Газ природный","тыс.руб.",{"$nulls":22},{"$f":"AM1320+AN1320","v":{"v":0,"d":"0.00"}},{"$f":"SUM(AM1321:AM1323)","v":{"v":0,"d":"0.00"}},{"$f":"SUM(AN1321:AN1323)","v":{"v":0,"d":"0.00"}},{"$nulls":3},"NG"]
[{"$nulls":12},"NFC.NGL","Газ лимитный","тыс.руб.",{"$nulls":22},{"v":0,"d":"0.00"},{"$f":"AM1277*AM1213/1000","v":{"v":0,"d":"0.00"}},{"v":0,"d":"0.00"},{"$nulls":3},"NGL"]
[{"$nulls":12},"NFC.NGU","Газ сверхлимитный","тыс.руб.",{"$nulls":22},{"v":0,"d":"0.00"},{"v":0,"d":"0.00"},{"v":0,"d":"0.00"},{"$nulls":3},"NGU"]
[{"$nulls":12},"NFC.NGC","Газ коммерческий","тыс.руб.",{"$nulls":22},{"v":0,"d":"0.00"},{"v":0,"d":"0.00"},{"v":0,"d":"0.00"},{"$nulls":3},"NGC"]
[{"$nulls":12},"NFC.GBL","Газ доменный","тыс.руб.",{"$nulls":22},{"v":0,"d":"0.00"},{"v":0,"d":"0.00"},{"v":0,"d":"0.00"},{"$nulls":3},"GBL"]
[{"$nulls":12},"NFC.GCK","Газ коксовый","тыс.руб.",{"$nulls":22},{"v":0,"d":"0.00"},{"v":0,"d":"0.00"},{"v":0,"d":"0.00"},{"$nulls":3},"GCK"]
[{"$nulls":12},"NFC.GOA","Газ нефтяной (попутный)","тыс.руб.",{"$nulls":22},{"v":0,"d":"0.00"},{"v":0,"d":"0.00"},{"v":0,"d":"0.00"},{"$nulls":3},"GOA"]
[{"$nulls":12},"NFC.DSG","Газ сухой отбензиненный","тыс.руб.",{"$nulls":22},{"v":0,"d":"0.00"},{"v":0,"d":"0.00"},{"v":0,"d":"0.00"},{"$nulls":3},"DSG"]
[{"$nulls":12},"NFC.GCN","Газовый конденсат","тыс.руб.",{"$nulls":22},{"v":0,"d":"0.00"},{"v":0,"d":"0.00"},{"v":0,"d":"0.00"},{"$nulls":3},"GCN"]
[{"$nulls":12},"NFC.LNG","Газ сжиженный","тыс.руб.",{"$nulls":22},{"v":0,"d":"0.00"},{"v":0,"d":"0.00"},{"v":0,"d":"0.00"},{"$nulls":3},"LNG"]
[{"$nulls":12},"NFC.DSL","Дизельное топливо","тыс.руб.",{"$nulls":22},{"v":0,"d":"0.00"},{"$f":"SUM(AM1331:AM1334)","v":{"v":0,"d":"0.00"}},{"$f":"SUM(AN1331:AN1334)","v":{"v":0,"d":"0.00"}},{"$nulls":3},"DSL"]
[{"$nulls":12},"NFC.DSLA","А (арктическое)","тыс.руб.",{"$nulls":22},{"v":0,"d":"0.00"},{"$f":"AM1287*AM1223/1000","v":{"v":0,"d":"0.00"}},{"v":0,"d":"0.00"},{"$nulls":3},"DSLA"]
[{"$nulls":12},"NFC.DSLW","З (зимнее)","тыс.руб.",{"$nulls":22},{"v":0,"d":"0.00"},{"v":0,"d":"0.00"},{"v":0,"d":"0.00"},{"$nulls":3},"DSLW"]
[{"$nulls":12},"NFC.DSLS","Л (летнее)","тыс.руб.",{"$nulls":22},{"v":0,"d":"0.00"},{"v":0,"d":"0.00"},{"v":0,"d":"0.00"},{"$nulls":3},"DSLS"]
[{"$nulls":12},"NFC.DSLO","Е (межсезонное)","тыс.руб.",{"$nulls":22},{"v":0,"d":"0.00"},{"v":0,"d":"0.00"},{"v":0,"d":"0.00"},{"$nulls":3},"DSLO"]
[{"$nulls":12},"NFC.MST","Мазут","тыс.руб.",{"$nulls":22},{"v":0,"d":"0.00"},{"$f":"SUM(AM1336:AM1341)","v":{"v":0,"d":"0.00"}},{"$f":"SUM(AN1336:AN1341)","v":{"v":0,"d":"0.00"}},{"$nulls":3},"MST"]
[{"$nulls":12},"NFC.MSTM40","М-40","тыс.руб.",{"$nulls":22},{"v":0,"d":"0.00"},{"$f":"AM1292*AM1228/1000","v":{"v":0,"d":"0.00"}},{"v":0,"d":"0.00"},{"$nulls":3},"MSTM40"]
[{"$nulls":12},"NFC.MSTM100","М-100","тыс.руб.",{"$nulls":22},{"v":0,"d":"0.00"},{"v":0,"d":"0.00"},{"v":0,"d":"0.00"},{"$nulls":3},"MSTM100"]
[{"$nulls":12},"NFC.MSTM200","М-200","тыс.руб.",{"$nulls":22},{"v":0,"d":"0.00"},{"v":0,"d":"0.00"},{"v":0,"d":"0.00"},{"$nulls":3},"MSTM200"]
[{"$nulls":12},"NFC.MSTT","мазут марки \"Т\"","тыс.руб.",{"$nulls":22},{"v":0,"d":"0.00"},{"v":0,"d":"0.00"},{"v":0,"d":"0.00"},{"$nulls":3},"MSTT"]
[{"$nulls":12},"NFC.MSTF5","Ф-5","тыс.руб.",{"$nulls":22},{"v":0,"d":"0.00"},{"v":0,"d":"0.00"},{"v":0,"d":"0.00"},{"$nulls":3},"MSTF5"]
[{"$nulls":12},"NFC.MSTF12","Ф-12","тыс.руб.",{"$nulls":22},{"v":0,"d":"0.00"},{"v":0,"d":"0.00"},{"v":0,"d":"0.00"},{"$nulls":3},"MSTF12"]
[{"$nulls":12},"NFC.OIL","Нефть","тыс.руб.",{"$nulls":22},{"v":0,"d":"0.00"},{"v":0,"d":"0.00"},{"v":0,"d":"0.00"},{"$nulls":3},"OIL"]
[{"$nulls":12},"NFC.COA","Уголь","тыс.руб.",{"$nulls":22},{"v":0,"d":"0.00"},{"$f":"SUM(AM1344:AM1352)","v":{"v":0,"d":"0.00"}},{"$f":"SUM(AN1344:AN1352)","v":{"v":0,"d":"0.00"}},{"$nulls":3},"COA"]
[{"$nulls":12},"NFC.COAA","Уголь антрацит","тыс.руб.",{"$nulls":22},{"v":0,"d":"0.00"},{"$f":"AM1300*AM1236/1000","v":{"v":0,"d":"0.00"}},{"v":0,"d":"0.00"},{"$nulls":3},"COAA"]
[{"$nulls":12},"NFC.COAB","Уголь бурый","тыс.руб.",{"$nulls":22},{"v":0,"d":"0.00"},{"v":0,"d":"0.00"},{"v":0,"d":"0.00"},{"$nulls":3},"COAB"]
[{"$nulls":12},"NFC.COAG","Уголь газовый","тыс.руб.",{"$nulls":22},{"v":0,"d":"0.00"},{"v":0,"d":"0.00"},{"v":0,"d":"0.00"},{"$nulls":3},"COAG"]
[{"$nulls":12},"NFC.COALF","Уголь длиннопламенный","тыс.руб.",{"$nulls":22},{"v":0,"d":"0.00"},{"v":0,"d":"0.00"},{"v":0,"d":"0.00"},{"$nulls":3},"COALF"]
[{"$nulls":12},"NFC.COAF","Уголь жирный","тыс.руб.",{"$nulls":22},{"v":0,"d":"0.00"},{"v":0,"d":"0.00"},{"v":0,"d":"0.00"},{"$nulls":3},"COAF"]
[{"$nulls":12},"NFC.COAC","Уголь коксовый","тыс.руб.",{"$nulls":22},{"v":0,"d":"0.00"},{"v":0,"d":"0.00"},{"v":0,"d":"0.00"},{"$nulls":3},"COAC"]
[{"$nulls":12},"NFC.COASC","Уголь отощённо-спекающийся","тыс.руб.",{"$nulls":22},{"v":0,"d":"0.00"},{"v":0,"d":"0.00"},{"v":0,"d":"0.00"},{"$nulls":3},"COASC"]
[{"$nulls":12},"NFC.COAWC","Уголь слабоспекающийся","тыс.руб.",{"$nulls":22},{"v":0,"d":"0.00"},{"v":0,"d":"0.00"},{"v":0,"d":"0.00"},{"$nulls":3},"COAWC"]
[{"$nulls":12},"NFC.COAS","Уголь тощий","тыс.руб.",{"$nulls":22},{"v":0,"d":"0.00"},{"v":0,"d":"0.00"},{"v":0,"d":"0.00"},{"$nulls":3},"COAS"]
[]
[]
[{"$nulls":12},"NFC.CWD","Уголь древесный","тыс.руб.",{"$nulls":22},{"$f":"AM1355+AN1355","v":{"v":0,"d":"0.00"}},{"$f":"AM1311*AM1247/1000","v":{"v":0,"d":"0.00"}},{"v":0,"d":"0.00"},{"$nulls":3},"CWD"]
[{"$nulls":12},"NFC.WDS","Дрова","тыс.руб.",{"$nulls":22},{"v":0,"d":"0.00"},{"v":0,"d":"0.00"},{"v":0,"d":"0.00"},{"$nulls":3},"WDS"]
[{"$nulls":12},"NFC.PLT","Пеллеты","тыс.руб.",{"$nulls":22},{"v":0,"d":"0.00"},{"v":0,"d":"0.00"},{"v":0,"d":"0.00"},{"$nulls":3},"PLT"]
[{"$nulls":12},"NFC.SAW","Опилки","тыс.руб.",{"$nulls":22},{"v":0,"d":"0.00"},{"v":0,"d":"0.00"},{"v":0,"d":"0.00"},{"$nulls":3},"SAW"]
[{"$nulls":12},"NFC.PEA","Торф","тыс.руб.",{"$nulls":22},{"v":0,"d":"0.00"},{"v":0,"d":"0.00"},{"v":0,"d":"0.00"},{"$nulls":3},"PEA"]
[{"$nulls":12},"NFC.SHL","Сланцы","тыс.руб.",{"$nulls":22},{"v":0,"d":"0.00"},{"v":0,"d":"0.00"},{"v":0,"d":"0.00"},{"$nulls":3},"SHL"]
[{"$nulls":12},"NFC.STF","Печное бытовое топливо","тыс.руб.",{"$nulls":22},{"v":0,"d":"0.00"},{"v":0,"d":"0.00"},{"v":0,"d":"0.00"},{"$nulls":3},"STF"]
[]
[]
[{"$nulls":13},"Показатели транспортировки (перевозки) топлива"]
[]
[{"$nulls":12},"4.0.3.1.1.1","Природный газ. Газ лимитный. Тариф на ССУ (cнабженческо-сбытовые услуги)"]
[{"$nulls":12},{"$f":"M1366 & \".1\"","v":"4.0.3.1.1.1.1"},"1 группа: свыше 500 млн.м3","руб./тыс.м3",{"$nulls":22},{"$f":"IF(AL1257=0,0,AL1383/AL1257*1000)","v":{"v":0,"d":"0.00"}},{"$nulls":5},"NGL"]
[{"$nulls":12},{"$f":"M1366 & \".2\"","v":"4.0.3.1.1.1.2"},"2 группа: от 100 до 500 млн.м3 включительно","руб./тыс.м3",{"$nulls":22},{"$f":"IF(AL1258=0,0,AL1384/AL1258*1000)","v":{"v":0,"d":"0.00"}},{"$nulls":5},"NGL"]
[{"$nulls":12},{"$f":"M1366 & \".3\"","v":"4.0.3.1.1.1.3"},"3 группа: от 10 до 100 млн.м3 включительно","руб./тыс.м3",{"$nulls":22},{"v":0,"d":"0.00"},{"$nulls":5},"NGL"]
[{"$nulls":12},{"$f":"M1366 & \".4\"","v":"4.0.3.1.1.1.4"},"4 группа: от 1 до 10 млн.м3 включительно","руб./тыс.м3",{"$nulls":22},{"v":0,"d":"0.00"},{"$nulls":5},"NGL"]
[{"$nulls":12},{"$f":"M1366 & \".5\"","v":"4.0.3.1.1.1.5"},"5 группа: от 0,1 до 1 млн.м3 включительно","руб./тыс.м3",{"$nulls":22},{"v":0,"d":"0.00"},{"$nulls":5},"NGL"]
[{"$nulls":12},{"$f":"M1366 & \".6\"","v":"4.0.3.1.1.1.6"},"6 группа: от 0,01 до 0,1 млн.м3 включительно","руб./тыс.м3",{"$nulls":22},{"v":0,"d":"0.00"},{"$nulls":5},"NGL"]
[{"$nulls":12},{"$f":"M1366 & \".7\"","v":"4.0.3.1.1.1.7"},"7 группа: до 0,01 млн.м3 включительно","руб./тыс.м3",{"$nulls":22},{"v":0,"d":"0.00"},{"$nulls":5},"NGL"]
[{"$nulls":12},"4.0.3.1.1.2","Природный газ. Газ лимитный. Тариф ГРО (услуги газораспределительной организации)"]
[{"$nulls":12},{"$f":"M1374 & \".1\"","v":"4.0.3.1.1.2.1"},"1 группа: свыше 500 млн.м3","руб./тыс.м3",{"$nulls":22},{"$f":"IF(AL1257=0,0,AL1391/AL1257*1000)","v":{"v":0,"d":"0.00"}},{"$nulls":5},"NGL"]
[{"$nulls":12},{"$f":"M1374 & \".2\"","v":"4.0.3.1.1.2.2"},"2 группа: от 100 до 500 млн.м3 включительно","руб./тыс.м3",{"$nulls":22},{"$f":"IF(AL1258=0,0,AL1392/AL1258*1000)","v":{"v":0,"d":"0.00"}},{"$nulls":5},"NGL"]
[{"$nulls":12},{"$f":"M1374 & \".3\"","v":"4.0.3.1.1.2.3"},"3 группа: от 10 до 100 млн.м3 включительно","руб./тыс.м3",{"$nulls":22},{"v":0,"d":"0.00"},{"$nulls":5},"NGL"]
[{"$nulls":12},{"$f":"M1374 & \".4\"","v":"4.0.3.1.1.2.4"},"4 группа: от 1 до 10 млн.м3 включительно","руб./тыс.м3",{"$nulls":22},{"v":0,"d":"0.00"},{"$nulls":5},"NGL"]
[{"$nulls":12},{"$f":"M1374 & \".5\"","v":"4.0.3.1.1.2.5"},"5 группа: от 0,1 до 1 млн.м3 включительно","руб./тыс.м3",{"$nulls":22},{"v":0,"d":"0.00"},{"$nulls":5},"NGL"]
[{"$nulls":12},{"$f":"M1374 & \".6\"","v":"4.0.3.1.1.2.6"},"6 группа: от 0,01 до 0,1 млн.м3 включительно","руб./тыс.м3",{"$nulls":22},{"v":0,"d":"0.00"},{"$nulls":5},"NGL"]
[{"$nulls":12},{"$f":"M1374 & \".7\"","v":"4.0.3.1.1.2.7"},"7 группа: до 0,01 млн.м3 включительно","руб./тыс.м3",{"$nulls":22},{"v":0,"d":"0.00"},{"$nulls":5},"NGL"]
[{"$nulls":12},"4.0.3.1.1.3","Природный газ. Газ лимитный. ПССУ (плата за cнабженческо-сбытовые услуги), всего","тыс.руб.",{"$nulls":22},{"$f":"AM1382+AN1382","v":{"v":0,"d":"0.00"}},{"$f":"SUM(AM1383:AM1389)","v":{"v":0,"d":"0.00"}},{"$f":"SUM(AN1383:AN1389)","v":{"v":0,"d":"0.00"}},{"$nulls":3},"NGL"]
[{"$nulls":12},{"$f":"M1382 & \".1\"","v":"4.0.3.1.1.3.1"},"1 группа: свыше 500 млн.м3","тыс.руб.",{"$nulls":22},{"v":0,"d":"0.00"},{"$f":"AM1367*AM1257/1000","v":{"v":0,"d":"0.00"}},{"$f":"AN1367*AN1257/1000","v":{"v":0,"d":"0.00"}},{"$nulls":3},"NGL"]
[{"$nulls":12},{"$f":"M1382 & \".2\"","v":"4.0.3.1.1.3.2"},"2 группа: от 100 до 500 млн.м3 включительно","тыс.руб.",{"$nulls":22},{"v":0,"d":"0.00"},{"$f":"AM1368*AM1258/1000","v":{"v":0,"d":"0.00"}},{"v":0,"d":"0.00"},{"$nulls":3},"NGL"]
[{"$nulls":12},{"$f":"M1382 & \".3\"","v":"4.0.3.1.1.3.3"},"3 группа: от 10 до 100 млн.м3 включительно","тыс.руб.",{"$nulls":22},{"v":0,"d":"0.00"},{"v":0,"d":"0.00"},{"v":0,"d":"0.00"},{"$nulls":3},"NGL"]
[{"$nulls":12},{"$f":"M1382 & \".4\"","v":"4.0.3.1.1.3.4"},"4 группа: от 1 до 10 млн.м3 включительно","тыс.руб.",{"$nulls":22},{"v":0,"d":"0.00"},{"v":0,"d":"0.00"},{"v":0,"d":"0.00"},{"$nulls":3},"NGL"]
[{"$nulls":12},{"$f":"M1382 & \".5\"","v":"4.0.3.1.1.3.5"},"5 группа: от 0,1 до 1 млн.м3 включительно","тыс.руб.",{"$nulls":22},{"v":0,"d":"0.00"},{"v":0,"d":"0.00"},{"v":0,"d":"0.00"},{"$nulls":3},"NGL"]
[{"$nulls":12},{"$f":"M1382 & \".6\"","v":"4.0.3.1.1.3.6"},"6 группа: от 0,01 до 0,1 млн.м3 включительно","тыс.руб.",{"$nulls":22},{"v":0,"d":"0.00"},{"v":0,"d":"0.00"},{"v":0,"d":"0.00"},{"$nulls":3},"NGL"]
[{"$nulls":12},{"$f":"M1382 & \".7\"","v":"4.0.3.1.1.3.7"},"7 группа: до 0,01 млн.м3 включительно","тыс.руб.",{"$nulls":22},{"v":0,"d":"0.00"},{"v":0,"d":"0.00"},{"v":0,"d":"0.00"},{"$nulls":3},"NGL"]
[{"$nulls":12},"4.0.3.1.1.4","Природный газ. Газ лимитный. ГРО (плата за услуги газораспределительной организации), всего","тыс.руб.",{"$nulls":22},{"v":0,"d":"0.00"},{"$f":"SUM(AM1391:AM1397)","v":{"v":0,"d":"0.00"}},{"$f":"SUM(AN1391:AN1397)","v":{"v":0,"d":"0.00"}},{"$nulls":3},"NGL"]
[{"$nulls":12},{"$f":"M1390 & \".1\"","v":"4.0.3.1.1.4.1"},"1 группа: свыше 500 млн.м3","тыс.руб.",{"$nulls":22},{"v":0,"d":"0.00"},{"$f":"AM1375*AM1257/1000","v":{"v":0,"d":"0.00"}},{"$f":"AN1375*AN1257/1000","v":{"v":0,"d":"0.00"}},{"$nulls":3},"NGL"]
[{"$nulls":12},{"$f":"M1390 & \".2\"","v":"4.0.3.1.1.4.2"},"2 группа: от 100 до 500 млн.м3 включительно","тыс.руб.",{"$nulls":22},{"v":0,"d":"0.00"},{"$f":"AM1376*AM1258/1000","v":{"v":0,"d":"0.00"}},{"v":0,"d":"0.00"},{"$nulls":3},"NGL"]
[{"$nulls":12},{"$f":"M1390 & \".3\"","v":"4.0.3.1.1.4.3"},"3 группа: от 10 до 100 млн.м3 включительно","тыс.руб.",{"$nulls":22},{"v":0,"d":"0.00"},{"v":0,"d":"0.00"},{"v":0,"d":"0.00"},{"$nulls":3},"NGL"]
[{"$nulls":12},{"$f":"M1390 & \".4\"","v":"4.0.3.1.1.4.4"},"4 группа: от 1 до 10 млн.м3 включительно","тыс.руб.",{"$nulls":22},{"v":0,"d":"0.00"},{"v":0,"d":"0.00"},{"v":0,"d":"0.00"},{"$nulls":3},"NGL"]
[{"$nulls":12},{"$f":"M1390 & \".5\"","v":"4.0.3.1.1.4.5"},"5 группа: от 0,1 до 1 млн.м3 включительно","тыс.руб.",{"$nulls":22},{"v":0,"d":"0.00"},{"v":0,"d":"0.00"},{"v":0,"d":"0.00"},{"$nulls":3},"NGL"]
[{"$nulls":12},{"$f":"M1390 & \".6\"","v":"4.0.3.1.1.4.6"},"6 группа: от 0,01 до 0,1 млн.м3 включительно","тыс.руб.",{"$nulls":22},{"v":0,"d":"0.00"},{"v":0,"d":"0.00"},{"v":0,"d":"0.00"},{"$nulls":3},"NGL"]
[{"$nulls":12},{"$f":"M1390 & \".7\"","v":"4.0.3.1.1.4.7"},"7 группа: до 0,01 млн.м3 включительно","тыс.руб.",{"$nulls":22},{"v":0,"d":"0.00"},{"v":0,"d":"0.00"},{"v":0,"d":"0.00"},{"$nulls":3},"NGL"]
[{"$nulls":12},"4.0.3.1.1.5","Природный газ. Газ лимитный. ТТР (плата за услуги транзитной транспортировки), всего","тыс.руб.",{"$nulls":22},{"v":0,"d":"0.00"},{"$nulls":5},"NGL"]
[{"$nulls":12},{"$f":"M1398 & \".1\"","v":"4.0.3.1.1.5.1"},"Средний тариф транзитной транспортировки","руб./тыс.м3",{"$nulls":22},{"$f":"IF(AL1400=0,0,AL1398/AL1400*1000)","v":{"v":0,"d":"0.00"}},{"$f":"IF(AM1400=0,0,AM1398/AM1400*1000)","v":{"v":0,"d":"0.00"}},{"$f":"IF(AN1400=0,0,AN1398/AN1400*1000)","v":{"v":0,"d":"0.00"}},{"$nulls":3},"NGL"]
[{"$nulls":12},{"$f":"M1398 & \".2\"","v":"4.0.3.1.1.5.2"},"Объём топлива, транспортируемого в транзитном потоке","тыс.м3",{"$nulls":22},{"$f":"AM1400+AN1400","v":{"v":0,"d":"0.00"}},{"$nulls":5},"NGL"]
[{"$nulls":12},"4.0.3.1.2.1","Природный газ. Газ сверхлимитный. Тариф на ССУ (cнабженческо-сбытовые услуги)"]
[{"$nulls":12},{"$f":"M1401 & \".1\"","v":"4.0.3.1.2.1.1"},"1 группа: свыше 500 млн.м3","руб./тыс.м3",{"$nulls":22},{"$f":"IF(AL1265=0,0,AL1418/AL1265*1000)","v":{"v":0,"d":"0.00"}},{"$nulls":5},"NGU"]
[{"$nulls":12},{"$f":"M1401 & \".2\"","v":"4.0.3.1.2.1.2"},"2 группа: от 100 до 500 млн.м3 включительно","руб./тыс.м3",{"$nulls":22},{"$f":"IF(AL1266=0,0,AL1419/AL1266*1000)","v":{"v":0,"d":"0.00"}},{"$nulls":5},"NGU"]
[{"$nulls":12},{"$f":"M1401 & \".3\"","v":"4.0.3.1.2.1.3"},"3 группа: от 10 до 100 млн.м3 включительно","руб./тыс.м3",{"$nulls":22},{"v":0,"d":"0.00"},{"$nulls":5},"NGU"]
[{"$nulls":12},{"$f":"M1401 & \".4\"","v":"4.0.3.1.2.1.4"},"4 группа: от 1 до 10 млн.м3 включительно","руб./тыс.м3",{"$nulls":22},{"v":0,"d":"0.00"},{"$nulls":5},"NGU"]
[{"$nulls":12},{"$f":"M1401 & \".5\"","v":"4.0.3.1.2.1.5"},"5 группа: от 0,1 до 1 млн.м3 включительно","руб./тыс.м3",{"$nulls":22},{"v":0,"d":"0.00"},{"$nulls":5},"NGU"]
[{"$nulls":12},{"$f":"M1401 & \".6\"","v":"4.0.3.1.2.1.6"},"6 группа: от 0,01 до 0,1 млн.м3 включительно","руб./тыс.м3",{"$nulls":22},{"v":0,"d":"0.00"},{"$nulls":5},"NGU"]
[{"$nulls":12},{"$f":"M1401 & \".7\"","v":"4.0.3.1.2.1.7"},"7 группа: до 0,01 млн.м3 включительно","руб./тыс.м3",{"$nulls":22},{"v":0,"d":"0.00"},{"$nulls":5},"NGU"]
[{"$nulls":12},"4.0.3.1.2.2","Природный газ. Газ сверхлимитный. Тариф ГРО (услуги газораспределительной организации)"]
[{"$nulls":12},{"$f":"M1409 & \".1\"","v":"4.0.3.1.2.2.1"},"1 группа: свыше 500 млн.м3","руб./тыс.м3",{"$nulls":22},{"$f":"IF(AL1265=0,0,AL1426/AL1265*1000)","v":{"v":0,"d":"0.00"}},{"$nulls":5},"NGU"]
[{"$nulls":12},{"$f":"M1409 & \".2\"","v":"4.0.3.1.2.2.2"},"2 группа: от 100 до 500 млн.м3 включительно","руб./тыс.м3",{"$nulls":22},{"$f":"IF(AL1266=0,0,AL1427/AL1266*1000)","v":{"v":0,"d":"0.00"}},{"$nulls":5},"NGU"]
[{"$nulls":12},{"$f":"M1409 & \".3\"","v":"4.0.3.1.2.2.3"},"3 группа: от 10 до 100 млн.м3 включительно","руб./тыс.м3",{"$nulls":22},{"v":0,"d":"0.00"},{"$nulls":5},"NGU"]
[{"$nulls":12},{"$f":"M1409 & \".4\"","v":"4.0.3.1.2.2.4"},"4 группа: от 1 до 10 млн.м3 включительно","руб./тыс.м3",{"$nulls":22},{"v":0,"d":"0.00"},{"$nulls":5},"NGU"]
[{"$nulls":12},{"$f":"M1409 & \".5\"","v":"4.0.3.1.2.2.5"},"5 группа: от 0,1 до 1 млн.м3 включительно","руб./тыс.м3",{"$nulls":22},{"v":0,"d":"0.00"},{"$nulls":5},"NGU"]
[{"$nulls":12},{"$f":"M1409 & \".6\"","v":"4.0.3.1.2.2.6"},"6 группа: от 0,01 до 0,1 млн.м3 включительно","руб./тыс.м3",{"$nulls":22},{"v":0,"d":"0.00"},{"$nulls":5},"NGU"]
[{"$nulls":12},{"$f":"M1409 & \".7\"","v":"4.0.3.1.2.2.7"},"7 группа: до 0,01 млн.м3 включительно","руб./тыс.м3",{"$nulls":22},{"v":0,"d":"0.00"},{"$nulls":5},"NGU"]
[{"$nulls":12},"4.0.3.1.2.3","Природный газ. Газ сверхлимитный. ПССУ (плата за cнабженческо-сбытовые услуги), всего","тыс.руб.",{"$nulls":22},{"$f":"AM1417+AN1417","v":{"v":0,"d":"0.00"}},{"$f":"SUM(AM1418:AM1424)","v":{"v":0,"d":"0.00"}},{"$f":"SUM(AN1418:AN1424)","v":{"v":0,"d":"0.00"}},{"$nulls":3},"NGU"]
[{"$nulls":12},{"$f":"M1417 & \".1\"","v":"4.0.3.1.2.3.1"},"1 группа: свыше 500 млн.м3","тыс.руб.",{"$nulls":22},{"v":0,"d":"0.00"},{"$f":"AM1402*AM1265/1000","v":{"v":0,"d":"0.00"}},{"$f":"AN1402*AN1265/1000","v":{"v":0,"d":"0.00"}},{"$nulls":3},"NGU"]
[{"$nulls":12},{"$f":"M1417 & \".2\"","v":"4.0.3.1.2.3.2"},"2 группа: от 100 до 500 млн.м3 включительно","тыс.руб.",{"$nulls":22},{"v":0,"d":"0.00"},{"$f":"AM1403*AM1266/1000","v":{"v":0,"d":"0.00"}},{"v":0,"d":"0.00"},{"$nulls":3},"NGU"]
[{"$nulls":12},{"$f":"M1417 & \".3\"","v":"4.0.3.1.2.3.3"},"3 группа: от 10 до 100 млн.м3 включительно","тыс.руб.",{"$nulls":22},{"v":0,"d":"0.00"},{"v":0,"d":"0.00"},{"v":0,"d":"0.00"},{"$nulls":3},"NGU"]
[{"$nulls":12},{"$f":"M1417 & \".4\"","v":"4.0.3.1.2.3.4"},"4 группа: от 1 до 10 млн.м3 включительно","тыс.руб.",{"$nulls":22},{"v":0,"d":"0.00"},{"v":0,"d":"0.00"},{"v":0,"d":"0.00"},{"$nulls":3},"NGU"]
[{"$nulls":12},{"$f":"M1417 & \".5\"","v":"4.0.3.1.2.3.5"},"5 группа: от 0,1 до 1 млн.м3 включительно","тыс.руб.",{"$nulls":22},{"v":0,"d":"0.00"},{"v":0,"d":"0.00"},{"v":0,"d":"0.00"},{"$nulls":3},"NGU"]
[{"$nulls":12},{"$f":"M1417 & \".6\"","v":"4.0.3.1.2.3.6"},"6 группа: от 0,01 до 0,1 млн.м3 включительно","тыс.руб.",{"$nulls":22},{"v":0,"d":"0.00"},{"v":0,"d":"0.00"},{"v":0,"d":"0.00"},{"$nulls":3},"NGU"]
[{"$nulls":12},{"$f":"M1417 & \".7\"","v":"4.0.3.1.2.3.7"},"7 группа: до 0,01 млн.м3 включительно","тыс.руб.",{"$nulls":22},{"v":0,"d":"0.00"},{"v":0,"d":"0.00"},{"v":0,"d":"0.00"},{"$nulls":3},"NGU"]
[{"$nulls":12},"4.0.3.1.2.4","Природный газ. Газ сверхлимитный. ГРО (плата за услуги газораспределительной организации), всего","тыс.руб.",{"$nulls":22},{"v":0,"d":"0.00"},{"$f":"SUM(AM1426:AM1432)","v":{"v":0,"d":"0.00"}},{"$f":"SUM(AN1426:AN1432)","v":{"v":0,"d":"0.00"}},{"$nulls":3},"NGU"]
[{"$nulls":12},{"$f":"M1425 & \".1\"","v":"4.0.3.1.2.4.1"},"1 группа: свыше 500 млн.м3","тыс.руб.",{"$nulls":22},{"v":0,"d":"0.00"},{"$f":"AM1410*AM1265/1000","v":{"v":0,"d":"0.00"}},{"$f":"AN1410*AN1265/1000","v":{"v":0,"d":"0.00"}},{"$nulls":3},"NGU"]
[{"$nulls":12},{"$f":"M1425 & \".2\"","v":"4.0.3.1.2.4.2"},"2 группа: от 100 до 500 млн.м3 включительно","тыс.руб.",{"$nulls":22},{"v":0,"d":"0.00"},{"$f":"AM1411*AM1266/1000","v":{"v":0,"d":"0.00"}},{"v":0,"d":"0.00"},{"$nulls":3},"NGU"]
[{"$nulls":12},{"$f":"M1425 & \".3\"","v":"4.0.3.1.2.4.3"},"3 группа: от 10 до 100 млн.м3 включительно","тыс.руб.",{"$nulls":22},{"v":0,"d":"0.00"},{"v":0,"d":"0.00"},{"v":0,"d":"0.00"},{"$nulls":3},"NGU"]
[{"$nulls":12},{"$f":"M1425 & \".4\"","v":"4.0.3.1.2.4.4"},"4 группа: от 1 до 10 млн.м3 включительно","тыс.руб.",{"$nulls":22},{"v":0,"d":"0.00"},{"v":0,"d":"0.00"},{"v":0,"d":"0.00"},{"$nulls":3},"NGU"]
[{"$nulls":12},{"$f":"M1425 & \".5\"","v":"4.0.3.1.2.4.5"},"5 группа: от 0,1 до 1 млн.м3 включительно","тыс.руб.",{"$nulls":22},{"v":0,"d":"0.00"},{"v":0,"d":"0.00"},{"v":0,"d":"0.00"},{"$nulls":3},"NGU"]
[{"$nulls":12},{"$f":"M1425 & \".6\"","v":"4.0.3.1.2.4.6"},"6 группа: от 0,01 до 0,1 млн.м3 включительно","тыс.руб.",{"$nulls":22},{"v":0,"d":"0.00"},{"v":0,"d":"0.00"},{"v":0,"d":"0.00"},{"$nulls":3},"NGU"]
[{"$nulls":12},{"$f":"M1425 & \".7\"","v":"4.0.3.1.2.4.7"},"7 группа: до 0,01 млн.м3 включительно","тыс.руб.",{"$nulls":22},{"v":0,"d":"0.00"},{"v":0,"d":"0.00"},{"v":0,"d":"0.00"},{"$nulls":3},"NGU"]
[{"$nulls":12},"4.0.3.1.2.5","Природный газ. Газ сверхлимитный. ТТР (плата за услуги транзитной транспортировки), всего","тыс.руб.",{"$nulls":22},{"v":0,"d":"0.00"},{"$nulls":5},"NGU"]
[{"$nulls":12},{"$f":"M1433 & \".1\"","v":"4.0.3.1.2.5.1"},"Средний тариф транзитной транспортировки","руб./тыс.м3",{"$nulls":22},{"$f":"IF(AL1435=0,0,AL1433/AL1435*1000)","v":{"v":0,"d":"0.00"}},{"$f":"IF(AM1435=0,0,AM1433/AM1435*1000)","v":{"v":0,"d":"0.00"}},{"$f":"IF(AN1435=0,0,AN1433/AN1435*1000)","v":{"v":0,"d":"0.00"}},{"$nulls":3},"NGU"]
[{"$nulls":12},{"$f":"M1433 & \".2\"","v":"4.0.3.1.2.5.2"},"Объём топлива, транспортируемого в транзитном потоке","тыс.м3",{"$nulls":22},{"$f":"AM1435+AN1435","v":{"v":0,"d":"0.00"}},{"$nulls":5},"NGU"]
[{"$nulls":12},"4.PATR","Перевозка автомобильным транспортом. Цена (тариф) за транспортировку (перевозку) единицы топлива"]
{"$rows_empty":8}
[{"$nulls":12},"4.PATR.GCN","Газовый конденсат","руб./тнт",{"$nulls":22},{"$f":"IF(AL1489=0,0,AL1533/AL1489*1000)","v":{"v":0,"d":"0.00"}},{"$nulls":5},"GCN"]
[{"$nulls":12},"4.PATR.LNG","Газ сжиженный","руб./тнт",{"$nulls":22},{"v":0,"d":"0.00"},{"$nulls":5},"LNG"]
[{"$nulls":12},"4.PATR.DSL","Дизельное топливо","руб./тнт",{"$nulls":22},{"v":0,"d":"0.00"},{"$f":"IF(AM1491=0,0,AM1535/AM1491*1000)","v":{"v":0,"d":"0.00"}},{"$f":"IF(AN1491=0,0,AN1535/AN1491*1000)","v":{"v":0,"d":"0.00"}},{"$nulls":3},"DSL"]
[{"$nulls":12},"4.PATR.DSLA","А (арктическое)","руб./тнт",{"$nulls":22},{"v":0,"d":"0.00"},{"$nulls":5},"DSLA"]
[{"$nulls":12},"4.PATR.DSLW","З (зимнее)","руб./тнт",{"$nulls":22},{"v":0,"d":"0.00"},{"$nulls":5},"DSLW"]
[{"$nulls":12},"4.PATR.DSLS","Л (летнее)","руб./тнт",{"$nulls":22},{"v":0,"d":"0.00"},{"$nulls":5},"DSLS"]
[{"$nulls":12},"4.PATR.DSLO","Е (межсезонное)","руб./тнт",{"$nulls":22},{"v":0,"d":"0.00"},{"$nulls":5},"DSLO"]
[{"$nulls":12},"4.PATR.MST","Мазут","руб./тнт",{"$nulls":22},{"v":0,"d":"0.00"},{"$f":"IF(AM1496=0,0,AM1540/AM1496*1000)","v":{"v":0,"d":"0.00"}},{"$f":"IF(AN1496=0,0,AN1540/AN1496*1000)","v":{"v":0,"d":"0.00"}},{"$nulls":3},"MST"]
[{"$nulls":12},"4.PATR.MSTM40","М-40","руб./тнт",{"$nulls":22},{"v":0,"d":"0.00"},{"$nulls":5},"MSTM40"]
[{"$nulls":12},"4.PATR.MSTM100","М-100","руб./тнт",{"$nulls":22},{"v":0,"d":"0.00"},{"$nulls":5},"MSTM100"]
[{"$nulls":12},"4.PATR.MSTM200","М-200","руб./тнт",{"$nulls":22},{"v":0,"d":"0.00"},{"$nulls":5},"MSTM200"]
[{"$nulls":12},"4.PATR.MSTT","мазут марки \"Т\"","руб./тнт",{"$nulls":22},{"v":0,"d":"0.00"},{"$nulls":5},"MSTT"]
[{"$nulls":12},"4.PATR.MSTF5","Ф-5","руб./тнт",{"$nulls":22},{"v":0,"d":"0.00"},{"$nulls":5},"MSTF5"]
[{"$nulls":12},"4.PATR.MSTF12","Ф-12","руб./тнт",{"$nulls":22},{"v":0,"d":"0.00"},{"$nulls":5},"MSTF12"]
[{"$nulls":12},"4.PATR.OIL","Нефть","руб./тнт",{"$nulls":22},{"v":0,"d":"0.00"},{"$nulls":5},"OIL"]
[{"$nulls":12},"4.PATR.COA","Уголь","руб./тнт",{"$nulls":22},{"v":0,"d":"0.00"},{"$f":"IF(AM1504=0,0,AM1548/AM1504*1000)","v":{"v":0,"d":"0.00"}},{"$f":"IF(AN1504=0,0,AN1548/AN1504*1000)","v":{"v":0,"d":"0.00"}},{"$nulls":3},"COA"]
[{"$nulls":12},"4.PATR.COAA","Уголь антрацит","руб./тнт",{"$nulls":22},{"v":0,"d":"0.00"},{"$nulls":5},"COAA"]
[{"$nulls":12},"4.PATR.COAB","Уголь бурый","руб./тнт",{"$nulls":22},{"v":0,"d":"0.00"},{"$nulls":5},"COAB"]
[{"$nulls":12},"4.PATR.COAG","Уголь газовый","руб./тнт",{"$nulls":22},{"v":0,"d":"0.00"},{"$nulls":5},"COAG"]
[{"$nulls":12},"4.PATR.COALF","Уголь длиннопламенный","руб./тнт",{"$nulls":22},{"v":0,"d":"0.00"},{"$nulls":5},"COALF"]
[{"$nulls":12},"4.PATR.COAF","Уголь жирный","руб./тнт",{"$nulls":22},{"v":0,"d":"0.00"},{"$nulls":5},"COAF"]
[{"$nulls":12},"4.PATR.COAC","Уголь коксовый","руб./тнт",{"$nulls":22},{"v":0,"d":"0.00"},{"$nulls":5},"COAC"]
[{"$nulls":12},"4.PATR.COASC","Уголь отощённо-спекающийся","руб./тнт",{"$nulls":22},{"v":0,"d":"0.00"},{"$nulls":5},"COASC"]
[{"$nulls":12},"4.PATR.COAWC","Уголь слабоспекающийся","руб./тнт",{"$nulls":22},{"v":0,"d":"0.00"},{"$nulls":5},"COAWC"]
[{"$nulls":12},"4.PATR.COAS","Уголь тощий","руб./тнт",{"$nulls":22},{"v":0,"d":"0.00"},{"$nulls":5},"COAS"]
[]
[]
[{"$nulls":12},"4.PATR.CWD","Уголь древесный","руб./тнт",{"$nulls":22},{"$f":"IF(AL1516=0,0,AL1560/AL1516*1000)","v":{"v":0,"d":"0.00"}},{"$nulls":5},"CWD"]
[{"$nulls":12},"4.PATR.WDS","Дрова","руб./тнт",{"$nulls":22},{"v":0,"d":"0.00"},{"$nulls":5},"WDS"]
[{"$nulls":12},"4.PATR.PLT","Пеллеты","руб./тнт",{"$nulls":22},{"v":0,"d":"0.00"},{"$nulls":5},"PLT"]
[{"$nulls":12},"4.PATR.SAW","Опилки","руб./тнт",{"$nulls":22},{"v":0,"d":"0.00"},{"$nulls":5},"SAW"]
[{"$nulls":12},"4.PATR.PEA","Торф","руб./тнт",{"$nulls":22},{"v":0,"d":"0.00"},{"$nulls":5},"PEA"]
[{"$nulls":12},"4.PATR.SHL","Сланцы","руб./тнт",{"$nulls":22},{"v":0,"d":"0.00"},{"$nulls":5},"SHL"]
[{"$nulls":12},"4.PATR.STF","Печное бытовое топливо","руб./тнт",{"$nulls":22},{"v":0,"d":"0.00"},{"$nulls":5},"STF"]
[]
[{"$nulls":12},"4.VATR","Перевозка автомобильным транспортом. Объём транспортировки (перевозки) топлива"]
{"$rows_empty":8}
[{"$nulls":12},"4.VATR.GCN","Газовый конденсат","тнт",{"$nulls":22},{"$f":"AM1489+AN1489","v":{"v":0,"d":"0.00"}},{"$nulls":5},"GCN"]
[{"$nulls":12},"4.VATR.LNG","Газ сжиженный","тнт",{"$nulls":22},{"v":0,"d":"0.00"},{"$nulls":5},"LNG"]
[{"$nulls":12},"4.VATR.DSL","Дизельное топливо","тнт",{"$nulls":22},{"v":0,"d":"0.00"},{"$f":"SUM(AM1492:AM1495)","v":{"v":0,"d":"0.00"}},{"$f":"SUM(AN1492:AN1495)","v":{"v":0,"d":"0.00"}},{"$nulls":3},"DSL"]
[{"$nulls":12},"4.VATR.DSLA","А (арктическое)","тнт",{"$nulls":22},{"v":0,"d":"0.00"},{"$nulls":5},"DSLA"]
[{"$nulls":12},"4.VATR.DSLW","З (зимнее)","тнт",{"$nulls":22},{"v":0,"d":"0.00"},{"$nulls":5},"DSLW"]
[{"$nulls":12},"4.VATR.DSLS","Л (летнее)","тнт",{"$nulls":22},{"v":0,"d":"0.00"},{"$nulls":5},"DSLS"]
[{"$nulls":12},"4.VATR.DSLO","Е (межсезонное)","тнт",{"$nulls":22},{"v":0,"d":"0.00"},{"$nulls":5},"DSLO"]
[{"$nulls":12},"4.VATR.MST","Мазут","тнт",{"$nulls":22},{"v":0,"d":"0.00"},{"$f":"SUM(AM1497:AM1502)","v":{"v":0,"d":"0.00"}},{"$f":"SUM(AN1497:AN1502)","v":{"v":0,"d":"0.00"}},{"$nulls":3},"MST"]
[{"$nulls":12},"4.VATR.MSTM40","М-40","тнт",{"$nulls":22},{"v":0,"d":"0.00"},{"$nulls":5},"MSTM40"]
[{"$nulls":12},"4.VATR.MSTM100","М-100","тнт",{"$nulls":22},{"v":0,"d":"0.00"},{"$nulls":5},"MSTM100"]
[{"$nulls":12},"4.VATR.MSTM200","М-200","тнт",{"$nulls":22},{"v":0,"d":"0.00"},{"$nulls":5},"MSTM200"]
[{"$nulls":12},"4.VATR.MSTT","мазут марки \"Т\"","тнт",{"$nulls":22},{"v":0,"d":"0.00"},{"$nulls":5},"MSTT"]
[{"$nulls":12},"4.VATR.MSTF5","Ф-5","тнт",{"$nulls":22},{"v":0,"d":"0.00"},{"$nulls":5},"MSTF5"]
[{"$nulls":12},"4.VATR.MSTF12","Ф-12","тнт",{"$nulls":22},{"v":0,"d":"0.00"},{"$nulls":5},"MSTF12"]
[{"$nulls":12},"4.VATR.OIL","Нефть","тнт",{"$nulls":22},{"v":0,"d":"0.00"},{"$nulls":5},"OIL"]
[{"$nulls":12},"4.VATR.COA","Уголь","тнт",{"$nulls":22},{"v":0,"d":"0.00"},{"$f":"SUM(AM1505:AM1513)","v":{"v":0,"d":"0.00"}},{"$f":"SUM(AN1505:AN1513)","v":{"v":0,"d":"0.00"}},{"$nulls":3},"COA"]
[{"$nulls":12},"4.VATR.COAA","Уголь антрацит","тнт",{"$nulls":22},{"v":0,"d":"0.00"},{"$nulls":5},"COAA"]
[{"$nulls":12},"4.VATR.COAB","Уголь бурый","тнт",{"$nulls":22},{"v":0,"d":"0.00"},{"$nulls":5},"COAB"]
[{"$nulls":12},"4.VATR.COAG","Уголь газовый","тнт",{"$nulls":22},{"v":0,"d":"0.00"},{"$nulls":5},"COAG"]
[{"$nulls":12},"4.VATR.COALF","Уголь длиннопламенный","тнт",{"$nulls":22},{"v":0,"d":"0.00"},{"$nulls":5},"COALF"]
[{"$nulls":12},"4.VATR.COAF","Уголь жирный","тнт",{"$nulls":22},{"v":0,"d":"0.00"},{"$nulls":5},"COAF"]
[{"$nulls":12},"4.VATR.COAC","Уголь коксовый","тнт",{"$nulls":22},{"v":0,"d":"0.00"},{"$nulls":5},"COAC"]
[{"$nulls":12},"4.VATR.COASC","Уголь отощённо-спекающийся","тнт",{"$nulls":22},{"v":0,"d":"0.00"},{"$nulls":5},"COASC"]
[{"$nulls":12},"4.VATR.COAWC","Уголь слабоспекающийся","тнт",{"$nulls":22},{"v":0,"d":"0.00"},{"$nulls":5},"COAWC"]
[{"$nulls":12},"4.VATR.COAS","Уголь тощий","тнт",{"$nulls":22},{"v":0,"d":"0.00"},{"$nulls":5},"COAS"]
[]
[]
[{"$nulls":12},"4.VATR.CWD","Уголь древесный","тнт",{"$nulls":22},{"$f":"AM1516+AN1516","v":{"v":0,"d":"0.00"}},{"$nulls":5},"CWD"]
[{"$nulls":12},"4.VATR.WDS","Дрова","тнт",{"$nulls":22},{"v":0,"d":"0.00"},{"$nulls":5},"WDS"]
[{"$nulls":12},"4.VATR.PLT","Пеллеты","тнт",{"$nulls":22},{"v":0,"d":"0.00"},{"$nulls":5},"PLT"]
[{"$nulls":12},"4.VATR.SAW","Опилки","тнт",{"$nulls":22},{"v":0,"d":"0.00"},{"$nulls":5},"SAW"]
[{"$nulls":12},"4.VATR.PEA","Торф","тнт",{"$nulls":22},{"v":0,"d":"0.00"},{"$nulls":5},"PEA"]
[{"$nulls":12},"4.VATR.SHL","Сланцы","тнт",{"$nulls":22},{"v":0,"d":"0.00"},{"$nulls":5},"SHL"]
[{"$nulls":12},"4.VATR.STF","Печное бытовое топливо","тнт",{"$nulls":22},{"v":0,"d":"0.00"},{"$nulls":5},"STF"]
[]
[{"$nulls":12},"4.CATR","Перевозка автомобильным транспортом. Стоимость транспортировки (перевозки) топлива","тыс.руб.",{"$nulls":16},{"$f":"SUM(AF1525,AF1529:AF1534,AF1535,AF1540,AF1547,AF1548,AF1560:AF1566)","v":{"v":0,"d":"0.00"}},{"$f":"SUM(AG1525,AG1529:AG1534,AG1535,AG1540,AG1547,AG1548,AG1560:AG1566)","v":{"v":0,"d":"0.00"}},{"$f":"SUM(AH1525,AH1529:AH1534,AH1535,AH1540,AH1547,AH1548,AH1560:AH1566)","v":{"v":0,"d":"0.00"}},{"$nulls":3},{"$f":"SUM(AL1525,AL1529:AL1534,AL1535,AL1540,AL1547,AL1548,AL1560:AL1566)","v":{"v":0,"d":"0.00"}},{"$f":"SUM(AM1525,AM1529:AM1534,AM1535,AM1540,AM1547,AM1548,AM1560:AM1566)","v":{"v":0,"d":"0.00"}},{"$f":"SUM(AN1525,AN1529:AN1534,AN1535,AN1540,AN1547,AN1548,AN1560:AN1566)","v":{"v":0,"d":"0.00"}}]
{"$rows_empty":8}
[{"$nulls":12},"4.CATR.GCN","Газовый конденсат","тыс.руб.",{"$nulls":22},{"$f":"AM1533+AN1533","v":{"v":0,"d":"0.00"}},{"$f":"AM1445*AM1489/1000","v":{"v":0,"d":"0.00"}},{"v":0,"d":"0.00"},{"$nulls":3},"GCN"]
[{"$nulls":12},"4.CATR.LNG","Газ сжиженный","тыс.руб.",{"$nulls":22},{"v":0,"d":"0.00"},{"v":0,"d":"0.00"},{"v":0,"d":"0.00"},{"$nulls":3},"LNG"]
[{"$nulls":12},"4.CATR.DSL","Дизельное топливо","тыс.руб.",{"$nulls":22},{"v":0,"d":"0.00"},{"$f":"SUM(AM1536:AM1539)","v":{"v":0,"d":"0.00"}},{"$f":"SUM(AN1536:AN1539)","v":{"v":0,"d":"0.00"}},{"$nulls":3},"DSL"]
[{"$nulls":12},"4.CATR.DSLA","А (арктическое)","тыс.руб.",{"$nulls":22},{"v":0,"d":"0.00"},{"v":0,"d":"0.00"},{"v":0,"d":"0.00"},{"$nulls":3},"DSLA"]
[{"$nulls":12},"4.CATR.DSLW","З (зимнее)","тыс.руб.",{"$nulls":22},{"v":0,"d":"0.00"},{"v":0,"d":"0.00"},{"v":0,"d":"0.00"},{"$nulls":3},"DSLW"]
[{"$nulls":12},"4.CATR.DSLS","Л (летнее)","тыс.руб.",{"$nulls":22},{"v":0,"d":"0.00"},{"v":0,"d":"0.00"},{"v":0,"d":"0.00"},{"$nulls":3},"DSLS"]
[{"$nulls":12},"4.CATR.DSLO","Е (межсезонное)","тыс.руб.",{"$nulls":22},{"v":0,"d":"0.00"},{"v":0,"d":"0.00"},{"v":0,"d":"0.00"},{"$nulls":3},"DSLO"]
[{"$nulls":12},"4.CATR.MST","Мазут","тыс.руб.",{"$nulls":22},{"v":0,"d":"0.00"},{"$f":"SUM(AM1541:AM1546)","v":{"v":0,"d":"0.00"}},{"$f":"SUM(AN1541:AN1546)","v":{"v":0,"d":"0.00"}},{"$nulls":3},"MST"]
[{"$nulls":12},"4.CATR.MSTM40","М-40","тыс.руб.",{"$nulls":22},{"v":0,"d":"0.00"},{"v":0,"d":"0.00"},{"v":0,"d":"0.00"},{"$nulls":3},"MSTM40"]
[{"$nulls":12},"4.CATR.MSTM100","М-100","тыс.руб.",{"$nulls":22},{"v":0,"d":"0.00"},{"v":0,"d":"0.00"},{"v":0,"d":"0.00"},{"$nulls":3},"MSTM100"]
[{"$nulls":12},"4.CATR.MSTM200","М-200","тыс.руб.",{"$nulls":22},{"v":0,"d":"0.00"},{"v":0,"d":"0.00"},{"v":0,"d":"0.00"},{"$nulls":3},"MSTM200"]
[{"$nulls":12},"4.CATR.MSTT","мазут марки \"Т\"","тыс.руб.",{"$nulls":22},{"v":0,"d":"0.00"},{"v":0,"d":"0.00"},{"v":0,"d":"0.00"},{"$nulls":3},"MSTT"]
[{"$nulls":12},"4.CATR.MSTF5","Ф-5","тыс.руб.",{"$nulls":22},{"v":0,"d":"0.00"},{"v":0,"d":"0.00"},{"v":0,"d":"0.00"},{"$nulls":3},"MSTF5"]
[{"$nulls":12},"4.CATR.MSTF12","Ф-12","тыс.руб.",{"$nulls":22},{"v":0,"d":"0.00"},{"v":0,"d":"0.00"},{"v":0,"d":"0.00"},{"$nulls":3},"MSTF12"]
[{"$nulls":12},"4.CATR.OIL","Нефть","тыс.руб.",{"$nulls":22},{"v":0,"d":"0.00"},{"v":0,"d":"0.00"},{"v":0,"d":"0.00"},{"$nulls":3},"OIL"]
[{"$nulls":12},"4.CATR.COA","Уголь","тыс.руб.",{"$nulls":22},{"v":0,"d":"0.00"},{"$f":"SUM(AM1549:AM1557)","v":{"v":0,"d":"0.00"}},{"$f":"SUM(AN1549:AN1557)","v":{"v":0,"d":"0.00"}},{"$nulls":3},"COA"]
[{"$nulls":12},"4.CATR.COAA","Уголь антрацит","тыс.руб.",{"$nulls":22},{"v":0,"d":"0.00"},{"$f":"AM1461*AM1505/1000","v":{"v":0,"d":"0.00"}},{"v":0,"d":"0.00"},{"$nulls":3},"COAA"]
[{"$nulls":12},"4.CATR.COAB","Уголь бурый","тыс.руб.",{"$nulls":22},{"v":0,"d":"0.00"},{"v":0,"d":"0.00"},{"v":0,"d":"0.00"},{"$nulls":3},"COAB"]
[{"$nulls":12},"4.CATR.COAG","Уголь газовый","тыс.руб.",{"$nulls":22},{"v":0,"d":"0.00"},{"v":0,"d":"0.00"},{"v":0,"d":"0.00"},{"$nulls":3},"COAG"]
[{"$nulls":12},"4.CATR.COALF","Уголь длиннопламенный","тыс.руб.",{"$nulls":22},{"v":0,"d":"0.00"},{"v":0,"d":"0.00"},{"v":0,"d":"0.00"},{"$nulls":3},"COALF"]
[{"$nulls":12},"4.CATR.COAF","Уголь жирный","тыс.руб.",{"$nulls":22},{"v":0,"d":"0.00"},{"v":0,"d":"0.00"},{"v":0,"d":"0.00"},{"$nulls":3},"COAF"]
[{"$nulls":12},"4.CATR.COAC","Уголь коксовый","тыс.руб.",{"$nulls":22},{"v":0,"d":"0.00"},{"v":0,"d":"0.00"},{"v":0,"d":"0.00"},{"$nulls":3},"COAC"]
[{"$nulls":12},"4.CATR.COASC","Уголь отощённо-спекающийся","тыс.руб.",{"$nulls":22},{"v":0,"d":"0.00"},{"v":0,"d":"0.00"},{"v":0,"d":"0.00"},{"$nulls":3},"COASC"]
[{"$nulls":12},"4.CATR.COAWC","Уголь слабоспекающийся","тыс.руб.",{"$nulls":22},{"v":0,"d":"0.00"},{"v":0,"d":"0.00"},{"v":0,"d":"0.00"},{"$nulls":3},"COAWC"]
[{"$nulls":12},"4.CATR.COAS","Уголь тощий","тыс.руб.",{"$nulls":22},{"v":0,"d":"0.00"},{"v":0,"d":"0.00"},{"v":0,"d":"0.00"},{"$nulls":3},"COAS"]
[]
[]
[{"$nulls":12},"4.CATR.CWD","Уголь древесный","тыс.руб.",{"$nulls":22},{"$f":"AM1560+AN1560","v":{"v":0,"d":"0.00"}},{"$f":"AM1472*AM1516/1000","v":{"v":0,"d":"0.00"}},{"v":0,"d":"0.00"},{"$nulls":3},"CWD"]
[{"$nulls":12},"4.CATR.WDS","Дрова","тыс.руб.",{"$nulls":22},{"v":0,"d":"0.00"},{"v":0,"d":"0.00"},{"v":0,"d":"0.00"},{"$nulls":3},"WDS"]
[{"$nulls":12},"4.CATR.PLT","Пеллеты","тыс.руб.",{"$nulls":22},{"v":0,"d":"0.00"},{"v":0,"d":"0.00"},{"v":0,"d":"0.00"},{"$nulls":3},"PLT"]
[{"$nulls":12},"4.CATR.SAW","Опилки","тыс.руб.",{"$nulls":22},{"v":0,"d":"0.00"},{"v":0,"d":"0.00"},{"v":0,"d":"0.00"},{"$nulls":3},"SAW"]
[{"$nulls":12},"4.CATR.PEA","Торф","тыс.руб.",{"$nulls":22},{"v":0,"d":"0.00"},{"v":0,"d":"0.00"},{"v":0,"d":"0.00"},{"$nulls":3},"PEA"]
[{"$nulls":12},"4.CATR.SHL","Сланцы","тыс.руб.",{"$nulls":22},{"v":0,"d":"0.00"},{"v":0,"d":"0.00"},{"v":0,"d":"0.00"},{"$nulls":3},"SHL"]
[{"$nulls":12},"4.CATR.STF","Печное бытовое топливо","тыс.руб.",{"$nulls":22},{"v":0,"d":"0.00"},{"v":0,"d":"0.00"},{"v":0,"d":"0.00"},{"$nulls":3},"STF"]
[]
[{"$nulls":12},"4.PRTR","Перевозка ж/д транспортом. Цена (тариф) за транспортировку (перевозку) единицы топлива"]
{"$rows_empty":8}
[{"$nulls":12},"4.PRTR.GCN","Газовый конденсат","руб./тнт",{"$nulls":22},{"$f":"IF(AL1621=0,0,AL1665/AL1621*1000)","v":{"v":0,"d":"0.00"}},{"$nulls":5},"GCN"]
[{"$nulls":12},"4.PRTR.LNG","Газ сжиженный","руб./тнт",{"$nulls":22},{"v":0,"d":"0.00"},{"$nulls":5},"LNG"]
[{"$nulls":12},"4.PRTR.DSL","Дизельное топливо","руб./тнт",{"$nulls":22},{"v":0,"d":"0.00"},{"$f":"IF(AM1623=0,0,AM1667/AM1623*1000)","v":{"v":0,"d":"0.00"}},{"$f":"IF(AN1623=0,0,AN1667/AN1623*1000)","v":{"v":0,"d":"0.00"}},{"$nulls":3},"DSL"]
[{"$nulls":12},"4.PRTR.DSLA","А (арктическое)","руб./тнт",{"$nulls":22},{"v":0,"d":"0.00"},{"$nulls":5},"DSLA"]
[{"$nulls":12},"4.PRTR.DSLW","З (зимнее)","руб./тнт",{"$nulls":22},{"v":0,"d":"0.00"},{"$nulls":5},"DSLW"]
[{"$nulls":12},"4.PRTR.DSLS","Л (летнее)","руб./тнт",{"$nulls":22},{"v":0,"d":"0.00"},{"$nulls":5},"DSLS"]
[{"$nulls":12},"4.PRTR.DSLO","Е (межсезонное)","руб./тнт",{"$nulls":22},{"v":0,"d":"0.00"},{"$nulls":5},"DSLO"]
[{"$nulls":12},"4.PRTR.MST","Мазут","руб./тнт",{"$nulls":22},{"v":0,"d":"0.00"},{"$f":"IF(AM1628=0,0,AM1672/AM1628*1000)","v":{"v":0,"d":"0.00"}},{"$f":"IF(AN1628=0,0,AN1672/AN1628*1000)","v":{"v":0,"d":"0.00"}},{"$nulls":3},"MST"]
[{"$nulls":12},"4.PRTR.MSTM40","М-40","руб./тнт",{"$nulls":22},{"v":0,"d":"0.00"},{"$nulls":5},"MSTM40"]
[{"$nulls":12},"4.PRTR.MSTM100","М-100","руб./тнт",{"$nulls":22},{"v":0,"d":"0.00"},{"$nulls":5},"MSTM100"]
[{"$nulls":12},"4.PRTR.MSTM200","М-200","руб./тнт",{"$nulls":22},{"v":0,"d":"0.00"},{"$nulls":5},"MSTM200"]
[{"$nulls":12},"4.PRTR.MSTT","мазут марки \"Т\"","руб./тнт",{"$nulls":22},{"v":0,"d":"0.00"},{"$nulls":5},"MSTT"]
[{"$nulls":12},"4.PRTR.MSTF5","Ф-5","руб./тнт",{"$nulls":22},{"v":0,"d":"0.00"},{"$nulls":5},"MSTF5"]
[{"$nulls":12},"4.PRTR.MSTF12","Ф-12","руб./тнт",{"$nulls":22},{"v":0,"d":"0.00"},{"$nulls":5},"MSTF12"]
[{"$nulls":12},"4.PRTR.OIL","Нефть","руб./тнт",{"$nulls":22},{"v":0,"d":"0.00"},{"$nulls":5},"OIL"]
[{"$nulls":12},"4.PRTR.COA","Уголь","руб./тнт",{"$nulls":22},{"v":0,"d":"0.00"},{"$f":"IF(AM1636=0,0,AM1680/AM1636*1000)","v":{"v":0,"d":"0.00"}},{"$f":"IF(AN1636=0,0,AN1680/AN1636*1000)","v":{"v":0,"d":"0.00"}},{"$nulls":3},"COA"]
[{"$nulls":12},"4.PRTR.COAA","Уголь антрацит","руб./тнт",{"$nulls":22},{"v":0,"d":"0.00"},{"$nulls":5},"COAA"]
[{"$nulls":12},"4.PRTR.COAB","Уголь бурый","руб./тнт",{"$nulls":22},{"v":0,"d":"0.00"},{"$nulls":5},"COAB"]
[{"$nulls":12},"4.PRTR.COAG","Уголь газовый","руб./тнт",{"$nulls":22},{"v":0,"d":"0.00"},{"$nulls":5},"COAG"]
[{"$nulls":12},"4.PRTR.COALF","Уголь длиннопламенный","руб./тнт",{"$nulls":22},{"v":0,"d":"0.00"},{"$nulls":5},"COALF"]
[{"$nulls":12},"4.PRTR.COAF","Уголь жирный","руб./тнт",{"$nulls":22},{"v":0,"d":"0.00"},{"$nulls":5},"COAF"]
[{"$nulls":12},"4.PRTR.COAC","Уголь коксовый","руб./тнт",{"$nulls":22},{"v":0,"d":"0.00"},{"$nulls":5},"COAC"]
[{"$nulls":12},"4.PRTR.COASC","Уголь отощённо-спекающийся","руб./тнт",{"$nulls":22},{"v":0,"d":"0.00"},{"$nulls":5},"COASC"]
[{"$nulls":12},"4.PRTR.COAWC","Уголь слабоспекающийся","руб./тнт",{"$nulls":22},{"v":0,"d":"0.00"},{"$nulls":5},"COAWC"]
[{"$nulls":12},"4.PRTR.COAS","Уголь тощий","руб./тнт",{"$nulls":22},{"v":0,"d":"0.00"},{"$nulls":5},"COAS"]
[]
[]
[{"$nulls":12},"4.PRTR.CWD","Уголь древесный","руб./тнт",{"$nulls":22},{"$f":"IF(AL1648=0,0,AL1692/AL1648*1000)","v":{"v":0,"d":"0.00"}},{"$nulls":5},"CWD"]
[{"$nulls":12},"4.PRTR.WDS","Дрова","руб./тнт",{"$nulls":22},{"v":0,"d":"0.00"},{"$nulls":5},"WDS"]
[{"$nulls":12},"4.PRTR.PLT","Пеллеты","руб./тнт",{"$nulls":22},{"v":0,"d":"0.00"},{"$nulls":5},"PLT"]
[{"$nulls":12},"4.PRTR.SAW","Опилки","руб./тнт",{"$nulls":22},{"v":0,"d":"0.00"},{"$nulls":5},"SAW"]
[{"$nulls":12},"4.PRTR.PEA","Торф","руб./тнт",{"$nulls":22},{"v":0,"d":"0.00"},{"$nulls":5},"PEA"]
[{"$nulls":12},"4.PRTR.SHL","Сланцы","руб./тнт",{"$nulls":22},{"v":0,"d":"0.00"},{"$nulls":5},"SHL"]
[{"$nulls":12},"4.PRTR.STF","Печное бытовое топливо","руб./тнт",{"$nulls":22},{"v":0,"d":"0.00"},{"$nulls":5},"STF"]
[]
[{"$nulls":12},"4.VRTR","Перевозка ж/д транспортом. Объём транспортировки (перевозки) топлива"]
{"$rows_empty":8}
[{"$nulls":12},"4.VRTR.GCN","Газовый конденсат","тнт",{"$nulls":22},{"$f":"AM1621+AN1621","v":{"v":0,"d":"0.00"}},{"$nulls":5},"GCN"]
[{"$nulls":12},"4.VRTR.LNG","Газ сжиженный","тнт",{"$nulls":22},{"v":0,"d":"0.00"},{"$nulls":5},"LNG"]
[{"$nulls":12},"4.VRTR.DSL","Дизельное топливо","тнт",{"$nulls":22},{"v":0,"d":"0.00"},{"$f":"SUM(AM1624:AM1627)","v":{"v":0,"d":"0.00"}},{"$f":"SUM(AN1624:AN1627)","v":{"v":0,"d":"0.00"}},{"$nulls":3},"DSL"]
[{"$nulls":12},"4.VRTR.DSLA","А (арктическое)","тнт",{"$nulls":22},{"v":0,"d":"0.00"},{"$nulls":5},"DSLA"]
[{"$nulls":12},"4.VRTR.DSLW","З (зимнее)","тнт",{"$nulls":22},{"v":0,"d":"0.00"},{"$nulls":5},"DSLW"]
[{"$nulls":12},"4.VRTR.DSLS","Л (летнее)","тнт",{"$nulls":22},{"v":0,"d":"0.00"},{"$nulls":5},"DSLS"]
[{"$nulls":12},"4.VRTR.DSLO","Е (межсезонное)","тнт",{"$nulls":22},{"v":0,"d":"0.00"},{"$nulls":5},"DSLO"]
[{"$nulls":12},"4.VRTR.MST","Мазут","тнт",{"$nulls":22},{"v":0,"d":"0.00"},{"$f":"SUM(AM1629:AM1634)","v":{"v":0,"d":"0.00"}},{"$f":"SUM(AN1629:AN1634)","v":{"v":0,"d":"0.00"}},{"$nulls":3},"MST"]
[{"$nulls":12},"4.VRTR.MSTM40","М-40","тнт",{"$nulls":22},{"v":0,"d":"0.00"},{"$nulls":5},"MSTM40"]
[{"$nulls":12},"4.VRTR.MSTM100","М-100","тнт",{"$nulls":22},{"v":0,"d":"0.00"},{"$nulls":5},"MSTM100"]
[{"$nulls":12},"4.VRTR.MSTM200","М-200","тнт",{"$nulls":22},{"v":0,"d":"0.00"},{"$nulls":5},"MSTM200"]
[{"$nulls":12},"4.VRTR.MSTT","мазут марки \"Т\"","тнт",{"$nulls":22},{"v":0,"d":"0.00"},{"$nulls":5},"MSTT"]
[{"$nulls":12},"4.VRTR.MSTF5","Ф-5","тнт",{"$nulls":22},{"v":0,"d":"0.00"},{"$nulls":5},"MSTF5"]
[{"$nulls":12},"4.VRTR.MSTF12","Ф-12","тнт",{"$nulls":22},{"v":0,"d":"0.00"},{"$nulls":5},"MSTF12"]
[{"$nulls":12},"4.VRTR.OIL","Нефть","тнт",{"$nulls":22},{"v":0,"d":"0.00"},{"$nulls":5},"OIL"]
[{"$nulls":12},"4.VRTR.COA","Уголь","тнт",{"$nulls":22},{"v":0,"d":"0.00"},{"$f":"SUM(AM1637:AM1645)","v":{"v":0,"d":"0.00"}},{"$f":"SUM(AN1637:AN1645)","v":{"v":0,"d":"0.00"}},{"$nulls":3},"COA"]
[{"$nulls":12},"4.VRTR.COAA","Уголь антрацит","тнт",{"$nulls":22},{"v":0,"d":"0.00"},{"$nulls":5},"COAA"]
[{"$nulls":12},"4.VRTR.COAB","Уголь бурый","тнт",{"$nulls":22},{"v":0,"d":"0.00"},{"$nulls":5},"COAB"]
[{"$nulls":12},"4.VRTR.COAG","Уголь газовый","тнт",{"$nulls":22},{"v":0,"d":"0.00"},{"$nulls":5},"COAG"]
[{"$nulls":12},"4.VRTR.COALF","Уголь длиннопламенный","тнт",{"$nulls":22},{"v":0,"d":"0.00"},{"$nulls":5},"COALF"]
[{"$nulls":12},"4.VRTR.COAF","Уголь жирный","тнт",{"$nulls":22},{"v":0,"d":"0.00"},{"$nulls":5},"COAF"]
[{"$nulls":12},"4.VRTR.COAC","Уголь коксовый","тнт",{"$nulls":22},{"v":0,"d":"0.00"},{"$nulls":5},"COAC"]
[{"$nulls":12},"4.VRTR.COASC","Уголь отощённо-спекающийся","тнт",{"$nulls":22},{"v":0,"d":"0.00"},{"$nulls":5},"COASC"]
[{"$nulls":12},"4.VRTR.COAWC","Уголь слабоспекающийся","тнт",{"$nulls":22},{"v":0,"d":"0.00"},{"$nulls":5},"COAWC"]
[{"$nulls":12},"4.VRTR.COAS","Уголь тощий","тнт",{"$nulls":22},{"v":0,"d":"0.00"},{"$nulls":5},"COAS"]
[]
[]
[{"$nulls":12},"4.VRTR.CWD","Уголь древесный","тнт",{"$nulls":22},{"$f":"AM1648+AN1648","v":{"v":0,"d":"0.00"}},{"$nulls":5},"CWD"]
[{"$nulls":12},"4.VRTR.WDS","Дрова","тнт",{"$nulls":22},{"v":0,"d":"0.00"},{"$nulls":5},"WDS"]
[{"$nulls":12},"4.VRTR.PLT","Пеллеты","тнт",{"$nulls":22},{"v":0,"d":"0.00"},{"$nulls":5},"PLT"]
[{"$nulls":12},"4.VRTR.SAW","Опилки","тнт",{"$nulls":22},{"v":0,"d":"0.00"},{"$nulls":5},"SAW"]
[{"$nulls":12},"4.VRTR.PEA","Торф","тнт",{"$nulls":22},{"v":0,"d":"0.00"},{"$nulls":5},"PEA"]
[{"$nulls":12},"4.VRTR.SHL","Сланцы","тнт",{"$nulls":22},{"v":0,"d":"0.00"},{"$nulls":5},"SHL"]
[{"$nulls":12},"4.VRTR.STF","Печное бытовое топливо","тнт",{"$nulls":22},{"v":0,"d":"0.00"},{"$nulls":5},"STF"]
[]
[{"$nulls":12},"4.CRTR","Перевозка ж/д транспортом. Стоимость транспортировки (перевозки) топлива","тыс.руб.",{"$nulls":16},{"$f":"SUM(AF1657,AF1661:AF1666,AF1667,AF1672,AF1679,AF1680,AF1692:AF1698)","v":{"v":0,"d":"0.00"}},{"$f":"SUM(AG1657,AG1661:AG1666,AG1667,AG1672,AG1679,AG1680,AG1692:AG1698)","v":{"v":0,"d":"0.00"}},{"$f":"SUM(AH1657,AH1661:AH1666,AH1667,AH1672,AH1679,AH1680,AH1692:AH1698)","v":{"v":0,"d":"0.00"}},{"$nulls":3},{"$f":"SUM(AL1657,AL1661:AL1666,AL1667,AL1672,AL1679,AL1680,AL1692:AL1698)","v":{"v":0,"d":"0.00"}},{"$f":"SUM(AM1657,AM1661:AM1666,AM1667,AM1672,AM1679,AM1680,AM1692:AM1698)","v":{"v":0,"d":"0.00"}},{"$f":"SUM(AN1657,AN1661:AN1666,AN1667,AN1672,AN1679,AN1680,AN1692:AN1698)","v":{"v":0,"d":"0.00"}}]
{"$rows_empty":8}
[{"$nulls":12},"4.CRTR.GCN","Газовый конденсат","тыс.руб.",{"$nulls":22},{"$f":"AM1665+AN1665","v":{"v":0,"d":"0.00"}},{"$f":"AM1577*AM1621/1000","v":{"v":0,"d":"0.00"}},{"v":0,"d":"0.00"},{"$nulls":3},"GCN"]
[{"$nulls":12},"4.CRTR.LNG","Газ сжиженный","тыс.руб.",{"$nulls":22},{"v":0,"d":"0.00"},{"v":0,"d":"0.00"},{"v":0,"d":"0.00"},{"$nulls":3},"LNG"]
[{"$nulls":12},"4.CRTR.DSL","Дизельное топливо","тыс.руб.",{"$nulls":22},{"v":0,"d":"0.00"},{"$f":"SUM(AM1668:AM1671)","v":{"v":0,"d":"0.00"}},{"$f":"SUM(AN1668:AN1671)","v":{"v":0,"d":"0.00"}},{"$nulls":3},"DSL"]
[{"$nulls":12},"4.CRTR.DSLA","А (арктическое)","тыс.руб.",{"$nulls":22},{"v":0,"d":"0.00"},{"v":0,"d":"0.00"},{"v":0,"d":"0.00"},{"$nulls":3},"DSLA"]
[{"$nulls":12},"4.CRTR.DSLW","З (зимнее)","тыс.руб.",{"$nulls":22},{"v":0,"d":"0.00"},{"v":0,"d":"0.00"},{"v":0,"d":"0.00"},{"$nulls":3},"DSLW"]
[{"$nulls":12},"4.CRTR.DSLS","Л (летнее)","тыс.руб.",{"$nulls":22},{"v":0,"d":"0.00"},{"v":0,"d":"0.00"},{"v":0,"d":"0.00"},{"$nulls":3},"DSLS"]
[{"$nulls":12},"4.CRTR.DSLO","Е (межсезонное)","тыс.руб.",{"$nulls":22},{"v":0,"d":"0.00"},{"v":0,"d":"0.00"},{"v":0,"d":"0.00"},{"$nulls":3},"DSLO"]
[{"$nulls":12},"4.CRTR.MST","Мазут","тыс.руб.",{"$nulls":22},{"v":0,"d":"0.00"},{"$f":"SUM(AM1673:AM1678)","v":{"v":0,"d":"0.00"}},{"$f":"SUM(AN1673:AN1678)","v":{"v":0,"d":"0.00"}},{"$nulls":3},"MST"]
[{"$nulls":12},"4.CRTR.MSTM40","М-40","тыс.руб.",{"$nulls":22},{"v":0,"d":"0.00"},{"v":0,"d":"0.00"},{"v":0,"d":"0.00"},{"$nulls":3},"MSTM40"]
[{"$nulls":12},"4.CRTR.MSTM100","М-100","тыс.руб.",{"$nulls":22},{"v":0,"d":"0.00"},{"v":0,"d":"0.00"},{"v":0,"d":"0.00"},{"$nulls":3},"MSTM100"]
[{"$nulls":12},"4.CRTR.MSTM200","М-200","тыс.руб.",{"$nulls":22},{"v":0,"d":"0.00"},{"v":0,"d":"0.00"},{"v":0,"d":"0.00"},{"$nulls":3},"MSTM200"]
[{"$nulls":12},"4.CRTR.MSTT","мазут марки \"Т\"","тыс.руб.",{"$nulls":22},{"v":0,"d":"0.00"},{"v":0,"d":"0.00"},{"v":0,"d":"0.00"},{"$nulls":3},"MSTT"]
[{"$nulls":12},"4.CRTR.MSTF5","Ф-5","тыс.руб.",{"$nulls":22},{"v":0,"d":"0.00"},{"v":0,"d":"0.00"},{"v":0,"d":"0.00"},{"$nulls":3},"MSTF5"]
[{"$nulls":12},"4.CRTR.MSTF12","Ф-12","тыс.руб.",{"$nulls":22},{"v":0,"d":"0.00"},{"v":0,"d":"0.00"},{"v":0,"d":"0.00"},{"$nulls":3},"MSTF12"]
[{"$nulls":12},"4.CRTR.OIL","Нефть","тыс.руб.",{"$nulls":22},{"v":0,"d":"0.00"},{"v":0,"d":"0.00"},{"v":0,"d":"0.00"},{"$nulls":3},"OIL"]
[{"$nulls":12},"4.CRTR.COA","Уголь","тыс.руб.",{"$nulls":22},{"v":0,"d":"0.00"},{"$f":"SUM(AM1681:AM1689)","v":{"v":0,"d":"0.00"}},{"$f":"SUM(AN1681:AN1689)","v":{"v":0,"d":"0.00"}},{"$nulls":3},"COA"]
[{"$nulls":12},"4.CRTR.COAA","Уголь антрацит","тыс.руб.",{"$nulls":22},{"v":0,"d":"0.00"},{"$f":"AM1593*AM1637/1000","v":{"v":0,"d":"0.00"}},{"v":0,"d":"0.00"},{"$nulls":3},"COAA"]
[{"$nulls":12},"4.CRTR.COAB","Уголь бурый","тыс.руб.",{"$nulls":22},{"v":0,"d":"0.00"},{"v":0,"d":"0.00"},{"v":0,"d":"0.00"},{"$nulls":3},"COAB"]
[{"$nulls":12},"4.CRTR.COAG","Уголь газовый","тыс.руб.",{"$nulls":22},{"v":0,"d":"0.00"},{"v":0,"d":"0.00"},{"v":0,"d":"0.00"},{"$nulls":3},"COAG"]
[{"$nulls":12},"4.CRTR.COALF","Уголь длиннопламенный","тыс.руб.",{"$nulls":22},{"v":0,"d":"0.00"},{"v":0,"d":"0.00"},{"v":0,"d":"0.00"},{"$nulls":3},"COALF"]
[{"$nulls":12},"4.CRTR.COAF","Уголь жирный","тыс.руб.",{"$nulls":22},{"v":0,"d":"0.00"},{"v":0,"d":"0.00"},{"v":0,"d":"0.00"},{"$nulls":3},"COAF"]
[{"$nulls":12},"4.CRTR.COAC","Уголь коксовый","тыс.руб.",{"$nulls":22},{"v":0,"d":"0.00"},{"v":0,"d":"0.00"},{"v":0,"d":"0.00"},{"$nulls":3},"COAC"]
[{"$nulls":12},"4.CRTR.COASC","Уголь отощённо-спекающийся","тыс.руб.",{"$nulls":22},{"v":0,"d":"0.00"},{"v":0,"d":"0.00"},{"v":0,"d":"0.00"},{"$nulls":3},"COASC"]
[{"$nulls":12},"4.CRTR.COAWC","Уголь слабоспекающийся","тыс.руб.",{"$nulls":22},{"v":0,"d":"0.00"},{"v":0,"d":"0.00"},{"v":0,"d":"0.00"},{"$nulls":3},"COAWC"]
[{"$nulls":12},"4.CRTR.COAS","Уголь тощий","тыс.руб.",{"$nulls":22},{"v":0,"d":"0.00"},{"v":0,"d":"0.00"},{"v":0,"d":"0.00"},{"$nulls":3},"COAS"]
[]
[]
[{"$nulls":12},"4.CRTR.CWD","Уголь древесный","тыс.руб.",{"$nulls":22},{"$f":"AM1692+AN1692","v":{"v":0,"d":"0.00"}},{"$f":"AM1604*AM1648/1000","v":{"v":0,"d":"0.00"}},{"v":0,"d":"0.00"},{"$nulls":3},"CWD"]
[{"$nulls":12},"4.CRTR.WDS","Дрова","тыс.руб.",{"$nulls":22},{"v":0,"d":"0.00"},{"v":0,"d":"0.00"},{"v":0,"d":"0.00"},{"$nulls":3},"WDS"]
[{"$nulls":12},"4.CRTR.PLT","Пеллеты","тыс.руб.",{"$nulls":22},{"v":0,"d":"0.00"},{"v":0,"d":"0.00"},{"v":0,"d":"0.00"},{"$nulls":3},"PLT"]
[{"$nulls":12},"4.CRTR.SAW","Опилки","тыс.руб.",{"$nulls":22},{"v":0,"d":"0.00"},{"v":0,"d":"0.00"},{"v":0,"d":"0.00"},{"$nulls":3},"SAW"]
[{"$nulls":12},"4.CRTR.PEA","Торф","тыс.руб.",{"$nulls":22},{"v":0,"d":"0.00"},{"v":0,"d":"0.00"},{"v":0,"d":"0.00"},{"$nulls":3},"PEA"]
[{"$nulls":12},"4.CRTR.SHL","Сланцы","тыс.руб.",{"$nulls":22},{"v":0,"d":"0.00"},{"v":0,"d":"0.00"},{"v":0,"d":"0.00"},{"$nulls":3},"SHL"]
[{"$nulls":12},"4.CRTR.STF","Печное бытовое топливо","тыс.руб.",{"$nulls":22},{"v":0,"d":"0.00"},{"v":0,"d":"0.00"},{"v":0,"d":"0.00"},{"$nulls":3},"STF"]
[]
[{"$nulls":12},"4.POTR","Иные виды транспортировки (перевозки). Цена (тариф) за транспортировку (перевозку) единицы топлива"]
{"$rows_empty":8}
[{"$nulls":12},"4.POTR.GCN","Газовый конденсат","руб./тнт",{"$nulls":22},{"$f":"IF(AL1753=0,0,AL1797/AL1753*1000)","v":{"v":0,"d":"0.00"}},{"$nulls":5},"GCN"]
[{"$nulls":12},"4.POTR.LNG","Газ сжиженный","руб./тнт",{"$nulls":22},{"v":0,"d":"0.00"},{"$nulls":5},"LNG"]
[{"$nulls":12},"4.POTR.DSL","Дизельное топливо","руб./тнт",{"$nulls":22},{"v":0,"d":"0.00"},{"$f":"IF(AM1755=0,0,AM1799/AM1755*1000)","v":{"v":0,"d":"0.00"}},{"$f":"IF(AN1755=0,0,AN1799/AN1755*1000)","v":{"v":0,"d":"0.00"}},{"$nulls":3},"DSL"]
[{"$nulls":12},"4.POTR.DSLA","А (арктическое)","руб./тнт",{"$nulls":22},{"v":0,"d":"0.00"},{"$nulls":5},"DSLA"]
[{"$nulls":12},"4.POTR.DSLW","З (зимнее)","руб./тнт",{"$nulls":22},{"v":0,"d":"0.00"},{"$nulls":5},"DSLW"]
[{"$nulls":12},"4.POTR.DSLS","Л (летнее)","руб./тнт",{"$nulls":22},{"v":0,"d":"0.00"},{"$nulls":5},"DSLS"]
[{"$nulls":12},"4.POTR.DSLO","Е (межсезонное)","руб./тнт",{"$nulls":22},{"v":0,"d":"0.00"},{"$nulls":5},"DSLO"]
[{"$nulls":12},"4.POTR.MST","Мазут","руб./тнт",{"$nulls":22},{"v":0,"d":"0.00"},{"$f":"IF(AM1760=0,0,AM1804/AM1760*1000)","v":{"v":0,"d":"0.00"}},{"$f":"IF(AN1760=0,0,AN1804/AN1760*1000)","v":{"v":0,"d":"0.00"}},{"$nulls":3},"MST"]
[{"$nulls":12},"4.POTR.MSTM40","М-40","руб./тнт",{"$nulls":22},{"v":0,"d":"0.00"},{"$nulls":5},"MSTM40"]
[{"$nulls":12},"4.POTR.MSTM100","М-100","руб./тнт",{"$nulls":22},{"v":0,"d":"0.00"},{"$nulls":5},"MSTM100"]
[{"$nulls":12},"4.POTR.MSTM200","М-200","руб./тнт",{"$nulls":22},{"v":0,"d":"0.00"},{"$nulls":5},"MSTM200"]
[{"$nulls":12},"4.POTR.MSTT","мазут марки \"Т\"","руб./тнт",{"$nulls":22},{"v":0,"d":"0.00"},{"$nulls":5},"MSTT"]
[{"$nulls":12},"4.POTR.MSTF5","Ф-5","руб./тнт",{"$nulls":22},{"v":0,"d":"0.00"},{"$nulls":5},"MSTF5"]
[{"$nulls":12},"4.POTR.MSTF12","Ф-12","руб./тнт",{"$nulls":22},{"v":0,"d":"0.00"},{"$nulls":5},"MSTF12"]
[{"$nulls":12},"4.POTR.OIL","Нефть","руб./тнт",{"$nulls":22},{"v":0,"d":"0.00"},{"$nulls":5},"OIL"]
[{"$nulls":12},"4.POTR.COA","Уголь","руб./тнт",{"$nulls":22},{"v":0,"d":"0.00"},{"$f":"IF(AM1768=0,0,AM1812/AM1768*1000)","v":{"v":0,"d":"0.00"}},{"$f":"IF(AN1768=0,0,AN1812/AN1768*1000)","v":{"v":0,"d":"0.00"}},{"$nulls":3},"COA"]
[{"$nulls":12},"4.POTR.COAA","Уголь антрацит","руб./тнт",{"$nulls":22},{"v":0,"d":"0.00"},{"$nulls":5},"COAA"]
[{"$nulls":12},"4.POTR.COAB","Уголь бурый","руб./тнт",{"$nulls":22},{"v":0,"d":"0.00"},{"$nulls":5},"COAB"]
[{"$nulls":12},"4.POTR.COAG","Уголь газовый","руб./тнт",{"$nulls":22},{"v":0,"d":"0.00"},{"$nulls":5},"COAG"]
[{"$nulls":12},"4.POTR.COALF","Уголь длиннопламенный","руб./тнт",{"$nulls":22},{"v":0,"d":"0.00"},{"$nulls":5},"COALF"]
[{"$nulls":12},"4.POTR.COAF","Уголь жирный","руб./тнт",{"$nulls":22},{"v":0,"d":"0.00"},{"$nulls":5},"COAF"]
[{"$nulls":12},"4.POTR.COAC","Уголь коксовый","руб./тнт",{"$nulls":22},{"v":0,"d":"0.00"},{"$nulls":5},"COAC"]
[{"$nulls":12},"4.POTR.COASC","Уголь отощённо-спекающийся","руб./тнт",{"$nulls":22},{"v":0,"d":"0.00"},{"$nulls":5},"COASC"]
[{"$nulls":12},"4.POTR.COAWC","Уголь слабоспекающийся","руб./тнт",{"$nulls":22},{"v":0,"d":"0.00"},{"$nulls":5},"COAWC"]
[{"$nulls":12},"4.POTR.COAS","Уголь тощий","руб./тнт",{"$nulls":22},{"v":0,"d":"0.00"},{"$nulls":5},"COAS"]
[]
[]
[{"$nulls":12},"4.POTR.CWD","Уголь древесный","руб./тнт",{"$nulls":22},{"$f":"IF(AL1780=0,0,AL1824/AL1780*1000)","v":{"v":0,"d":"0.00"}},{"$nulls":5},"CWD"]
[{"$nulls":12},"4.POTR.WDS","Дрова","руб./тнт",{"$nulls":22},{"v":0,"d":"0.00"},{"$nulls":5},"WDS"]
[{"$nulls":12},"4.POTR.PLT","Пеллеты","руб./тнт",{"$nulls":22},{"v":0,"d":"0.00"},{"$nulls":5},"PLT"]
[{"$nulls":12},"4.POTR.SAW","Опилки","руб./тнт",{"$nulls":22},{"v":0,"d":"0.00"},{"$nulls":5},"SAW"]
[{"$nulls":12},"4.POTR.PEA","Торф","руб./тнт",{"$nulls":22},{"v":0,"d":"0.00"},{"$nulls":5},"PEA"]
[{"$nulls":12},"4.POTR.SHL","Сланцы","руб./тнт",{"$nulls":22},{"v":0,"d":"0.00"},{"$nulls":5},"SHL"]
[{"$nulls":12},"4.POTR.STF","Печное бытовое топливо","руб./тнт",{"$nulls":22},{"v":0,"d":"0.00"},{"$nulls":5},"STF"]
[]
[{"$nulls":12},"4.VOTR","Иные виды транспортировки (перевозки). Объём транспортировки (перевозки) топлива"]
{"$rows_empty":8}
[{"$nulls":12},"4.VOTR.GCN","Газовый конденсат","тнт",{"$nulls":22},{"$f":"AM1753+AN1753","v":{"v":0,"d":"0.00"}},{"$nulls":5},"GCN"]
[{"$nulls":12},"4.VOTR.LNG","Газ сжиженный","тнт",{"$nulls":22},{"v":0,"d":"0.00"},{"$nulls":5},"LNG"]
[{"$nulls":12},"4.VOTR.DSL","Дизельное топливо","тнт",{"$nulls":22},{"v":0,"d":"0.00"},{"$f":"SUM(AM1756:AM1759)","v":{"v":0,"d":"0.00"}},{"$f":"SUM(AN1756:AN1759)","v":{"v":0,"d":"0.00"}},{"$nulls":3},"DSL"]
[{"$nulls":12},"4.VOTR.DSLA","А (арктическое)","тнт",{"$nulls":22},{"v":0,"d":"0.00"},{"$nulls":5},"DSLA"]
[{"$nulls":12},"4.VOTR.DSLW","З (зимнее)","тнт",{"$nulls":22},{"v":0,"d":"0.00"},{"$nulls":5},"DSLW"]
[{"$nulls":12},"4.VOTR.DSLS","Л (летнее)","тнт",{"$nulls":22},{"v":0,"d":"0.00"},{"$nulls":5},"DSLS"]
[{"$nulls":12},"4.VOTR.DSLO","Е (межсезонное)","тнт",{"$nulls":22},{"v":0,"d":"0.00"},{"$nulls":5},"DSLO"]
[{"$nulls":12},"4.VOTR.MST","Мазут","тнт",{"$nulls":22},{"v":0,"d":"0.00"},{"$f":"SUM(AM1761:AM1766)","v":{"v":0,"d":"0.00"}},{"$f":"SUM(AN1761:AN1766)","v":{"v":0,"d":"0.00"}},{"$nulls":3},"MST"]
[{"$nulls":12},"4.VOTR.MSTM40","М-40","тнт",{"$nulls":22},{"v":0,"d":"0.00"},{"$nulls":5},"MSTM40"]
[{"$nulls":12},"4.VOTR.MSTM100","М-100","тнт",{"$nulls":22},{"v":0,"d":"0.00"},{"$nulls":5},"MSTM100"]
[{"$nulls":12},"4.VOTR.MSTM200","М-200","тнт",{"$nulls":22},{"v":0,"d":"0.00"},{"$nulls":5},"MSTM200"]
[{"$nulls":12},"4.VOTR.MSTT","мазут марки \"Т\"","тнт",{"$nulls":22},{"v":0,"d":"0.00"},{"$nulls":5},"MSTT"]
[{"$nulls":12},"4.VOTR.MSTF5","Ф-5","тнт",{"$nulls":22},{"v":0,"d":"0.00"},{"$nulls":5},"MSTF5"]
[{"$nulls":12},"4.VOTR.MSTF12","Ф-12","тнт",{"$nulls":22},{"v":0,"d":"0.00"},{"$nulls":5},"MSTF12"]
[{"$nulls":12},"4.VOTR.OIL","Нефть","тнт",{"$nulls":22},{"v":0,"d":"0.00"},{"$nulls":5},"OIL"]
[{"$nulls":12},"4.VOTR.COA","Уголь","тнт",{"$nulls":22},{"v":0,"d":"0.00"},{"$f":"SUM(AM1769:AM1777)","v":{"v":0,"d":"0.00"}},{"$f":"SUM(AN1769:AN1777)","v":{"v":0,"d":"0.00"}},{"$nulls":3},"COA"]
[{"$nulls":12},"4.VOTR.COAA","Уголь антрацит","тнт",{"$nulls":22},{"v":0,"d":"0.00"},{"$nulls":5},"COAA"]
[{"$nulls":12},"4.VOTR.COAB","Уголь бурый","тнт",{"$nulls":22},{"v":0,"d":"0.00"},{"$nulls":5},"COAB"]
[{"$nulls":12},"4.VOTR.COAG","Уголь газовый","тнт",{"$nulls":22},{"v":0,"d":"0.00"},{"$nulls":5},"COAG"]
[{"$nulls":12},"4.VOTR.COALF","Уголь длиннопламенный","тнт",{"$nulls":22},{"v":0,"d":"0.00"},{"$nulls":5},"COALF"]
[{"$nulls":12},"4.VOTR.COAF","Уголь жирный","тнт",{"$nulls":22},{"v":0,"d":"0.00"},{"$nulls":5},"COAF"]
[{"$nulls":12},"4.VOTR.COAC","Уголь коксовый","тнт",{"$nulls":22},{"v":0,"d":"0.00"},{"$nulls":5},"COAC"]
[{"$nulls":12},"4.VOTR.COASC","Уголь отощённо-спекающийся","тнт",{"$nulls":22},{"v":0,"d":"0.00"},{"$nulls":5},"COASC"]
[{"$nulls":12},"4.VOTR.COAWC","Уголь слабоспекающийся","тнт",{"$nulls":22},{"v":0,"d":"0.00"},{"$nulls":5},"COAWC"]
[{"$nulls":12},"4.VOTR.COAS","Уголь тощий","тнт",{"$nulls":22},{"v":0,"d":"0.00"},{"$nulls":5},"COAS"]
[]
[]
[{"$nulls":12},"4.VOTR.CWD","Уголь древесный","тнт",{"$nulls":22},{"$f":"AM1780+AN1780","v":{"v":0,"d":"0.00"}},{"$nulls":5},"CWD"]
[{"$nulls":12},"4.VOTR.WDS","Дрова","тнт",{"$nulls":22},{"v":0,"d":"0.00"},{"$nulls":5},"WDS"]
[{"$nulls":12},"4.VOTR.PLT","Пеллеты","тнт",{"$nulls":22},{"v":0,"d":"0.00"},{"$nulls":5},"PLT"]
[{"$nulls":12},"4.VOTR.SAW","Опилки","тнт",{"$nulls":22},{"v":0,"d":"0.00"},{"$nulls":5},"SAW"]
[{"$nulls":12},"4.VOTR.PEA","Торф","тнт",{"$nulls":22},{"v":0,"d":"0.00"},{"$nulls":5},"PEA"]
[{"$nulls":12},"4.VOTR.SHL","Сланцы","тнт",{"$nulls":22},{"v":0,"d":"0.00"},{"$nulls":5},"SHL"]
[{"$nulls":12},"4.VOTR.STF","Печное бытовое топливо","тнт",{"$nulls":22},{"v":0,"d":"0.00"},{"$nulls":5},"STF"]
[]
[{"$nulls":12},"4.COTR","Иные виды транспортировки (перевозки). Стоимость транспортировки (перевозки) топлива","тыс.руб.",{"$nulls":16},{"$f":"SUM(AF1789,AF1793:AF1798,AF1799,AF1804,AF1811,AF1812,AF1824:AF1830)","v":{"v":0,"d":"0.00"}},{"$f":"SUM(AG1789,AG1793:AG1798,AG1799,AG1804,AG1811,AG1812,AG1824:AG1830)","v":{"v":0,"d":"0.00"}},{"$f":"SUM(AH1789,AH1793:AH1798,AH1799,AH1804,AH1811,AH1812,AH1824:AH1830)","v":{"v":0,"d":"0.00"}},{"$nulls":3},{"$f":"SUM(AL1789,AL1793:AL1798,AL1799,AL1804,AL1811,AL1812,AL1824:AL1830)","v":{"v":0,"d":"0.00"}},{"$f":"SUM(AM1789,AM1793:AM1798,AM1799,AM1804,AM1811,AM1812,AM1824:AM1830)","v":{"v":0,"d":"0.00"}},{"$f":"SUM(AN1789,AN1793:AN1798,AN1799,AN1804,AN1811,AN1812,AN1824:AN1830)","v":{"v":0,"d":"0.00"}}]
{"$rows_empty":8}
[{"$nulls":12},"4.COTR.GCN","Газовый конденсат","тыс.руб.",{"$nulls":22},{"$f":"AM1797+AN1797","v":{"v":0,"d":"0.00"}},{"$f":"AM1709*AM1753/1000","v":{"v":0,"d":"0.00"}},{"v":0,"d":"0.00"},{"$nulls":3},"GCN"]
[{"$nulls":12},"4.COTR.LNG","Газ сжиженный","тыс.руб.",{"$nulls":22},{"v":0,"d":"0.00"},{"v":0,"d":"0.00"},{"v":0,"d":"0.00"},{"$nulls":3},"LNG"]
[{"$nulls":12},"4.COTR.DSL","Дизельное топливо","тыс.руб.",{"$nulls":22},{"v":0,"d":"0.00"},{"$f":"SUM(AM1800:AM1803)","v":{"v":0,"d":"0.00"}},{"$f":"SUM(AN1800:AN1803)","v":{"v":0,"d":"0.00"}},{"$nulls":3},"DSL"]
[{"$nulls":12},"4.COTR.DSLA","А (арктическое)","тыс.руб.",{"$nulls":22},{"v":0,"d":"0.00"},{"v":0,"d":"0.00"},{"v":0,"d":"0.00"},{"$nulls":3},"DSLA"]
[{"$nulls":12},"4.COTR.DSLW","З (зимнее)","тыс.руб.",{"$nulls":22},{"v":0,"d":"0.00"},{"v":0,"d":"0.00"},{"v":0,"d":"0.00"},{"$nulls":3},"DSLW"]
[{"$nulls":12},"4.COTR.DSLS","Л (летнее)","тыс.руб.",{"$nulls":22},{"v":0,"d":"0.00"},{"v":0,"d":"0.00"},{"v":0,"d":"0.00"},{"$nulls":3},"DSLS"]
[{"$nulls":12},"4.COTR.DSLO","Е (межсезонное)","тыс.руб.",{"$nulls":22},{"v":0,"d":"0.00"},{"v":0,"d":"0.00"},{"v":0,"d":"0.00"},{"$nulls":3},"DSLO"]
[{"$nulls":12},"4.COTR.MST","Мазут","тыс.руб.",{"$nulls":22},{"v":0,"d":"0.00"},{"$f":"SUM(AM1805:AM1810)","v":{"v":0,"d":"0.00"}},{"$f":"SUM(AN1805:AN1810)","v":{"v":0,"d":"0.00"}},{"$nulls":3},"MST"]
[{"$nulls":12},"4.COTR.MSTM40","М-40","тыс.руб.",{"$nulls":22},{"v":0,"d":"0.00"},{"v":0,"d":"0.00"},{"v":0,"d":"0.00"},{"$nulls":3},"MSTM40"]
[{"$nulls":12},"4.COTR.MSTM100","М-100","тыс.руб.",{"$nulls":22},{"v":0,"d":"0.00"},{"v":0,"d":"0.00"},{"v":0,"d":"0.00"},{"$nulls":3},"MSTM100"]
[{"$nulls":12},"4.COTR.MSTM200","М-200","тыс.руб.",{"$nulls":22},{"v":0,"d":"0.00"},{"v":0,"d":"0.00"},{"v":0,"d":"0.00"},{"$nulls":3},"MSTM200"]
[{"$nulls":12},"4.COTR.MSTT","мазут марки \"Т\"","тыс.руб.",{"$nulls":22},{"v":0,"d":"0.00"},{"v":0,"d":"0.00"},{"v":0,"d":"0.00"},{"$nulls":3},"MSTT"]
[{"$nulls":12},"4.COTR.MSTF5","Ф-5","тыс.руб.",{"$nulls":22},{"v":0,"d":"0.00"},{"v":0,"d":"0.00"},{"v":0,"d":"0.00"},{"$nulls":3},"MSTF5"]
[{"$nulls":12},"4.COTR.MSTF12","Ф-12","тыс.руб.",{"$nulls":22},{"v":0,"d":"0.00"},{"v":0,"d":"0.00"},{"v":0,"d":"0.00"},{"$nulls":3},"MSTF12"]
[{"$nulls":12},"4.COTR.OIL","Нефть","тыс.руб.",{"$nulls":22},{"v":0,"d":"0.00"},{"v":0,"d":"0.00"},{"v":0,"d":"0.00"},{"$nulls":3},"OIL"]
[{"$nulls":12},"4.COTR.COA","Уголь","тыс.руб.",{"$nulls":22},{"v":0,"d":"0.00"},{"$f":"SUM(AM1813:AM1821)","v":{"v":0,"d":"0.00"}},{"$f":"SUM(AN1813:AN1821)","v":{"v":0,"d":"0.00"}},{"$nulls":3},"COA"]
[{"$nulls":12},"4.COTR.COAA","Уголь антрацит","тыс.руб.",{"$nulls":22},{"v":0,"d":"0.00"},{"$f":"AM1725*AM1769/1000","v":{"v":0,"d":"0.00"}},{"v":0,"d":"0.00"},{"$nulls":3},"COAA"]
[{"$nulls":12},"4.COTR.COAB","Уголь бурый","тыс.руб.",{"$nulls":22},{"v":0,"d":"0.00"},{"v":0,"d":"0.00"},{"v":0,"d":"0.00"},{"$nulls":3},"COAB"]
[{"$nulls":12},"4.COTR.COAG","Уголь газовый","тыс.руб.",{"$nulls":22},{"v":0,"d":"0.00"},{"v":0,"d":"0.00"},{"v":0,"d":"0.00"},{"$nulls":3},"COAG"]
[{"$nulls":12},"4.COTR.COALF","Уголь длиннопламенный","тыс.руб.",{"$nulls":22},{"v":0,"d":"0.00"},{"v":0,"d":"0.00"},{"v":0,"d":"0.00"},{"$nulls":3},"COALF"]
[{"$nulls":12},"4.COTR.COAF","Уголь жирный","тыс.руб.",{"$nulls":22},{"v":0,"d":"0.00"},{"v":0,"d":"0.00"},{"v":0,"d":"0.00"},{"$nulls":3},"COAF"]
[{"$nulls":12},"4.COTR.COAC","Уголь коксовый","тыс.руб.",{"$nulls":22},{"v":0,"d":"0.00"},{"v":0,"d":"0.00"},{"v":0,"d":"0.00"},{"$nulls":3},"COAC"]
[{"$nulls":12},"4.COTR.COASC","Уголь отощённо-спекающийся","тыс.руб.",{"$nulls":22},{"v":0,"d":"0.00"},{"v":0,"d":"0.00"},{"v":0,"d":"0.00"},{"$nulls":3},"COASC"]
[{"$nulls":12},"4.COTR.COAWC","Уголь слабоспекающийся","тыс.руб.",{"$nulls":22},{"v":0,"d":"0.00"},{"v":0,"d":"0.00"},{"v":0,"d":"0.00"},{"$nulls":3},"COAWC"]
[{"$nulls":12},"4.COTR.COAS","Уголь тощий","тыс.руб.",{"$nulls":22},{"v":0,"d":"0.00"},{"v":0,"d":"0.00"},{"v":0,"d":"0.00"},{"$nulls":3},"COAS"]
[]
[]
[{"$nulls":12},"4.COTR.CWD","Уголь древесный","тыс.руб.",{"$nulls":22},{"$f":"AM1824+AN1824","v":{"v":0,"d":"0.00"}},{"$f":"AM1736*AM1780/1000","v":{"v":0,"d":"0.00"}},{"v":0,"d":"0.00"},{"$nulls":3},"CWD"]
[{"$nulls":12},"4.COTR.WDS","Дрова","тыс.руб.",{"$nulls":22},{"v":0,"d":"0.00"},{"v":0,"d":"0.00"},{"v":0,"d":"0.00"},{"$nulls":3},"WDS"]
[{"$nulls":12},"4.COTR.PLT","Пеллеты","тыс.руб.",{"$nulls":22},{"v":0,"d":"0.00"},{"v":0,"d":"0.00"},{"v":0,"d":"0.00"},{"$nulls":3},"PLT"]
[{"$nulls":12},"4.COTR.SAW","Опилки","тыс.руб.",{"$nulls":22},{"v":0,"d":"0.00"},{"v":0,"d":"0.00"},{"v":0,"d":"0.00"},{"$nulls":3},"SAW"]
[{"$nulls":12},"4.COTR.PEA","Торф","тыс.руб.",{"$nulls":22},{"v":0,"d":"0.00"},{"v":0,"d":"0.00"},{"v":0,"d":"0.00"},{"$nulls":3},"PEA"]
[{"$nulls":12},"4.COTR.SHL","Сланцы","тыс.руб.",{"$nulls":22},{"v":0,"d":"0.00"},{"v":0,"d":"0.00"},{"v":0,"d":"0.00"},{"$nulls":3},"SHL"]
[{"$nulls":12},"4.COTR.STF","Печное бытовое топливо","тыс.руб.",{"$nulls":22},{"v":0,"d":"0.00"},{"v":0,"d":"0.00"},{"v":0,"d":"0.00"},{"$nulls":3},"STF"]
[]
[]
[{"$nulls":13},"Показатели расхода электроэнергии по уровням напряжения"]
[]
[{"$nulls":12},"4.13.0.1","объём энергии","тыс.кВтч",{"$nulls":22},{"$f":"AM1835+AN1835","v":{"v":0,"d":"0.00"}},{"$f":"AM1839+AM1845+AM1851+AM1857","v":{"v":0,"d":"0.00"}},{"$f":"AN1839+AN1845+AN1851+AN1857","v":{"v":0,"d":"0.00"}},{"$nulls":3},"ENR"]
[{"$nulls":12},"4.13.0.2","объём заявленной мощности","МВт",{"$nulls":22},{"$f":"AM1836+AN1836","v":{"v":0,"d":"0.00"}},{"$f":"AM1842+AM1848+AM1854+AM1860","v":{"v":0,"d":"0.00"}},{"$f":"AN1842+AN1848+AN1854+AN1860","v":{"v":0,"d":"0.00"}},{"$nulls":3},"PWR"]
[{"$nulls":12},"4.13.1.1","энергия НН (0,4 кВ и ниже)","тыс.руб.",{"$nulls":22},{"$f":"AM1837+AN1837","v":{"v":0,"d":"0.00"}},{"$f":"AM1838*AM1839","v":{"v":0,"d":"0.00"}},{"$f":"AN1838*AN1839","v":{"v":0,"d":"0.00"}},{"$nulls":3},"ENR"]
[{"$nulls":12},{"$f":"M1837 & \".1\"","v":"4.13.1.1.1"},"тариф на энергию","руб./кВт*ч",{"$nulls":22},{"$f":"IF(AL1839=0,0,AL1837/AL1839)","v":{"v":0,"d":"0.00"}},{"$nulls":5},"ENR"]
[{"$nulls":12},{"$f":"M1837 & \".2\"","v":"4.13.1.1.2"},"объём энергии","тыс.кВтч",{"$nulls":22},{"$f":"AM1839+AN1839","v":{"v":0,"d":"0.00"}},{"$nulls":5},"ENR"]
[{"$nulls":12},"4.13.1.2","заявленная мощность по НН (0,4 кВ и ниже)","тыс.руб.",{"$nulls":22},{"$f":"AM1840+AN1840","v":{"v":0,"d":"0.00"}},{"$f":"AM1841*AM1842","v":{"v":0,"d":"0.00"}},{"$f":"AN1841*AN1842","v":{"v":0,"d":"0.00"}},{"$nulls":3},"PWR"]
[{"$nulls":12},{"$f":"M1840 & \".1\"","v":"4.13.1.2.1"},"тариф на заявленную мощность","руб./кВт*мес",{"$nulls":22},{"$f":"IF(AL1842=0,0,AL1840/AL1842)","v":{"v":0,"d":"0.00"}},{"$nulls":5},"PWR"]
[{"$nulls":12},{"$f":"M1840 & \".2\"","v":"4.13.1.2.2"},"годовой объём мощности","МВт",{"$nulls":22},{"$f":"AM1842+AN1842","v":{"v":0,"d":"0.00"}},{"$nulls":5},"PWR"]
[{"$nulls":12},"4.13.2.1","энергия СН 2 (1-20 кВ)","тыс.руб.",{"$nulls":22},{"$f":"AM1843+AN1843","v":{"v":0,"d":"0.00"}},{"$f":"AM1844*AM1845","v":{"v":0,"d":"0.00"}},{"$f":"AN1844*AN1845","v":{"v":0,"d":"0.00"}},{"$nulls":3},"ENR"]
[{"$nulls":12},{"$f":"M1843 & \".1\"","v":"4.13.2.1.1"},"тариф на энергию","руб./кВт*ч",{"$nulls":22},{"$f":"IF(AL1845=0,0,AL1843/AL1845)","v":{"v":0,"d":"0.00"}},{"$nulls":5},"ENR"]
[{"$nulls":12},{"$f":"M1843 & \".2\"","v":"4.13.2.1.2"},"объём энергии","тыс.кВтч",{"$nulls":22},{"$f":"AM1845+AN1845","v":{"v":0,"d":"0.00"}},{"$nulls":5},"ENR"]
[{"$nulls":12},"4.13.2.2","заявленная мощность по СН 2 (1-20 кВ)","тыс.руб.",{"$nulls":22},{"$f":"AM1846+AN1846","v":{"v":0,"d":"0.00"}},{"$f":"AM1847*AM1848","v":{"v":0,"d":"0.00"}},{"$f":"AN1847*AN1848","v":{"v":0,"d":"0.00"}},{"$nulls":3},"PWR"]
[{"$nulls":12},{"$f":"M1846 & \".1\"","v":"4.13.2.2.1"},"тариф на заявленную мощность","руб./кВт*мес",{"$nulls":22},{"$f":"IF(AL1848=0,0,AL1846/AL1848)","v":{"v":0,"d":"0.00"}},{"$nulls":5},"PWR"]
[{"$nulls":12},{"$f":"M1846 & \".2\"","v":"4.13.2.2.2"},"годовой объём мощности","МВт",{"$nulls":22},{"$f":"AM1848+AN1848","v":{"v":0,"d":"0.00"}},{"$nulls":5},"PWR"]
[{"$nulls":12},"4.13.3.1","энергия СН 1 (35 кВ)","тыс.руб.",{"$nulls":22},{"$f":"AM1849+AN1849","v":{"v":0,"d":"0.00"}},{"$f":"AM1850*AM1851","v":{"v":0,"d":"0.00"}},{"$f":"AN1850*AN1851","v":{"v":0,"d":"0.00"}},{"$nulls":3},"ENR"]
[{"$nulls":12},{"$f":"M1849 & \".1\"","v":"4.13.3.1.1"},"тариф на энергию","руб./кВт*ч",{"$nulls":22},{"$f":"IF(AL1851=0,0,AL1849/AL1851)","v":{"v":0,"d":"0.00"}},{"$nulls":5},"ENR"]
[{"$nulls":12},{"$f":"M1849 & \".2\"","v":"4.13.3.1.2"},"объём энергии","тыс.кВтч",{"$nulls":22},{"$f":"AM1851+AN1851","v":{"v":0,"d":"0.00"}},{"$nulls":5},"ENR"]
[{"$nulls":12},"4.13.3.2","заявленная мощность по СН 1 (35 кВ)","тыс.руб.",{"$nulls":22},{"$f":"AM1852+AN1852","v":{"v":0,"d":"0.00"}},{"$f":"AM1853*AM1854","v":{"v":0,"d":"0.00"}},{"$f":"AN1853*AN1854","v":{"v":0,"d":"0.00"}},{"$nulls":3},"PWR"]
[{"$nulls":12},{"$f":"M1852 & \".1\"","v":"4.13.3.2.1"},"тариф на заявленную мощность","руб./кВт*мес",{"$nulls":22},{"$f":"IF(AL1854=0,0,AL1852/AL1854)","v":{"v":0,"d":"0.00"}},{"$nulls":5},"PWR"]
[{"$nulls":12},{"$f":"M1852 & \".2\"","v":"4.13.3.2.2"},"годовой объём мощности","МВт",{"$nulls":22},{"$f":"AM1854+AN1854","v":{"v":0,"d":"0.00"}},{"$nulls":5},"PWR"]
[{"$nulls":12},"4.13.4.1","энергия ВН (110 кВ и выше)","тыс.руб.",{"$nulls":22},{"$f":"AM1855+AN1855","v":{"v":0,"d":"0.00"}},{"$f":"AM1856*AM1857","v":{"v":0,"d":"0.00"}},{"$f":"AN1856*AN1857","v":{"v":0,"d":"0.00"}},{"$nulls":3},"ENR"]
[{"$nulls":12},{"$f":"M1855 & \".1\"","v":"4.13.4.1.1"},"тариф на энергию","руб./кВт*ч",{"$nulls":22},{"$f":"IF(AL1857=0,0,AL1855/AL1857)","v":{"v":0,"d":"0.00"}},{"$nulls":5},"ENR"]
[{"$nulls":12},{"$f":"M1855 & \".2\"","v":"4.13.4.1.2"},"объём энергии","тыс.кВтч",{"$nulls":22},{"$f":"AM1857+AN1857","v":{"v":0,"d":"0.00"}},{"$nulls":5},"ENR"]
[{"$nulls":12},"4.13.4.2","заявленная мощность по ВН (110 кВ и выше)","тыс.руб.",{"$nulls":22},{"$f":"AM1858+AN1858","v":{"v":0,"d":"0.00"}},{"$f":"AM1859*AM1860","v":{"v":0,"d":"0.00"}},{"$f":"AN1859*AN1860","v":{"v":0,"d":"0.00"}},{"$nulls":3},"PWR"]
[{"$nulls":12},{"$f":"M1858 & \".1\"","v":"4.13.4.2.1"},"тариф на заявленную мощность","руб./кВт*мес",{"$nulls":22},{"$f":"IF(AL1860=0,0,AL1858/AL1860)","v":{"v":0,"d":"0.00"}},{"$nulls":5},"PWR"]
[{"$nulls":12},{"$f":"M1858 & \".2\"","v":"4.13.4.2.2"},"годовой объём мощности","МВт",{"$nulls":22},{"$f":"AM1860+AN1860","v":{"v":0,"d":"0.00"}},{"$nulls":5},"PWR"]
[]
[{"$nulls":13},"Прочие виды топлива","тыс.руб.",{"$nulls":22},{"$f":"AM1862+AN1862","v":{"v":0,"d":"0.00"}},{"$f":"SUM(AM1863,AM1866,AM1869)","v":{"v":0,"d":"0.00"}},{"$f":"SUM(AN1863,AN1866,AN1869)","v":{"v":0,"d":"0.00"}},{"$nulls":3},"OTH"]
[{"$nulls":12},"4.14.1","Биогаз","тыс.руб.",{"$nulls":22},{"v":0,"d":"0.00"},{"$f":"AM1864*AM1865/1000","v":{"v":0,"d":"0.00"}},{"$f":"AN1864*AN1865/1000","v":{"v":0,"d":"0.00"}},{"$nulls":3},"OTH"]
[{"$nulls":12},"4.14.1.1","Цена","руб./тыс.м3",{"$nulls":22},{"v":0,"d":"0.00"},{"$nulls":5},"OTH"]
[{"$nulls":12},"4.14.1.2","Объём","тыс.м3",{"$nulls":22},{"v":0,"d":"0.00"},{"$nulls":5},"OTH"]
[{"$nulls":12},"4.14.2","ТБО","тыс.руб.",{"$nulls":22},{"v":0,"d":"0.00"},{"$f":"AM1867*AM1868/1000","v":{"v":0,"d":"0.00"}},{"$f":"AN1867*AN1868/1000","v":{"v":0,"d":"0.00"}},{"$nulls":3},"OTH"]
[{"$nulls":12},"4.14.2.1","Цена","руб./тнт",{"$nulls":22},{"v":0,"d":"0.00"},{"$nulls":5},"OTH"]
[{"$nulls":12},"4.14.2.2","Объём","тнт",{"$nulls":22},{"v":0,"d":"0.00"},{"$nulls":5},"OTH"]
[{"$nulls":12},"4.14.3","Иные виды топлива","тыс.руб.",{"$nulls":22},{"v":0,"d":"0.00"},{"$nulls":5},"OTH"]
[]
[{"$nulls":12},"21","Полезный отпуск продукции всего","Гкал",{"$nulls":16},{"$f":"SUMIF(ТС.РО!$AS$15:$AT$15,AF$15,ТС.РО!$AS$370:$AT$370)","v":{"v":0,"d":"0.00"}},{"$f":"SUMIF(ТС.РО!$AS$15:$AT$15,AG$15,ТС.РО!$AS$370:$AT$370)","v":{"v":0,"d":"0.00"}},{"$f":"SUMIF(ТС.РО!$AS$15:$AT$15,AH$15,ТС.РО!$AS$370:$AT$370)","v":{"v":0,"d":"0.00"}}]
{"$rows_empty":83}
[{"$nulls":28},"COLDVSNA_CALC_ADD_RANGE"]
[]
[]
[]
[{"$nulls":28},12,6,6]
[]
[]
[{"$nulls":28},"Y","I","II"]
[]
[]
[]
[{"$nulls":28},"Год","I полугодие","II полугодие"]
[]
[{"$nulls":28},{"$f":"AC1970 & \"_\" & AC1962","v":"0_Y"},{"$f":"AD1970 & \"_\" & AD1962","v":"0_I"},{"$f":"AE1970 & \"_\" & AE1962","v":"0_II"}]
[]
[{"$nulls":28},{"$f":"AC1972","v":0},{"$f":"AC1972","v":0},{"$f":"AC1972","v":0}]
[{"$nulls":28},"Удалить"]
[{"$nulls":12},"№ п/п","Наименование показателя","Единица измерения"]
[]
[{"$nulls":13},"Является ли организация плательщиком НДС",{"$nulls":20},"COLDVSNA_CALC_EMPTY_BASE_RANGE"]
[{"$nulls":13},{"$f":"IF(CALC_IDENTIFIER=\"\",\"\",CALC_IDENTIFIER)","v":"Вид стоков"},{"$nulls":20},"COLDVSNA_CALC_SINGLE_BASE_RANGE"]
[{"$nulls":12},"1","Производственные расходы","тыс.руб.",{"$nulls":16},{"$f":"AG1976+AH1976","v":{"v":0,"d":"0.00"}},{"$f":"SUM(AG1977,AG1981,AG2059,AG2060,AG2073,AG2074,AG2075,AG2080)","v":{"v":0,"d":"0.00"}},{"$f":"SUM(AH1977,AH1981,AH2059,AH2060,AH2073,AH2074,AH2075,AH2080)","v":{"v":0,"d":"0.00"}}]
[{"$nulls":12},"1.1","Расходы на приобретение сырья и материалов и их хранение","тыс.руб.",{"$nulls":16},{"v":0,"d":"0.00"},{"$f":"SUM(AG1978,AG1979,AG1980)","v":{"v":0,"d":"0.00"}},{"$f":"SUM(AH1978,AH1979,AH1980)","v":{"v":0,"d":"0.00"}}]
[{"$nulls":12},"1.1.1","Реагенты ","тыс.руб.",{"$nulls":16},{"v":0,"d":"0.00"},{"$f":"ХВС.Р!AG$25","v":{"v":0,"d":"0.00"}},{"$f":"ХВС.Р!AH$25","v":{"v":0,"d":"0.00"}}]
[{"$nulls":12},"1.1.2","Горюче-смазочные материалы","тыс.руб.",{"$nulls":16},{"v":0,"d":"0.00"}]
[{"$nulls":12},"1.1.3","Материалы и малоценные основные средства","тыс.руб.",{"$nulls":16},{"v":0,"d":"0.00"}]
[{"$nulls":12},"1.2","Расходы на энергетические ресурсы и холодную воду","тыс.руб.",{"$nulls":16},{"v":0,"d":"0.00"},{"$f":"SUM(AG1982,AG2042,AG2043,AG2044,AG2049)","v":{"v":0,"d":"0.00"}},{"$f":"SUM(AH1982,AH2042,AH2043,AH2044,AH2049)","v":{"v":0,"d":"0.00"}}]
[{"$nulls":12},"1.2.1","электроэнергия ","тыс.руб.",{"$nulls":16},{"v":0,"d":"0.00"},{"$f":"SUM(AG2024,AG2036,AG2030)","v":{"v":0,"d":"0.00"}},{"$f":"SUM(AH2024,AH2036,AH2030)","v":{"v":0,"d":"0.00"}}]
[{"$nulls":12},"1.2.1.1","Объём покупной энергии"]
[{"$nulls":12},"1.2.1.1.1","Объём покупной энергии по одноставочному тарифу","тыс.кВт*ч",{"$nulls":16},{"$f":"SUM(AF1985:AF1989)","v":{"v":0,"d":"0.00"}},{"$f":"SUM(AG1985:AG1989)","v":{"v":0,"d":"0.00"}},{"$f":"SUM(AH1985:AH1989)","v":{"v":0,"d":"0.00"}}]
[{"$nulls":12},"1.2.1.1.1.1","НН","тыс.кВт*ч",{"$nulls":16},{"$f":"AG1985+AH1985","v":{"v":0,"d":"0.00"}}]
[{"$nulls":12},"1.2.1.1.1.2","СН1","тыс.кВт*ч",{"$nulls":16},{"$f":"AG1986+AH1986","v":{"v":0,"d":"0.00"}}]
[{"$nulls":12},"1.2.1.1.1.3","СН2","тыс.кВт*ч",{"$nulls":16},{"$f":"AG1987+AH1987","v":{"v":0,"d":"0.00"}}]
[{"$nulls":12},"1.2.1.1.1.4","ВН","тыс.кВт*ч",{"$nulls":16},{"$f":"AG1988+AH1988","v":{"v":0,"d":"0.00"}}]
[{"$nulls":12},"1.2.1.1.1.5","без разбивки по напряжению","тыс.кВт*ч",{"$nulls":16},{"$f":"AG1989+AH1989","v":{"v":0,"d":"0.00"}}]
[{"$nulls":12},"1.2.1.1.2","Объём покупной электроэнергии по двухставочному тарифу"]
[{"$nulls":12},"1.2.1.1.2.1","Мощность","МВт*мес",{"$nulls":16},{"$f":"SUM(AF1992:AF1996)","v":{"v":0,"d":"0.00"}},{"$f":"SUM(AG1992:AG1996)","v":{"v":0,"d":"0.00"}},{"$f":"SUM(AH1992:AH1996)","v":{"v":0,"d":"0.00"}}]
[{"$nulls":12},"1.2.1.1.2.1.1","НН","МВт*мес",{"$nulls":16},{"$f":"AG1992+AH1992","v":{"v":0,"d":"0.00"}}]
[{"$nulls":12},"1.2.1.1.2.1.2","СН1","МВт*мес",{"$nulls":16},{"$f":"AG1993+AH1993","v":{"v":0,"d":"0.00"}}]
[{"$nulls":12},"1.2.1.1.2.1.3","СН2","МВт*мес",{"$nulls":16},{"$f":"AG1994+AH1994","v":{"v":0,"d":"0.00"}}]
[{"$nulls":12},"1.2.1.1.2.1.4","ВН","МВт*мес",{"$nulls":16},{"$f":"AG1995+AH1995","v":{"v":0,"d":"0.00"}}]
[{"$nulls":12},"1.2.1.1.2.1.5","ГН","МВт*мес",{"$nulls":16},{"$f":"AG1996+AH1996","v":{"v":0,"d":"0.00"}}]
[{"$nulls":12},"1.2.1.1.2.2","Активная электроэнергия","тыс.кВт*ч",{"$nulls":16},{"$f":"SUM(AF1998:AF2002)","v":{"v":0,"d":"0.00"}},{"$f":"SUM(AG1998:AG2002)","v":{"v":0,"d":"0.00"}},{"$f":"SUM(AH1998:AH2002)","v":{"v":0,"d":"0.00"}}]
[{"$nulls":12},"1.2.1.1.2.2.1","НН","тыс.кВт*ч",{"$nulls":16},{"$f":"AG1998+AH1998","v":{"v":0,"d":"0.00"}}]
[{"$nulls":12},"1.2.1.1.2.2.2","СН1","тыс.кВт*ч",{"$nulls":16},{"$f":"AG1999+AH1999","v":{"v":0,"d":"0.00"}}]
[{"$nulls":12},"1.2.1.1.2.2.3","СН2","тыс.кВт*ч",{"$nulls":16},{"$f":"AG2000+AH2000","v":{"v":0,"d":"0.00"}}]
[{"$nulls":12},"1.2.1.1.2.2.4","ВН","тыс.кВт*ч",{"$nulls":16},{"$f":"AG2001+AH2001","v":{"v":0,"d":"0.00"}}]
[{"$nulls":12},"1.2.1.1.2.2.5","ГН","тыс.кВт*ч",{"$nulls":16},{"$f":"AG2002+AH2002","v":{"v":0,"d":"0.00"}}]
[{"$nulls":12},"1.2.1.2","Тариф на электроэнергию и мощность"]
[{"$nulls":12},"1.2.1.2.1","по одноставочному тарифу"]
[{"$nulls":12},"1.2.1.2.1.1","НН","руб./кВт*ч",{"$nulls":16},{"$f":"IF(AF1985=0,0,AF2025/AF1985)","v":{"v":0,"d":"0.00"}}]
[{"$nulls":12},"1.2.1.2.1.2","СН1","руб./кВт*ч",{"$nulls":16},{"$f":"IF(AF1986=0,0,AF2026/AF1986)","v":{"v":0,"d":"0.00"}}]
[{"$nulls":12},"1.2.1.2.1.3","СН2","руб./кВт*ч",{"$nulls":16},{"$f":"IF(AF1987=0,0,AF2027/AF1987)","v":{"v":0,"d":"0.00"}}]
[{"$nulls":12},"1.2.1.2.1.4","ВН","руб./кВт*ч",{"$nulls":16},{"$f":"IF(AF1988=0,0,AF2028/AF1988)","v":{"v":0,"d":"0.00"}}]
[{"$nulls":12},"1.2.1.2.1.5","без разбивки по напряжению","руб./кВт*ч",{"$nulls":16},{"$f":"IF(AF1989=0,0,AF2029/AF1989)","v":{"v":0,"d":"0.00"}}]
[{"$nulls":12},"1.2.1.2.1.6","Средний одноставочный тариф на электрическую энергию","руб./кВт*ч",{"$nulls":16},{"$f":"IF(AF1984=0,0,AF2024/AF1984)","v":{"v":0,"d":"0.00"}},{"$f":"IF(AG1984=0,0,AG2024/AG1984)","v":{"v":0,"d":"0.00"}},{"$f":"IF(AH1984=0,0,AH2024/AH1984)","v":{"v":0,"d":"0.00"}}]
[{"$nulls":12},"1.2.1.2.2","по двухставочному тарифу"]
[{"$nulls":12},"1.2.1.2.2.1","ставка за мощность","руб./МВт*мес",{"$nulls":16},{"$f":"IF(AF1991=0,0,(AF2013*AF1992+AF2014*AF1993+AF2015*AF1994+AF2016*AF1995+AF2017*AF1996)/AF1991)","v":{"v":0,"d":"0.00"}},{"$f":"IF(AG1991=0,0,(AG2013*AG1992+AG2014*AG1993+AG2015*AG1994+AG2016*AG1995+AG2017*AG1996)/AG1991)","v":{"v":0,"d":"0.00"}},{"$f":"IF(AH1991=0,0,(AH2013*AH1992+AH2014*AH1993+AH2015*AH1994+AH2016*AH1995+AH2017*AH1996)/AH1991)","v":{"v":0,"d":"0.00"}}]
[{"$nulls":12},"1.2.1.2.2.1.1","НН","руб./МВт*мес",{"$nulls":16},{"$f":"IF(AF1992=0,0,AF2031*1000/AF1992)","v":{"v":0,"d":"0.00"}}]
[{"$nulls":12},"1.2.1.2.2.1.2","СН1","руб./МВт*мес",{"$nulls":16},{"$f":"IF(AF1993=0,0,AF2032*1000/AF1993)","v":{"v":0,"d":"0.00"}}]
[{"$nulls":12},"1.2.1.2.2.1.3","СН2","руб./МВт*мес",{"$nulls":16},{"$f":"IF(AF1994=0,0,AF2033*1000/AF1994)","v":{"v":0,"d":"0.00"}}]
[{"$nulls":12},"1.2.1.2.2.1.4","ВН","руб./МВт*мес",{"$nulls":16},{"$f":"IF(AF1995=0,0,AF2034*1000/AF1995)","v":{"v":0,"d":"0.00"}}]
[{"$nulls":12},"1.2.1.2.2.1.5","ГН","руб./МВт*мес",{"$nulls":16},{"$f":"IF(AF1996=0,0,AF2035*1000/AF1996)","v":{"v":0,"d":"0.00"}}]
[{"$nulls":12},"1.2.1.2.2.2","ставка за электроэнергию","руб./кВт*мес",{"$nulls":16},{"$f":"IF(AF1997=0,0,(AF2019*AF1998+AF2020*AF1999+AF2021*AF2000+AF2022*AF2001+AF2023*AF2002)/AF1997)","v":{"v":0,"d":"0.00"}},{"$f":"IF(AG1997=0,0,(AG2019*AG1998+AG2020*AG1999+AG2021*AG2000+AG2022*AG2001+AG2023*AG2002)/AG1997)","v":{"v":0,"d":"0.00"}},{"$f":"IF(AH1997=0,0,(AH2019*AH1998+AH2020*AH1999+AH2021*AH2000+AH2022*AH2001+AH2023*AH2002)/AH1997)","v":{"v":0,"d":"0.00"}}]
[{"$nulls":12},"1.2.1.2.2.2.1","НН","руб./кВт*мес",{"$nulls":16},{"$f":"IF(AF1998=0,0,AF2037/AF1998)","v":{"v":0,"d":"0.00"}}]
[{"$nulls":12},"1.2.1.2.2.2.2","СН1","руб./кВт*мес",{"$nulls":16},{"$f":"IF(AF1999=0,0,AF2038/AF1999)","v":{"v":0,"d":"0.00"}}]
[{"$nulls":12},"1.2.1.2.2.2.3","СН2","руб./кВт*мес",{"$nulls":16},{"$f":"IF(AF2000=0,0,AF2039/AF2000)","v":{"v":0,"d":"0.00"}}]
[{"$nulls":12},"1.2.1.2.2.2.4","ВН","руб./кВт*мес",{"$nulls":16},{"$f":"IF(AF2001=0,0,AF2040/AF2001)","v":{"v":0,"d":"0.00"}}]
[{"$nulls":12},"1.2.1.2.2.2.5","ГН","руб./кВт*мес",{"$nulls":16},{"$f":"IF(AF2002=0,0,AF2041/AF2002)","v":{"v":0,"d":"0.00"}}]
[{"$nulls":12},"1.2.1.3","Затраты на покупку энергии по одноставочному тарифу","тыс.руб.",{"$nulls":16},{"$f":"AG2024+AH2024","v":{"v":0,"d":"0.00"}},{"$f":"SUM(AG2025:AG2029)","v":{"v":0,"d":"0.00"}},{"$f":"SUM(AH2025:AH2029)","v":{"v":0,"d":"0.00"}}]
[{"$nulls":12},"1.2.1.3.1","НН","тыс.руб.",{"$nulls":16},{"v":0,"d":"0.00"},{"$f":"AG1985*AG2005","v":{"v":0,"d":"0.00"}},{"$f":"AH1985*AH2005","v":{"v":0,"d":"0.00"}}]
[{"$nulls":12},"1.2.1.3.2","СН1","тыс.руб.",{"$nulls":16},{"v":0,"d":"0.00"},{"$f":"AG1986*AG2006","v":{"v":0,"d":"0.00"}},{"v":0,"d":"0.00"}]
[{"$nulls":12},"1.2.1.3.3","СН2","тыс.руб.",{"$nulls":16},{"v":0,"d":"0.00"},{"v":0,"d":"0.00"},{"v":0,"d":"0.00"}]
[{"$nulls":12},"1.2.1.3.4","ВН","тыс.руб.",{"$nulls":16},{"v":0,"d":"0.00"},{"v":0,"d":"0.00"},{"v":0,"d":"0.00"}]
[{"$nulls":12},"1.2.1.3.5","без разбивки по напряжению","тыс.руб.",{"$nulls":16},{"v":0,"d":"0.00"},{"v":0,"d":"0.00"},{"v":0,"d":"0.00"}]
[{"$nulls":12},"1.2.1.4","Затраты на покупку мощности по двухставочному тарифу","тыс.руб.",{"$nulls":16},{"v":0,"d":"0.00"},{"$f":"SUM(AG2031:AG2035)","v":{"v":0,"d":"0.00"}},{"$f":"SUM(AH2031:AH2035)","v":{"v":0,"d":"0.00"}}]
[{"$nulls":12},"1.2.1.4.1","НН","тыс.руб.",{"$nulls":16},{"v":0,"d":"0.00"},{"$f":"AG1992*AG2013/1000","v":{"v":0,"d":"0.00"}},{"$f":"AH1992*AH2013/1000","v":{"v":0,"d":"0.00"}}]
[{"$nulls":12},"1.2.1.4.2","СН1","тыс.руб.",{"$nulls":16},{"v":0,"d":"0.00"},{"$f":"AG1993*AG2014/1000","v":{"v":0,"d":"0.00"}},{"v":0,"d":"0.00"}]
[{"$nulls":12},"1.2.1.4.3","СН2","тыс.руб.",{"$nulls":16},{"v":0,"d":"0.00"},{"v":0,"d":"0.00"},{"v":0,"d":"0.00"}]
[{"$nulls":12},"1.2.1.4.4","ВН","тыс.руб.",{"$nulls":16},{"v":0,"d":"0.00"},{"v":0,"d":"0.00"},{"v":0,"d":"0.00"}]
[{"$nulls":12},"1.2.1.4.5","ГН","тыс.руб.",{"$nulls":16},{"v":0,"d":"0.00"},{"v":0,"d":"0.00"},{"v":0,"d":"0.00"}]
[{"$nulls":12},"1.2.1.5","Затраты на покупку энергии по двухставочному тарифу","тыс.руб.",{"$nulls":16},{"v":0,"d":"0.00"},{"$f":"SUM(AG2037:AG2041)","v":{"v":0,"d":"0.00"}},{"$f":"SUM(AH2037:AH2041)","v":{"v":0,"d":"0.00"}}]
[{"$nulls":12},"1.2.1.5.1","НН","тыс.руб.",{"$nulls":16},{"v":0,"d":"0.00"},{"$f":"AG1998*AG2019","v":{"v":0,"d":"0.00"}},{"v":0,"d":"0.00"}]
[{"$nulls":12},"1.2.1.5.2","СН1","тыс.руб.",{"$nulls":16},{"v":0,"d":"0.00"},{"v":0,"d":"0.00"},{"v":0,"d":"0.00"}]
[{"$nulls":12},"1.2.1.5.3","СН2","тыс.руб.",{"$nulls":16},{"v":0,"d":"0.00"},{"v":0,"d":"0.00"},{"v":0,"d":"0.00"}]
[{"$nulls":12},"1.2.1.5.4","ВН","тыс.руб.",{"$nulls":16},{"v":0,"d":"0.00"},{"v":0,"d":"0.00"},{"v":0,"d":"0.00"}]
[{"$nulls":12},"1.2.1.5.5","ГН","тыс.руб.",{"$nulls":16},{"v":0,"d":"0.00"},{"v":0,"d":"0.00"},{"v":0,"d":"0.00"}]
[{"$nulls":12},"1.2.2","теплоэнергия","тыс.руб.",{"$nulls":16},{"v":0,"d":"0.00"}]
[{"$nulls":12},"1.2.3","теплоноситель","тыс.руб.",{"$nulls":16},{"v":0,"d":"0.00"}]
[{"$nulls":12},"1.2.4","топливо","тыс.руб.",{"$nulls":16},{"v":0,"d":"0.00"}]
[]
[]
[]
[]
[{"$nulls":12},"1.2.5","холодная вода","тыс.руб.",{"$nulls":16},{"$f":"AG2049+AH2049","v":{"v":0,"d":"0.00"}},{"$f":"AG2050*AG2051","v":{"v":0,"d":"0.00"}},{"$f":"AH2050*AH2051","v":{"v":0,"d":"0.00"}}]
[{"$nulls":12},"1.2.5.1","цена","руб./куб.м",{"$nulls":16},{"$f":"IF(AF2051=0,0,AF2049/AF2051)","v":{"v":0,"d":"0.00"}}]
[{"$nulls":12},"1.2.5.2","объём","тыс.куб.м",{"$nulls":16},{"$f":"AG2051+AH2051","v":{"v":0,"d":"0.00"}}]
{"$rows_empty":7}
[{"$nulls":12},"1.3","Расходы на оплату работ и услуг, выполняемые сторонними организациями и индивидуальными предпринимателями, связанные с эксплуатацией централизованных систем либо объектов в составе таких систем","тыс.руб.",{"$nulls":16},{"$f":"AG2059+AH2059","v":{"v":0,"d":"0.00"}}]
[{"$nulls":12},"1.4","Расходы на оплату труда и отчисления на социальные нужды основного производственного персонала, в том числе налоги и сборы ","тыс.руб.",{"$nulls":16},{"$f":"AG2060+AH2060","v":{"v":0,"d":"0.00"}},{"$f":"SUM(AG2061,AG2072)","v":{"v":0,"d":"0.00"}},{"$f":"SUM(AH2061,AH2072)","v":{"v":0,"d":"0.00"}}]
[{"$nulls":12},"1.4.1","Расходы на оплату труда производственного персонала","тыс.руб.",{"$nulls":16},{"$f":"AG2061+AH2061","v":{"v":0,"d":"0.00"}}]
[{"$nulls":12},"1.4.1.1","Численность (среднесписочная), принятая для расчёта","ед."]
[{"$nulls":12},"1.4.1.2","Среднемесячная оплата труда основного производственного персонала","руб./мес.",{"$nulls":16},{"$f":"IF(AF2062=0,0,AF2061/AF2062*1000/AF$6)","v":{"v":0,"d":"0.00"}},{"$f":"IF(AG2062=0,0,AG2061/AG2062*1000/AG$6)","v":{"v":0,"d":"0.00"}},{"$f":"IF(AH2062=0,0,AH2061/AH2062*1000/AH$6)","v":{"v":0,"d":"0.00"}}]
[{"$nulls":12},"1.4.1.3","Фактическая численность основного производственного персонала, относимого на регулируемый вид деятельности","ед."]
[{"$nulls":12},"1.4.1.4","Справочно: нормативная численность основного производственного персонала, относимого на регулируемый вид деятельности","ед."]
[{"$nulls":12},"1.4.1.5","Тарифная ставка рабочего 1-го разряда","руб./мес."]
[{"$nulls":12},"1.4.1.6","Индекс роста номинальной заработной платы"]
[{"$nulls":12},"1.4.1.7","Тарифная ставка рабочего 1-го разряда с учётом дефлятора","руб./мес."]
[{"$nulls":12},"1.4.1.8","Средний тарифный коэффициент"]
[{"$nulls":12},"1.4.1.9","Среднемесячная тарифная ставка","руб./мес."]
[{"$nulls":12},"1.4.1.10","Минимальный размер оплаты труда по отраслевому тарифному соглашению","руб./мес."]
[{"$nulls":12},"1.4.2","Отчисления на социальные нужды производственного персонала, в том числе налоги и сборы","тыс.руб.",{"$nulls":16},{"$f":"AG2072+AH2072","v":{"v":0,"d":"0.00"}}]
[{"$nulls":12},"1.5","Расходы на уплату процентов по займам и кредитам, не учитываемые при определении налогооблагаемой базы налога на прибыль","тыс.руб.",{"$nulls":16},{"v":0,"d":"0.00"}]
[{"$nulls":12},"1.6","Общехозяйственные расходы","тыс.руб.",{"$nulls":16},{"v":0,"d":"0.00"}]
[{"$nulls":12},"1.7","Прочие производственные расходы","тыс.руб.",{"$nulls":16},{"v":0,"d":"0.00"},{"$f":"SUM(AG2076:AG2079)","v":{"v":0,"d":"0.00"}},{"$f":"SUM(AH2076:AH2079)","v":{"v":0,"d":"0.00"}}]
[{"$nulls":12},"1.7.1","Расходы на амортизацию транспорта","тыс.руб.",{"$nulls":16},{"v":0,"d":"0.00"}]
[{"$nulls":12},{"$f":"IF(TEMPLATE_SPHERE_CODE=\"COLDVSNA\",\"1.7.2\",IF(TEMPLATE_SPHERE_CODE=\"VOTV\",\"1.7.2\",\"\"))","v":"1.7.2"},{"$f":"IF(TEMPLATE_SPHERE_CODE=\"COLDVSNA\",\"Контроль качества воды\",IF(TEMPLATE_SPHERE_CODE=\"VOTV\",\"Контроль сточных вод\",\"\"))","v":"Контроль сточных вод"},"тыс.руб.",{"$nulls":16},{"v":0,"d":"0.00"}]
[{"$nulls":12},"1.7.3","Расходы на аварийно-диспетчерское обслуживание","тыс.руб.",{"$nulls":16},{"v":0,"d":"0.00"}]
[{"$nulls":12},{"$f":"IF(TEMPLATE_SPHERE_CODE=\"COLDVSNA\",\"\",IF(TEMPLATE_SPHERE_CODE=\"VOTV\",\"1.7.4\",\"\"))","v":"1.7.4"},{"$f":"IF(TEMPLATE_SPHERE_CODE=\"COLDVSNA\",\"\",IF(TEMPLATE_SPHERE_CODE=\"VOTV\",\"Услуги по обращению с осадком сточных вод\",\"\"))","v":"Услуги по обращению с осадком сточных вод"},{"$f":"IF(TEMPLATE_SPHERE_CODE=\"COLDVSNA\",\"\",IF(TEMPLATE_SPHERE_CODE=\"VOTV\",\"тыс.руб.\",\"\"))","v":"тыс.руб."}]
[{"$nulls":12},"1.8","Цеховые расходы","тыс.руб.",{"$nulls":16},{"$f":"AG2080+AH2080","v":{"v":0,"d":"0.00"}},{"$f":"SUM(AG2081:AG2084)","v":{"v":0,"d":"0.00"}},{"$f":"SUM(AH2081:AH2084)","v":{"v":0,"d":"0.00"}}]
[{"$nulls":12},"1.8.1","Расходы на оплату труда цехового персонала","тыс.руб.",{"$nulls":16},{"v":0,"d":"0.00"}]
[{"$nulls":12},"1.8.2","Отчисления на социальные нужды цехового персонала, в том числе налоги и сборы","тыс.руб.",{"$nulls":16},{"v":0,"d":"0.00"}]
[{"$nulls":12},"1.8.3","Расходы на охрану труда","тыс.руб.",{"$nulls":16},{"v":0,"d":"0.00"}]
[{"$nulls":12},"1.8.4","Прочие","тыс.руб.",{"$nulls":16},{"v":0,"d":"0.00"}]
[{"$nulls":12},"2","Ремонтные расходы","тыс.руб.",{"$nulls":16},{"v":0,"d":"0.00"},{"$f":"SUM(AG2086,AG2088,AG2090)","v":{"v":0,"d":"0.00"}},{"$f":"SUM(AH2086,AH2088,AH2090)","v":{"v":0,"d":"0.00"}}]
[{"$nulls":12},"2.1","Расходы на текущий ремонт централизованных систем водоснабжения и (или) водоотведения либо объектов, входящих в состав таких систем","тыс.руб.",{"$nulls":16},{"v":0,"d":"0.00"}]
[{"$nulls":12},"2.1.1","Справочно: расходы на текущий ремонт, предусмотренные производственной программой регулируемой организации","тыс.руб.",{"$nulls":16},{"v":0,"d":"0.00"}]
[{"$nulls":12},"2.2","Расходы на капитальный ремонт централизованных систем водоснабжения и (или водоотведения) либо объектов, входящих в состав таких систем","тыс.руб.",{"$nulls":16},{"v":0,"d":"0.00"}]
[{"$nulls":12},"2.2.1","Справочно: расходы на капитальный ремонт, предусмотренные производственной программой регулируемой организации","тыс.руб.",{"$nulls":16},{"v":0,"d":"0.00"}]
[{"$nulls":12},"2.3","Расходы на оплату труда и отчисления на социальные нужды ремонтного персонала, в том числе налоги и сборы","тыс.руб.",{"$nulls":16},{"v":0,"d":"0.00"},{"$f":"SUM(AG2091,AG2102)","v":{"v":0,"d":"0.00"}},{"$f":"SUM(AH2091,AH2102)","v":{"v":0,"d":"0.00"}}]
[{"$nulls":12},"2.3.1","Расходы на оплату труда ремонтного персонала","тыс.руб.",{"$nulls":16},{"v":0,"d":"0.00"}]
[{"$nulls":12},"2.3.1.1","Численность (среднесписочная), принятая для расчёта","ед."]
[{"$nulls":12},"2.3.1.2","Среднемесячная оплата труда ремонтного персонала","руб./мес.",{"$nulls":16},{"$f":"IF(AF2092=0,0,AF2091/AF2092*1000/AF$6)","v":{"v":0,"d":"0.00"}},{"$f":"IF(AG2092=0,0,AG2091/AG2092*1000/AG$6)","v":{"v":0,"d":"0.00"}},{"$f":"IF(AH2092=0,0,AH2091/AH2092*1000/AH$6)","v":{"v":0,"d":"0.00"}}]
[{"$nulls":12},"2.3.1.3","Фактическая численность ремонтного персонала, относимого на регулируемый вид деятельности","ед."]
[{"$nulls":12},"2.3.1.4","Справочно: нормативная численность ремонтного персонала, относимого на регулируемый вид деятельности","ед."]
[{"$nulls":12},"2.3.1.5","Тарифная ставка рабочего 1-го разряда","руб./мес."]
[{"$nulls":12},"2.3.1.6","Индекс роста номинальной заработной платы"]
[{"$nulls":12},"2.3.1.7","Тарифная ставка рабочего 1-го разряда с учётом дефлятора","руб./мес."]
[{"$nulls":12},"2.3.1.8","Средний тарифный коэффициент"]
[{"$nulls":12},"2.3.1.9","Среднемесячная тарифная ставка","руб./мес."]
[{"$nulls":12},"2.3.1.10","Минимальный размер оплаты труда по отраслевому тарифному соглашению","руб./мес."]
[{"$nulls":12},"2.3.2","Отчисления на социальные нужды ремонтного персонала, в том числе налоги и сборы","тыс.руб.",{"$nulls":16},{"$f":"AG2102+AH2102","v":{"v":0,"d":"0.00"}}]
[{"$nulls":12},3,"Административные расходы","тыс.руб.",{"$nulls":16},{"v":0,"d":"0.00"},{"$f":"SUM(AG2104,AG2111,AG2124,AG2125,AG2126,AG2127,AG2128)","v":{"v":0,"d":"0.00"}},{"$f":"SUM(AH2104,AH2111,AH2124,AH2125,AH2126,AH2127,AH2128)","v":{"v":0,"d":"0.00"}}]
[{"$nulls":12},"3.1","Расходы на оплату работ и услуг, выполняемых сторонними организациями","тыс.руб.",{"$nulls":16},{"v":0,"d":"0.00"},{"$f":"SUM(AG2105:AG2110)","v":{"v":0,"d":"0.00"}},{"$f":"SUM(AH2105:AH2110)","v":{"v":0,"d":"0.00"}}]
[{"$nulls":12},"3.1.1","услуги связи и интернет","тыс.руб.",{"$nulls":16},{"v":0,"d":"0.00"}]
[{"$nulls":12},"3.1.2","юридические услуги","тыс.руб.",{"$nulls":16},{"v":0,"d":"0.00"}]
[{"$nulls":12},"3.1.3","аудиторские услуги","тыс.руб.",{"$nulls":16},{"v":0,"d":"0.00"}]
[{"$nulls":12},"3.1.4","консультационные услуги","тыс.руб.",{"$nulls":16},{"v":0,"d":"0.00"}]
[{"$nulls":12},"3.1.5","услуги по вневедомственной охране объектов и территорий","тыс.руб.",{"$nulls":16},{"v":0,"d":"0.00"}]
[{"$nulls":12},"3.1.6","информационные услуги","тыс.руб.",{"$nulls":16},{"v":0,"d":"0.00"}]
[{"$nulls":12},"3.2","Расходы на оплату труда и отчисления на социальные нужды административно-управленческого персонала, в том числе налоги и сборы","тыс.руб.",{"$nulls":16},{"v":0,"d":"0.00"},{"$f":"SUM(AG2112,AG2123)","v":{"v":0,"d":"0.00"}},{"$f":"SUM(AH2112,AH2123)","v":{"v":0,"d":"0.00"}}]
[{"$nulls":12},"3.2.1","Расходы на оплату труда административно-управленческого персонала","тыс.руб.",{"$nulls":16},{"v":0,"d":"0.00"}]
[{"$nulls":12},"3.2.1.1","Численность (среднесписочная), принятая для расчёта","ед."]
[{"$nulls":12},"3.2.1.2","Среднемесячная оплата труда административно-управленческого персонала","руб./мес.",{"$nulls":16},{"$f":"IF(AF2113=0,0,AF2112/AF2113*1000/AF$6)","v":{"v":0,"d":"0.00"}},{"$f":"IF(AG2113=0,0,AG2112/AG2113*1000/AG$6)","v":{"v":0,"d":"0.00"}},{"$f":"IF(AH2113=0,0,AH2112/AH2113*1000/AH$6)","v":{"v":0,"d":"0.00"}}]
[{"$nulls":12},"3.2.1.3","Фактическая численность административно-управленческого персонала, относимого на регулируемый вид деятельности","ед."]
[{"$nulls":12},"3.2.1.4","Справочно: нормативная численность административно-управленческого персонала, относимого на регулируемый вид деятельности","ед."]
[{"$nulls":12},"3.2.1.5","Тарифная ставка рабочего 1-го разряда","руб./мес."]
[{"$nulls":12},"3.2.1.6","Индекс роста номинальной заработной платы"]
[{"$nulls":12},"3.2.1.7","Тарифная ставка рабочего 1-го разряда с учётом дефлятора","руб./мес."]
[{"$nulls":12},"3.2.1.8","Средний тарифный коэффициент"]
[{"$nulls":12},"3.2.1.9","Среднемесячная тарифная ставка","руб./мес."]
[{"$nulls":12},"3.2.1.10","Минимальный размер оплаты труда по отраслевому тарифному соглашению","руб./мес."]
[{"$nulls":12},"3.2.2","Отчисления на социальные нужды административно-управленческого персонала, в том числе налоги и сборы","тыс.руб.",{"$nulls":16},{"$f":"AG2123+AH2123","v":{"v":0,"d":"0.00"}}]
[{"$nulls":12},"3.3","Арендная плата, лизинговые платежи, не связанные с арендой (лизингом) централизованных систем водоснабжения и (или) водоотведения либо объектов, входящих в состав таких систем","тыс.руб.",{"$nulls":16},{"v":0,"d":"0.00"}]
[{"$nulls":12},"3.4","Служебные командировки","тыс.руб.",{"$nulls":16},{"v":0,"d":"0.00"}]
[{"$nulls":12},"3.5","Обучение персонала","тыс.руб.",{"$nulls":16},{"v":0,"d":"0.00"}]
[{"$nulls":12},"3.6","Страхование производственных объектов","тыс.руб.",{"$nulls":16},{"v":0,"d":"0.00"}]
[{"$nulls":12},"3.7","Прочие административные расходы","тыс.руб.",{"$nulls":16},{"v":0,"d":"0.00"}]
[{"$nulls":12},"3.7.1","Расходы на амортизацию непроизводственных активов","тыс.руб.",{"$nulls":16},{"v":0,"d":"0.00"}]
[{"$nulls":12},"3.7.2","Расходы по охране объектов и территорий","тыс.руб.",{"$nulls":16},{"v":0,"d":"0.00"}]
[{"$nulls":12},4,"Сбытовые расходы гарантирующих организаций","тыс.руб.",{"$nulls":16},{"v":0,"d":"0.00"}]
[{"$nulls":12},"4.1","Расходы по сомнительным долгам, в размере не более 2% НВВ","тыс.руб.",{"$nulls":16},{"v":0,"d":"0.00"}]
[{"$nulls":12},5,"Амортизация","тыс.руб.",{"$nulls":16},{"v":0,"d":"0.00"}]
[{"$nulls":12},"5.1","Амортизация основных средств и нематериальных активов, относимых к объектам централизованной системы водоснабжения и водоотведения","тыс.руб.",{"$nulls":16},{"v":0,"d":"0.00"}]
[{"$nulls":12},6,"Расходы на арендную плату, лизинговые платежи, концессионную плату, связанные с арендой (лизингом) централизованных систем водоснабжения и (или) водоотведения либо объектов, входящих в состав таких систем","тыс.руб.",{"$nulls":16},{"v":0,"d":"0.00"},{"$f":"SUM(AG2136,AG2140:AG2143)","v":{"v":0,"d":"0.00"}},{"$f":"SUM(AH2136,AH2140:AH2143)","v":{"v":0,"d":"0.00"}}]
[{"$nulls":12},"6.1","Аренда имущества","тыс.руб.",{"$nulls":16},{"v":0,"d":"0.00"},{"$f":"SUM(AG2137:AG2139)","v":{"v":0,"d":"0.00"}},{"$f":"SUM(AH2137:AH2139)","v":{"v":0,"d":"0.00"}}]
[{"$nulls":12},"6.1.1","Аренда объектов в государственной собственности","тыс.руб.",{"$nulls":16},{"v":0,"d":"0.00"}]
[{"$nulls":12},"6.1.2","Аренда объектов в муниципальной собственности","тыс.руб.",{"$nulls":16},{"v":0,"d":"0.00"}]
[{"$nulls":12},"6.1.3","Прочее","тыс.руб.",{"$nulls":16},{"v":0,"d":"0.00"}]
[{"$nulls":12},"6.2","Концессионная плата","тыс.руб.",{"$nulls":16},{"v":0,"d":"0.00"}]
[{"$nulls":12},"6.3","Лизинговые платежи","тыс.руб.",{"$nulls":16},{"v":0,"d":"0.00"}]
[{"$nulls":12},"6.4","Аренда земельных участков","тыс.руб.",{"$nulls":16},{"v":0,"d":"0.00"}]
[{"$nulls":12},"6.5","Иное","тыс.руб.",{"$nulls":16},{"v":0,"d":"0.00"}]
[{"$nulls":12},7,"Расходы, связанные с уплатой налогов и сборов, связанные с арендой (лизингом) централизованных систем водоснабжения и (или) водоотведения либо объектов, входящих в состав таких систем","тыс.руб.",{"$nulls":16},{"v":0,"d":"0.00"},{"$f":"SUM(AG2145:AG2151)","v":{"v":0,"d":"0.00"}},{"$f":"SUM(AH2145:AH2151)","v":{"v":0,"d":"0.00"}}]
[{"$nulls":12},"7.1","Налог на прибыль","тыс.руб.",{"$nulls":16},{"v":0,"d":"0.00"}]
[{"$nulls":12},"7.2","Налог на имущество организаций","тыс.руб.",{"$nulls":16},{"v":0,"d":"0.00"}]
[{"$nulls":12},"7.3","Плата за негативное воздействие на окружающую среду","тыс.руб.",{"$nulls":16},{"v":0,"d":"0.00"}]
[{"$nulls":12},"7.4","Водный налог и плата за пользование водным объектом","тыс.руб.",{"$nulls":16},{"v":0,"d":"0.00"}]
[{"$nulls":12},"7.5","Земельный налог","тыс.руб.",{"$nulls":16},{"v":0,"d":"0.00"}]
[{"$nulls":12},"7.6","Транспортный налог","тыс.руб.",{"$nulls":16},{"v":0,"d":"0.00"}]
[{"$nulls":12},"7.7","Прочие налоги и сборы, за исключением налогов и сборов с фонда оплаты труда, учитываемых в составе производственных, ремонтных и административных расходов","тыс.руб.",{"$nulls":16},{"v":0,"d":"0.00"}]
[{"$nulls":12},"8","Расходы на оплату товаров (услуг, работ), приобретаемых у других организаций, осуществляющих регулируемые виды деятельности","тыс.руб.",{"$nulls":16},{"v":0,"d":"0.00"}]
[{"$nulls":12},"9","Расходы на обслуживание бесхозяйных сетей","тыс.руб.",{"$nulls":16},{"v":0,"d":"0.00"}]
[{"$nulls":12},"10","Прочие неподконтрольные расходы","тыс.руб.",{"$nulls":16},{"v":0,"d":"0.00"}]
[]
[{"$nulls":12},"РО","Итого расходы","тыс.руб.",{"$nulls":16},{"$f":"SUM(AF1976,AF2085,AF2103,AF2131,AF2133,AF2135,AF2144,AF2152,AF2153,AF2154)","v":{"v":0,"d":"0.00"}},{"$f":"SUM(AG1976,AG2085,AG2103,AG2131,AG2133,AG2135,AG2144,AG2152,AG2153,AG2154)","v":{"v":0,"d":"0.00"}},{"$f":"SUM(AH1976,AH2085,AH2103,AH2131,AH2133,AH2135,AH2144,AH2152,AH2153,AH2154)","v":{"v":0,"d":"0.00"}}]
[]
[{"$nulls":12},"РР","Итого расходы на реализацию","тыс.руб.",{"$nulls":16},{"$f":"AG2158+AH2158","v":{"v":0,"d":"0.00"}},{"$f":"AG2156*AG$242","v":{"v":0,"d":"0.00"}},{"$f":"AH2156*AH$242","v":{"v":0,"d":"0.00"}}]
[]
[{"$nulls":12},"У","Убыток","тыс.руб.",{"$nulls":16},{"$f":"AG2160+AH2160","v":{"v":0,"d":"0.00"}}]
[{"$nulls":12},"П","Прибыль","тыс.руб.",{"$nulls":16},{"$f":"AG2161+AH2161","v":{"v":0,"d":"0.00"}},{"$f":"SUM(AG2163:AG2166)","v":{"v":0,"d":"0.00"}},{"$f":"SUM(AH2163:AH2166)","v":{"v":0,"d":"0.00"}}]
[]
[{"$nulls":12},"П.1","Прибыль на развитие производства (капитальные вложения)","тыс.руб.",{"$nulls":16},{"$f":"AG2163+AH2163","v":{"v":0,"d":"0.00"}}]
[{"$nulls":12},"П.2","Прибыль на социальное развитие","тыс.руб.",{"$nulls":16},{"$f":"AG2164+AH2164","v":{"v":0,"d":"0.00"}}]
[{"$nulls":12},"П.3","Прибыль на поощрение","тыс.руб.",{"$nulls":16},{"$f":"AG2165+AH2165","v":{"v":0,"d":"0.00"}}]
[{"$nulls":12},"П.4","Прибыль на прочие цели","тыс.руб.",{"$nulls":16},{"$f":"AG2166+AH2166","v":{"v":0,"d":"0.00"}}]
{"$rows_empty":8}
[{"$nulls":12},"РП","Итого расходы с учётом расходов из прибыли","тыс.руб.",{"$nulls":16},{"$f":"AG2175+AH2175","v":{"v":0,"d":"0.00"}},{"$f":"AG2156+AG2161","v":{"v":0,"d":"0.00"}},{"$f":"AH2156+AH2161","v":{"v":0,"d":"0.00"}}]
{"$rows_empty":17}
[{"$nulls":12},"UI.TOTAL","Полезный отпуск продукции всего:\n[БТр!п.3] - транспортировка\n[БПр!п.5.2] - производство","тыс.куб.м",{"$nulls":16},{"$f":"AG2193+AH2193","v":{"v":0,"d":"0.00"}},{"$f":"SUMIF(ХВС.БПр!$BA$131:$BA$132,AG$17 & \".0-\" & AG$9,ХВС.БПр!$X$131:$X$132)/1000+SUMIF(ХВС.БТр!$BA$131:$BA$132,AG$17 & \".0-\" & AG$9,ХВС.БТр!$P$131:$P$132)/1000","v":{"v":0,"d":"0.00"}},{"$f":"SUMIF(ХВС.БПр!$BA$131:$BA$132,AH$17 & \".0-\" & AH$9,ХВС.БПр!$X$131:$X$132)/1000+SUMIF(ХВС.БТр!$BA$131:$BA$132,AH$17 & \".0-\" & AH$9,ХВС.БТр!$P$131:$P$132)/1000","v":{"v":0,"d":"0.00"}}]
[{"$nulls":12},"UI.EC","Полезный отпуск на реализацию потребителям:\n[БТр!п.3.2:3.5] - транспортировка\n[БПр!п.5.2.2 + БПр!п.5.2.3] - производство","тыс.куб.м",{"$nulls":16},{"$f":"AG2194+AH2194","v":{"v":0,"d":"0.00"}},{"$f":"SUMIF(ХВС.БПр!$BA$131:$BA$132,AG$17 & \".0-\" & AG$9,ХВС.БПр!$AC$131:$AC$132)/1000+SUMIF(ХВС.БПр!$BA$131:$BA$132,AG$17 & \".0-\" & AG$9,ХВС.БПр!$AF$131:$AF$132)/1000+SUMIF(ХВС.БТр!$BA$131:$BA$132,AG$17 & \".0-\" & AG$9,ХВС.БТр!$R$131:$R$132)/1000+SUMIF(ХВС.БТр!$BA$131:$BA$132,AG$17 & \".0-\" & AG$9,ХВС.БТр!$U$131:$U$132)/1000+SUMIF(ХВС.БТр!$BA$131:$BA$132,AG$17 & \".0-\" & AG$9,ХВС.БТр!$X$131:$X$132)/1000+SUMIF(ХВС.БТр!$BA$131:$BA$132,AG$17 & \".0-\" & AG$9,ХВС.БТр!$AA$131:$AA$132)/1000","v":{"v":0,"d":"0.00"}},{"$f":"SUMIF(ХВС.БПр!$BA$131:$BA$132,AH$17 & \".0-\" & AH$9,ХВС.БПр!$AC$131:$AC$132)/1000+SUMIF(ХВС.БПр!$BA$131:$BA$132,AH$17 & \".0-\" & AH$9,ХВС.БПр!$AF$131:$AF$132)/1000+SUMIF(ХВС.БТр!$BA$131:$BA$132,AH$17 & \".0-\" & AH$9,ХВС.БТр!$R$131:$R$132)/1000+SUMIF(ХВС.БТр!$BA$131:$BA$132,AH$17 & \".0-\" & AH$9,ХВС.БТр!$U$131:$U$132)/1000+SUMIF(ХВС.БТр!$BA$131:$BA$132,AH$17 & \".0-\" & AH$9,ХВС.БТр!$X$131:$X$132)/1000+SUMIF(ХВС.БТр!$BA$131:$BA$132,AH$17 & \".0-\" & AH$9,ХВС.БТр!$AA$131:$AA$132)/1000","v":{"v":0,"d":"0.00"}}]
[{"$nulls":12},"UI.COEF","Коэффициент (доля) на реализацию потребителям",{"$nulls":17},{"$f":"IF(AF2193=0,0,AF2194/AF2193)","v":{"v":0,"d":"0.00"}},{"$f":"IF(AG2193=0,0,AG2194/AG2193)","v":{"v":0,"d":"0.00"}},{"$f":"IF(AH2193=0,0,AH2194/AH2193)","v":{"v":0,"d":"0.00"}}]
[{"$nulls":12},"UI.PURE.EC","Полезный отпуск на реализацию потребителям:\n[БТр!п.3.3:3.5] - транспортировка\n[БПр!п.5.2.3] - производство","тыс.куб.м",{"$nulls":16},{"$f":"AG2196+AH2196","v":{"v":0,"d":"0.00"}},{"$f":"SUMIF(ХВС.БПр!$BA$131:$BA$132,AG$17 & \".0-\" & AG$9,ХВС.БПр!$AF$131:$AF$132)/1000+SUMIF(ХВС.БТр!$BA$131:$BA$132,AG$17 & \".0-\" & AG$9,ХВС.БТр!$U$131:$U$132)/1000+SUMIF(ХВС.БТр!$BA$131:$BA$132,AG$17 & \".0-\" & AG$9,ХВС.БТр!$X$131:$X$132)/1000+SUMIF(ХВС.БТр!$BA$131:$BA$132,AG$17 & \".0-\" & AG$9,ХВС.БТр!$AA$131:$AA$132)/1000","v":{"v":0,"d":"0.00"}},{"$f":"SUMIF(ХВС.БПр!$BA$131:$BA$132,AH$17 & \".0-\" & AH$9,ХВС.БПр!$AF$131:$AF$132)/1000+SUMIF(ХВС.БТр!$BA$131:$BA$132,AH$17 & \".0-\" & AH$9,ХВС.БТр!$U$131:$U$132)/1000+SUMIF(ХВС.БТр!$BA$131:$BA$132,AH$17 & \".0-\" & AH$9,ХВС.БТр!$X$131:$X$132)/1000+SUMIF(ХВС.БТр!$BA$131:$BA$132,AH$17 & \".0-\" & AH$9,ХВС.БТр!$AA$131:$AA$132)/1000","v":{"v":0,"d":"0.00"}}]
[]
[{"$nulls":12},"UI.TTL",{"$f":"IF(TEMPLATE_SPHERE_CODE=\"COLDVSNA\",\"Объём отпуска воды\",IF(TEMPLATE_SPHERE_CODE=\"VOTV\",\"Объём сточных вод\",\"\"))","v":"Объём сточных вод"},"тыс.куб.м",{"$nulls":17},{"$f":"AG2193","v":{"v":0,"d":"0.00"}},{"$f":"AH2193","v":{"v":0,"d":"0.00"}}]
[]
[{"$nulls":12},"PROFITABILITY","Рентабельность","%",{"$nulls":16},{"$f":"IF(AF2156=0,0,(AF2161-AF2160)/AF2156*100)","v":{"v":0,"d":"0.00"}},{"$f":"IF(AG2156=0,0,(AG2161-AG2160)/AG2156*100)","v":{"v":0,"d":"0.00"}},{"$f":"IF(AH2156=0,0,(AH2161-AH2160)/AH2156*100)","v":{"v":0,"d":"0.00"}}]
[]
[{"$nulls":12},"D","Справочно: результат деятельности в периоде регулирования","тыс.руб.",{"$nulls":16},{"$f":"AG2202+AH2202","v":{"v":0,"d":"0.00"}},{"$f":"AG2203-(AG2158+AG2161-AG2160)","v":{"v":0,"d":"0.00"}},{"$f":"AH2203-(AH2158+AH2161-AH2160)","v":{"v":0,"d":"0.00"}}]
[{"$nulls":12},{"$f":"M2202 & \".0.1\"","v":"D.0.1"},"Общий доход от реализации потребителям без учёта НДС, исходя из утверждённых тарифов","тыс.руб.",{"$nulls":16},{"$f":"AG2203+AH2203","v":{"v":0,"d":"0.00"}},{"$f":"AG2205+AG2208+AG2211+AG2214+AG2217+AG2218","v":{"v":0,"d":"0.00"}},{"$f":"AH2205+AH2208+AH2211+AH2214+AH2217+AH2218","v":{"v":0,"d":"0.00"}}]
[{"$nulls":12},{"$f":"M2202 & \".0.2\"","v":"D.0.2"},"Полезный отпуск продукции на реализацию потребителям","тыс.куб.м",{"$nulls":16},{"$f":"AG2204+AH2204","v":{"v":0,"d":"0.00"}},{"$f":"AG2207+AG2210+AG2213+AG2216","v":{"v":0,"d":"0.00"}},{"$f":"AH2207+AH2210+AH2213+AH2216","v":{"v":0,"d":"0.00"}}]
[{"$nulls":12},{"$f":"M2202 & \".1\"","v":"D.1"},"Организации-перепродавцы","тыс.руб.",{"$nulls":16},{"$f":"AG2205+AH2205","v":{"v":0,"d":"0.00"}},{"$f":"AG2206*AG2207","v":{"v":0,"d":"0.00"}},{"$f":"AH2206*AH2207","v":{"v":0,"d":"0.00"}}]
[{"$nulls":12},{"$f":"M2205 & \".1\"","v":"D.1.1"},"средневзвешенный тариф","руб./куб.м",{"$nulls":16},{"$f":"IF(AF2207=0,0,AF2205/AF2207)","v":{"v":0,"d":"0.00"}}]
[{"$nulls":12},{"$f":"M2205 & \".2\"","v":"D.1.2"},"объём","тыс.куб.м",{"$nulls":16},{"$f":"AG2207+AH2207","v":{"v":0,"d":"0.00"}},{"$f":"SUMIF(ХВС.БПр!$BA$131:$BA$132,AG$17 & \".0-\" & AG$9,ХВС.БПр!$AC$131:$AC$132)/1000+SUMIF(ХВС.БТр!$BA$131:$BA$132,AG$17 & \".0-\" & AG$9,ХВС.БТр!$R$131:$R$132)/1000","v":{"v":0,"d":"0.00"}},{"$f":"SUMIF(ХВС.БПр!$BA$131:$BA$132,AH$17 & \".0-\" & AH$9,ХВС.БПр!$AC$131:$AC$132)/1000+SUMIF(ХВС.БТр!$BA$131:$BA$132,AH$17 & \".0-\" & AH$9,ХВС.БТр!$R$131:$R$132)/1000","v":{"v":0,"d":"0.00"}}]
[{"$nulls":12},{"$f":"M2202 & \".2\"","v":"D.2"},"Бюджетные потребители","тыс.руб.",{"$nulls":16},{"$f":"AG2208+AH2208","v":{"v":0,"d":"0.00"}},{"$f":"AG2209*AG2210","v":{"v":0,"d":"0.00"}},{"$f":"AH2209*AH2210","v":{"v":0,"d":"0.00"}}]
[{"$nulls":12},{"$f":"M2208 & \".1\"","v":"D.2.1"},"средневзвешенный тариф","руб./куб.м",{"$nulls":16},{"$f":"IF(AF2210=0,0,AF2208/AF2210)","v":{"v":0,"d":"0.00"}}]
[{"$nulls":12},{"$f":"M2208 & \".2\"","v":"D.2.2"},"объём","тыс.куб.м",{"$nulls":16},{"$f":"AG2210+AH2210","v":{"v":0,"d":"0.00"}},{"$f":"SUMIF(ХВС.БПр!$BA$131:$BA$132,AG$17 & \".0-\" & AG$9,ХВС.БПр!$AG$131:$AG$132)/1000+SUMIF(ХВС.БТр!$BA$131:$BA$132,AG$17 & \".0-\" & AG$9,ХВС.БТр!$U$131:$U$132)/1000","v":{"v":0,"d":"0.00"}},{"$f":"SUMIF(ХВС.БПр!$BA$131:$BA$132,AH$17 & \".0-\" & AH$9,ХВС.БПр!$AG$131:$AG$132)/1000+SUMIF(ХВС.БТр!$BA$131:$BA$132,AH$17 & \".0-\" & AH$9,ХВС.БТр!$U$131:$U$132)/1000","v":{"v":0,"d":"0.00"}}]
[{"$nulls":12},{"$f":"M2202 & \".3\"","v":"D.3"},"Население","тыс.руб.",{"$nulls":16},{"$f":"AG2211+AH2211","v":{"v":0,"d":"0.00"}},{"$f":"AG2212*AG2213","v":{"v":0,"d":"0.00"}},{"$f":"AH2212*AH2213","v":{"v":0,"d":"0.00"}}]
[{"$nulls":12},{"$f":"M2211 & \".1\"","v":"D.3.1"},"средневзвешенный тариф","руб./куб.м",{"$nulls":16},{"$f":"IF(AF2213=0,0,AF2211/AF2213)","v":{"v":0,"d":"0.00"}}]
[{"$nulls":12},{"$f":"M2211 & \".2\"","v":"D.3.2"},"объём","тыс.куб.м",{"$nulls":16},{"$f":"AG2213+AH2213","v":{"v":0,"d":"0.00"}},{"$f":"SUMIF(ХВС.БПр!$BA$131:$BA$132,AG$17 & \".0-\" & AG$9,ХВС.БПр!$AJ$131:$AJ$132)/1000+SUMIF(ХВС.БТр!$BA$131:$BA$132,AG$17 & \".0-\" & AG$9,ХВС.БТр!$X$131:$X$132)/1000","v":{"v":0,"d":"0.00"}},{"$f":"SUMIF(ХВС.БПр!$BA$131:$BA$132,AH$17 & \".0-\" & AH$9,ХВС.БПр!$AJ$131:$AJ$132)/1000+SUMIF(ХВС.БТр!$BA$131:$BA$132,AH$17 & \".0-\" & AH$9,ХВС.БТр!$X$131:$X$132)/1000","v":{"v":0,"d":"0.00"}}]
[{"$nulls":12},{"$f":"M2202 & \".4\"","v":"D.4"},"Прочие","тыс.руб.",{"$nulls":16},{"$f":"AG2214+AH2214","v":{"v":0,"d":"0.00"}},{"$f":"AG2215*AG2216","v":{"v":0,"d":"0.00"}},{"$f":"AH2215*AH2216","v":{"v":0,"d":"0.00"}}]
[{"$nulls":12},{"$f":"M2214 & \".1\"","v":"D.4.1"},"средневзвешенный тариф","руб./куб.м",{"$nulls":16},{"$f":"IF(AF2216=0,0,AF2214/AF2216)","v":{"v":0,"d":"0.00"}}]
[{"$nulls":12},{"$f":"M2214 & \".2\"","v":"D.4.2"},"объём","тыс.куб.м",{"$nulls":16},{"$f":"AG2216+AH2216","v":{"v":0,"d":"0.00"}},{"$f":"SUMIF(ХВС.БПр!$BA$131:$BA$132,AG$17 & \".0-\" & AG$9,ХВС.БПр!$AM$131:$AM$132)/1000+SUMIF(ХВС.БТр!$BA$131:$BA$132,AG$17 & \".0-\" & AG$9,ХВС.БТр!$AA$131:$AA$132)/1000","v":{"v":0,"d":"0.00"}},{"$f":"SUMIF(ХВС.БПр!$BA$131:$BA$132,AH$17 & \".0-\" & AH$9,ХВС.БПр!$AM$131:$AM$132)/1000+SUMIF(ХВС.БТр!$BA$131:$BA$132,AH$17 & \".0-\" & AH$9,ХВС.БТр!$AA$131:$AA$132)/1000","v":{"v":0,"d":"0.00"}}]
[{"$nulls":12},{"$f":"M2202 & \".5\"","v":"D.5"},"Объём дотаций из всех уровней бюджета","тыс.руб.",{"$nulls":16},{"$f":"AG2217+AH2217","v":{"v":0,"d":"0.00"}}]
[{"$nulls":12},{"$f":"M2202 & \".6\"","v":"D.6"},"Доходы, полученные сверх реализации по утверждённым тарифам","тыс.руб.",{"$nulls":16},{"$f":"AG2218+AH2218","v":{"v":0,"d":"0.00"}}]
[]
[]
[]
[]
[]
[{"$nulls":28},"COLDVSNA_REAGENT_ADD_RANGE"]
[]
[]
[]
[{"$nulls":28},12,6,6]
[]
[]
[{"$nulls":28},"Y","I","II"]
[]
[]
[]
[{"$nulls":28},"Год","I полугодие","II полугодие"]
[]
[{"$nulls":28},{"$f":"AC2239 & \"_\" & AC2231","v":"0_Y"},{"$f":"AD2239 & \"_\" & AD2231","v":"0_I"},{"$f":"AE2239 & \"_\" & AE2231","v":"0_II"}]
[]
[{"$nulls":28},{"$f":"AC2241","v":0},{"$f":"AC2241","v":0},{"$f":"AC2241","v":0}]
[{"$nulls":28},"Удалить"]
[{"$nulls":12},"№ п/п","Наименование показателя","Единица измерения",{"$nulls":61},"COLDVSNA_REAGENT_ONE_RANGE"]
[{"$nulls":46},"COLDVSNA_REAGENT_EMPTY_BASE_RANGE",{"$nulls":29},"COLDVSNA_REAGENT_NO_ONE_RANGE"]
[{"$nulls":13},"Является ли организация плательщиком НДС",{"$nulls":32},"COLDVSNA_REAGENT_SINGLE_BASE_RANGE",{"$nulls":29},"COLDVSNA_REAGENT_OTH_RANGE"]
[{"$nulls":13},{"$f":"IF(CALC_IDENTIFIER=\"\",\"\",CALC_IDENTIFIER)","v":"Вид стоков"},{"$nulls":32},"COLDVSNA_REAGENT_TEMPLATE_RANGE",{"$nulls":14},"COLDVSNA_REAGENT_EMPTY_TEMPLATE_RANGE",{"$nulls":14},"COLDVSNA_REAGENT_NO_OTH_RANGE"]
[]
[]
[{"$nulls":12},"1.1.1","Итого","тыс.руб.",{"$nulls":16},{"$f":"AG2247+AH2247","v":{"v":0,"d":"0.00"}},{"$f":"SUM(AG2249,AG2268,AG2278,AG2523)","v":{"v":0,"d":"0.00"}},{"$f":"SUM(AH2249,AH2268,AH2278,AH2523)","v":{"v":0,"d":"0.00"}},{"$nulls":3},{"$f":"AM2247+AN2247","v":{"v":0,"d":"0.00"}},{"$f":"SUM(AM2249,AM2268,AM2278,AM2523)","v":{"v":0,"d":"0.00"}},{"$f":"SUM(AN2249,AN2268,AN2278,AN2523)","v":{"v":0,"d":"0.00"}},{"$nulls":3},{"$f":"AS2247+AT2247","v":{"$error":"#REF!"}},{"$f":"SUM(AS2249,AS2268,AS2278,AS2523)","v":{"v":0,"d":"0.00"}},{"$f":"SUM(AT2249,AT2268,AT2278,AT2523)","v":{"$error":"#REF!"}}]
[]
[{"$nulls":12},"COAG","Коагулянты","тыс.руб.",{"$nulls":16},{"$f":"AG2249+AH2249","v":{"v":0,"d":"0.00"}},{"$f":"SUM(AG2251,AG2254,AG2257,AG2260,AG2263,AG2266)","v":{"v":0,"d":"0.00"}},{"$f":"SUM(AH2251,AH2254,AH2257,AH2260,AH2263,AH2266)","v":{"v":0,"d":"0.00"}},{"$nulls":3},{"$f":"AM2249+AN2249","v":{"v":0,"d":"0.00"}},{"$f":"SUM(AM2251,AM2254,AM2257,AM2260,AM2263,AM2266)","v":{"v":0,"d":"0.00"}},{"$f":"SUM(AN2251,AN2254,AN2257,AN2260,AN2263,AN2266)","v":{"v":0,"d":"0.00"}},{"$nulls":3},{"$f":"AS2249+AT2249","v":{"v":0,"d":"0.00"}},{"$f":"SUM(AS2251,AS2254,AS2257,AS2260,AS2263,AS2266)","v":{"v":0,"d":"0.00"}},{"$f":"SUM(AT2251,AT2254,AT2257,AT2260,AT2263,AT2266)","v":{"v":0,"d":"0.00"}}]
[]
[{"$nulls":12},"HDSFAL","гидроксохлоросульфат алюминия (коагулянт смешанного типа)","тыс.руб.",{"$nulls":22},{"$f":"AM2251+AN2251","v":{"v":0,"d":"0.00"}},{"$f":"AM2252*AM2253/1000","v":{"v":0,"d":"0.00"}},{"$f":"AN2252*AN2253/1000","v":{"v":0,"d":"0.00"}}]
[{"$nulls":12},{"$f":"M2251 & \".P\"","v":"HDSFAL.P"},"Цена за единицу","руб./ед.",{"$nulls":22},{"$f":"IF(AL2253=0,0,AL2251*1000/AL2253)","v":{"v":0,"d":"0.00"}}]
[{"$nulls":12},{"$f":"M2251 & \".V\"","v":"HDSFAL.V"},"Объём","ед.",{"$nulls":22},{"$f":"AM2253+AN2253","v":{"v":0,"d":"0.00"}}]
[{"$nulls":12},"FES","железный купорос","тыс.руб.",{"$nulls":22},{"$f":"AM2254+AN2254","v":{"v":0,"d":"0.00"}},{"$f":"AM2255*AM2256/1000","v":{"v":0,"d":"0.00"}},{"$f":"AN2255*AN2256/1000","v":{"v":0,"d":"0.00"}}]
[{"$nulls":12},{"$f":"M2254 & \".P\"","v":"FES.P"},"Цена за единицу","руб./ед.",{"$nulls":22},{"$f":"IF(AL2256=0,0,AL2254*1000/AL2256)","v":{"v":0,"d":"0.00"}}]
[{"$nulls":12},{"$f":"M2254 & \".V\"","v":"FES.V"},"Объём","ед.",{"$nulls":22},{"$f":"AM2256+AN2256","v":{"v":0,"d":"0.00"}}]
[{"$nulls":12},"OXCLAL","оксихлорид алюминия","тыс.руб.",{"$nulls":22},{"$f":"AM2257+AN2257","v":{"v":0,"d":"0.00"}},{"$f":"AM2258*AM2259/1000","v":{"v":0,"d":"0.00"}},{"$f":"AN2258*AN2259/1000","v":{"v":0,"d":"0.00"}}]
[{"$nulls":12},{"$f":"M2257 & \".P\"","v":"OXCLAL.P"},"Цена за единицу","руб./ед.",{"$nulls":22},{"$f":"IF(AL2259=0,0,AL2257*1000/AL2259)","v":{"v":0,"d":"0.00"}}]
[{"$nulls":12},{"$f":"M2257 & \".V\"","v":"OXCLAL.V"},"Объём","ед.",{"$nulls":22},{"$f":"AM2259+AN2259","v":{"v":0,"d":"0.00"}}]
[{"$nulls":12},"PLOXCLAL","полиоксихлорид алюминия ","тыс.руб.",{"$nulls":22},{"$f":"AM2260+AN2260","v":{"v":0,"d":"0.00"}},{"$f":"AM2261*AM2262/1000","v":{"v":0,"d":"0.00"}},{"$f":"AN2261*AN2262/1000","v":{"v":0,"d":"0.00"}}]
[{"$nulls":12},{"$f":"M2260 & \".P\"","v":"PLOXCLAL.P"},"Цена за единицу","руб./ед.",{"$nulls":22},{"$f":"IF(AL2262=0,0,AL2260*1000/AL2262)","v":{"v":0,"d":"0.00"}}]
[{"$nulls":12},{"$f":"M2260 & \".V\"","v":"PLOXCLAL.V"},"Объём","ед.",{"$nulls":22},{"$f":"AM2262+AN2262","v":{"v":0,"d":"0.00"}}]
[{"$nulls":12},"SFAL","сульфат алюминия ","тыс.руб.",{"$nulls":22},{"$f":"AM2263+AN2263","v":{"v":0,"d":"0.00"}},{"$f":"AM2264*AM2265/1000","v":{"v":0,"d":"0.00"}},{"$f":"AN2264*AN2265/1000","v":{"v":0,"d":"0.00"}}]
[{"$nulls":12},{"$f":"M2263 & \".P\"","v":"SFAL.P"},"Цена за единицу","руб./ед.",{"$nulls":22},{"$f":"IF(AL2265=0,0,AL2263*1000/AL2265)","v":{"v":0,"d":"0.00"}}]
[{"$nulls":12},{"$f":"M2263 & \".V\"","v":"SFAL.V"},"Объём","ед.",{"$nulls":22},{"$f":"AM2265+AN2265","v":{"v":0,"d":"0.00"}}]
[{"$nulls":12},"OTH","прочие","тыс.руб.",{"$nulls":22},{"$f":"AM2266+AN2266","v":{"v":0,"d":"0.00"}}]
[]
[{"$nulls":12},"FLOC","Флокулянты","тыс.руб.",{"$nulls":16},{"$f":"AG2268+AH2268","v":{"v":0,"d":"0.00"}},{"$f":"SUM(AG2270,AG2273,AG2276)","v":{"v":0,"d":"0.00"}},{"$f":"SUM(AH2270,AH2273,AH2276)","v":{"v":0,"d":"0.00"}},{"$nulls":3},{"$f":"AM2268+AN2268","v":{"v":0,"d":"0.00"}},{"$f":"SUM(AM2270,AM2273,AM2276)","v":{"v":0,"d":"0.00"}},{"$f":"SUM(AN2270,AN2273,AN2276)","v":{"v":0,"d":"0.00"}},{"$nulls":3},{"$f":"AS2268+AT2268","v":{"v":0,"d":"0.00"}},{"$f":"SUM(AS2270,AS2273,AS2276)","v":{"v":0,"d":"0.00"}},{"$f":"SUM(AT2270,AT2273,AT2276)","v":{"v":0,"d":"0.00"}}]
[]
[{"$nulls":12},"MGFLK","Магнафлок","тыс.руб.",{"$nulls":22},{"$f":"AM2270+AN2270","v":{"v":0,"d":"0.00"}},{"$f":"AM2271*AM2272/1000","v":{"v":0,"d":"0.00"}},{"$f":"AN2271*AN2272/1000","v":{"v":0,"d":"0.00"}}]
[{"$nulls":12},{"$f":"M2270 & \".P\"","v":"MGFLK.P"},"Цена за единицу","руб./ед.",{"$nulls":22},{"$f":"IF(AL2272=0,0,AL2270*1000/AL2272)","v":{"v":0,"d":"0.00"}}]
[{"$nulls":12},{"$f":"M2270 & \".V\"","v":"MGFLK.V"},"Объём","ед.",{"$nulls":22},{"$f":"AM2272+AN2272","v":{"v":0,"d":"0.00"}}]
[{"$nulls":12},"PRSTL","Праестол","тыс.руб.",{"$nulls":22},{"$f":"AM2273+AN2273","v":{"v":0,"d":"0.00"}},{"$f":"AM2274*AM2275/1000","v":{"v":0,"d":"0.00"}},{"$f":"AN2274*AN2275/1000","v":{"v":0,"d":"0.00"}}]
[{"$nulls":12},{"$f":"M2273 & \".P\"","v":"PRSTL.P"},"Цена за единицу","руб./ед.",{"$nulls":22},{"$f":"IF(AL2275=0,0,AL2273*1000/AL2275)","v":{"v":0,"d":"0.00"}}]
[{"$nulls":12},{"$f":"M2273 & \".V\"","v":"PRSTL.V"},"Объём","ед.",{"$nulls":22},{"$f":"AM2275+AN2275","v":{"v":0,"d":"0.00"}}]
[{"$nulls":12},"OTH","прочие","тыс.руб.",{"$nulls":22},{"$f":"AM2276+AN2276","v":{"v":0,"d":"0.00"}}]
[]
[{"$nulls":12},"REAG","Реагенты","тыс.руб.",{"$nulls":16},{"$f":"AG2278+AH2278","v":{"v":0,"d":"0.00"}},{"$f":"SUMIF(ХВС.Р!$AO$57:$AO$299,ХВС.Р!$AO$56,ХВС.Р!AG$57:AG$299)","v":{"v":0,"d":"0.00"}},{"$f":"SUMIF(ХВС.Р!$AO$57:$AO$299,ХВС.Р!$AO$56,ХВС.Р!AH$57:AH$299)","v":{"v":0,"d":"0.00"}},{"$nulls":3},{"$f":"AM2278+AN2278","v":{"v":0,"d":"0.00"}},{"$f":"SUMIF(ХВС.Р!$AO$57:$AO$299,ХВС.Р!$AO$56,ХВС.Р!AM$57:AM$299)","v":{"v":0,"d":"0.00"}},{"$f":"SUMIF(ХВС.Р!$AO$57:$AO$299,ХВС.Р!$AO$56,ХВС.Р!AN$57:AN$299)","v":{"v":0,"d":"0.00"}},{"$nulls":3},{"$f":"AS2278+AT2278","v":{"$error":"#REF!"}},{"$f":"SUMIF(ХВС.Р!$AO$57:$AO$299,ХВС.Р!$AO$56,ХВС.Р!AS$57:AS$299)","v":{"v":0,"d":"0.00"}},{"$f":"SUMIF(ХВС.Р!$AO$57:$AO$299,ХВС.Р!$AO$56,ХВС.Р!#REF!)","v":{"$error":"#REF!"}}]
[]
[{"$nulls":12},"AGRP","агар питательный","тыс.руб.",{"$nulls":22},{"$f":"AM2280+AN2280","v":{"v":0,"d":"0.00"}},{"$f":"AM2281*AM2282/1000","v":{"v":0,"d":"0.00"}},{"$f":"AN2281*AN2282/1000","v":{"v":0,"d":"0.00"}}]
[{"$nulls":12},{"$f":"M2280 & \".P\"","v":"AGRP.P"},"Цена за единицу","руб./ед.",{"$nulls":22},{"$f":"IF(AL2282=0,0,AL2280*1000/AL2282)","v":{"v":0,"d":"0.00"}}]
[{"$nulls":12},{"$f":"M2280 & \".V\"","v":"AGRP.V"},"Объём","ед.",{"$nulls":22},{"$f":"AM2282+AN2282","v":{"v":0,"d":"0.00"}}]
[{"$nulls":12},"AGRE","агар Эндо","тыс.руб.",{"$nulls":22},{"$f":"AM2283+AN2283","v":{"v":0,"d":"0.00"}},{"$f":"AM2284*AM2285/1000","v":{"v":0,"d":"0.00"}},{"$f":"AN2284*AN2285/1000","v":{"v":0,"d":"0.00"}}]
[{"$nulls":12},{"$f":"M2283 & \".P\"","v":"AGRE.P"},"Цена за единицу","руб./ед.",{"$nulls":22},{"$f":"IF(AL2285=0,0,AL2283*1000/AL2285)","v":{"v":0,"d":"0.00"}}]
[{"$nulls":12},{"$f":"M2283 & \".V\"","v":"AGRE.V"},"Объём","ед.",{"$nulls":22},{"$f":"AM2285+AN2285","v":{"v":0,"d":"0.00"}}]
[{"$nulls":12},"ALOX","алюминий окись","тыс.руб.",{"$nulls":22},{"$f":"AM2286+AN2286","v":{"v":0,"d":"0.00"}},{"$f":"AM2287*AM2288/1000","v":{"v":0,"d":"0.00"}},{"$f":"AN2287*AN2288/1000","v":{"v":0,"d":"0.00"}}]
[{"$nulls":12},{"$f":"M2286 & \".P\"","v":"ALOX.P"},"Цена за единицу","руб./ед.",{"$nulls":22},{"$f":"IF(AL2288=0,0,AL2286*1000/AL2288)","v":{"v":0,"d":"0.00"}}]
[{"$nulls":12},{"$f":"M2286 & \".V\"","v":"ALOX.V"},"Объём","ед.",{"$nulls":22},{"$f":"AM2288+AN2288","v":{"v":0,"d":"0.00"}}]
[{"$nulls":12},"ALS","алюминий сернокислый","тыс.руб.",{"$nulls":22},{"$f":"AM2289+AN2289","v":{"v":0,"d":"0.00"}},{"$f":"AM2290*AM2291/1000","v":{"v":0,"d":"0.00"}},{"$f":"AN2290*AN2291/1000","v":{"v":0,"d":"0.00"}}]
[{"$nulls":12},{"$f":"M2289 & \".P\"","v":"ALS.P"},"Цена за единицу","руб./ед.",{"$nulls":22},{"$f":"IF(AL2291=0,0,AL2289*1000/AL2291)","v":{"v":0,"d":"0.00"}}]
[{"$nulls":12},{"$f":"M2289 & \".V\"","v":"ALS.V"},"Объём","ед.",{"$nulls":22},{"$f":"AM2291+AN2291","v":{"v":0,"d":"0.00"}}]
[{"$nulls":12},"AM","аммиак","тыс.руб.",{"$nulls":22},{"$f":"AM2292+AN2292","v":{"v":0,"d":"0.00"}},{"$f":"AM2293*AM2294/1000","v":{"v":0,"d":"0.00"}},{"$f":"AN2293*AN2294/1000","v":{"v":0,"d":"0.00"}}]
[{"$nulls":12},{"$f":"M2292 & \".P\"","v":"AM.P"},"Цена за единицу","руб./ед.",{"$nulls":22},{"$f":"IF(AL2294=0,0,AL2292*1000/AL2294)","v":{"v":0,"d":"0.00"}}]
[{"$nulls":12},{"$f":"M2292 & \".V\"","v":"AM.V"},"Объём","ед.",{"$nulls":22},{"$f":"AM2294+AN2294","v":{"v":0,"d":"0.00"}}]
[{"$nulls":12},"AMW","аммиачная вода","тыс.руб.",{"$nulls":22},{"$f":"AM2295+AN2295","v":{"v":0,"d":"0.00"}},{"$f":"AM2296*AM2297/1000","v":{"v":0,"d":"0.00"}},{"$f":"AN2296*AN2297/1000","v":{"v":0,"d":"0.00"}}]
[{"$nulls":12},{"$f":"M2295 & \".P\"","v":"AMW.P"},"Цена за единицу","руб./ед.",{"$nulls":22},{"$f":"IF(AL2297=0,0,AL2295*1000/AL2297)","v":{"v":0,"d":"0.00"}}]
[{"$nulls":12},{"$f":"M2295 & \".V\"","v":"AMW.V"},"Объём","ед.",{"$nulls":22},{"$f":"AM2297+AN2297","v":{"v":0,"d":"0.00"}}]
[{"$nulls":12},"AMN","аммоний","тыс.руб.",{"$nulls":22},{"$f":"AM2298+AN2298","v":{"v":0,"d":"0.00"}},{"$f":"AM2299*AM2300/1000","v":{"v":0,"d":"0.00"}},{"$f":"AN2299*AN2300/1000","v":{"v":0,"d":"0.00"}}]
[{"$nulls":12},{"$f":"M2298 & \".P\"","v":"AMN.P"},"Цена за единицу","руб./ед.",{"$nulls":22},{"$f":"IF(AL2300=0,0,AL2298*1000/AL2300)","v":{"v":0,"d":"0.00"}}]
[{"$nulls":12},{"$f":"M2298 & \".V\"","v":"AMN.V"},"Объём","ед.",{"$nulls":22},{"$f":"AM2300+AN2300","v":{"v":0,"d":"0.00"}}]
[{"$nulls":12},"AMNCL","аммоний хлористый","тыс.руб.",{"$nulls":22},{"$f":"AM2301+AN2301","v":{"v":0,"d":"0.00"}},{"$f":"AM2302*AM2303/1000","v":{"v":0,"d":"0.00"}},{"$f":"AN2302*AN2303/1000","v":{"v":0,"d":"0.00"}}]
[{"$nulls":12},{"$f":"M2301 & \".P\"","v":"AMNCL.P"},"Цена за единицу","руб./ед.",{"$nulls":22},{"$f":"IF(AL2303=0,0,AL2301*1000/AL2303)","v":{"v":0,"d":"0.00"}}]
[{"$nulls":12},{"$f":"M2301 & \".V\"","v":"AMNCL.V"},"Объём","ед.",{"$nulls":22},{"$f":"AM2303+AN2303","v":{"v":0,"d":"0.00"}}]
[{"$nulls":12},"BACL","барий хлористый","тыс.руб.",{"$nulls":22},{"$f":"AM2304+AN2304","v":{"v":0,"d":"0.00"}},{"$f":"AM2305*AM2306/1000","v":{"v":0,"d":"0.00"}},{"$f":"AN2305*AN2306/1000","v":{"v":0,"d":"0.00"}}]
[{"$nulls":12},{"$f":"M2304 & \".P\"","v":"BACL.P"},"Цена за единицу","руб./ед.",{"$nulls":22},{"$f":"IF(AL2306=0,0,AL2304*1000/AL2306)","v":{"v":0,"d":"0.00"}}]
[{"$nulls":12},{"$f":"M2304 & \".V\"","v":"BACL.V"},"Объём","ед.",{"$nulls":22},{"$f":"AM2306+AN2306","v":{"v":0,"d":"0.00"}}]
[{"$nulls":12},"BIOX","биоксимин","тыс.руб.",{"$nulls":22},{"$f":"AM2307+AN2307","v":{"v":0,"d":"0.00"}},{"$f":"AM2308*AM2309/1000","v":{"v":0,"d":"0.00"}},{"$f":"AN2308*AN2309/1000","v":{"v":0,"d":"0.00"}}]
[{"$nulls":12},{"$f":"M2307 & \".P\"","v":"BIOX.P"},"Цена за единицу","руб./ед.",{"$nulls":22},{"$f":"IF(AL2309=0,0,AL2307*1000/AL2309)","v":{"v":0,"d":"0.00"}}]
[{"$nulls":12},{"$f":"M2307 & \".V\"","v":"BIOX.V"},"Объём","ед.",{"$nulls":22},{"$f":"AM2309+AN2309","v":{"v":0,"d":"0.00"}}]
[{"$nulls":12},"BRFNL","бромфеноловый синий","тыс.руб.",{"$nulls":22},{"$f":"AM2310+AN2310","v":{"v":0,"d":"0.00"}},{"$f":"AM2311*AM2312/1000","v":{"v":0,"d":"0.00"}},{"$f":"AN2311*AN2312/1000","v":{"v":0,"d":"0.00"}}]
[{"$nulls":12},{"$f":"M2310 & \".P\"","v":"BRFNL.P"},"Цена за единицу","руб./ед.",{"$nulls":22},{"$f":"IF(AL2312=0,0,AL2310*1000/AL2312)","v":{"v":0,"d":"0.00"}}]
[{"$nulls":12},{"$f":"M2310 & \".V\"","v":"BRFNL.V"},"Объём","ед.",{"$nulls":22},{"$f":"AM2312+AN2312","v":{"v":0,"d":"0.00"}}]
[{"$nulls":12},"HDOX","водорода перекись","тыс.руб.",{"$nulls":22},{"$f":"AM2313+AN2313","v":{"v":0,"d":"0.00"}},{"$f":"AM2314*AM2315/1000","v":{"v":0,"d":"0.00"}},{"$f":"AN2314*AN2315/1000","v":{"v":0,"d":"0.00"}}]
[{"$nulls":12},{"$f":"M2313 & \".P\"","v":"HDOX.P"},"Цена за единицу","руб./ед.",{"$nulls":22},{"$f":"IF(AL2315=0,0,AL2313*1000/AL2315)","v":{"v":0,"d":"0.00"}}]
[{"$nulls":12},{"$f":"M2313 & \".V\"","v":"HDOX.V"},"Объём","ед.",{"$nulls":22},{"$f":"AM2315+AN2315","v":{"v":0,"d":"0.00"}}]
[{"$nulls":12},"GEXN","гексан","тыс.руб.",{"$nulls":22},{"$f":"AM2316+AN2316","v":{"v":0,"d":"0.00"}},{"$f":"AM2317*AM2318/1000","v":{"v":0,"d":"0.00"}},{"$f":"AN2317*AN2318/1000","v":{"v":0,"d":"0.00"}}]
[{"$nulls":12},{"$f":"M2316 & \".P\"","v":"GEXN.P"},"Цена за единицу","руб./ед.",{"$nulls":22},{"$f":"IF(AL2318=0,0,AL2316*1000/AL2318)","v":{"v":0,"d":"0.00"}}]
[{"$nulls":12},{"$f":"M2316 & \".V\"","v":"GEXN.V"},"Объём","ед.",{"$nulls":22},{"$f":"AM2318+AN2318","v":{"v":0,"d":"0.00"}}]
[{"$nulls":12},"HDOXCL","гидроксиламин солянокислый","тыс.руб.",{"$nulls":22},{"$f":"AM2319+AN2319","v":{"v":0,"d":"0.00"}},{"$f":"AM2320*AM2321/1000","v":{"v":0,"d":"0.00"}},{"$f":"AN2320*AN2321/1000","v":{"v":0,"d":"0.00"}}]
[{"$nulls":12},{"$f":"M2319 & \".P\"","v":"HDOXCL.P"},"Цена за единицу","руб./ед.",{"$nulls":22},{"$f":"IF(AL2321=0,0,AL2319*1000/AL2321)","v":{"v":0,"d":"0.00"}}]
[{"$nulls":12},{"$f":"M2319 & \".V\"","v":"HDOXCL.V"},"Объём","ед.",{"$nulls":22},{"$f":"AM2321+AN2321","v":{"v":0,"d":"0.00"}}]
[{"$nulls":12},"HDCLCA","гидрохлорид кальция","тыс.руб.",{"$nulls":22},{"$f":"AM2322+AN2322","v":{"v":0,"d":"0.00"}},{"$f":"AM2323*AM2324/1000","v":{"v":0,"d":"0.00"}},{"$f":"AN2323*AN2324/1000","v":{"v":0,"d":"0.00"}}]
[{"$nulls":12},{"$f":"M2322 & \".P\"","v":"HDCLCA.P"},"Цена за единицу","руб./ед.",{"$nulls":22},{"$f":"IF(AL2324=0,0,AL2322*1000/AL2324)","v":{"v":0,"d":"0.00"}}]
[{"$nulls":12},{"$f":"M2322 & \".V\"","v":"HDCLCA.V"},"Объём","ед.",{"$nulls":22},{"$f":"AM2324+AN2324","v":{"v":0,"d":"0.00"}}]
[{"$nulls":12},"HPCLCA","гипохлорит кальция","тыс.руб.",{"$nulls":22},{"$f":"AM2325+AN2325","v":{"v":0,"d":"0.00"}},{"$f":"AM2326*AM2327/1000","v":{"v":0,"d":"0.00"}},{"$f":"AN2326*AN2327/1000","v":{"v":0,"d":"0.00"}}]
[{"$nulls":12},{"$f":"M2325 & \".P\"","v":"HPCLCA.P"},"Цена за единицу","руб./ед.",{"$nulls":22},{"$f":"IF(AL2327=0,0,AL2325*1000/AL2327)","v":{"v":0,"d":"0.00"}}]
[{"$nulls":12},{"$f":"M2325 & \".V\"","v":"HPCLCA.V"},"Объём","ед.",{"$nulls":22},{"$f":"AM2327+AN2327","v":{"v":0,"d":"0.00"}}]
[{"$nulls":12},"HPCLNA","гипохлорит натрия","тыс.руб.",{"$nulls":22},{"$f":"AM2328+AN2328","v":{"v":0,"d":"0.00"}},{"$f":"AM2329*AM2330/1000","v":{"v":0,"d":"0.00"}},{"$f":"AN2329*AN2330/1000","v":{"v":0,"d":"0.00"}}]
[{"$nulls":12},{"$f":"M2328 & \".P\"","v":"HPCLNA.P"},"Цена за единицу","руб./ед.",{"$nulls":22},{"$f":"IF(AL2330=0,0,AL2328*1000/AL2330)","v":{"v":0,"d":"0.00"}}]
[{"$nulls":12},{"$f":"M2328 & \".V\"","v":"HPCLNA.V"},"Объём","ед.",{"$nulls":22},{"$f":"AM2330+AN2330","v":{"v":0,"d":"0.00"}}]
[{"$nulls":12},"GLC","глицерин","тыс.руб.",{"$nulls":22},{"$f":"AM2331+AN2331","v":{"v":0,"d":"0.00"}},{"$f":"AM2332*AM2333/1000","v":{"v":0,"d":"0.00"}},{"$f":"AN2332*AN2333/1000","v":{"v":0,"d":"0.00"}}]
[{"$nulls":12},{"$f":"M2331 & \".P\"","v":"GLC.P"},"Цена за единицу","руб./ед.",{"$nulls":22},{"$f":"IF(AL2333=0,0,AL2331*1000/AL2333)","v":{"v":0,"d":"0.00"}}]
[{"$nulls":12},{"$f":"M2331 & \".V\"","v":"GLC.V"},"Объём","ед.",{"$nulls":22},{"$f":"AM2333+AN2333","v":{"v":0,"d":"0.00"}}]
[{"$nulls":12},"DFNLCD","дифенилкарбазид","тыс.руб.",{"$nulls":22},{"$f":"AM2334+AN2334","v":{"v":0,"d":"0.00"}},{"$f":"AM2335*AM2336/1000","v":{"v":0,"d":"0.00"}},{"$f":"AN2335*AN2336/1000","v":{"v":0,"d":"0.00"}}]
[{"$nulls":12},{"$f":"M2334 & \".P\"","v":"DFNLCD.P"},"Цена за единицу","руб./ед.",{"$nulls":22},{"$f":"IF(AL2336=0,0,AL2334*1000/AL2336)","v":{"v":0,"d":"0.00"}}]
[{"$nulls":12},{"$f":"M2334 & \".V\"","v":"DFNLCD.V"},"Объём","ед.",{"$nulls":22},{"$f":"AM2336+AN2336","v":{"v":0,"d":"0.00"}}]
[{"$nulls":12},"DFNLCN","дифенилкарбазон","тыс.руб.",{"$nulls":22},{"$f":"AM2337+AN2337","v":{"v":0,"d":"0.00"}},{"$f":"AM2338*AM2339/1000","v":{"v":0,"d":"0.00"}},{"$f":"AN2338*AN2339/1000","v":{"v":0,"d":"0.00"}}]
[{"$nulls":12},{"$f":"M2337 & \".P\"","v":"DFNLCN.P"},"Цена за единицу","руб./ед.",{"$nulls":22},{"$f":"IF(AL2339=0,0,AL2337*1000/AL2339)","v":{"v":0,"d":"0.00"}}]
[{"$nulls":12},{"$f":"M2337 & \".V\"","v":"DFNLCN.V"},"Объём","ед.",{"$nulls":22},{"$f":"AM2339+AN2339","v":{"v":0,"d":"0.00"}}]
[{"$nulls":12},"FES","железо сернокислое","тыс.руб.",{"$nulls":22},{"$f":"AM2340+AN2340","v":{"v":0,"d":"0.00"}},{"$f":"AM2341*AM2342/1000","v":{"v":0,"d":"0.00"}},{"$f":"AN2341*AN2342/1000","v":{"v":0,"d":"0.00"}}]
[{"$nulls":12},{"$f":"M2340 & \".P\"","v":"FES.P"},"Цена за единицу","руб./ед.",{"$nulls":22},{"$f":"IF(AL2342=0,0,AL2340*1000/AL2342)","v":{"v":0,"d":"0.00"}}]
[{"$nulls":12},{"$f":"M2340 & \".V\"","v":"FES.V"},"Объём","ед.",{"$nulls":22},{"$f":"AM2342+AN2342","v":{"v":0,"d":"0.00"}}]
[{"$nulls":12},"FECL","железо трёххлористое","тыс.руб.",{"$nulls":22},{"$f":"AM2343+AN2343","v":{"v":0,"d":"0.00"}},{"$f":"AM2344*AM2345/1000","v":{"v":0,"d":"0.00"}},{"$f":"AN2344*AN2345/1000","v":{"v":0,"d":"0.00"}}]
[{"$nulls":12},{"$f":"M2343 & \".P\"","v":"FECL.P"},"Цена за единицу","руб./ед.",{"$nulls":22},{"$f":"IF(AL2345=0,0,AL2343*1000/AL2345)","v":{"v":0,"d":"0.00"}}]
[{"$nulls":12},{"$f":"M2343 & \".V\"","v":"FECL.V"},"Объём","ед.",{"$nulls":22},{"$f":"AM2345+AN2345","v":{"v":0,"d":"0.00"}}]
[{"$nulls":12},"LIMENP","известь негашёная (порошок)","тыс.руб.",{"$nulls":22},{"$f":"AM2346+AN2346","v":{"v":0,"d":"0.00"}},{"$f":"AM2347*AM2348/1000","v":{"v":0,"d":"0.00"}},{"$f":"AN2347*AN2348/1000","v":{"v":0,"d":"0.00"}}]
[{"$nulls":12},{"$f":"M2346 & \".P\"","v":"LIMENP.P"},"Цена за единицу","руб./ед.",{"$nulls":22},{"$f":"IF(AL2348=0,0,AL2346*1000/AL2348)","v":{"v":0,"d":"0.00"}}]
[{"$nulls":12},{"$f":"M2346 & \".V\"","v":"LIMENP.V"},"Объём","ед.",{"$nulls":22},{"$f":"AM2348+AN2348","v":{"v":0,"d":"0.00"}}]
[{"$nulls":12},"LIMENH","известь негашёная гидратная","тыс.руб.",{"$nulls":22},{"$f":"AM2349+AN2349","v":{"v":0,"d":"0.00"}},{"$f":"AM2350*AM2351/1000","v":{"v":0,"d":"0.00"}},{"$f":"AN2350*AN2351/1000","v":{"v":0,"d":"0.00"}}]
[{"$nulls":12},{"$f":"M2349 & \".P\"","v":"LIMENH.P"},"Цена за единицу","руб./ед.",{"$nulls":22},{"$f":"IF(AL2351=0,0,AL2349*1000/AL2351)","v":{"v":0,"d":"0.00"}}]
[{"$nulls":12},{"$f":"M2349 & \".V\"","v":"LIMENH.V"},"Объём","ед.",{"$nulls":22},{"$f":"AM2351+AN2351","v":{"v":0,"d":"0.00"}}]
[{"$nulls":12},"LIMECL","известь хлорная","тыс.руб.",{"$nulls":22},{"$f":"AM2352+AN2352","v":{"v":0,"d":"0.00"}},{"$f":"AM2353*AM2354/1000","v":{"v":0,"d":"0.00"}},{"$f":"AN2353*AN2354/1000","v":{"v":0,"d":"0.00"}}]
[{"$nulls":12},{"$f":"M2352 & \".P\"","v":"LIMECL.P"},"Цена за единицу","руб./ед.",{"$nulls":22},{"$f":"IF(AL2354=0,0,AL2352*1000/AL2354)","v":{"v":0,"d":"0.00"}}]
[{"$nulls":12},{"$f":"M2352 & \".V\"","v":"LIMECL.V"},"Объём","ед.",{"$nulls":22},{"$f":"AM2354+AN2354","v":{"v":0,"d":"0.00"}}]
[{"$nulls":12},"KN","калий азотнокислый","тыс.руб.",{"$nulls":22},{"$f":"AM2355+AN2355","v":{"v":0,"d":"0.00"}},{"$f":"AM2356*AM2357/1000","v":{"v":0,"d":"0.00"}},{"$f":"AN2356*AN2357/1000","v":{"v":0,"d":"0.00"}}]
[{"$nulls":12},{"$f":"M2355 & \".P\"","v":"KN.P"},"Цена за единицу","руб./ед.",{"$nulls":22},{"$f":"IF(AL2357=0,0,AL2355*1000/AL2357)","v":{"v":0,"d":"0.00"}}]
[{"$nulls":12},{"$f":"M2355 & \".V\"","v":"KN.V"},"Объём","ед.",{"$nulls":22},{"$f":"AM2357+AN2357","v":{"v":0,"d":"0.00"}}]
[{"$nulls":12},"KCR","калий двухромовокислый","тыс.руб.",{"$nulls":22},{"$f":"AM2358+AN2358","v":{"v":0,"d":"0.00"}},{"$f":"AM2359*AM2360/1000","v":{"v":0,"d":"0.00"}},{"$f":"AN2359*AN2360/1000","v":{"v":0,"d":"0.00"}}]
[{"$nulls":12},{"$f":"M2358 & \".P\"","v":"KCR.P"},"Цена за единицу","руб./ед.",{"$nulls":22},{"$f":"IF(AL2360=0,0,AL2358*1000/AL2360)","v":{"v":0,"d":"0.00"}}]
[{"$nulls":12},{"$f":"M2358 & \".V\"","v":"KCR.V"},"Объём","ед.",{"$nulls":22},{"$f":"AM2360+AN2360","v":{"v":0,"d":"0.00"}}]
[{"$nulls":12},"KI","калий йодистый","тыс.руб.",{"$nulls":22},{"$f":"AM2361+AN2361","v":{"v":0,"d":"0.00"}},{"$f":"AM2362*AM2363/1000","v":{"v":0,"d":"0.00"}},{"$f":"AN2362*AN2363/1000","v":{"v":0,"d":"0.00"}}]
[{"$nulls":12},{"$f":"M2361 & \".P\"","v":"KI.P"},"Цена за единицу","руб./ед.",{"$nulls":22},{"$f":"IF(AL2363=0,0,AL2361*1000/AL2363)","v":{"v":0,"d":"0.00"}}]
[{"$nulls":12},{"$f":"M2361 & \".V\"","v":"KI.V"},"Объём","ед.",{"$nulls":22},{"$f":"AM2363+AN2363","v":{"v":0,"d":"0.00"}}]
[{"$nulls":12},"KMN","калий марганцевокислый","тыс.руб.",{"$nulls":22},{"$f":"AM2364+AN2364","v":{"v":0,"d":"0.00"}},{"$f":"AM2365*AM2366/1000","v":{"v":0,"d":"0.00"}},{"$f":"AN2365*AN2366/1000","v":{"v":0,"d":"0.00"}}]
[{"$nulls":12},{"$f":"M2364 & \".P\"","v":"KMN.P"},"Цена за единицу","руб./ед.",{"$nulls":22},{"$f":"IF(AL2366=0,0,AL2364*1000/AL2366)","v":{"v":0,"d":"0.00"}}]
[{"$nulls":12},{"$f":"M2364 & \".V\"","v":"KMN.V"},"Объём","ед.",{"$nulls":22},{"$f":"AM2366+AN2366","v":{"v":0,"d":"0.00"}}]
[{"$nulls":12},"KP","калий фосфорнокислый","тыс.руб.",{"$nulls":22},{"$f":"AM2367+AN2367","v":{"v":0,"d":"0.00"}},{"$f":"AM2368*AM2369/1000","v":{"v":0,"d":"0.00"}},{"$f":"AN2368*AN2369/1000","v":{"v":0,"d":"0.00"}}]
[{"$nulls":12},{"$f":"M2367 & \".P\"","v":"KP.P"},"Цена за единицу","руб./ед.",{"$nulls":22},{"$f":"IF(AL2369=0,0,AL2367*1000/AL2369)","v":{"v":0,"d":"0.00"}}]
[{"$nulls":12},{"$f":"M2367 & \".V\"","v":"KP.V"},"Объём","ед.",{"$nulls":22},{"$f":"AM2369+AN2369","v":{"v":0,"d":"0.00"}}]
[{"$nulls":12},"HCL","калий хлористый","тыс.руб.",{"$nulls":22},{"$f":"AM2370+AN2370","v":{"v":0,"d":"0.00"}},{"$f":"AM2371*AM2372/1000","v":{"v":0,"d":"0.00"}},{"$f":"AN2371*AN2372/1000","v":{"v":0,"d":"0.00"}}]
[{"$nulls":12},{"$f":"M2370 & \".P\"","v":"HCL.P"},"Цена за единицу","руб./ед.",{"$nulls":22},{"$f":"IF(AL2372=0,0,AL2370*1000/AL2372)","v":{"v":0,"d":"0.00"}}]
[{"$nulls":12},{"$f":"M2370 & \".V\"","v":"HCL.V"},"Объём","ед.",{"$nulls":22},{"$f":"AM2372+AN2372","v":{"v":0,"d":"0.00"}}]
[{"$nulls":12},"KNA","калий-натрий виннокислый","тыс.руб.",{"$nulls":22},{"$f":"AM2373+AN2373","v":{"v":0,"d":"0.00"}},{"$f":"AM2374*AM2375/1000","v":{"v":0,"d":"0.00"}},{"$f":"AN2374*AN2375/1000","v":{"v":0,"d":"0.00"}}]
[{"$nulls":12},{"$f":"M2373 & \".P\"","v":"KNA.P"},"Цена за единицу","руб./ед.",{"$nulls":22},{"$f":"IF(AL2375=0,0,AL2373*1000/AL2375)","v":{"v":0,"d":"0.00"}}]
[{"$nulls":12},{"$f":"M2373 & \".V\"","v":"KNA.V"},"Объём","ед.",{"$nulls":22},{"$f":"AM2375+AN2375","v":{"v":0,"d":"0.00"}}]
[{"$nulls":12},"CAC","кальций углекислый","тыс.руб.",{"$nulls":22},{"$f":"AM2376+AN2376","v":{"v":0,"d":"0.00"}},{"$f":"AM2377*AM2378/1000","v":{"v":0,"d":"0.00"}},{"$f":"AN2377*AN2378/1000","v":{"v":0,"d":"0.00"}}]
[{"$nulls":12},{"$f":"M2376 & \".P\"","v":"CAC.P"},"Цена за единицу","руб./ед.",{"$nulls":22},{"$f":"IF(AL2378=0,0,AL2376*1000/AL2378)","v":{"v":0,"d":"0.00"}}]
[{"$nulls":12},{"$f":"M2376 & \".V\"","v":"CAC.V"},"Объём","ед.",{"$nulls":22},{"$f":"AM2378+AN2378","v":{"v":0,"d":"0.00"}}]
[{"$nulls":12},"CACL","кальций хлористый","тыс.руб.",{"$nulls":22},{"$f":"AM2379+AN2379","v":{"v":0,"d":"0.00"}},{"$f":"AM2380*AM2381/1000","v":{"v":0,"d":"0.00"}},{"$f":"AN2380*AN2381/1000","v":{"v":0,"d":"0.00"}}]
[{"$nulls":12},{"$f":"M2379 & \".P\"","v":"CACL.P"},"Цена за единицу","руб./ед.",{"$nulls":22},{"$f":"IF(AL2381=0,0,AL2379*1000/AL2381)","v":{"v":0,"d":"0.00"}}]
[{"$nulls":12},{"$f":"M2379 & \".V\"","v":"CACL.V"},"Объём","ед.",{"$nulls":22},{"$f":"AM2381+AN2381","v":{"v":0,"d":"0.00"}}]
[{"$nulls":12},"CAHPCL","кальция гипохлорит","тыс.руб.",{"$nulls":22},{"$f":"AM2382+AN2382","v":{"v":0,"d":"0.00"}},{"$f":"AM2383*AM2384/1000","v":{"v":0,"d":"0.00"}},{"$f":"AN2383*AN2384/1000","v":{"v":0,"d":"0.00"}}]
[{"$nulls":12},{"$f":"M2382 & \".P\"","v":"CAHPCL.P"},"Цена за единицу","руб./ед.",{"$nulls":22},{"$f":"IF(AL2384=0,0,AL2382*1000/AL2384)","v":{"v":0,"d":"0.00"}}]
[{"$nulls":12},{"$f":"M2382 & \".V\"","v":"CAHPCL.V"},"Объём","ед.",{"$nulls":22},{"$f":"AM2384+AN2384","v":{"v":0,"d":"0.00"}}]
[{"$nulls":12},"SAND","кварцевый песок","тыс.руб.",{"$nulls":22},{"$f":"AM2385+AN2385","v":{"v":0,"d":"0.00"}},{"$f":"AM2386*AM2387/1000","v":{"v":0,"d":"0.00"}},{"$f":"AN2386*AN2387/1000","v":{"v":0,"d":"0.00"}}]
[{"$nulls":12},{"$f":"M2385 & \".P\"","v":"SAND.P"},"Цена за единицу","руб./ед.",{"$nulls":22},{"$f":"IF(AL2387=0,0,AL2385*1000/AL2387)","v":{"v":0,"d":"0.00"}}]
[{"$nulls":12},{"$f":"M2385 & \".V\"","v":"SAND.V"},"Объём","ед.",{"$nulls":22},{"$f":"AM2387+AN2387","v":{"v":0,"d":"0.00"}}]
[{"$nulls":12},"ACIDN","кислота азотная","тыс.руб.",{"$nulls":22},{"$f":"AM2388+AN2388","v":{"v":0,"d":"0.00"}},{"$f":"AM2389*AM2390/1000","v":{"v":0,"d":"0.00"}},{"$f":"AN2389*AN2390/1000","v":{"v":0,"d":"0.00"}}]
[{"$nulls":12},{"$f":"M2388 & \".P\"","v":"ACIDN.P"},"Цена за единицу","руб./ед.",{"$nulls":22},{"$f":"IF(AL2390=0,0,AL2388*1000/AL2390)","v":{"v":0,"d":"0.00"}}]
[{"$nulls":12},{"$f":"M2388 & \".V\"","v":"ACIDN.V"},"Объём","ед.",{"$nulls":22},{"$f":"AM2390+AN2390","v":{"v":0,"d":"0.00"}}]
[{"$nulls":12},"ACIDA","кислота аскорбиновая","тыс.руб.",{"$nulls":22},{"$f":"AM2391+AN2391","v":{"v":0,"d":"0.00"}},{"$f":"AM2392*AM2393/1000","v":{"v":0,"d":"0.00"}},{"$f":"AN2392*AN2393/1000","v":{"v":0,"d":"0.00"}}]
[{"$nulls":12},{"$f":"M2391 & \".P\"","v":"ACIDA.P"},"Цена за единицу","руб./ед.",{"$nulls":22},{"$f":"IF(AL2393=0,0,AL2391*1000/AL2393)","v":{"v":0,"d":"0.00"}}]
[{"$nulls":12},{"$f":"M2391 & \".V\"","v":"ACIDA.V"},"Объём","ед.",{"$nulls":22},{"$f":"AM2393+AN2393","v":{"v":0,"d":"0.00"}}]
[{"$nulls":12},"ACIDL","кислота лимонная","тыс.руб.",{"$nulls":22},{"$f":"AM2394+AN2394","v":{"v":0,"d":"0.00"}},{"$f":"AM2395*AM2396/1000","v":{"v":0,"d":"0.00"}},{"$f":"AN2395*AN2396/1000","v":{"v":0,"d":"0.00"}}]
[{"$nulls":12},{"$f":"M2394 & \".P\"","v":"ACIDL.P"},"Цена за единицу","руб./ед.",{"$nulls":22},{"$f":"IF(AL2396=0,0,AL2394*1000/AL2396)","v":{"v":0,"d":"0.00"}}]
[{"$nulls":12},{"$f":"M2394 & \".V\"","v":"ACIDL.V"},"Объём","ед.",{"$nulls":22},{"$f":"AM2396+AN2396","v":{"v":0,"d":"0.00"}}]
[{"$nulls":12},"AURIN","кислота розоловая (аурин)","тыс.руб.",{"$nulls":22},{"$f":"AM2397+AN2397","v":{"v":0,"d":"0.00"}},{"$f":"AM2398*AM2399/1000","v":{"v":0,"d":"0.00"}},{"$f":"AN2398*AN2399/1000","v":{"v":0,"d":"0.00"}}]
[{"$nulls":12},{"$f":"M2397 & \".P\"","v":"AURIN.P"},"Цена за единицу","руб./ед.",{"$nulls":22},{"$f":"IF(AL2399=0,0,AL2397*1000/AL2399)","v":{"v":0,"d":"0.00"}}]
[{"$nulls":12},{"$f":"M2397 & \".V\"","v":"AURIN.V"},"Объём","ед.",{"$nulls":22},{"$f":"AM2399+AN2399","v":{"v":0,"d":"0.00"}}]
[{"$nulls":12},"ACIDS","кислота серная","тыс.руб.",{"$nulls":22},{"$f":"AM2400+AN2400","v":{"v":0,"d":"0.00"}},{"$f":"AM2401*AM2402/1000","v":{"v":0,"d":"0.00"}},{"$f":"AN2401*AN2402/1000","v":{"v":0,"d":"0.00"}}]
[{"$nulls":12},{"$f":"M2400 & \".P\"","v":"ACIDS.P"},"Цена за единицу","руб./ед.",{"$nulls":22},{"$f":"IF(AL2402=0,0,AL2400*1000/AL2402)","v":{"v":0,"d":"0.00"}}]
[{"$nulls":12},{"$f":"M2400 & \".V\"","v":"ACIDS.V"},"Объём","ед.",{"$nulls":22},{"$f":"AM2402+AN2402","v":{"v":0,"d":"0.00"}}]
[{"$nulls":12},"ADIDCL","кислота соляная","тыс.руб.",{"$nulls":22},{"$f":"AM2403+AN2403","v":{"v":0,"d":"0.00"}},{"$f":"AM2404*AM2405/1000","v":{"v":0,"d":"0.00"}},{"$f":"AN2404*AN2405/1000","v":{"v":0,"d":"0.00"}}]
[{"$nulls":12},{"$f":"M2403 & \".P\"","v":"ADIDCL.P"},"Цена за единицу","руб./ед.",{"$nulls":22},{"$f":"IF(AL2405=0,0,AL2403*1000/AL2405)","v":{"v":0,"d":"0.00"}}]
[{"$nulls":12},{"$f":"M2403 & \".V\"","v":"ADIDCL.V"},"Объём","ед.",{"$nulls":22},{"$f":"AM2405+AN2405","v":{"v":0,"d":"0.00"}}]
[{"$nulls":12},"ACIDAC","кислота уксусная","тыс.руб.",{"$nulls":22},{"$f":"AM2406+AN2406","v":{"v":0,"d":"0.00"}},{"$f":"AM2407*AM2408/1000","v":{"v":0,"d":"0.00"}},{"$f":"AN2407*AN2408/1000","v":{"v":0,"d":"0.00"}}]
[{"$nulls":12},{"$f":"M2406 & \".P\"","v":"ACIDAC.P"},"Цена за единицу","руб./ед.",{"$nulls":22},{"$f":"IF(AL2408=0,0,AL2406*1000/AL2408)","v":{"v":0,"d":"0.00"}}]
[{"$nulls":12},{"$f":"M2406 & \".V\"","v":"ACIDAC.V"},"Объём","ед.",{"$nulls":22},{"$f":"AM2408+AN2408","v":{"v":0,"d":"0.00"}}]
[{"$nulls":12},"ACIDOX","кислота щавелевая","тыс.руб.",{"$nulls":22},{"$f":"AM2409+AN2409","v":{"v":0,"d":"0.00"}},{"$f":"AM2410*AM2411/1000","v":{"v":0,"d":"0.00"}},{"$f":"AN2410*AN2411/1000","v":{"v":0,"d":"0.00"}}]
[{"$nulls":12},{"$f":"M2409 & \".P\"","v":"ACIDOX.P"},"Цена за единицу","руб./ед.",{"$nulls":22},{"$f":"IF(AL2411=0,0,AL2409*1000/AL2411)","v":{"v":0,"d":"0.00"}}]
[{"$nulls":12},{"$f":"M2409 & \".V\"","v":"ACIDOX.V"},"Объём","ед.",{"$nulls":22},{"$f":"AM2411+AN2411","v":{"v":0,"d":"0.00"}}]
[{"$nulls":12},"STARCH","крахмал","тыс.руб.",{"$nulls":22},{"$f":"AM2412+AN2412","v":{"v":0,"d":"0.00"}},{"$f":"AM2413*AM2414/1000","v":{"v":0,"d":"0.00"}},{"$f":"AN2413*AN2414/1000","v":{"v":0,"d":"0.00"}}]
[{"$nulls":12},{"$f":"M2412 & \".P\"","v":"STARCH.P"},"Цена за единицу","руб./ед.",{"$nulls":22},{"$f":"IF(AL2414=0,0,AL2412*1000/AL2414)","v":{"v":0,"d":"0.00"}}]
[{"$nulls":12},{"$f":"M2412 & \".V\"","v":"STARCH.V"},"Объём","ед.",{"$nulls":22},{"$f":"AM2414+AN2414","v":{"v":0,"d":"0.00"}}]
[{"$nulls":12},"LANTN","лантан азотнокислый","тыс.руб.",{"$nulls":22},{"$f":"AM2415+AN2415","v":{"v":0,"d":"0.00"}},{"$f":"AM2416*AM2417/1000","v":{"v":0,"d":"0.00"}},{"$f":"AN2416*AN2417/1000","v":{"v":0,"d":"0.00"}}]
[{"$nulls":12},{"$f":"M2415 & \".P\"","v":"LANTN.P"},"Цена за единицу","руб./ед.",{"$nulls":22},{"$f":"IF(AL2417=0,0,AL2415*1000/AL2417)","v":{"v":0,"d":"0.00"}}]
[{"$nulls":12},{"$f":"M2415 & \".V\"","v":"LANTN.V"},"Объём","ед.",{"$nulls":22},{"$f":"AM2417+AN2417","v":{"v":0,"d":"0.00"}}]
[{"$nulls":12},"MGS","магний сернокислый","тыс.руб.",{"$nulls":22},{"$f":"AM2418+AN2418","v":{"v":0,"d":"0.00"}},{"$f":"AM2419*AM2420/1000","v":{"v":0,"d":"0.00"}},{"$f":"AN2419*AN2420/1000","v":{"v":0,"d":"0.00"}}]
[{"$nulls":12},{"$f":"M2418 & \".P\"","v":"MGS.P"},"Цена за единицу","руб./ед.",{"$nulls":22},{"$f":"IF(AL2420=0,0,AL2418*1000/AL2420)","v":{"v":0,"d":"0.00"}}]
[{"$nulls":12},{"$f":"M2418 & \".V\"","v":"MGS.V"},"Объём","ед.",{"$nulls":22},{"$f":"AM2420+AN2420","v":{"v":0,"d":"0.00"}}]
[{"$nulls":12},"NATR","натр едкий","тыс.руб.",{"$nulls":22},{"$f":"AM2421+AN2421","v":{"v":0,"d":"0.00"}},{"$f":"AM2422*AM2423/1000","v":{"v":0,"d":"0.00"}},{"$f":"AN2422*AN2423/1000","v":{"v":0,"d":"0.00"}}]
[{"$nulls":12},{"$f":"M2421 & \".P\"","v":"NATR.P"},"Цена за единицу","руб./ед.",{"$nulls":22},{"$f":"IF(AL2423=0,0,AL2421*1000/AL2423)","v":{"v":0,"d":"0.00"}}]
[{"$nulls":12},{"$f":"M2421 & \".V\"","v":"NATR.V"},"Объём","ед.",{"$nulls":22},{"$f":"AM2423+AN2423","v":{"v":0,"d":"0.00"}}]
[{"$nulls":12},"NAHDOX","натрий гидроокись","тыс.руб.",{"$nulls":22},{"$f":"AM2424+AN2424","v":{"v":0,"d":"0.00"}},{"$f":"AM2425*AM2426/1000","v":{"v":0,"d":"0.00"}},{"$f":"AN2425*AN2426/1000","v":{"v":0,"d":"0.00"}}]
[{"$nulls":12},{"$f":"M2424 & \".P\"","v":"NAHDOX.P"},"Цена за единицу","руб./ед.",{"$nulls":22},{"$f":"IF(AL2426=0,0,AL2424*1000/AL2426)","v":{"v":0,"d":"0.00"}}]
[{"$nulls":12},{"$f":"M2424 & \".V\"","v":"NAHDOX.V"},"Объём","ед.",{"$nulls":22},{"$f":"AM2426+AN2426","v":{"v":0,"d":"0.00"}}]
[{"$nulls":12},"NASLC","натрий салициловокислый","тыс.руб.",{"$nulls":22},{"$f":"AM2427+AN2427","v":{"v":0,"d":"0.00"}},{"$f":"AM2428*AM2429/1000","v":{"v":0,"d":"0.00"}},{"$f":"AN2428*AN2429/1000","v":{"v":0,"d":"0.00"}}]
[{"$nulls":12},{"$f":"M2427 & \".P\"","v":"NASLC.P"},"Цена за единицу","руб./ед.",{"$nulls":22},{"$f":"IF(AL2429=0,0,AL2427*1000/AL2429)","v":{"v":0,"d":"0.00"}}]
[{"$nulls":12},{"$f":"M2427 & \".V\"","v":"NASLC.V"},"Объём","ед.",{"$nulls":22},{"$f":"AM2429+AN2429","v":{"v":0,"d":"0.00"}}]
[{"$nulls":12},"NAS","натрий сернокислый","тыс.руб.",{"$nulls":22},{"$f":"AM2430+AN2430","v":{"v":0,"d":"0.00"}},{"$f":"AM2431*AM2432/1000","v":{"v":0,"d":"0.00"}},{"$f":"AN2431*AN2432/1000","v":{"v":0,"d":"0.00"}}]
[{"$nulls":12},{"$f":"M2430 & \".P\"","v":"NAS.P"},"Цена за единицу","руб./ед.",{"$nulls":22},{"$f":"IF(AL2432=0,0,AL2430*1000/AL2432)","v":{"v":0,"d":"0.00"}}]
[{"$nulls":12},{"$f":"M2430 & \".V\"","v":"NAS.V"},"Объём","ед.",{"$nulls":22},{"$f":"AM2432+AN2432","v":{"v":0,"d":"0.00"}}]
[{"$nulls":12},"NAC","натрий углекислый","тыс.руб.",{"$nulls":22},{"$f":"AM2433+AN2433","v":{"v":0,"d":"0.00"}},{"$f":"AM2434*AM2435/1000","v":{"v":0,"d":"0.00"}},{"$f":"AN2434*AN2435/1000","v":{"v":0,"d":"0.00"}}]
[{"$nulls":12},{"$f":"M2433 & \".P\"","v":"NAC.P"},"Цена за единицу","руб./ед.",{"$nulls":22},{"$f":"IF(AL2435=0,0,AL2433*1000/AL2435)","v":{"v":0,"d":"0.00"}}]
[{"$nulls":12},{"$f":"M2433 & \".V\"","v":"NAC.V"},"Объём","ед.",{"$nulls":22},{"$f":"AM2435+AN2435","v":{"v":0,"d":"0.00"}}]
[{"$nulls":12},"NAAC","натрий уксуснокислый","тыс.руб.",{"$nulls":22},{"$f":"AM2436+AN2436","v":{"v":0,"d":"0.00"}},{"$f":"AM2437*AM2438/1000","v":{"v":0,"d":"0.00"}},{"$f":"AN2437*AN2438/1000","v":{"v":0,"d":"0.00"}}]
[{"$nulls":12},{"$f":"M2436 & \".P\"","v":"NAAC.P"},"Цена за единицу","руб./ед.",{"$nulls":22},{"$f":"IF(AL2438=0,0,AL2436*1000/AL2438)","v":{"v":0,"d":"0.00"}}]
[{"$nulls":12},{"$f":"M2436 & \".V\"","v":"NAAC.V"},"Объём","ед.",{"$nulls":22},{"$f":"AM2438+AN2438","v":{"v":0,"d":"0.00"}}]
[{"$nulls":12},"NACL","натрий хлористый","тыс.руб.",{"$nulls":22},{"$f":"AM2439+AN2439","v":{"v":0,"d":"0.00"}},{"$f":"AM2440*AM2441/1000","v":{"v":0,"d":"0.00"}},{"$f":"AN2440*AN2441/1000","v":{"v":0,"d":"0.00"}}]
[{"$nulls":12},{"$f":"M2439 & \".P\"","v":"NACL.P"},"Цена за единицу","руб./ед.",{"$nulls":22},{"$f":"IF(AL2441=0,0,AL2439*1000/AL2441)","v":{"v":0,"d":"0.00"}}]
[{"$nulls":12},{"$f":"M2439 & \".V\"","v":"NACL.V"},"Объём","ед.",{"$nulls":22},{"$f":"AM2441+AN2441","v":{"v":0,"d":"0.00"}}]
[{"$nulls":12},"RGRS","реактив Грисса","тыс.руб.",{"$nulls":22},{"$f":"AM2442+AN2442","v":{"v":0,"d":"0.00"}},{"$f":"AM2443*AM2444/1000","v":{"v":0,"d":"0.00"}},{"$f":"AN2443*AN2444/1000","v":{"v":0,"d":"0.00"}}]
[{"$nulls":12},{"$f":"M2442 & \".P\"","v":"RGRS.P"},"Цена за единицу","руб./ед.",{"$nulls":22},{"$f":"IF(AL2444=0,0,AL2442*1000/AL2444)","v":{"v":0,"d":"0.00"}}]
[{"$nulls":12},{"$f":"M2442 & \".V\"","v":"RGRS.V"},"Объём","ед.",{"$nulls":22},{"$f":"AM2444+AN2444","v":{"v":0,"d":"0.00"}}]
[{"$nulls":12},"RNSL","реактив Несслера","тыс.руб.",{"$nulls":22},{"$f":"AM2445+AN2445","v":{"v":0,"d":"0.00"}},{"$f":"AM2446*AM2447/1000","v":{"v":0,"d":"0.00"}},{"$f":"AN2446*AN2447/1000","v":{"v":0,"d":"0.00"}}]
[{"$nulls":12},{"$f":"M2445 & \".P\"","v":"RNSL.P"},"Цена за единицу","руб./ед.",{"$nulls":22},{"$f":"IF(AL2447=0,0,AL2445*1000/AL2447)","v":{"v":0,"d":"0.00"}}]
[{"$nulls":12},{"$f":"M2445 & \".V\"","v":"RNSL.V"},"Объём","ед.",{"$nulls":22},{"$f":"AM2447+AN2447","v":{"v":0,"d":"0.00"}}]
[{"$nulls":12},"PBAC","свинец уксуснокислый","тыс.руб.",{"$nulls":22},{"$f":"AM2448+AN2448","v":{"v":0,"d":"0.00"}},{"$f":"AM2449*AM2450/1000","v":{"v":0,"d":"0.00"}},{"$f":"AN2449*AN2450/1000","v":{"v":0,"d":"0.00"}}]
[{"$nulls":12},{"$f":"M2448 & \".P\"","v":"PBAC.P"},"Цена за единицу","руб./ед.",{"$nulls":22},{"$f":"IF(AL2450=0,0,AL2448*1000/AL2450)","v":{"v":0,"d":"0.00"}}]
[{"$nulls":12},{"$f":"M2448 & \".V\"","v":"PBAC.V"},"Объём","ед.",{"$nulls":22},{"$f":"AM2450+AN2450","v":{"v":0,"d":"0.00"}}]
[{"$nulls":12},"AGN","серебро азотнокислое","тыс.руб.",{"$nulls":22},{"$f":"AM2451+AN2451","v":{"v":0,"d":"0.00"}},{"$f":"AM2452*AM2453/1000","v":{"v":0,"d":"0.00"}},{"$f":"AN2452*AN2453/1000","v":{"v":0,"d":"0.00"}}]
[{"$nulls":12},{"$f":"M2451 & \".P\"","v":"AGN.P"},"Цена за единицу","руб./ед.",{"$nulls":22},{"$f":"IF(AL2453=0,0,AL2451*1000/AL2453)","v":{"v":0,"d":"0.00"}}]
[{"$nulls":12},{"$f":"M2451 & \".V\"","v":"AGN.V"},"Объём","ед.",{"$nulls":22},{"$f":"AM2453+AN2453","v":{"v":0,"d":"0.00"}}]
[{"$nulls":12},"AGS","серебро сернокислое","тыс.руб.",{"$nulls":22},{"$f":"AM2454+AN2454","v":{"v":0,"d":"0.00"}},{"$f":"AM2455*AM2456/1000","v":{"v":0,"d":"0.00"}},{"$f":"AN2455*AN2456/1000","v":{"v":0,"d":"0.00"}}]
[{"$nulls":12},{"$f":"M2454 & \".P\"","v":"AGS.P"},"Цена за единицу","руб./ед.",{"$nulls":22},{"$f":"IF(AL2456=0,0,AL2454*1000/AL2456)","v":{"v":0,"d":"0.00"}}]
[{"$nulls":12},{"$f":"M2454 & \".V\"","v":"AGS.V"},"Объём","ед.",{"$nulls":22},{"$f":"AM2456+AN2456","v":{"v":0,"d":"0.00"}}]
[{"$nulls":12},"SODACA","сода кальцинированная","тыс.руб.",{"$nulls":22},{"$f":"AM2457+AN2457","v":{"v":0,"d":"0.00"}},{"$f":"AM2458*AM2459/1000","v":{"v":0,"d":"0.00"}},{"$f":"AN2458*AN2459/1000","v":{"v":0,"d":"0.00"}}]
[{"$nulls":12},{"$f":"M2457 & \".P\"","v":"SODACA.P"},"Цена за единицу","руб./ед.",{"$nulls":22},{"$f":"IF(AL2459=0,0,AL2457*1000/AL2459)","v":{"v":0,"d":"0.00"}}]
[{"$nulls":12},{"$f":"M2457 & \".V\"","v":"SODACA.V"},"Объём","ед.",{"$nulls":22},{"$f":"AM2459+AN2459","v":{"v":0,"d":"0.00"}}]
[{"$nulls":12},"SODACS","сода каустическая","тыс.руб.",{"$nulls":22},{"$f":"AM2460+AN2460","v":{"v":0,"d":"0.00"}},{"$f":"AM2461*AM2462/1000","v":{"v":0,"d":"0.00"}},{"$f":"AN2461*AN2462/1000","v":{"v":0,"d":"0.00"}}]
[{"$nulls":12},{"$f":"M2460 & \".P\"","v":"SODACS.P"},"Цена за единицу","руб./ед.",{"$nulls":22},{"$f":"IF(AL2462=0,0,AL2460*1000/AL2462)","v":{"v":0,"d":"0.00"}}]
[{"$nulls":12},{"$f":"M2460 & \".V\"","v":"SODACS.V"},"Объём","ед.",{"$nulls":22},{"$f":"AM2462+AN2462","v":{"v":0,"d":"0.00"}}]
[{"$nulls":12},"SALT1G","соль 1 сорт","тыс.руб.",{"$nulls":22},{"$f":"AM2463+AN2463","v":{"v":0,"d":"0.00"}},{"$f":"AM2464*AM2465/1000","v":{"v":0,"d":"0.00"}},{"$f":"AN2464*AN2465/1000","v":{"v":0,"d":"0.00"}}]
[{"$nulls":12},{"$f":"M2463 & \".P\"","v":"SALT1G.P"},"Цена за единицу","руб./ед.",{"$nulls":22},{"$f":"IF(AL2465=0,0,AL2463*1000/AL2465)","v":{"v":0,"d":"0.00"}}]
[{"$nulls":12},{"$f":"M2463 & \".V\"","v":"SALT1G.V"},"Объём","ед.",{"$nulls":22},{"$f":"AM2465+AN2465","v":{"v":0,"d":"0.00"}}]
[{"$nulls":12},"SALT","соль пищевая поваренная","тыс.руб.",{"$nulls":22},{"$f":"AM2466+AN2466","v":{"v":0,"d":"0.00"}},{"$f":"AM2467*AM2468/1000","v":{"v":0,"d":"0.00"}},{"$f":"AN2467*AN2468/1000","v":{"v":0,"d":"0.00"}}]
[{"$nulls":12},{"$f":"M2466 & \".P\"","v":"SALT.P"},"Цена за единицу","руб./ед.",{"$nulls":22},{"$f":"IF(AL2468=0,0,AL2466*1000/AL2468)","v":{"v":0,"d":"0.00"}}]
[{"$nulls":12},{"$f":"M2466 & \".V\"","v":"SALT.V"},"Объём","ед.",{"$nulls":22},{"$f":"AM2468+AN2468","v":{"v":0,"d":"0.00"}}]
[{"$nulls":12},"SALTPL","соль таблетированная","тыс.руб.",{"$nulls":22},{"$f":"AM2469+AN2469","v":{"v":0,"d":"0.00"}},{"$f":"AM2470*AM2471/1000","v":{"v":0,"d":"0.00"}},{"$f":"AN2470*AN2471/1000","v":{"v":0,"d":"0.00"}}]
[{"$nulls":12},{"$f":"M2469 & \".P\"","v":"SALTPL.P"},"Цена за единицу","руб./ед.",{"$nulls":22},{"$f":"IF(AL2471=0,0,AL2469*1000/AL2471)","v":{"v":0,"d":"0.00"}}]
[{"$nulls":12},{"$f":"M2469 & \".V\"","v":"SALTPL.V"},"Объём","ед.",{"$nulls":22},{"$f":"AM2471+AN2471","v":{"v":0,"d":"0.00"}}]
[{"$nulls":12},"SALTTH","соль техническая","тыс.руб.",{"$nulls":22},{"$f":"AM2472+AN2472","v":{"v":0,"d":"0.00"}},{"$f":"AM2473*AM2474/1000","v":{"v":0,"d":"0.00"}},{"$f":"AN2473*AN2474/1000","v":{"v":0,"d":"0.00"}}]
[{"$nulls":12},{"$f":"M2472 & \".P\"","v":"SALTTH.P"},"Цена за единицу","руб./ед.",{"$nulls":22},{"$f":"IF(AL2474=0,0,AL2472*1000/AL2474)","v":{"v":0,"d":"0.00"}}]
[{"$nulls":12},{"$f":"M2472 & \".V\"","v":"SALTTH.V"},"Объём","ед.",{"$nulls":22},{"$f":"AM2474+AN2474","v":{"v":0,"d":"0.00"}}]
[{"$nulls":12},"SALTEX","соль экстра","тыс.руб.",{"$nulls":22},{"$f":"AM2475+AN2475","v":{"v":0,"d":"0.00"}},{"$f":"AM2476*AM2477/1000","v":{"v":0,"d":"0.00"}},{"$f":"AN2476*AN2477/1000","v":{"v":0,"d":"0.00"}}]
[{"$nulls":12},{"$f":"M2475 & \".P\"","v":"SALTEX.P"},"Цена за единицу","руб./ед.",{"$nulls":22},{"$f":"IF(AL2477=0,0,AL2475*1000/AL2477)","v":{"v":0,"d":"0.00"}}]
[{"$nulls":12},{"$f":"M2475 & \".V\"","v":"SALTEX.V"},"Объём","ед.",{"$nulls":22},{"$f":"AM2477+AN2477","v":{"v":0,"d":"0.00"}}]
[{"$nulls":12},"C2H5OH","спирт","тыс.руб.",{"$nulls":22},{"$f":"AM2478+AN2478","v":{"v":0,"d":"0.00"}},{"$f":"AM2479*AM2480/1000","v":{"v":0,"d":"0.00"}},{"$f":"AN2479*AN2480/1000","v":{"v":0,"d":"0.00"}}]
[{"$nulls":12},{"$f":"M2478 & \".P\"","v":"C2H5OH.P"},"Цена за единицу","руб./ед.",{"$nulls":22},{"$f":"IF(AL2480=0,0,AL2478*1000/AL2480)","v":{"v":0,"d":"0.00"}}]
[{"$nulls":12},{"$f":"M2478 & \".V\"","v":"C2H5OH.V"},"Объём","ед.",{"$nulls":22},{"$f":"AM2480+AN2480","v":{"v":0,"d":"0.00"}}]
[{"$nulls":12},"SFAL1G","сульфат алюминия 1 сорт","тыс.руб.",{"$nulls":22},{"$f":"AM2481+AN2481","v":{"v":0,"d":"0.00"}},{"$f":"AM2482*AM2483/1000","v":{"v":0,"d":"0.00"}},{"$f":"AN2482*AN2483/1000","v":{"v":0,"d":"0.00"}}]
[{"$nulls":12},{"$f":"M2481 & \".P\"","v":"SFAL1G.P"},"Цена за единицу","руб./ед.",{"$nulls":22},{"$f":"IF(AL2483=0,0,AL2481*1000/AL2483)","v":{"v":0,"d":"0.00"}}]
[{"$nulls":12},{"$f":"M2481 & \".V\"","v":"SFAL1G.V"},"Объём","ед.",{"$nulls":22},{"$f":"AM2483+AN2483","v":{"v":0,"d":"0.00"}}]
[{"$nulls":12},"SFALLQD","сульфат алюминия жидкий","тыс.руб.",{"$nulls":22},{"$f":"AM2484+AN2484","v":{"v":0,"d":"0.00"}},{"$f":"AM2485*AM2486/1000","v":{"v":0,"d":"0.00"}},{"$f":"AN2485*AN2486/1000","v":{"v":0,"d":"0.00"}}]
[{"$nulls":12},{"$f":"M2484 & \".P\"","v":"SFALLQD.P"},"Цена за единицу","руб./ед.",{"$nulls":22},{"$f":"IF(AL2486=0,0,AL2484*1000/AL2486)","v":{"v":0,"d":"0.00"}}]
[{"$nulls":12},{"$f":"M2484 & \".V\"","v":"SFALLQD.V"},"Объём","ед.",{"$nulls":22},{"$f":"AM2486+AN2486","v":{"v":0,"d":"0.00"}}]
[{"$nulls":12},"SFALT","сульфат алюминия технический","тыс.руб.",{"$nulls":22},{"$f":"AM2487+AN2487","v":{"v":0,"d":"0.00"}},{"$f":"AM2488*AM2489/1000","v":{"v":0,"d":"0.00"}},{"$f":"AN2488*AN2489/1000","v":{"v":0,"d":"0.00"}}]
[{"$nulls":12},{"$f":"M2487 & \".P\"","v":"SFALT.P"},"Цена за единицу","руб./ед.",{"$nulls":22},{"$f":"IF(AL2489=0,0,AL2487*1000/AL2489)","v":{"v":0,"d":"0.00"}}]
[{"$nulls":12},{"$f":"M2487 & \".V\"","v":"SFALT.V"},"Объём","ед.",{"$nulls":22},{"$f":"AM2489+AN2489","v":{"v":0,"d":"0.00"}}]
[{"$nulls":12},"SFAMN","сульфат аммония","тыс.руб.",{"$nulls":22},{"$f":"AM2490+AN2490","v":{"v":0,"d":"0.00"}},{"$f":"AM2491*AM2492/1000","v":{"v":0,"d":"0.00"}},{"$f":"AN2491*AN2492/1000","v":{"v":0,"d":"0.00"}}]
[{"$nulls":12},{"$f":"M2490 & \".P\"","v":"SFAMN.P"},"Цена за единицу","руб./ед.",{"$nulls":22},{"$f":"IF(AL2492=0,0,AL2490*1000/AL2492)","v":{"v":0,"d":"0.00"}}]
[{"$nulls":12},{"$f":"M2490 & \".V\"","v":"SFAMN.V"},"Объём","ед.",{"$nulls":22},{"$f":"AM2492+AN2492","v":{"v":0,"d":"0.00"}}]
[{"$nulls":12},"TM","тиомочевина","тыс.руб.",{"$nulls":22},{"$f":"AM2493+AN2493","v":{"v":0,"d":"0.00"}},{"$f":"AM2494*AM2495/1000","v":{"v":0,"d":"0.00"}},{"$f":"AN2494*AN2495/1000","v":{"v":0,"d":"0.00"}}]
[{"$nulls":12},{"$f":"M2493 & \".P\"","v":"TM.P"},"Цена за единицу","руб./ед.",{"$nulls":22},{"$f":"IF(AL2495=0,0,AL2493*1000/AL2495)","v":{"v":0,"d":"0.00"}}]
[{"$nulls":12},{"$f":"M2493 & \".V\"","v":"TM.V"},"Объём","ед.",{"$nulls":22},{"$f":"AM2495+AN2495","v":{"v":0,"d":"0.00"}}]
[{"$nulls":12},"TSFNA","тиосульфат натрия","тыс.руб.",{"$nulls":22},{"$f":"AM2496+AN2496","v":{"v":0,"d":"0.00"}},{"$f":"AM2497*AM2498/1000","v":{"v":0,"d":"0.00"}},{"$f":"AN2497*AN2498/1000","v":{"v":0,"d":"0.00"}}]
[{"$nulls":12},{"$f":"M2496 & \".P\"","v":"TSFNA.P"},"Цена за единицу","руб./ед.",{"$nulls":22},{"$f":"IF(AL2498=0,0,AL2496*1000/AL2498)","v":{"v":0,"d":"0.00"}}]
[{"$nulls":12},{"$f":"M2496 & \".V\"","v":"TSFNA.V"},"Объём","ед.",{"$nulls":22},{"$f":"AM2498+AN2498","v":{"v":0,"d":"0.00"}}]
[{"$nulls":12},"CCL4","углерод четырёххлористый","тыс.руб.",{"$nulls":22},{"$f":"AM2499+AN2499","v":{"v":0,"d":"0.00"}},{"$f":"AM2500*AM2501/1000","v":{"v":0,"d":"0.00"}},{"$f":"AN2500*AN2501/1000","v":{"v":0,"d":"0.00"}}]
[{"$nulls":12},{"$f":"M2499 & \".P\"","v":"CCL4.P"},"Цена за единицу","руб./ед.",{"$nulls":22},{"$f":"IF(AL2501=0,0,AL2499*1000/AL2501)","v":{"v":0,"d":"0.00"}}]
[{"$nulls":12},{"$f":"M2499 & \".V\"","v":"CCL4.V"},"Объём","ед.",{"$nulls":22},{"$f":"AM2501+AN2501","v":{"v":0,"d":"0.00"}}]
[{"$nulls":12},"FFTLN","фенолфталеин","тыс.руб.",{"$nulls":22},{"$f":"AM2502+AN2502","v":{"v":0,"d":"0.00"}},{"$f":"AM2503*AM2504/1000","v":{"v":0,"d":"0.00"}},{"$f":"AN2503*AN2504/1000","v":{"v":0,"d":"0.00"}}]
[{"$nulls":12},{"$f":"M2502 & \".P\"","v":"FFTLN.P"},"Цена за единицу","руб./ед.",{"$nulls":22},{"$f":"IF(AL2504=0,0,AL2502*1000/AL2504)","v":{"v":0,"d":"0.00"}}]
[{"$nulls":12},{"$f":"M2502 & \".V\"","v":"FFTLN.V"},"Объём","ед.",{"$nulls":22},{"$f":"AM2504+AN2504","v":{"v":0,"d":"0.00"}}]
[{"$nulls":12},"CL","хлор","тыс.руб.",{"$nulls":22},{"$f":"AM2505+AN2505","v":{"v":0,"d":"0.00"}},{"$f":"AM2506*AM2507/1000","v":{"v":0,"d":"0.00"}},{"$f":"AN2506*AN2507/1000","v":{"v":0,"d":"0.00"}}]
[{"$nulls":12},{"$f":"M2505 & \".P\"","v":"CL.P"},"Цена за единицу","руб./ед.",{"$nulls":22},{"$f":"IF(AL2507=0,0,AL2505*1000/AL2507)","v":{"v":0,"d":"0.00"}}]
[{"$nulls":12},{"$f":"M2505 & \".V\"","v":"CL.V"},"Объём","ед.",{"$nulls":22},{"$f":"AM2507+AN2507","v":{"v":0,"d":"0.00"}}]
[{"$nulls":12},"CLLIQ","хлор жидкий","тыс.руб.",{"$nulls":22},{"$f":"AM2508+AN2508","v":{"v":0,"d":"0.00"}},{"$f":"AM2509*AM2510/1000","v":{"v":0,"d":"0.00"}},{"$f":"AN2509*AN2510/1000","v":{"v":0,"d":"0.00"}}]
[{"$nulls":12},{"$f":"M2508 & \".P\"","v":"CLLIQ.P"},"Цена за единицу","руб./ед.",{"$nulls":22},{"$f":"IF(AL2510=0,0,AL2508*1000/AL2510)","v":{"v":0,"d":"0.00"}}]
[{"$nulls":12},{"$f":"M2508 & \".V\"","v":"CLLIQ.V"},"Объём","ед.",{"$nulls":22},{"$f":"AM2510+AN2510","v":{"v":0,"d":"0.00"}}]
[{"$nulls":12},"CLAMN","хлорамин","тыс.руб.",{"$nulls":22},{"$f":"AM2511+AN2511","v":{"v":0,"d":"0.00"}},{"$f":"AM2512*AM2513/1000","v":{"v":0,"d":"0.00"}},{"$f":"AN2512*AN2513/1000","v":{"v":0,"d":"0.00"}}]
[{"$nulls":12},{"$f":"M2511 & \".P\"","v":"CLAMN.P"},"Цена за единицу","руб./ед.",{"$nulls":22},{"$f":"IF(AL2513=0,0,AL2511*1000/AL2513)","v":{"v":0,"d":"0.00"}}]
[{"$nulls":12},{"$f":"M2511 & \".V\"","v":"CLAMN.V"},"Объём","ед.",{"$nulls":22},{"$f":"AM2513+AN2513","v":{"v":0,"d":"0.00"}}]
[{"$nulls":12},"CLFRM","хлороформ","тыс.руб.",{"$nulls":22},{"$f":"AM2514+AN2514","v":{"v":0,"d":"0.00"}},{"$f":"AM2515*AM2516/1000","v":{"v":0,"d":"0.00"}},{"$f":"AN2515*AN2516/1000","v":{"v":0,"d":"0.00"}}]
[{"$nulls":12},{"$f":"M2514 & \".P\"","v":"CLFRM.P"},"Цена за единицу","руб./ед.",{"$nulls":22},{"$f":"IF(AL2516=0,0,AL2514*1000/AL2516)","v":{"v":0,"d":"0.00"}}]
[{"$nulls":12},{"$f":"M2514 & \".V\"","v":"CLFRM.V"},"Объём","ед.",{"$nulls":22},{"$f":"AM2516+AN2516","v":{"v":0,"d":"0.00"}}]
[{"$nulls":12},"ETHL","этиленгликоль","тыс.руб.",{"$nulls":22},{"$f":"AM2517+AN2517","v":{"v":0,"d":"0.00"}},{"$f":"AM2518*AM2519/1000","v":{"v":0,"d":"0.00"}},{"$f":"AN2518*AN2519/1000","v":{"v":0,"d":"0.00"}}]
[{"$nulls":12},{"$f":"M2517 & \".P\"","v":"ETHL.P"},"Цена за единицу","руб./ед.",{"$nulls":22},{"$f":"IF(AL2519=0,0,AL2517*1000/AL2519)","v":{"v":0,"d":"0.00"}}]
[{"$nulls":12},{"$f":"M2517 & \".V\"","v":"ETHL.V"},"Объём","ед.",{"$nulls":22},{"$f":"AM2519+AN2519","v":{"v":0,"d":"0.00"}}]
[{"$nulls":12},"OTH","прочие","тыс.руб.",{"$nulls":22},{"$f":"AM2520+AN2520","v":{"v":0,"d":"0.00"}}]
[]
[]
[{"$nulls":12},"OTH","Прочие","тыс.руб.",{"$nulls":22},{"$f":"AM2523+AN2523","v":{"v":0,"d":"0.00"}}]
[]
[{"$nulls":12},"21","Полезный отпуск продукции всего","тыс.куб.м",{"$nulls":16},{"$f":"SUMIF(ХВС.РО!$AS$15:$AT$15,AF$15,ХВС.РО!$AS$240:$AT$240)","v":{"v":0,"d":"0.00"}},{"$f":"SUMIF(ХВС.РО!$AS$15:$AT$15,AG$15,ХВС.РО!$AS$240:$AT$240)","v":{"v":0,"d":"0.00"}},{"$f":"SUMIF(ХВС.РО!$AS$15:$AT$15,AH$15,ХВС.РО!$AS$240:$AT$240)","v":{"v":0,"d":"0.00"}}]
{"$rows_empty":13}
[{"$nulls":28},"VOTV_CALC_ADD_RANGE"]
[]
[]
[]
[{"$nulls":28},12,6,6]
[]
[]
[{"$nulls":28},"Y","I","II"]
[]
[]
[]
[{"$nulls":28},"Год","I полугодие","II полугодие"]
[]
[{"$nulls":28},{"$f":"AC2554 & \"_\" & AC2546","v":"0_Y"},{"$f":"AD2554 & \"_\" & AD2546","v":"0_I"},{"$f":"AE2554 & \"_\" & AE2546","v":"0_II"}]
[]
[{"$nulls":28},{"$f":"AC2556","v":0},{"$f":"AC2556","v":0},{"$f":"AC2556","v":0}]
[{"$nulls":28},"Удалить"]
[{"$nulls":12},"№ п/п","Наименование показателя","Единица измерения"]
[]
[{"$nulls":13},"Является ли организация плательщиком НДС",{"$nulls":20},"VOTV_CALC_EMPTY_BASE_RANGE"]
[{"$nulls":13},{"$f":"IF(CALC_IDENTIFIER=\"\",\"\",CALC_IDENTIFIER)","v":"Вид стоков"},{"$nulls":20},"VOTV_CALC_SINGLE_BASE_RANGE"]
[{"$nulls":12},"1","Производственные расходы","тыс.руб.",{"$nulls":16},{"$f":"AG2560+AH2560","v":{"v":0,"d":"0.00"}},{"$f":"SUM(AG2561,AG2565,AG2643,AG2644,AG2657,AG2658,AG2659,AG2664)","v":{"v":0,"d":"0.00"}},{"$f":"SUM(AH2561,AH2565,AH2643,AH2644,AH2657,AH2658,AH2659,AH2664)","v":{"v":0,"d":"0.00"}}]
[{"$nulls":12},"1.1","Расходы на приобретение сырья и материалов и их хранение","тыс.руб.",{"$nulls":16},{"v":0,"d":"0.00"},{"$f":"SUM(AG2562,AG2563,AG2564)","v":{"v":0,"d":"0.00"}},{"$f":"SUM(AH2562,AH2563,AH2564)","v":{"v":0,"d":"0.00"}}]
[{"$nulls":12},"1.1.1","Реагенты ","тыс.руб.",{"$nulls":16},{"v":0,"d":"0.00"},{"$f":"Р!AG$25","v":{"v":0,"d":"0.00"}},{"$f":"Р!AH$25","v":{"v":0,"d":"0.00"}}]
[{"$nulls":12},"1.1.2","Горюче-смазочные материалы","тыс.руб.",{"$nulls":16},{"v":0,"d":"0.00"}]
[{"$nulls":12},"1.1.3","Материалы и малоценные основные средства","тыс.руб.",{"$nulls":16},{"v":0,"d":"0.00"}]
[{"$nulls":12},"1.2","Расходы на энергетические ресурсы и холодную воду","тыс.руб.",{"$nulls":16},{"v":0,"d":"0.00"},{"$f":"SUM(AG2566,AG2626,AG2627,AG2628,AG2633)","v":{"v":0,"d":"0.00"}},{"$f":"SUM(AH2566,AH2626,AH2627,AH2628,AH2633)","v":{"v":0,"d":"0.00"}}]
[{"$nulls":12},"1.2.1","электроэнергия ","тыс.руб.",{"$nulls":16},{"v":0,"d":"0.00"},{"$f":"SUM(AG2608,AG2620,AG2614)","v":{"v":0,"d":"0.00"}},{"$f":"SUM(AH2608,AH2620,AH2614)","v":{"v":0,"d":"0.00"}}]
[{"$nulls":12},"1.2.1.1","Объём покупной энергии"]
[{"$nulls":12},"1.2.1.1.1","Объём покупной энергии по одноставочному тарифу","тыс.кВт*ч",{"$nulls":16},{"$f":"SUM(AF2569:AF2573)","v":{"v":0,"d":"0.00"}},{"$f":"SUM(AG2569:AG2573)","v":{"v":0,"d":"0.00"}},{"$f":"SUM(AH2569:AH2573)","v":{"v":0,"d":"0.00"}}]
[{"$nulls":12},"1.2.1.1.1.1","НН","тыс.кВт*ч",{"$nulls":16},{"$f":"AG2569+AH2569","v":{"v":0,"d":"0.00"}}]
[{"$nulls":12},"1.2.1.1.1.2","СН1","тыс.кВт*ч",{"$nulls":16},{"$f":"AG2570+AH2570","v":{"v":0,"d":"0.00"}}]
[{"$nulls":12},"1.2.1.1.1.3","СН2","тыс.кВт*ч",{"$nulls":16},{"$f":"AG2571+AH2571","v":{"v":0,"d":"0.00"}}]
[{"$nulls":12},"1.2.1.1.1.4","ВН","тыс.кВт*ч",{"$nulls":16},{"$f":"AG2572+AH2572","v":{"v":0,"d":"0.00"}}]
[{"$nulls":12},"1.2.1.1.1.5","без разбивки по напряжению","тыс.кВт*ч",{"$nulls":16},{"$f":"AG2573+AH2573","v":{"v":0,"d":"0.00"}}]
[{"$nulls":12},"1.2.1.1.2","Объём покупной электроэнергии по двухставочному тарифу"]
[{"$nulls":12},"1.2.1.1.2.1","Мощность","МВт*мес",{"$nulls":16},{"$f":"SUM(AF2576:AF2580)","v":{"v":0,"d":"0.00"}},{"$f":"SUM(AG2576:AG2580)","v":{"v":0,"d":"0.00"}},{"$f":"SUM(AH2576:AH2580)","v":{"v":0,"d":"0.00"}}]
[{"$nulls":12},"1.2.1.1.2.1.1","НН","МВт*мес",{"$nulls":16},{"$f":"AG2576+AH2576","v":{"v":0,"d":"0.00"}}]
[{"$nulls":12},"1.2.1.1.2.1.2","СН1","МВт*мес",{"$nulls":16},{"$f":"AG2577+AH2577","v":{"v":0,"d":"0.00"}}]
[{"$nulls":12},"1.2.1.1.2.1.3","СН2","МВт*мес",{"$nulls":16},{"$f":"AG2578+AH2578","v":{"v":0,"d":"0.00"}}]
[{"$nulls":12},"1.2.1.1.2.1.4","ВН","МВт*мес",{"$nulls":16},{"$f":"AG2579+AH2579","v":{"v":0,"d":"0.00"}}]
[{"$nulls":12},"1.2.1.1.2.1.5","ГН","МВт*мес",{"$nulls":16},{"$f":"AG2580+AH2580","v":{"v":0,"d":"0.00"}}]
[{"$nulls":12},"1.2.1.1.2.2","Активная электроэнергия","тыс.кВт*ч",{"$nulls":16},{"$f":"SUM(AF2582:AF2586)","v":{"v":0,"d":"0.00"}},{"$f":"SUM(AG2582:AG2586)","v":{"v":0,"d":"0.00"}},{"$f":"SUM(AH2582:AH2586)","v":{"v":0,"d":"0.00"}}]
[{"$nulls":12},"1.2.1.1.2.2.1","НН","тыс.кВт*ч",{"$nulls":16},{"$f":"AG2582+AH2582","v":{"v":0,"d":"0.00"}}]
[{"$nulls":12},"1.2.1.1.2.2.2","СН1","тыс.кВт*ч",{"$nulls":16},{"$f":"AG2583+AH2583","v":{"v":0,"d":"0.00"}}]
[{"$nulls":12},"1.2.1.1.2.2.3","СН2","тыс.кВт*ч",{"$nulls":16},{"$f":"AG2584+AH2584","v":{"v":0,"d":"0.00"}}]
[{"$nulls":12},"1.2.1.1.2.2.4","ВН","тыс.кВт*ч",{"$nulls":16},{"$f":"AG2585+AH2585","v":{"v":0,"d":"0.00"}}]
[{"$nulls":12},"1.2.1.1.2.2.5","ГН","тыс.кВт*ч",{"$nulls":16},{"$f":"AG2586+AH2586","v":{"v":0,"d":"0.00"}}]
[{"$nulls":12},"1.2.1.2","Тариф на электроэнергию и мощность"]
[{"$nulls":12},"1.2.1.2.1","по одноставочному тарифу"]
[{"$nulls":12},"1.2.1.2.1.1","НН","руб./кВт*ч",{"$nulls":16},{"$f":"IF(AF2569=0,0,AF2609/AF2569)","v":{"v":0,"d":"0.00"}}]
[{"$nulls":12},"1.2.1.2.1.2","СН1","руб./кВт*ч",{"$nulls":16},{"$f":"IF(AF2570=0,0,AF2610/AF2570)","v":{"v":0,"d":"0.00"}}]
[{"$nulls":12},"1.2.1.2.1.3","СН2","руб./кВт*ч",{"$nulls":16},{"$f":"IF(AF2571=0,0,AF2611/AF2571)","v":{"v":0,"d":"0.00"}}]
[{"$nulls":12},"1.2.1.2.1.4","ВН","руб./кВт*ч",{"$nulls":16},{"$f":"IF(AF2572=0,0,AF2612/AF2572)","v":{"v":0,"d":"0.00"}}]
[{"$nulls":12},"1.2.1.2.1.5","без разбивки по напряжению","руб./кВт*ч",{"$nulls":16},{"$f":"IF(AF2573=0,0,AF2613/AF2573)","v":{"v":0,"d":"0.00"}}]
[{"$nulls":12},"1.2.1.2.1.6","Средний одноставочный тариф на электрическую энергию","руб./кВт*ч",{"$nulls":16},{"$f":"IF(AF2568=0,0,AF2608/AF2568)","v":{"v":0,"d":"0.00"}},{"$f":"IF(AG2568=0,0,AG2608/AG2568)","v":{"v":0,"d":"0.00"}},{"$f":"IF(AH2568=0,0,AH2608/AH2568)","v":{"v":0,"d":"0.00"}}]
[{"$nulls":12},"1.2.1.2.2","по двухставочному тарифу"]
[{"$nulls":12},"1.2.1.2.2.1","ставка за мощность","руб./МВт*мес",{"$nulls":16},{"$f":"IF(AF2575=0,0,(AF2597*AF2576+AF2598*AF2577+AF2599*AF2578+AF2600*AF2579+AF2601*AF2580)/AF2575)","v":{"v":0,"d":"0.00"}},{"$f":"IF(AG2575=0,0,(AG2597*AG2576+AG2598*AG2577+AG2599*AG2578+AG2600*AG2579+AG2601*AG2580)/AG2575)","v":{"v":0,"d":"0.00"}},{"$f":"IF(AH2575=0,0,(AH2597*AH2576+AH2598*AH2577+AH2599*AH2578+AH2600*AH2579+AH2601*AH2580)/AH2575)","v":{"v":0,"d":"0.00"}}]
[{"$nulls":12},"1.2.1.2.2.1.1","НН","руб./МВт*мес",{"$nulls":16},{"$f":"IF(AF2576=0,0,AF2615*1000/AF2576)","v":{"v":0,"d":"0.00"}}]
[{"$nulls":12},"1.2.1.2.2.1.2","СН1","руб./МВт*мес",{"$nulls":16},{"$f":"IF(AF2577=0,0,AF2616*1000/AF2577)","v":{"v":0,"d":"0.00"}}]
[{"$nulls":12},"1.2.1.2.2.1.3","СН2","руб./МВт*мес",{"$nulls":16},{"$f":"IF(AF2578=0,0,AF2617*1000/AF2578)","v":{"v":0,"d":"0.00"}}]
[{"$nulls":12},"1.2.1.2.2.1.4","ВН","руб./МВт*мес",{"$nulls":16},{"$f":"IF(AF2579=0,0,AF2618*1000/AF2579)","v":{"v":0,"d":"0.00"}}]
[{"$nulls":12},"1.2.1.2.2.1.5","ГН","руб./МВт*мес",{"$nulls":16},{"$f":"IF(AF2580=0,0,AF2619*1000/AF2580)","v":{"v":0,"d":"0.00"}}]
[{"$nulls":12},"1.2.1.2.2.2","ставка за электроэнергию","руб./кВт*мес",{"$nulls":16},{"$f":"IF(AF2581=0,0,(AF2603*AF2582+AF2604*AF2583+AF2605*AF2584+AF2606*AF2585+AF2607*AF2586)/AF2581)","v":{"v":0,"d":"0.00"}},{"$f":"IF(AG2581=0,0,(AG2603*AG2582+AG2604*AG2583+AG2605*AG2584+AG2606*AG2585+AG2607*AG2586)/AG2581)","v":{"v":0,"d":"0.00"}},{"$f":"IF(AH2581=0,0,(AH2603*AH2582+AH2604*AH2583+AH2605*AH2584+AH2606*AH2585+AH2607*AH2586)/AH2581)","v":{"v":0,"d":"0.00"}}]
[{"$nulls":12},"1.2.1.2.2.2.1","НН","руб./кВт*мес",{"$nulls":16},{"$f":"IF(AF2582=0,0,AF2621/AF2582)","v":{"v":0,"d":"0.00"}}]
[{"$nulls":12},"1.2.1.2.2.2.2","СН1","руб./кВт*мес",{"$nulls":16},{"$f":"IF(AF2583=0,0,AF2622/AF2583)","v":{"v":0,"d":"0.00"}}]
[{"$nulls":12},"1.2.1.2.2.2.3","СН2","руб./кВт*мес",{"$nulls":16},{"$f":"IF(AF2584=0,0,AF2623/AF2584)","v":{"v":0,"d":"0.00"}}]
[{"$nulls":12},"1.2.1.2.2.2.4","ВН","руб./кВт*мес",{"$nulls":16},{"$f":"IF(AF2585=0,0,AF2624/AF2585)","v":{"v":0,"d":"0.00"}}]
[{"$nulls":12},"1.2.1.2.2.2.5","ГН","руб./кВт*мес",{"$nulls":16},{"$f":"IF(AF2586=0,0,AF2625/AF2586)","v":{"v":0,"d":"0.00"}}]
[{"$nulls":12},"1.2.1.3","Затраты на покупку энергии по одноставочному тарифу","тыс.руб.",{"$nulls":16},{"$f":"AG2608+AH2608","v":{"v":0,"d":"0.00"}},{"$f":"SUM(AG2609:AG2613)","v":{"v":0,"d":"0.00"}},{"$f":"SUM(AH2609:AH2613)","v":{"v":0,"d":"0.00"}}]
[{"$nulls":12},"1.2.1.3.1","НН","тыс.руб.",{"$nulls":16},{"v":0,"d":"0.00"},{"$f":"AG2569*AG2589","v":{"v":0,"d":"0.00"}},{"$f":"AH2569*AH2589","v":{"v":0,"d":"0.00"}}]
[{"$nulls":12},"1.2.1.3.2","СН1","тыс.руб.",{"$nulls":16},{"v":0,"d":"0.00"},{"$f":"AG2570*AG2590","v":{"v":0,"d":"0.00"}},{"v":0,"d":"0.00"}]
[{"$nulls":12},"1.2.1.3.3","СН2","тыс.руб.",{"$nulls":16},{"v":0,"d":"0.00"},{"v":0,"d":"0.00"},{"v":0,"d":"0.00"}]
[{"$nulls":12},"1.2.1.3.4","ВН","тыс.руб.",{"$nulls":16},{"v":0,"d":"0.00"},{"v":0,"d":"0.00"},{"v":0,"d":"0.00"}]
[{"$nulls":12},"1.2.1.3.5","без разбивки по напряжению","тыс.руб.",{"$nulls":16},{"v":0,"d":"0.00"},{"v":0,"d":"0.00"},{"v":0,"d":"0.00"}]
[{"$nulls":12},"1.2.1.4","Затраты на покупку мощности по двухставочному тарифу","тыс.руб.",{"$nulls":16},{"v":0,"d":"0.00"},{"$f":"SUM(AG2615:AG2619)","v":{"v":0,"d":"0.00"}},{"$f":"SUM(AH2615:AH2619)","v":{"v":0,"d":"0.00"}}]
[{"$nulls":12},"1.2.1.4.1","НН","тыс.руб.",{"$nulls":16},{"v":0,"d":"0.00"},{"$f":"AG2576*AG2597/1000","v":{"v":0,"d":"0.00"}},{"$f":"AH2576*AH2597/1000","v":{"v":0,"d":"0.00"}}]
[{"$nulls":12},"1.2.1.4.2","СН1","тыс.руб.",{"$nulls":16},{"v":0,"d":"0.00"},{"$f":"AG2577*AG2598/1000","v":{"v":0,"d":"0.00"}},{"v":0,"d":"0.00"}]
[{"$nulls":12},"1.2.1.4.3","СН2","тыс.руб.",{"$nulls":16},{"v":0,"d":"0.00"},{"v":0,"d":"0.00"},{"v":0,"d":"0.00"}]
[{"$nulls":12},"1.2.1.4.4","ВН","тыс.руб.",{"$nulls":16},{"v":0,"d":"0.00"},{"v":0,"d":"0.00"},{"v":0,"d":"0.00"}]
[{"$nulls":12},"1.2.1.4.5","ГН","тыс.руб.",{"$nulls":16},{"v":0,"d":"0.00"},{"v":0,"d":"0.00"},{"v":0,"d":"0.00"}]
[{"$nulls":12},"1.2.1.5","Затраты на покупку энергии по двухставочному тарифу","тыс.руб.",{"$nulls":16},{"v":0,"d":"0.00"},{"$f":"SUM(AG2621:AG2625)","v":{"v":0,"d":"0.00"}},{"$f":"SUM(AH2621:AH2625)","v":{"v":0,"d":"0.00"}}]
[{"$nulls":12},"1.2.1.5.1","НН","тыс.руб.",{"$nulls":16},{"v":0,"d":"0.00"},{"$f":"AG2582*AG2603","v":{"v":0,"d":"0.00"}},{"v":0,"d":"0.00"}]
[{"$nulls":12},"1.2.1.5.2","СН1","тыс.руб.",{"$nulls":16},{"v":0,"d":"0.00"},{"v":0,"d":"0.00"},{"v":0,"d":"0.00"}]
[{"$nulls":12},"1.2.1.5.3","СН2","тыс.руб.",{"$nulls":16},{"v":0,"d":"0.00"},{"v":0,"d":"0.00"},{"v":0,"d":"0.00"}]
[{"$nulls":12},"1.2.1.5.4","ВН","тыс.руб.",{"$nulls":16},{"v":0,"d":"0.00"},{"v":0,"d":"0.00"},{"v":0,"d":"0.00"}]
[{"$nulls":12},"1.2.1.5.5","ГН","тыс.руб.",{"$nulls":16},{"v":0,"d":"0.00"},{"v":0,"d":"0.00"},{"v":0,"d":"0.00"}]
[{"$nulls":12},"1.2.2","теплоэнергия","тыс.руб.",{"$nulls":16},{"v":0,"d":"0.00"}]
[{"$nulls":12},"1.2.3","теплоноситель","тыс.руб.",{"$nulls":16},{"v":0,"d":"0.00"}]
[{"$nulls":12},"1.2.4","топливо","тыс.руб.",{"$nulls":16},{"v":0,"d":"0.00"}]
[]
[]
[]
[]
[{"$nulls":12},"1.2.5","холодная вода","тыс.руб.",{"$nulls":16},{"$f":"AG2633+AH2633","v":{"v":0,"d":"0.00"}},{"$f":"AG2634*AG2635","v":{"v":0,"d":"0.00"}},{"$f":"AH2634*AH2635","v":{"v":0,"d":"0.00"}}]
[{"$nulls":12},"1.2.5.1","цена","руб./куб.м",{"$nulls":16},{"$f":"IF(AF2635=0,0,AF2633/AF2635)","v":{"v":0,"d":"0.00"}}]
[{"$nulls":12},"1.2.5.2","объём","тыс.куб.м",{"$nulls":16},{"$f":"AG2635+AH2635","v":{"v":0,"d":"0.00"}}]
{"$rows_empty":7}
[{"$nulls":12},"1.3","Расходы на оплату работ и услуг, выполняемые сторонними организациями и индивидуальными предпринимателями, связанные с эксплуатацией централизованных систем либо объектов в составе таких систем","тыс.руб.",{"$nulls":16},{"$f":"AG2643+AH2643","v":{"v":0,"d":"0.00"}}]
[{"$nulls":12},"1.4","Расходы на оплату труда и отчисления на социальные нужды основного производственного персонала, в том числе налоги и сборы ","тыс.руб.",{"$nulls":16},{"$f":"AG2644+AH2644","v":{"v":0,"d":"0.00"}},{"$f":"SUM(AG2645,AG2656)","v":{"v":0,"d":"0.00"}},{"$f":"SUM(AH2645,AH2656)","v":{"v":0,"d":"0.00"}}]
[{"$nulls":12},"1.4.1","Расходы на оплату труда производственного персонала","тыс.руб.",{"$nulls":16},{"$f":"AG2645+AH2645","v":{"v":0,"d":"0.00"}}]
[{"$nulls":12},"1.4.1.1","Численность (среднесписочная), принятая для расчёта","ед."]
[{"$nulls":12},"1.4.1.2","Среднемесячная оплата труда основного производственного персонала","руб./мес.",{"$nulls":16},{"$f":"IF(AF2646=0,0,AF2645/AF2646*1000/AF$6)","v":{"v":0,"d":"0.00"}},{"$f":"IF(AG2646=0,0,AG2645/AG2646*1000/AG$6)","v":{"v":0,"d":"0.00"}},{"$f":"IF(AH2646=0,0,AH2645/AH2646*1000/AH$6)","v":{"v":0,"d":"0.00"}}]
[{"$nulls":12},"1.4.1.3","Фактическая численность основного производственного персонала, относимого на регулируемый вид деятельности","ед."]
[{"$nulls":12},"1.4.1.4","Справочно: нормативная численность основного производственного персонала, относимого на регулируемый вид деятельности","ед."]
[{"$nulls":12},"1.4.1.5","Тарифная ставка рабочего 1-го разряда","руб./мес."]
[{"$nulls":12},"1.4.1.6","Индекс роста номинальной заработной платы"]
[{"$nulls":12},"1.4.1.7","Тарифная ставка рабочего 1-го разряда с учётом дефлятора","руб./мес."]
[{"$nulls":12},"1.4.1.8","Средний тарифный коэффициент"]
[{"$nulls":12},"1.4.1.9","Среднемесячная тарифная ставка","руб./мес."]
[{"$nulls":12},"1.4.1.10","Минимальный размер оплаты труда по отраслевому тарифному соглашению","руб./мес."]
[{"$nulls":12},"1.4.2","Отчисления на социальные нужды производственного персонала, в том числе налоги и сборы","тыс.руб.",{"$nulls":16},{"$f":"AG2656+AH2656","v":{"v":0,"d":"0.00"}}]
[{"$nulls":12},"1.5","Расходы на уплату процентов по займам и кредитам, не учитываемые при определении налогооблагаемой базы налога на прибыль","тыс.руб.",{"$nulls":16},{"v":0,"d":"0.00"}]
[{"$nulls":12},"1.6","Общехозяйственные расходы","тыс.руб.",{"$nulls":16},{"v":0,"d":"0.00"}]
[{"$nulls":12},"1.7","Прочие производственные расходы","тыс.руб.",{"$nulls":16},{"v":0,"d":"0.00"},{"$f":"SUM(AG2660:AG2663)","v":{"v":0,"d":"0.00"}},{"$f":"SUM(AH2660:AH2663)","v":{"v":0,"d":"0.00"}}]
[{"$nulls":12},"1.7.1","Расходы на амортизацию транспорта","тыс.руб.",{"$nulls":16},{"v":0,"d":"0.00"}]
[{"$nulls":12},{"$f":"IF(TEMPLATE_SPHERE_CODE=\"COLDVSNA\",\"1.7.2\",IF(TEMPLATE_SPHERE_CODE=\"VOTV\",\"1.7.2\",\"\"))","v":"1.7.2"},{"$f":"IF(TEMPLATE_SPHERE_CODE=\"COLDVSNA\",\"Контроль качества воды\",IF(TEMPLATE_SPHERE_CODE=\"VOTV\",\"Контроль сточных вод\",\"\"))","v":"Контроль сточных вод"},"тыс.руб.",{"$nulls":16},{"v":0,"d":"0.00"}]
[{"$nulls":12},"1.7.3","Расходы на аварийно-диспетчерское обслуживание","тыс.руб.",{"$nulls":16},{"v":0,"d":"0.00"}]
[{"$nulls":12},{"$f":"IF(TEMPLATE_SPHERE_CODE=\"COLDVSNA\",\"\",IF(TEMPLATE_SPHERE_CODE=\"VOTV\",\"1.7.4\",\"\"))","v":"1.7.4"},{"$f":"IF(TEMPLATE_SPHERE_CODE=\"COLDVSNA\",\"\",IF(TEMPLATE_SPHERE_CODE=\"VOTV\",\"Услуги по обращению с осадком сточных вод\",\"\"))","v":"Услуги по обращению с осадком сточных вод"},{"$f":"IF(TEMPLATE_SPHERE_CODE=\"COLDVSNA\",\"\",IF(TEMPLATE_SPHERE_CODE=\"VOTV\",\"тыс.руб.\",\"\"))","v":"тыс.руб."}]
[{"$nulls":12},"1.8","Цеховые расходы","тыс.руб.",{"$nulls":16},{"$f":"AG2664+AH2664","v":{"v":0,"d":"0.00"}},{"$f":"SUM(AG2665:AG2668)","v":{"v":0,"d":"0.00"}},{"$f":"SUM(AH2665:AH2668)","v":{"v":0,"d":"0.00"}}]
[{"$nulls":12},"1.8.1","Расходы на оплату труда цехового персонала","тыс.руб.",{"$nulls":16},{"v":0,"d":"0.00"}]
[{"$nulls":12},"1.8.2","Отчисления на социальные нужды цехового персонала, в том числе налоги и сборы","тыс.руб.",{"$nulls":16},{"v":0,"d":"0.00"}]
[{"$nulls":12},"1.8.3","Расходы на охрану труда","тыс.руб.",{"$nulls":16},{"v":0,"d":"0.00"}]
[{"$nulls":12},"1.8.4","Прочие","тыс.руб.",{"$nulls":16},{"v":0,"d":"0.00"}]
[{"$nulls":12},"2","Ремонтные расходы","тыс.руб.",{"$nulls":16},{"v":0,"d":"0.00"},{"$f":"SUM(AG2670,AG2672,AG2674)","v":{"v":0,"d":"0.00"}},{"$f":"SUM(AH2670,AH2672,AH2674)","v":{"v":0,"d":"0.00"}}]
[{"$nulls":12},"2.1","Расходы на текущий ремонт централизованных систем водоснабжения и (или) водоотведения либо объектов, входящих в состав таких систем","тыс.руб.",{"$nulls":16},{"v":0,"d":"0.00"}]
[{"$nulls":12},"2.1.1","Справочно: расходы на текущий ремонт, предусмотренные производственной программой регулируемой организации","тыс.руб.",{"$nulls":16},{"v":0,"d":"0.00"}]
[{"$nulls":12},"2.2","Расходы на капитальный ремонт централизованных систем водоснабжения и (или водоотведения) либо объектов, входящих в состав таких систем","тыс.руб.",{"$nulls":16},{"v":0,"d":"0.00"}]
[{"$nulls":12},"2.2.1","Справочно: расходы на капитальный ремонт, предусмотренные производственной программой регулируемой организации","тыс.руб.",{"$nulls":16},{"v":0,"d":"0.00"}]
[{"$nulls":12},"2.3","Расходы на оплату труда и отчисления на социальные нужды ремонтного персонала, в том числе налоги и сборы","тыс.руб.",{"$nulls":16},{"v":0,"d":"0.00"},{"$f":"SUM(AG2675,AG2686)","v":{"v":0,"d":"0.00"}},{"$f":"SUM(AH2675,AH2686)","v":{"v":0,"d":"0.00"}}]
[{"$nulls":12},"2.3.1","Расходы на оплату труда ремонтного персонала","тыс.руб.",{"$nulls":16},{"v":0,"d":"0.00"}]
[{"$nulls":12},"2.3.1.1","Численность (среднесписочная), принятая для расчёта","ед."]
[{"$nulls":12},"2.3.1.2","Среднемесячная оплата труда ремонтного персонала","руб./мес.",{"$nulls":16},{"$f":"IF(AF2676=0,0,AF2675/AF2676*1000/AF$6)","v":{"v":0,"d":"0.00"}},{"$f":"IF(AG2676=0,0,AG2675/AG2676*1000/AG$6)","v":{"v":0,"d":"0.00"}},{"$f":"IF(AH2676=0,0,AH2675/AH2676*1000/AH$6)","v":{"v":0,"d":"0.00"}}]
[{"$nulls":12},"2.3.1.3","Фактическая численность ремонтного персонала, относимого на регулируемый вид деятельности","ед."]
[{"$nulls":12},"2.3.1.4","Справочно: нормативная численность ремонтного персонала, относимого на регулируемый вид деятельности","ед."]
[{"$nulls":12},"2.3.1.5","Тарифная ставка рабочего 1-го разряда","руб./мес."]
[{"$nulls":12},"2.3.1.6","Индекс роста номинальной заработной платы"]
[{"$nulls":12},"2.3.1.7","Тарифная ставка рабочего 1-го разряда с учётом дефлятора","руб./мес."]
[{"$nulls":12},"2.3.1.8","Средний тарифный коэффициент"]
[{"$nulls":12},"2.3.1.9","Среднемесячная тарифная ставка","руб./мес."]
[{"$nulls":12},"2.3.1.10","Минимальный размер оплаты труда по отраслевому тарифному соглашению","руб./мес."]
[{"$nulls":12},"2.3.2","Отчисления на социальные нужды ремонтного персонала, в том числе налоги и сборы","тыс.руб.",{"$nulls":16},{"$f":"AG2686+AH2686","v":{"v":0,"d":"0.00"}}]
[{"$nulls":12},3,"Административные расходы","тыс.руб.",{"$nulls":16},{"v":0,"d":"0.00"},{"$f":"SUM(AG2688,AG2695,AG2708,AG2709,AG2710,AG2711,AG2712)","v":{"v":0,"d":"0.00"}},{"$f":"SUM(AH2688,AH2695,AH2708,AH2709,AH2710,AH2711,AH2712)","v":{"v":0,"d":"0.00"}}]
[{"$nulls":12},"3.1","Расходы на оплату работ и услуг, выполняемых сторонними организациями","тыс.руб.",{"$nulls":16},{"v":0,"d":"0.00"},{"$f":"SUM(AG2689:AG2694)","v":{"v":0,"d":"0.00"}},{"$f":"SUM(AH2689:AH2694)","v":{"v":0,"d":"0.00"}}]
[{"$nulls":12},"3.1.1","услуги связи и интернет","тыс.руб.",{"$nulls":16},{"v":0,"d":"0.00"}]
[{"$nulls":12},"3.1.2","юридические услуги","тыс.руб.",{"$nulls":16},{"v":0,"d":"0.00"}]
[{"$nulls":12},"3.1.3","аудиторские услуги","тыс.руб.",{"$nulls":16},{"v":0,"d":"0.00"}]
[{"$nulls":12},"3.1.4","консультационные услуги","тыс.руб.",{"$nulls":16},{"v":0,"d":"0.00"}]
[{"$nulls":12},"3.1.5","услуги по вневедомственной охране объектов и территорий","тыс.руб.",{"$nulls":16},{"v":0,"d":"0.00"}]
[{"$nulls":12},"3.1.6","информационные услуги","тыс.руб.",{"$nulls":16},{"v":0,"d":"0.00"}]
[{"$nulls":12},"3.2","Расходы на оплату труда и отчисления на социальные нужды административно-управленческого персонала, в том числе налоги и сборы","тыс.руб.",{"$nulls":16},{"v":0,"d":"0.00"},{"$f":"SUM(AG2696,AG2707)","v":{"v":0,"d":"0.00"}},{"$f":"SUM(AH2696,AH2707)","v":{"v":0,"d":"0.00"}}]
[{"$nulls":12},"3.2.1","Расходы на оплату труда административно-управленческого персонала","тыс.руб.",{"$nulls":16},{"v":0,"d":"0.00"}]
[{"$nulls":12},"3.2.1.1","Численность (среднесписочная), принятая для расчёта","ед."]
[{"$nulls":12},"3.2.1.2","Среднемесячная оплата труда административно-управленческого персонала","руб./мес.",{"$nulls":16},{"$f":"IF(AF2697=0,0,AF2696/AF2697*1000/AF$6)","v":{"v":0,"d":"0.00"}},{"$f":"IF(AG2697=0,0,AG2696/AG2697*1000/AG$6)","v":{"v":0,"d":"0.00"}},{"$f":"IF(AH2697=0,0,AH2696/AH2697*1000/AH$6)","v":{"v":0,"d":"0.00"}}]
[{"$nulls":12},"3.2.1.3","Фактическая численность административно-управленческого персонала, относимого на регулируемый вид деятельности","ед."]
[{"$nulls":12},"3.2.1.4","Справочно: нормативная численность административно-управленческого персонала, относимого на регулируемый вид деятельности","ед."]
[{"$nulls":12},"3.2.1.5","Тарифная ставка рабочего 1-го разряда","руб./мес."]
[{"$nulls":12},"3.2.1.6","Индекс роста номинальной заработной платы"]
[{"$nulls":12},"3.2.1.7","Тарифная ставка рабочего 1-го разряда с учётом дефлятора","руб./мес."]
[{"$nulls":12},"3.2.1.8","Средний тарифный коэффициент"]
[{"$nulls":12},"3.2.1.9","Среднемесячная тарифная ставка","руб./мес."]
[{"$nulls":12},"3.2.1.10","Минимальный размер оплаты труда по отраслевому тарифному соглашению","руб./мес."]
[{"$nulls":12},"3.2.2","Отчисления на социальные нужды административно-управленческого персонала, в том числе налоги и сборы","тыс.руб.",{"$nulls":16},{"$f":"AG2707+AH2707","v":{"v":0,"d":"0.00"}}]
[{"$nulls":12},"3.3","Арендная плата, лизинговые платежи, не связанные с арендой (лизингом) централизованных систем водоснабжения и (или) водоотведения либо объектов, входящих в состав таких систем","тыс.руб.",{"$nulls":16},{"v":0,"d":"0.00"}]
[{"$nulls":12},"3.4","Служебные командировки","тыс.руб.",{"$nulls":16},{"v":0,"d":"0.00"}]
[{"$nulls":12},"3.5","Обучение персонала","тыс.руб.",{"$nulls":16},{"v":0,"d":"0.00"}]
[{"$nulls":12},"3.6","Страхование производственных объектов","тыс.руб.",{"$nulls":16},{"v":0,"d":"0.00"}]
[{"$nulls":12},"3.7","Прочие административные расходы","тыс.руб.",{"$nulls":16},{"v":0,"d":"0.00"}]
[{"$nulls":12},"3.7.1","Расходы на амортизацию непроизводственных активов","тыс.руб.",{"$nulls":16},{"v":0,"d":"0.00"}]
[{"$nulls":12},"3.7.2","Расходы по охране объектов и территорий","тыс.руб.",{"$nulls":16},{"v":0,"d":"0.00"}]
[{"$nulls":12},4,"Сбытовые расходы гарантирующих организаций","тыс.руб.",{"$nulls":16},{"v":0,"d":"0.00"}]
[{"$nulls":12},"4.1","Расходы по сомнительным долгам, в размере не более 2% НВВ","тыс.руб.",{"$nulls":16},{"v":0,"d":"0.00"}]
[{"$nulls":12},5,"Амортизация","тыс.руб.",{"$nulls":16},{"v":0,"d":"0.00"}]
[{"$nulls":12},"5.1","Амортизация основных средств и нематериальных активов, относимых к объектам централизованной системы водоснабжения и водоотведения","тыс.руб.",{"$nulls":16},{"v":0,"d":"0.00"}]
[{"$nulls":12},6,"Расходы на арендную плату, лизинговые платежи, концессионную плату, связанные с арендой (лизингом) централизованных систем водоснабжения и (или) водоотведения либо объектов, входящих в состав таких систем","тыс.руб.",{"$nulls":16},{"v":0,"d":"0.00"},{"$f":"SUM(AG2720,AG2724:AG2727)","v":{"v":0,"d":"0.00"}},{"$f":"SUM(AH2720,AH2724:AH2727)","v":{"v":0,"d":"0.00"}}]
[{"$nulls":12},"6.1","Аренда имущества","тыс.руб.",{"$nulls":16},{"v":0,"d":"0.00"},{"$f":"SUM(AG2721:AG2723)","v":{"v":0,"d":"0.00"}},{"$f":"SUM(AH2721:AH2723)","v":{"v":0,"d":"0.00"}}]
[{"$nulls":12},"6.1.1","Аренда объектов в государственной собственности","тыс.руб.",{"$nulls":16},{"v":0,"d":"0.00"}]
[{"$nulls":12},"6.1.2","Аренда объектов в муниципальной собственности","тыс.руб.",{"$nulls":16},{"v":0,"d":"0.00"}]
[{"$nulls":12},"6.1.3","Прочее","тыс.руб.",{"$nulls":16},{"v":0,"d":"0.00"}]
[{"$nulls":12},"6.2","Концессионная плата","тыс.руб.",{"$nulls":16},{"v":0,"d":"0.00"}]
[{"$nulls":12},"6.3","Лизинговые платежи","тыс.руб.",{"$nulls":16},{"v":0,"d":"0.00"}]
[{"$nulls":12},"6.4","Аренда земельных участков","тыс.руб.",{"$nulls":16},{"v":0,"d":"0.00"}]
[{"$nulls":12},"6.5","Иное","тыс.руб.",{"$nulls":16},{"v":0,"d":"0.00"}]
[{"$nulls":12},7,"Расходы, связанные с уплатой налогов и сборов, связанные с арендой (лизингом) централизованных систем водоснабжения и (или) водоотведения либо объектов, входящих в состав таких систем","тыс.руб.",{"$nulls":16},{"v":0,"d":"0.00"},{"$f":"SUM(AG2729:AG2735)","v":{"v":0,"d":"0.00"}},{"$f":"SUM(AH2729:AH2735)","v":{"v":0,"d":"0.00"}}]
[{"$nulls":12},"7.1","Налог на прибыль","тыс.руб.",{"$nulls":16},{"v":0,"d":"0.00"}]
[{"$nulls":12},"7.2","Налог на имущество организаций","тыс.руб.",{"$nulls":16},{"v":0,"d":"0.00"}]
[{"$nulls":12},"7.3","Плата за негативное воздействие на окружающую среду","тыс.руб.",{"$nulls":16},{"v":0,"d":"0.00"}]
[{"$nulls":12},"7.4","Водный налог и плата за пользование водным объектом","тыс.руб.",{"$nulls":16},{"v":0,"d":"0.00"}]
[{"$nulls":12},"7.5","Земельный налог","тыс.руб.",{"$nulls":16},{"v":0,"d":"0.00"}]
[{"$nulls":12},"7.6","Транспортный налог","тыс.руб.",{"$nulls":16},{"v":0,"d":"0.00"}]
[{"$nulls":12},"7.7","Прочие налоги и сборы, за исключением налогов и сборов с фонда оплаты труда, учитываемых в составе производственных, ремонтных и административных расходов","тыс.руб.",{"$nulls":16},{"v":0,"d":"0.00"}]
[{"$nulls":12},"8","Расходы на оплату товаров (услуг, работ), приобретаемых у других организаций, осуществляющих регулируемые виды деятельности","тыс.руб.",{"$nulls":16},{"v":0,"d":"0.00"}]
[{"$nulls":12},"9","Расходы на обслуживание бесхозяйных сетей","тыс.руб.",{"$nulls":16},{"v":0,"d":"0.00"}]
[{"$nulls":12},"10","Прочие неподконтрольные расходы","тыс.руб.",{"$nulls":16},{"v":0,"d":"0.00"}]
[]
[{"$nulls":12},"РО","Итого расходы","тыс.руб.",{"$nulls":16},{"$f":"SUM(AF2560,AF2669,AF2687,AF2715,AF2717,AF2719,AF2728,AF2736,AF2737,AF2738)","v":{"v":0,"d":"0.00"}},{"$f":"SUM(AG2560,AG2669,AG2687,AG2715,AG2717,AG2719,AG2728,AG2736,AG2737,AG2738)","v":{"v":0,"d":"0.00"}},{"$f":"SUM(AH2560,AH2669,AH2687,AH2715,AH2717,AH2719,AH2728,AH2736,AH2737,AH2738)","v":{"v":0,"d":"0.00"}}]
[]
[{"$nulls":12},"РР","Итого расходы на реализацию","тыс.руб.",{"$nulls":16},{"$f":"AG2742+AH2742","v":{"v":0,"d":"0.00"}},{"$f":"AG2740*AG$242","v":{"v":0,"d":"0.00"}},{"$f":"AH2740*AH$242","v":{"v":0,"d":"0.00"}}]
[]
[{"$nulls":12},"У","Убыток","тыс.руб.",{"$nulls":16},{"$f":"AG2744+AH2744","v":{"v":0,"d":"0.00"}}]
[{"$nulls":12},"П","Прибыль","тыс.руб.",{"$nulls":16},{"$f":"AG2745+AH2745","v":{"v":0,"d":"0.00"}},{"$f":"SUM(AG2747:AG2750)","v":{"v":0,"d":"0.00"}},{"$f":"SUM(AH2747:AH2750)","v":{"v":0,"d":"0.00"}}]
[]
[{"$nulls":12},"П.1","Прибыль на развитие производства (капитальные вложения)","тыс.руб.",{"$nulls":16},{"$f":"AG2747+AH2747","v":{"v":0,"d":"0.00"}}]
[{"$nulls":12},"П.2","Прибыль на социальное развитие","тыс.руб.",{"$nulls":16},{"$f":"AG2748+AH2748","v":{"v":0,"d":"0.00"}}]
[{"$nulls":12},"П.3","Прибыль на поощрение","тыс.руб.",{"$nulls":16},{"$f":"AG2749+AH2749","v":{"v":0,"d":"0.00"}}]
[{"$nulls":12},"П.4","Прибыль на прочие цели","тыс.руб.",{"$nulls":16},{"$f":"AG2750+AH2750","v":{"v":0,"d":"0.00"}}]
{"$rows_empty":8}
[{"$nulls":12},"РП","Итого расходы с учётом расходов из прибыли","тыс.руб.",{"$nulls":16},{"$f":"AG2759+AH2759","v":{"v":0,"d":"0.00"}},{"$f":"AG2740+AG2745","v":{"v":0,"d":"0.00"}},{"$f":"AH2740+AH2745","v":{"v":0,"d":"0.00"}}]
{"$rows_empty":17}
[{"$nulls":12},"UI.TOTAL","Полезный отпуск продукции всего:\n[БТр!п.3] - транспортировка\n[БПр!п.5.2] - производство","тыс.куб.м",{"$nulls":16},{"$f":"AG2777+AH2777","v":{"v":0,"d":"0.00"}},{"$f":"SUMIF(БПр!$BA$131:$BA$160,AG$17 & \".0-\" & AG$9,БПр!$K$131:$K$160)/1000+SUMIF(БТр!$BA$131:$BA$160,AG$17 & \".0-\" & AG$9,БТр!$O$131:$O$160)/1000","v":{"v":0,"d":"0.00"}},{"$f":"SUMIF(БПр!$BA$131:$BA$160,AH$17 & \".0-\" & AH$9,БПр!$K$131:$K$160)/1000+SUMIF(БТр!$BA$131:$BA$160,AH$17 & \".0-\" & AH$9,БТр!$O$131:$O$160)/1000","v":{"v":0,"d":"0.00"}}]
[{"$nulls":12},"UI.EC","Полезный отпуск на реализацию потребителям:\n[БТр!п.3.2:3.5] - транспортировка\n[БПр!п.5.2.2 + БПр!п.5.2.3] - производство","тыс.куб.м",{"$nulls":16},{"$f":"AG2778+AH2778","v":{"v":0,"d":"0.00"}},{"$f":"SUMIF(БПр!$BA$131:$BA$160,AG$17 & \".0-\" & AG$9,БПр!$M$131:$M$160)/1000+SUMIF(БТр!$BA$131:$BA$160,AG$17 & \".0-\" & AG$9,БТр!$Q$131:$Q$160)/1000+SUMIF(БТр!$BA$131:$BA$160,AG$17 & \".0-\" & AG$9,БТр!$T$131:$T$160)/1000+SUMIF(БТр!$BA$131:$BA$160,AG$17 & \".0-\" & AG$9,БТр!$W$131:$W$160)/1000+SUMIF(БТр!$BA$131:$BA$160,AG$17 & \".0-\" & AG$9,БТр!$Z$131:$Z$160)/1000","v":{"v":0,"d":"0.00"}},{"$f":"SUMIF(БПр!$BA$131:$BA$160,AH$17 & \".0-\" & AH$9,БПр!$M$131:$M$160)/1000+SUMIF(БТр!$BA$131:$BA$160,AH$17 & \".0-\" & AH$9,БТр!$Q$131:$Q$160)/1000+SUMIF(БТр!$BA$131:$BA$160,AH$17 & \".0-\" & AH$9,БТр!$T$131:$T$160)/1000+SUMIF(БТр!$BA$131:$BA$160,AH$17 & \".0-\" & AH$9,БТр!$W$131:$W$160)/1000+SUMIF(БТр!$BA$131:$BA$160,AH$17 & \".0-\" & AH$9,БТр!$Z$131:$Z$160)/1000","v":{"v":0,"d":"0.00"}}]
[{"$nulls":12},"UI.COEF","Коэффициент (доля) на реализацию потребителям",{"$nulls":17},{"$f":"IF(AF2777=0,0,AF2778/AF2777)","v":{"v":0,"d":"0.00"}},{"$f":"IF(AG2777=0,0,AG2778/AG2777)","v":{"v":0,"d":"0.00"}},{"$f":"IF(AH2777=0,0,AH2778/AH2777)","v":{"v":0,"d":"0.00"}}]
[{"$nulls":12},"UI.PURE.EC","Полезный отпуск на реализацию потребителям:\n[БТр!п.3.3:3.5] - транспортировка\n[БПр!п.5.2.3] - производство","тыс.куб.м",{"$nulls":16},{"$f":"AG2780+AH2780","v":{"v":0,"d":"0.00"}},{"$f":"SUMIF(БПр!$BA$131:$BA$160,AG$17 & \".0-\" & AG$9,БПр!$N$131:$N$160)/1000+SUMIF(БПр!$BA$131:$BA$160,AG$17 & \".0-\" & AG$9,БПр!$Q$131:$Q$160)/1000+SUMIF(БПр!$BA$131:$BA$160,AG$17 & \".0-\" & AG$9,БПр!$T$131:$T$160)/1000+SUMIF(БТр!$BA$131:$BA$160,AG$17 & \".0-\" & AG$9,БТр!$T$131:$T$160)/1000+SUMIF(БТр!$BA$131:$BA$160,AG$17 & \".0-\" & AG$9,БТр!$W$131:$W$160)/1000+SUMIF(БТр!$BA$131:$BA$160,AG$17 & \".0-\" & AG$9,БТр!$Z$131:$Z$160)/1000","v":{"v":0,"d":"0.00"}},{"$f":"SUMIF(БПр!$BA$131:$BA$160,AH$17 & \".0-\" & AH$9,БПр!$N$131:$N$160)/1000+SUMIF(БПр!$BA$131:$BA$160,AH$17 & \".0-\" & AH$9,БПр!$Q$131:$Q$160)/1000+SUMIF(БПр!$BA$131:$BA$160,AH$17 & \".0-\" & AH$9,БПр!$T$131:$T$160)/1000+SUMIF(БТр!$BA$131:$BA$160,AH$17 & \".0-\" & AH$9,БТр!$T$131:$T$160)/1000+SUMIF(БТр!$BA$131:$BA$160,AH$17 & \".0-\" & AH$9,БТр!$W$131:$W$160)/1000+SUMIF(БТр!$BA$131:$BA$160,AH$17 & \".0-\" & AH$9,БТр!$Z$131:$Z$160)/1000","v":{"v":0,"d":"0.00"}}]
[]
[{"$nulls":12},"UI.TTL",{"$f":"IF(TEMPLATE_SPHERE_CODE=\"COLDVSNA\",\"Объём отпуска воды\",IF(TEMPLATE_SPHERE_CODE=\"VOTV\",\"Объём сточных вод\",\"\"))","v":"Объём сточных вод"},"тыс.куб.м",{"$nulls":17},{"$f":"AG2777","v":{"v":0,"d":"0.00"}},{"$f":"AH2777","v":{"v":0,"d":"0.00"}}]
[]
[{"$nulls":12},"PROFITABILITY","Рентабельность","%",{"$nulls":16},{"$f":"IF(AF2740=0,0,(AF2745-AF2744)/AF2740*100)","v":{"v":0,"d":"0.00"}},{"$f":"IF(AG2740=0,0,(AG2745-AG2744)/AG2740*100)","v":{"v":0,"d":"0.00"}},{"$f":"IF(AH2740=0,0,(AH2745-AH2744)/AH2740*100)","v":{"v":0,"d":"0.00"}}]
[]
[{"$nulls":12},"D","Справочно: результат деятельности в периоде регулирования","тыс.руб.",{"$nulls":16},{"$f":"AG2786+AH2786","v":{"v":0,"d":"0.00"}},{"$f":"AG2787-(AG2742+AG2745-AG2744)","v":{"v":0,"d":"0.00"}},{"$f":"AH2787-(AH2742+AH2745-AH2744)","v":{"v":0,"d":"0.00"}}]
[{"$nulls":12},{"$f":"M2786 & \".0.1\"","v":"D.0.1"},"Общий доход от реализации потребителям без учёта НДС, исходя из утверждённых тарифов","тыс.руб.",{"$nulls":16},{"$f":"AG2787+AH2787","v":{"v":0,"d":"0.00"}},{"$f":"AG2789+AG2792+AG2795+AG2798+AG2801+AG2802","v":{"v":0,"d":"0.00"}},{"$f":"AH2789+AH2792+AH2795+AH2798+AH2801+AH2802","v":{"v":0,"d":"0.00"}}]
[{"$nulls":12},{"$f":"M2786 & \".0.2\"","v":"D.0.2"},"Полезный отпуск продукции на реализацию потребителям","тыс.куб.м",{"$nulls":16},{"$f":"AG2788+AH2788","v":{"v":0,"d":"0.00"}},{"$f":"AG2791+AG2794+AG2797+AG2800","v":{"v":0,"d":"0.00"}},{"$f":"AH2791+AH2794+AH2797+AH2800","v":{"v":0,"d":"0.00"}}]
[{"$nulls":12},{"$f":"M2786 & \".1\"","v":"D.1"},"Организации-перепродавцы","тыс.руб.",{"$nulls":16},{"$f":"AG2789+AH2789","v":{"v":0,"d":"0.00"}},{"$f":"AG2790*AG2791","v":{"v":0,"d":"0.00"}},{"$f":"AH2790*AH2791","v":{"v":0,"d":"0.00"}}]
[{"$nulls":12},{"$f":"M2789 & \".1\"","v":"D.1.1"},"средневзвешенный тариф","руб./куб.м",{"$nulls":16},{"$f":"IF(AF2791=0,0,AF2789/AF2791)","v":{"v":0,"d":"0.00"}}]
[{"$nulls":12},{"$f":"M2789 & \".2\"","v":"D.1.2"},"объём","тыс.куб.м",{"$nulls":16},{"$f":"AG2791+AH2791","v":{"v":0,"d":"0.00"}},{"$f":"SUMIF(БПр!$BA$131:$BA$160,AG$17 & \".0-\" & AG$9,БПр!$W$131:$W$160)/1000+SUMIF(БТр!$BA$131:$BA$160,AG$17 & \".0-\" & AG$9,БТр!$Q$131:$Q$160)/1000","v":{"v":0,"d":"0.00"}},{"$f":"SUMIF(БПр!$BA$131:$BA$160,AH$17 & \".0-\" & AH$9,БПр!$W$131:$W$160)/1000+SUMIF(БТр!$BA$131:$BA$160,AH$17 & \".0-\" & AH$9,БТр!$Q$131:$Q$160)/1000","v":{"v":0,"d":"0.00"}}]
[{"$nulls":12},{"$f":"M2786 & \".2\"","v":"D.2"},"Бюджетные потребители","тыс.руб.",{"$nulls":16},{"$f":"AG2792+AH2792","v":{"v":0,"d":"0.00"}},{"$f":"AG2793*AG2794","v":{"v":0,"d":"0.00"}},{"$f":"AH2793*AH2794","v":{"v":0,"d":"0.00"}}]
[{"$nulls":12},{"$f":"M2792 & \".1\"","v":"D.2.1"},"средневзвешенный тариф","руб./куб.м",{"$nulls":16},{"$f":"IF(AF2794=0,0,AF2792/AF2794)","v":{"v":0,"d":"0.00"}}]
[{"$nulls":12},{"$f":"M2792 & \".2\"","v":"D.2.2"},"объём","тыс.куб.м",{"$nulls":16},{"$f":"AG2794+AH2794","v":{"v":0,"d":"0.00"}},{"$f":"SUMIF(БПр!$BA$131:$BA$160,AG$17 & \".0-\" & AG$9,БПр!$N$131:$N$160)/1000+SUMIF(БТр!$BA$131:$BA$160,AG$17 & \".0-\" & AG$9,БТр!$T$131:$T$160)/1000","v":{"v":0,"d":"0.00"}},{"$f":"SUMIF(БПр!$BA$131:$BA$160,AH$17 & \".0-\" & AH$9,БПр!$N$131:$N$160)/1000+SUMIF(БТр!$BA$131:$BA$160,AH$17 & \".0-\" & AH$9,БТр!$T$131:$T$160)/1000","v":{"v":0,"d":"0.00"}}]
[{"$nulls":12},{"$f":"M2786 & \".3\"","v":"D.3"},"Население","тыс.руб.",{"$nulls":16},{"$f":"AG2795+AH2795","v":{"v":0,"d":"0.00"}},{"$f":"AG2796*AG2797","v":{"v":0,"d":"0.00"}},{"$f":"AH2796*AH2797","v":{"v":0,"d":"0.00"}}]
[{"$nulls":12},{"$f":"M2795 & \".1\"","v":"D.3.1"},"средневзвешенный тариф","руб./куб.м",{"$nulls":16},{"$f":"IF(AF2797=0,0,AF2795/AF2797)","v":{"v":0,"d":"0.00"}}]
[{"$nulls":12},{"$f":"M2795 & \".2\"","v":"D.3.2"},"объём","тыс.куб.м",{"$nulls":16},{"$f":"AG2797+AH2797","v":{"v":0,"d":"0.00"}},{"$f":"SUMIF(БПр!$BA$131:$BA$160,AG$17 & \".0-\" & AG$9,БПр!$Q$131:$Q$160)/1000+SUMIF(БТр!$BA$131:$BA$160,AG$17 & \".0-\" & AG$9,БТр!$W$131:$W$160)/1000","v":{"v":0,"d":"0.00"}},{"$f":"SUMIF(БПр!$BA$131:$BA$160,AH$17 & \".0-\" & AH$9,БПр!$Q$131:$Q$160)/1000+SUMIF(БТр!$BA$131:$BA$160,AH$17 & \".0-\" & AH$9,БТр!$W$131:$W$160)/1000","v":{"v":0,"d":"0.00"}}]
[{"$nulls":12},{"$f":"M2786 & \".4\"","v":"D.4"},"Прочие","тыс.руб.",{"$nulls":16},{"$f":"AG2798+AH2798","v":{"v":0,"d":"0.00"}},{"$f":"AG2799*AG2800","v":{"v":0,"d":"0.00"}},{"$f":"AH2799*AH2800","v":{"v":0,"d":"0.00"}}]
[{"$nulls":12},{"$f":"M2798 & \".1\"","v":"D.4.1"},"средневзвешенный тариф","руб./куб.м",{"$nulls":16},{"$f":"IF(AF2800=0,0,AF2798/AF2800)","v":{"v":0,"d":"0.00"}}]
[{"$nulls":12},{"$f":"M2798 & \".2\"","v":"D.4.2"},"объём","тыс.куб.м",{"$nulls":16},{"$f":"AG2800+AH2800","v":{"v":0,"d":"0.00"}},{"$f":"SUMIF(БПр!$BA$131:$BA$160,AG$17 & \".0-\" & AG$9,БПр!$T$131:$T$160)/1000+SUMIF(БТр!$BA$131:$BA$160,AG$17 & \".0-\" & AG$9,БТр!$Z$131:$Z$160)/1000","v":{"v":0,"d":"0.00"}},{"$f":"SUMIF(БПр!$BA$131:$BA$160,AH$17 & \".0-\" & AH$9,БПр!$T$131:$T$160)/1000+SUMIF(БТр!$BA$131:$BA$160,AH$17 & \".0-\" & AH$9,БТр!$Z$131:$Z$160)/1000","v":{"v":0,"d":"0.00"}}]
[{"$nulls":12},{"$f":"M2786 & \".5\"","v":"D.5"},"Объём дотаций из всех уровней бюджета","тыс.руб.",{"$nulls":16},{"$f":"AG2801+AH2801","v":{"v":0,"d":"0.00"}}]
[{"$nulls":12},{"$f":"M2786 & \".6\"","v":"D.6"},"Доходы, полученные сверх реализации по утверждённым тарифам","тыс.руб.",{"$nulls":16},{"$f":"AG2802+AH2802","v":{"v":0,"d":"0.00"}}]
[]
[]
[]
[]
[]
[{"$nulls":28},"VOTV_REAGENT_ADD_RANGE"]
[]
[]
[]
[{"$nulls":28},12,6,6]
[]
[]
[{"$nulls":28},"Y","I","II"]
[]
[]
[]
[{"$nulls":28},"Год","I полугодие","II полугодие"]
[]
[{"$nulls":28},{"$f":"AC2823 & \"_\" & AC2815","v":"0_Y"},{"$f":"AD2823 & \"_\" & AD2815","v":"0_I"},{"$f":"AE2823 & \"_\" & AE2815","v":"0_II"}]
[]
[{"$nulls":28},{"$f":"AC2825","v":0},{"$f":"AC2825","v":0},{"$f":"AC2825","v":0}]
[{"$nulls":28},"Удалить"]
[{"$nulls":12},"№ п/п","Наименование показателя","Единица измерения",{"$nulls":61},"VOTV_REAGENT_ONE_RANGE"]
[{"$nulls":46},"VOTV_REAGENT_EMPTY_BASE_RANGE",{"$nulls":29},"VOTV_REAGENT_NO_ONE_RANGE"]
[{"$nulls":13},"Является ли организация плательщиком НДС",{"$nulls":32},"VOTV_REAGENT_SINGLE_BASE_RANGE",{"$nulls":29},"VOTV_REAGENT_OTH_RANGE"]
[{"$nulls":13},{"$f":"IF(CALC_IDENTIFIER=\"\",\"\",CALC_IDENTIFIER)","v":"Вид стоков"},{"$nulls":32},"VOTV_REAGENT_TEMPLATE_RANGE",{"$nulls":14},"VOTV_REAGENT_EMPTY_TEMPLATE_RANGE",{"$nulls":14},"VOTV_REAGENT_NO_OTH_RANGE"]
[]
[]
[{"$nulls":12},"1.1.1","Итого","тыс.руб.",{"$nulls":16},{"$f":"AG2831+AH2831","v":{"v":0,"d":"0.00"}},{"$f":"SUM(AG2833,AG2852,AG2862,AG3107)","v":{"v":0,"d":"0.00"}},{"$f":"SUM(AH2833,AH2852,AH2862,AH3107)","v":{"v":0,"d":"0.00"}},{"$nulls":3},{"$f":"AM2831+AN2831","v":{"v":0,"d":"0.00"}},{"$f":"SUM(AM2833,AM2852,AM2862,AM3107)","v":{"v":0,"d":"0.00"}},{"$f":"SUM(AN2833,AN2852,AN2862,AN3107)","v":{"v":0,"d":"0.00"}},{"$nulls":3},{"$f":"AS2831+AT2831","v":{"$error":"#REF!"}},{"$f":"SUM(AS2833,AS2852,AS2862,AS3107)","v":{"v":0,"d":"0.00"}},{"$f":"SUM(AT2833,AT2852,AT2862,AT3107)","v":{"$error":"#REF!"}}]
[]
[{"$nulls":12},"COAG","Коагулянты","тыс.руб.",{"$nulls":16},{"$f":"AG2833+AH2833","v":{"v":0,"d":"0.00"}},{"$f":"SUM(AG2835,AG2838,AG2841,AG2844,AG2847,AG2850)","v":{"v":0,"d":"0.00"}},{"$f":"SUM(AH2835,AH2838,AH2841,AH2844,AH2847,AH2850)","v":{"v":0,"d":"0.00"}},{"$nulls":3},{"$f":"AM2833+AN2833","v":{"v":0,"d":"0.00"}},{"$f":"SUM(AM2835,AM2838,AM2841,AM2844,AM2847,AM2850)","v":{"v":0,"d":"0.00"}},{"$f":"SUM(AN2835,AN2838,AN2841,AN2844,AN2847,AN2850)","v":{"v":0,"d":"0.00"}},{"$nulls":3},{"$f":"AS2833+AT2833","v":{"v":0,"d":"0.00"}},{"$f":"SUM(AS2835,AS2838,AS2841,AS2844,AS2847,AS2850)","v":{"v":0,"d":"0.00"}},{"$f":"SUM(AT2835,AT2838,AT2841,AT2844,AT2847,AT2850)","v":{"v":0,"d":"0.00"}}]
[]
[{"$nulls":12},"HDSFAL","гидроксохлоросульфат алюминия (коагулянт смешанного типа)","тыс.руб.",{"$nulls":22},{"$f":"AM2835+AN2835","v":{"v":0,"d":"0.00"}},{"$f":"AM2836*AM2837/1000","v":{"v":0,"d":"0.00"}},{"$f":"AN2836*AN2837/1000","v":{"v":0,"d":"0.00"}}]
[{"$nulls":12},{"$f":"M2835 & \".P\"","v":"HDSFAL.P"},"Цена за единицу","руб./ед.",{"$nulls":22},{"$f":"IF(AL2837=0,0,AL2835*1000/AL2837)","v":{"v":0,"d":"0.00"}}]
[{"$nulls":12},{"$f":"M2835 & \".V\"","v":"HDSFAL.V"},"Объём","ед.",{"$nulls":22},{"$f":"AM2837+AN2837","v":{"v":0,"d":"0.00"}}]
[{"$nulls":12},"FES","железный купорос","тыс.руб.",{"$nulls":22},{"$f":"AM2838+AN2838","v":{"v":0,"d":"0.00"}},{"$f":"AM2839*AM2840/1000","v":{"v":0,"d":"0.00"}},{"$f":"AN2839*AN2840/1000","v":{"v":0,"d":"0.00"}}]
[{"$nulls":12},{"$f":"M2838 & \".P\"","v":"FES.P"},"Цена за единицу","руб./ед.",{"$nulls":22},{"$f":"IF(AL2840=0,0,AL2838*1000/AL2840)","v":{"v":0,"d":"0.00"}}]
[{"$nulls":12},{"$f":"M2838 & \".V\"","v":"FES.V"},"Объём","ед.",{"$nulls":22},{"$f":"AM2840+AN2840","v":{"v":0,"d":"0.00"}}]
[{"$nulls":12},"OXCLAL","оксихлорид алюминия","тыс.руб.",{"$nulls":22},{"$f":"AM2841+AN2841","v":{"v":0,"d":"0.00"}},{"$f":"AM2842*AM2843/1000","v":{"v":0,"d":"0.00"}},{"$f":"AN2842*AN2843/1000","v":{"v":0,"d":"0.00"}}]
[{"$nulls":12},{"$f":"M2841 & \".P\"","v":"OXCLAL.P"},"Цена за единицу","руб./ед.",{"$nulls":22},{"$f":"IF(AL2843=0,0,AL2841*1000/AL2843)","v":{"v":0,"d":"0.00"}}]
[{"$nulls":12},{"$f":"M2841 & \".V\"","v":"OXCLAL.V"},"Объём","ед.",{"$nulls":22},{"$f":"AM2843+AN2843","v":{"v":0,"d":"0.00"}}]
[{"$nulls":12},"PLOXCLAL","полиоксихлорид алюминия ","тыс.руб.",{"$nulls":22},{"$f":"AM2844+AN2844","v":{"v":0,"d":"0.00"}},{"$f":"AM2845*AM2846/1000","v":{"v":0,"d":"0.00"}},{"$f":"AN2845*AN2846/1000","v":{"v":0,"d":"0.00"}}]
[{"$nulls":12},{"$f":"M2844 & \".P\"","v":"PLOXCLAL.P"},"Цена за единицу","руб./ед.",{"$nulls":22},{"$f":"IF(AL2846=0,0,AL2844*1000/AL2846)","v":{"v":0,"d":"0.00"}}]
[{"$nulls":12},{"$f":"M2844 & \".V\"","v":"PLOXCLAL.V"},"Объём","ед.",{"$nulls":22},{"$f":"AM2846+AN2846","v":{"v":0,"d":"0.00"}}]
[{"$nulls":12},"SFAL","сульфат алюминия ","тыс.руб.",{"$nulls":22},{"$f":"AM2847+AN2847","v":{"v":0,"d":"0.00"}},{"$f":"AM2848*AM2849/1000","v":{"v":0,"d":"0.00"}},{"$f":"AN2848*AN2849/1000","v":{"v":0,"d":"0.00"}}]
[{"$nulls":12},{"$f":"M2847 & \".P\"","v":"SFAL.P"},"Цена за единицу","руб./ед.",{"$nulls":22},{"$f":"IF(AL2849=0,0,AL2847*1000/AL2849)","v":{"v":0,"d":"0.00"}}]
[{"$nulls":12},{"$f":"M2847 & \".V\"","v":"SFAL.V"},"Объём","ед.",{"$nulls":22},{"$f":"AM2849+AN2849","v":{"v":0,"d":"0.00"}}]
[{"$nulls":12},"OTH","прочие","тыс.руб.",{"$nulls":22},{"$f":"AM2850+AN2850","v":{"v":0,"d":"0.00"}}]
[]
[{"$nulls":12},"FLOC","Флокулянты","тыс.руб.",{"$nulls":16},{"$f":"AG2852+AH2852","v":{"v":0,"d":"0.00"}},{"$f":"SUM(AG2854,AG2857,AG2860)","v":{"v":0,"d":"0.00"}},{"$f":"SUM(AH2854,AH2857,AH2860)","v":{"v":0,"d":"0.00"}},{"$nulls":3},{"$f":"AM2852+AN2852","v":{"v":0,"d":"0.00"}},{"$f":"SUM(AM2854,AM2857,AM2860)","v":{"v":0,"d":"0.00"}},{"$f":"SUM(AN2854,AN2857,AN2860)","v":{"v":0,"d":"0.00"}},{"$nulls":3},{"$f":"AS2852+AT2852","v":{"v":0,"d":"0.00"}},{"$f":"SUM(AS2854,AS2857,AS2860)","v":{"v":0,"d":"0.00"}},{"$f":"SUM(AT2854,AT2857,AT2860)","v":{"v":0,"d":"0.00"}}]
[]
[{"$nulls":12},"MGFLK","Магнафлок","тыс.руб.",{"$nulls":22},{"$f":"AM2854+AN2854","v":{"v":0,"d":"0.00"}},{"$f":"AM2855*AM2856/1000","v":{"v":0,"d":"0.00"}},{"$f":"AN2855*AN2856/1000","v":{"v":0,"d":"0.00"}}]
[{"$nulls":12},{"$f":"M2854 & \".P\"","v":"MGFLK.P"},"Цена за единицу","руб./ед.",{"$nulls":22},{"$f":"IF(AL2856=0,0,AL2854*1000/AL2856)","v":{"v":0,"d":"0.00"}}]
[{"$nulls":12},{"$f":"M2854 & \".V\"","v":"MGFLK.V"},"Объём","ед.",{"$nulls":22},{"$f":"AM2856+AN2856","v":{"v":0,"d":"0.00"}}]
[{"$nulls":12},"PRSTL","Праестол","тыс.руб.",{"$nulls":22},{"$f":"AM2857+AN2857","v":{"v":0,"d":"0.00"}},{"$f":"AM2858*AM2859/1000","v":{"v":0,"d":"0.00"}},{"$f":"AN2858*AN2859/1000","v":{"v":0,"d":"0.00"}}]
[{"$nulls":12},{"$f":"M2857 & \".P\"","v":"PRSTL.P"},"Цена за единицу","руб./ед.",{"$nulls":22},{"$f":"IF(AL2859=0,0,AL2857*1000/AL2859)","v":{"v":0,"d":"0.00"}}]
[{"$nulls":12},{"$f":"M2857 & \".V\"","v":"PRSTL.V"},"Объём","ед.",{"$nulls":22},{"$f":"AM2859+AN2859","v":{"v":0,"d":"0.00"}}]
[{"$nulls":12},"OTH","прочие","тыс.руб.",{"$nulls":22},{"$f":"AM2860+AN2860","v":{"v":0,"d":"0.00"}}]
[]
[{"$nulls":12},"REAG","Реагенты","тыс.руб.",{"$nulls":16},{"$f":"AG2862+AH2862","v":{"v":0,"d":"0.00"}},{"$f":"SUMIF(Р!$AO$57:$AO$299,Р!$AO$56,Р!AG$57:AG$299)","v":{"v":0,"d":"0.00"}},{"$f":"SUMIF(Р!$AO$57:$AO$299,Р!$AO$56,Р!AH$57:AH$299)","v":{"v":0,"d":"0.00"}},{"$nulls":3},{"$f":"AM2862+AN2862","v":{"v":0,"d":"0.00"}},{"$f":"SUMIF(Р!$AO$57:$AO$299,Р!$AO$56,Р!AM$57:AM$299)","v":{"v":0,"d":"0.00"}},{"$f":"SUMIF(Р!$AO$57:$AO$299,Р!$AO$56,Р!AN$57:AN$299)","v":{"v":0,"d":"0.00"}},{"$nulls":3},{"$f":"AS2862+AT2862","v":{"$error":"#REF!"}},{"$f":"SUMIF(Р!$AO$57:$AO$299,Р!$AO$56,Р!AS$57:AS$299)","v":{"v":0,"d":"0.00"}},{"$f":"SUMIF(Р!$AO$57:$AO$299,Р!$AO$56,Р!#REF!)","v":{"$error":"#REF!"}}]
[]
[{"$nulls":12},"AGRP","агар питательный","тыс.руб.",{"$nulls":22},{"$f":"AM2864+AN2864","v":{"v":0,"d":"0.00"}},{"$f":"AM2865*AM2866/1000","v":{"v":0,"d":"0.00"}},{"$f":"AN2865*AN2866/1000","v":{"v":0,"d":"0.00"}}]
[{"$nulls":12},{"$f":"M2864 & \".P\"","v":"AGRP.P"},"Цена за единицу","руб./ед.",{"$nulls":22},{"$f":"IF(AL2866=0,0,AL2864*1000/AL2866)","v":{"v":0,"d":"0.00"}}]
[{"$nulls":12},{"$f":"M2864 & \".V\"","v":"AGRP.V"},"Объём","ед.",{"$nulls":22},{"$f":"AM2866+AN2866","v":{"v":0,"d":"0.00"}}]
[{"$nulls":12},"AGRE","агар Эндо","тыс.руб.",{"$nulls":22},{"$f":"AM2867+AN2867","v":{"v":0,"d":"0.00"}},{"$f":"AM2868*AM2869/1000","v":{"v":0,"d":"0.00"}},{"$f":"AN2868*AN2869/1000","v":{"v":0,"d":"0.00"}}]
[{"$nulls":12},{"$f":"M2867 & \".P\"","v":"AGRE.P"},"Цена за единицу","руб./ед.",{"$nulls":22},{"$f":"IF(AL2869=0,0,AL2867*1000/AL2869)","v":{"v":0,"d":"0.00"}}]
[{"$nulls":12},{"$f":"M2867 & \".V\"","v":"AGRE.V"},"Объём","ед.",{"$nulls":22},{"$f":"AM2869+AN2869","v":{"v":0,"d":"0.00"}}]
[{"$nulls":12},"ALOX","алюминий окись","тыс.руб.",{"$nulls":22},{"$f":"AM2870+AN2870","v":{"v":0,"d":"0.00"}},{"$f":"AM2871*AM2872/1000","v":{"v":0,"d":"0.00"}},{"$f":"AN2871*AN2872/1000","v":{"v":0,"d":"0.00"}}]
[{"$nulls":12},{"$f":"M2870 & \".P\"","v":"ALOX.P"},"Цена за единицу","руб./ед.",{"$nulls":22},{"$f":"IF(AL2872=0,0,AL2870*1000/AL2872)","v":{"v":0,"d":"0.00"}}]
[{"$nulls":12},{"$f":"M2870 & \".V\"","v":"ALOX.V"},"Объём","ед.",{"$nulls":22},{"$f":"AM2872+AN2872","v":{"v":0,"d":"0.00"}}]
[{"$nulls":12},"ALS","алюминий сернокислый","тыс.руб.",{"$nulls":22},{"$f":"AM2873+AN2873","v":{"v":0,"d":"0.00"}},{"$f":"AM2874*AM2875/1000","v":{"v":0,"d":"0.00"}},{"$f":"AN2874*AN2875/1000","v":{"v":0,"d":"0.00"}}]
[{"$nulls":12},{"$f":"M2873 & \".P\"","v":"ALS.P"},"Цена за единицу","руб./ед.",{"$nulls":22},{"$f":"IF(AL2875=0,0,AL2873*1000/AL2875)","v":{"v":0,"d":"0.00"}}]
[{"$nulls":12},{"$f":"M2873 & \".V\"","v":"ALS.V"},"Объём","ед.",{"$nulls":22},{"$f":"AM2875+AN2875","v":{"v":0,"d":"0.00"}}]
[{"$nulls":12},"AM","аммиак","тыс.руб.",{"$nulls":22},{"$f":"AM2876+AN2876","v":{"v":0,"d":"0.00"}},{"$f":"AM2877*AM2878/1000","v":{"v":0,"d":"0.00"}},{"$f":"AN2877*AN2878/1000","v":{"v":0,"d":"0.00"}}]
[{"$nulls":12},{"$f":"M2876 & \".P\"","v":"AM.P"},"Цена за единицу","руб./ед.",{"$nulls":22},{"$f":"IF(AL2878=0,0,AL2876*1000/AL2878)","v":{"v":0,"d":"0.00"}}]
[{"$nulls":12},{"$f":"M2876 & \".V\"","v":"AM.V"},"Объём","ед.",{"$nulls":22},{"$f":"AM2878+AN2878","v":{"v":0,"d":"0.00"}}]
[{"$nulls":12},"AMW","аммиачная вода","тыс.руб.",{"$nulls":22},{"$f":"AM2879+AN2879","v":{"v":0,"d":"0.00"}},{"$f":"AM2880*AM2881/1000","v":{"v":0,"d":"0.00"}},{"$f":"AN2880*AN2881/1000","v":{"v":0,"d":"0.00"}}]
[{"$nulls":12},{"$f":"M2879 & \".P\"","v":"AMW.P"},"Цена за единицу","руб./ед.",{"$nulls":22},{"$f":"IF(AL2881=0,0,AL2879*1000/AL2881)","v":{"v":0,"d":"0.00"}}]
[{"$nulls":12},{"$f":"M2879 & \".V\"","v":"AMW.V"},"Объём","ед.",{"$nulls":22},{"$f":"AM2881+AN2881","v":{"v":0,"d":"0.00"}}]
[{"$nulls":12},"AMN","аммоний","тыс.руб.",{"$nulls":22},{"$f":"AM2882+AN2882","v":{"v":0,"d":"0.00"}},{"$f":"AM2883*AM2884/1000","v":{"v":0,"d":"0.00"}},{"$f":"AN2883*AN2884/1000","v":{"v":0,"d":"0.00"}}]
[{"$nulls":12},{"$f":"M2882 & \".P\"","v":"AMN.P"},"Цена за единицу","руб./ед.",{"$nulls":22},{"$f":"IF(AL2884=0,0,AL2882*1000/AL2884)","v":{"v":0,"d":"0.00"}}]
[{"$nulls":12},{"$f":"M2882 & \".V\"","v":"AMN.V"},"Объём","ед.",{"$nulls":22},{"$f":"AM2884+AN2884","v":{"v":0,"d":"0.00"}}]
[{"$nulls":12},"AMNCL","аммоний хлористый","тыс.руб.",{"$nulls":22},{"$f":"AM2885+AN2885","v":{"v":0,"d":"0.00"}},{"$f":"AM2886*AM2887/1000","v":{"v":0,"d":"0.00"}},{"$f":"AN2886*AN2887/1000","v":{"v":0,"d":"0.00"}}]
[{"$nulls":12},{"$f":"M2885 & \".P\"","v":"AMNCL.P"},"Цена за единицу","руб./ед.",{"$nulls":22},{"$f":"IF(AL2887=0,0,AL2885*1000/AL2887)","v":{"v":0,"d":"0.00"}}]
[{"$nulls":12},{"$f":"M2885 & \".V\"","v":"AMNCL.V"},"Объём","ед.",{"$nulls":22},{"$f":"AM2887+AN2887","v":{"v":0,"d":"0.00"}}]
[{"$nulls":12},"BACL","барий хлористый","тыс.руб.",{"$nulls":22},{"$f":"AM2888+AN2888","v":{"v":0,"d":"0.00"}},{"$f":"AM2889*AM2890/1000","v":{"v":0,"d":"0.00"}},{"$f":"AN2889*AN2890/1000","v":{"v":0,"d":"0.00"}}]
[{"$nulls":12},{"$f":"M2888 & \".P\"","v":"BACL.P"},"Цена за единицу","руб./ед.",{"$nulls":22},{"$f":"IF(AL2890=0,0,AL2888*1000/AL2890)","v":{"v":0,"d":"0.00"}}]
[{"$nulls":12},{"$f":"M2888 & \".V\"","v":"BACL.V"},"Объём","ед.",{"$nulls":22},{"$f":"AM2890+AN2890","v":{"v":0,"d":"0.00"}}]
[{"$nulls":12},"BIOX","биоксимин","тыс.руб.",{"$nulls":22},{"$f":"AM2891+AN2891","v":{"v":0,"d":"0.00"}},{"$f":"AM2892*AM2893/1000","v":{"v":0,"d":"0.00"}},{"$f":"AN2892*AN2893/1000","v":{"v":0,"d":"0.00"}}]
[{"$nulls":12},{"$f":"M2891 & \".P\"","v":"BIOX.P"},"Цена за единицу","руб./ед.",{"$nulls":22},{"$f":"IF(AL2893=0,0,AL2891*1000/AL2893)","v":{"v":0,"d":"0.00"}}]
[{"$nulls":12},{"$f":"M2891 & \".V\"","v":"BIOX.V"},"Объём","ед.",{"$nulls":22},{"$f":"AM2893+AN2893","v":{"v":0,"d":"0.00"}}]
[{"$nulls":12},"BRFNL","бромфеноловый синий","тыс.руб.",{"$nulls":22},{"$f":"AM2894+AN2894","v":{"v":0,"d":"0.00"}},{"$f":"AM2895*AM2896/1000","v":{"v":0,"d":"0.00"}},{"$f":"AN2895*AN2896/1000","v":{"v":0,"d":"0.00"}}]
[{"$nulls":12},{"$f":"M2894 & \".P\"","v":"BRFNL.P"},"Цена за единицу","руб./ед.",{"$nulls":22},{"$f":"IF(AL2896=0,0,AL2894*1000/AL2896)","v":{"v":0,"d":"0.00"}}]
[{"$nulls":12},{"$f":"M2894 & \".V\"","v":"BRFNL.V"},"Объём","ед.",{"$nulls":22},{"$f":"AM2896+AN2896","v":{"v":0,"d":"0.00"}}]
[{"$nulls":12},"HDOX","водорода перекись","тыс.руб.",{"$nulls":22},{"$f":"AM2897+AN2897","v":{"v":0,"d":"0.00"}},{"$f":"AM2898*AM2899/1000","v":{"v":0,"d":"0.00"}},{"$f":"AN2898*AN2899/1000","v":{"v":0,"d":"0.00"}}]
[{"$nulls":12},{"$f":"M2897 & \".P\"","v":"HDOX.P"},"Цена за единицу","руб./ед.",{"$nulls":22},{"$f":"IF(AL2899=0,0,AL2897*1000/AL2899)","v":{"v":0,"d":"0.00"}}]
[{"$nulls":12},{"$f":"M2897 & \".V\"","v":"HDOX.V"},"Объём","ед.",{"$nulls":22},{"$f":"AM2899+AN2899","v":{"v":0,"d":"0.00"}}]
[{"$nulls":12},"GEXN","гексан","тыс.руб.",{"$nulls":22},{"$f":"AM2900+AN2900","v":{"v":0,"d":"0.00"}},{"$f":"AM2901*AM2902/1000","v":{"v":0,"d":"0.00"}},{"$f":"AN2901*AN2902/1000","v":{"v":0,"d":"0.00"}}]
[{"$nulls":12},{"$f":"M2900 & \".P\"","v":"GEXN.P"},"Цена за единицу","руб./ед.",{"$nulls":22},{"$f":"IF(AL2902=0,0,AL2900*1000/AL2902)","v":{"v":0,"d":"0.00"}}]
[{"$nulls":12},{"$f":"M2900 & \".V\"","v":"GEXN.V"},"Объём","ед.",{"$nulls":22},{"$f":"AM2902+AN2902","v":{"v":0,"d":"0.00"}}]
[{"$nulls":12},"HDOXCL","гидроксиламин солянокислый","тыс.руб.",{"$nulls":22},{"$f":"AM2903+AN2903","v":{"v":0,"d":"0.00"}},{"$f":"AM2904*AM2905/1000","v":{"v":0,"d":"0.00"}},{"$f":"AN2904*AN2905/1000","v":{"v":0,"d":"0.00"}}]
[{"$nulls":12},{"$f":"M2903 & \".P\"","v":"HDOXCL.P"},"Цена за единицу","руб./ед.",{"$nulls":22},{"$f":"IF(AL2905=0,0,AL2903*1000/AL2905)","v":{"v":0,"d":"0.00"}}]
[{"$nulls":12},{"$f":"M2903 & \".V\"","v":"HDOXCL.V"},"Объём","ед.",{"$nulls":22},{"$f":"AM2905+AN2905","v":{"v":0,"d":"0.00"}}]
[{"$nulls":12},"HDCLCA","гидрохлорид кальция","тыс.руб.",{"$nulls":22},{"$f":"AM2906+AN2906","v":{"v":0,"d":"0.00"}},{"$f":"AM2907*AM2908/1000","v":{"v":0,"d":"0.00"}},{"$f":"AN2907*AN2908/1000","v":{"v":0,"d":"0.00"}}]
[{"$nulls":12},{"$f":"M2906 & \".P\"","v":"HDCLCA.P"},"Цена за единицу","руб./ед.",{"$nulls":22},{"$f":"IF(AL2908=0,0,AL2906*1000/AL2908)","v":{"v":0,"d":"0.00"}}]
[{"$nulls":12},{"$f":"M2906 & \".V\"","v":"HDCLCA.V"},"Объём","ед.",{"$nulls":22},{"$f":"AM2908+AN2908","v":{"v":0,"d":"0.00"}}]
[{"$nulls":12},"HPCLCA","гипохлорит кальция","тыс.руб.",{"$nulls":22},{"$f":"AM2909+AN2909","v":{"v":0,"d":"0.00"}},{"$f":"AM2910*AM2911/1000","v":{"v":0,"d":"0.00"}},{"$f":"AN2910*AN2911/1000","v":{"v":0,"d":"0.00"}}]
[{"$nulls":12},{"$f":"M2909 & \".P\"","v":"HPCLCA.P"},"Цена за единицу","руб./ед.",{"$nulls":22},{"$f":"IF(AL2911=0,0,AL2909*1000/AL2911)","v":{"v":0,"d":"0.00"}}]
[{"$nulls":12},{"$f":"M2909 & \".V\"","v":"HPCLCA.V"},"Объём","ед.",{"$nulls":22},{"$f":"AM2911+AN2911","v":{"v":0,"d":"0.00"}}]
[{"$nulls":12},"HPCLNA","гипохлорит натрия","тыс.руб.",{"$nulls":22},{"$f":"AM2912+AN2912","v":{"v":0,"d":"0.00"}},{"$f":"AM2913*AM2914/1000","v":{"v":0,"d":"0.00"}},{"$f":"AN2913*AN2914/1000","v":{"v":0,"d":"0.00"}}]
[{"$nulls":12},{"$f":"M2912 & \".P\"","v":"HPCLNA.P"},"Цена за единицу","руб./ед.",{"$nulls":22},{"$f":"IF(AL2914=0,0,AL2912*1000/AL2914)","v":{"v":0,"d":"0.00"}}]
[{"$nulls":12},{"$f":"M2912 & \".V\"","v":"HPCLNA.V"},"Объём","ед.",{"$nulls":22},{"$f":"AM2914+AN2914","v":{"v":0,"d":"0.00"}}]
[{"$nulls":12},"GLC","глицерин","тыс.руб.",{"$nulls":22},{"$f":"AM2915+AN2915","v":{"v":0,"d":"0.00"}},{"$f":"AM2916*AM2917/1000","v":{"v":0,"d":"0.00"}},{"$f":"AN2916*AN2917/1000","v":{"v":0,"d":"0.00"}}]
[{"$nulls":12},{"$f":"M2915 & \".P\"","v":"GLC.P"},"Цена за единицу","руб./ед.",{"$nulls":22},{"$f":"IF(AL2917=0,0,AL2915*1000/AL2917)","v":{"v":0,"d":"0.00"}}]
[{"$nulls":12},{"$f":"M2915 & \".V\"","v":"GLC.V"},"Объём","ед.",{"$nulls":22},{"$f":"AM2917+AN2917","v":{"v":0,"d":"0.00"}}]
[{"$nulls":12},"DFNLCD","дифенилкарбазид","тыс.руб.",{"$nulls":22},{"$f":"AM2918+AN2918","v":{"v":0,"d":"0.00"}},{"$f":"AM2919*AM2920/1000","v":{"v":0,"d":"0.00"}},{"$f":"AN2919*AN2920/1000","v":{"v":0,"d":"0.00"}}]
[{"$nulls":12},{"$f":"M2918 & \".P\"","v":"DFNLCD.P"},"Цена за единицу","руб./ед.",{"$nulls":22},{"$f":"IF(AL2920=0,0,AL2918*1000/AL2920)","v":{"v":0,"d":"0.00"}}]
[{"$nulls":12},{"$f":"M2918 & \".V\"","v":"DFNLCD.V"},"Объём","ед.",{"$nulls":22},{"$f":"AM2920+AN2920","v":{"v":0,"d":"0.00"}}]
[{"$nulls":12},"DFNLCN","дифенилкарбазон","тыс.руб.",{"$nulls":22},{"$f":"AM2921+AN2921","v":{"v":0,"d":"0.00"}},{"$f":"AM2922*AM2923/1000","v":{"v":0,"d":"0.00"}},{"$f":"AN2922*AN2923/1000","v":{"v":0,"d":"0.00"}}]
[{"$nulls":12},{"$f":"M2921 & \".P\"","v":"DFNLCN.P"},"Цена за единицу","руб./ед.",{"$nulls":22},{"$f":"IF(AL2923=0,0,AL2921*1000/AL2923)","v":{"v":0,"d":"0.00"}}]
[{"$nulls":12},{"$f":"M2921 & \".V\"","v":"DFNLCN.V"},"Объём","ед.",{"$nulls":22},{"$f":"AM2923+AN2923","v":{"v":0,"d":"0.00"}}]
[{"$nulls":12},"FES","железо сернокислое","тыс.руб.",{"$nulls":22},{"$f":"AM2924+AN2924","v":{"v":0,"d":"0.00"}},{"$f":"AM2925*AM2926/1000","v":{"v":0,"d":"0.00"}},{"$f":"AN2925*AN2926/1000","v":{"v":0,"d":"0.00"}}]
[{"$nulls":12},{"$f":"M2924 & \".P\"","v":"FES.P"},"Цена за единицу","руб./ед.",{"$nulls":22},{"$f":"IF(AL2926=0,0,AL2924*1000/AL2926)","v":{"v":0,"d":"0.00"}}]
[{"$nulls":12},{"$f":"M2924 & \".V\"","v":"FES.V"},"Объём","ед.",{"$nulls":22},{"$f":"AM2926+AN2926","v":{"v":0,"d":"0.00"}}]
[{"$nulls":12},"FECL","железо трёххлористое","тыс.руб.",{"$nulls":22},{"$f":"AM2927+AN2927","v":{"v":0,"d":"0.00"}},{"$f":"AM2928*AM2929/1000","v":{"v":0,"d":"0.00"}},{"$f":"AN2928*AN2929/1000","v":{"v":0,"d":"0.00"}}]
[{"$nulls":12},{"$f":"M2927 & \".P\"","v":"FECL.P"},"Цена за единицу","руб./ед.",{"$nulls":22},{"$f":"IF(AL2929=0,0,AL2927*1000/AL2929)","v":{"v":0,"d":"0.00"}}]
[{"$nulls":12},{"$f":"M2927 & \".V\"","v":"FECL.V"},"Объём","ед.",{"$nulls":22},{"$f":"AM2929+AN2929","v":{"v":0,"d":"0.00"}}]
[{"$nulls":12},"LIMENP","известь негашёная (порошок)","тыс.руб.",{"$nulls":22},{"$f":"AM2930+AN2930","v":{"v":0,"d":"0.00"}},{"$f":"AM2931*AM2932/1000","v":{"v":0,"d":"0.00"}},{"$f":"AN2931*AN2932/1000","v":{"v":0,"d":"0.00"}}]
[{"$nulls":12},{"$f":"M2930 & \".P\"","v":"LIMENP.P"},"Цена за единицу","руб./ед.",{"$nulls":22},{"$f":"IF(AL2932=0,0,AL2930*1000/AL2932)","v":{"v":0,"d":"0.00"}}]
[{"$nulls":12},{"$f":"M2930 & \".V\"","v":"LIMENP.V"},"Объём","ед.",{"$nulls":22},{"$f":"AM2932+AN2932","v":{"v":0,"d":"0.00"}}]
[{"$nulls":12},"LIMENH","известь негашёная гидратная","тыс.руб.",{"$nulls":22},{"$f":"AM2933+AN2933","v":{"v":0,"d":"0.00"}},{"$f":"AM2934*AM2935/1000","v":{"v":0,"d":"0.00"}},{"$f":"AN2934*AN2935/1000","v":{"v":0,"d":"0.00"}}]
[{"$nulls":12},{"$f":"M2933 & \".P\"","v":"LIMENH.P"},"Цена за единицу","руб./ед.",{"$nulls":22},{"$f":"IF(AL2935=0,0,AL2933*1000/AL2935)","v":{"v":0,"d":"0.00"}}]
[{"$nulls":12},{"$f":"M2933 & \".V\"","v":"LIMENH.V"},"Объём","ед.",{"$nulls":22},{"$f":"AM2935+AN2935","v":{"v":0,"d":"0.00"}}]
[{"$nulls":12},"LIMECL","известь хлорная","тыс.руб.",{"$nulls":22},{"$f":"AM2936+AN2936","v":{"v":0,"d":"0.00"}},{"$f":"AM2937*AM2938/1000","v":{"v":0,"d":"0.00"}},{"$f":"AN2937*AN2938/1000","v":{"v":0,"d":"0.00"}}]
[{"$nulls":12},{"$f":"M2936 & \".P\"","v":"LIMECL.P"},"Цена за единицу","руб./ед.",{"$nulls":22},{"$f":"IF(AL2938=0,0,AL2936*1000/AL2938)","v":{"v":0,"d":"0.00"}}]
[{"$nulls":12},{"$f":"M2936 & \".V\"","v":"LIMECL.V"},"Объём","ед.",{"$nulls":22},{"$f":"AM2938+AN2938","v":{"v":0,"d":"0.00"}}]
[{"$nulls":12},"KN","калий азотнокислый","тыс.руб.",{"$nulls":22},{"$f":"AM2939+AN2939","v":{"v":0,"d":"0.00"}},{"$f":"AM2940*AM2941/1000","v":{"v":0,"d":"0.00"}},{"$f":"AN2940*AN2941/1000","v":{"v":0,"d":"0.00"}}]
[{"$nulls":12},{"$f":"M2939 & \".P\"","v":"KN.P"},"Цена за единицу","руб./ед.",{"$nulls":22},{"$f":"IF(AL2941=0,0,AL2939*1000/AL2941)","v":{"v":0,"d":"0.00"}}]
[{"$nulls":12},{"$f":"M2939 & \".V\"","v":"KN.V"},"Объём","ед.",{"$nulls":22},{"$f":"AM2941+AN2941","v":{"v":0,"d":"0.00"}}]
[{"$nulls":12},"KCR","калий двухромовокислый","тыс.руб.",{"$nulls":22},{"$f":"AM2942+AN2942","v":{"v":0,"d":"0.00"}},{"$f":"AM2943*AM2944/1000","v":{"v":0,"d":"0.00"}},{"$f":"AN2943*AN2944/1000","v":{"v":0,"d":"0.00"}}]
[{"$nulls":12},{"$f":"M2942 & \".P\"","v":"KCR.P"},"Цена за единицу","руб./ед.",{"$nulls":22},{"$f":"IF(AL2944=0,0,AL2942*1000/AL2944)","v":{"v":0,"d":"0.00"}}]
[{"$nulls":12},{"$f":"M2942 & \".V\"","v":"KCR.V"},"Объём","ед.",{"$nulls":22},{"$f":"AM2944+AN2944","v":{"v":0,"d":"0.00"}}]
[{"$nulls":12},"KI","калий йодистый","тыс.руб.",{"$nulls":22},{"$f":"AM2945+AN2945","v":{"v":0,"d":"0.00"}},{"$f":"AM2946*AM2947/1000","v":{"v":0,"d":"0.00"}},{"$f":"AN2946*AN2947/1000","v":{"v":0,"d":"0.00"}}]
[{"$nulls":12},{"$f":"M2945 & \".P\"","v":"KI.P"},"Цена за единицу","руб./ед.",{"$nulls":22},{"$f":"IF(AL2947=0,0,AL2945*1000/AL2947)","v":{"v":0,"d":"0.00"}}]
[{"$nulls":12},{"$f":"M2945 & \".V\"","v":"KI.V"},"Объём","ед.",{"$nulls":22},{"$f":"AM2947+AN2947","v":{"v":0,"d":"0.00"}}]
[{"$nulls":12},"KMN","калий марганцевокислый","тыс.руб.",{"$nulls":22},{"$f":"AM2948+AN2948","v":{"v":0,"d":"0.00"}},{"$f":"AM2949*AM2950/1000","v":{"v":0,"d":"0.00"}},{"$f":"AN2949*AN2950/1000","v":{"v":0,"d":"0.00"}}]
[{"$nulls":12},{"$f":"M2948 & \".P\"","v":"KMN.P"},"Цена за единицу","руб./ед.",{"$nulls":22},{"$f":"IF(AL2950=0,0,AL2948*1000/AL2950)","v":{"v":0,"d":"0.00"}}]
[{"$nulls":12},{"$f":"M2948 & \".V\"","v":"KMN.V"},"Объём","ед.",{"$nulls":22},{"$f":"AM2950+AN2950","v":{"v":0,"d":"0.00"}}]
[{"$nulls":12},"KP","калий фосфорнокислый","тыс.руб.",{"$nulls":22},{"$f":"AM2951+AN2951","v":{"v":0,"d":"0.00"}},{"$f":"AM2952*AM2953/1000","v":{"v":0,"d":"0.00"}},{"$f":"AN2952*AN2953/1000","v":{"v":0,"d":"0.00"}}]
[{"$nulls":12},{"$f":"M2951 & \".P\"","v":"KP.P"},"Цена за единицу","руб./ед.",{"$nulls":22},{"$f":"IF(AL2953=0,0,AL2951*1000/AL2953)","v":{"v":0,"d":"0.00"}}]
[{"$nulls":12},{"$f":"M2951 & \".V\"","v":"KP.V"},"Объём","ед.",{"$nulls":22},{"$f":"AM2953+AN2953","v":{"v":0,"d":"0.00"}}]
[{"$nulls":12},"HCL","калий хлористый","тыс.руб.",{"$nulls":22},{"$f":"AM2954+AN2954","v":{"v":0,"d":"0.00"}},{"$f":"AM2955*AM2956/1000","v":{"v":0,"d":"0.00"}},{"$f":"AN2955*AN2956/1000","v":{"v":0,"d":"0.00"}}]
[{"$nulls":12},{"$f":"M2954 & \".P\"","v":"HCL.P"},"Цена за единицу","руб./ед.",{"$nulls":22},{"$f":"IF(AL2956=0,0,AL2954*1000/AL2956)","v":{"v":0,"d":"0.00"}}]
[{"$nulls":12},{"$f":"M2954 & \".V\"","v":"HCL.V"},"Объём","ед.",{"$nulls":22},{"$f":"AM2956+AN2956","v":{"v":0,"d":"0.00"}}]
[{"$nulls":12},"KNA","калий-натрий виннокислый","тыс.руб.",{"$nulls":22},{"$f":"AM2957+AN2957","v":{"v":0,"d":"0.00"}},{"$f":"AM2958*AM2959/1000","v":{"v":0,"d":"0.00"}},{"$f":"AN2958*AN2959/1000","v":{"v":0,"d":"0.00"}}]
[{"$nulls":12},{"$f":"M2957 & \".P\"","v":"KNA.P"},"Цена за единицу","руб./ед.",{"$nulls":22},{"$f":"IF(AL2959=0,0,AL2957*1000/AL2959)","v":{"v":0,"d":"0.00"}}]
[{"$nulls":12},{"$f":"M2957 & \".V\"","v":"KNA.V"},"Объём","ед.",{"$nulls":22},{"$f":"AM2959+AN2959","v":{"v":0,"d":"0.00"}}]
[{"$nulls":12},"CAC","кальций углекислый","тыс.руб.",{"$nulls":22},{"$f":"AM2960+AN2960","v":{"v":0,"d":"0.00"}},{"$f":"AM2961*AM2962/1000","v":{"v":0,"d":"0.00"}},{"$f":"AN2961*AN2962/1000","v":{"v":0,"d":"0.00"}}]
[{"$nulls":12},{"$f":"M2960 & \".P\"","v":"CAC.P"},"Цена за единицу","руб./ед.",{"$nulls":22},{"$f":"IF(AL2962=0,0,AL2960*1000/AL2962)","v":{"v":0,"d":"0.00"}}]
[{"$nulls":12},{"$f":"M2960 & \".V\"","v":"CAC.V"},"Объём","ед.",{"$nulls":22},{"$f":"AM2962+AN2962","v":{"v":0,"d":"0.00"}}]
[{"$nulls":12},"CACL","кальций хлористый","тыс.руб.",{"$nulls":22},{"$f":"AM2963+AN2963","v":{"v":0,"d":"0.00"}},{"$f":"AM2964*AM2965/1000","v":{"v":0,"d":"0.00"}},{"$f":"AN2964*AN2965/1000","v":{"v":0,"d":"0.00"}}]
[{"$nulls":12},{"$f":"M2963 & \".P\"","v":"CACL.P"},"Цена за единицу","руб./ед.",{"$nulls":22},{"$f":"IF(AL2965=0,0,AL2963*1000/AL2965)","v":{"v":0,"d":"0.00"}}]
[{"$nulls":12},{"$f":"M2963 & \".V\"","v":"CACL.V"},"Объём","ед.",{"$nulls":22},{"$f":"AM2965+AN2965","v":{"v":0,"d":"0.00"}}]
[{"$nulls":12},"CAHPCL","кальция гипохлорит","тыс.руб.",{"$nulls":22},{"$f":"AM2966+AN2966","v":{"v":0,"d":"0.00"}},{"$f":"AM2967*AM2968/1000","v":{"v":0,"d":"0.00"}},{"$f":"AN2967*AN2968/1000","v":{"v":0,"d":"0.00"}}]
[{"$nulls":12},{"$f":"M2966 & \".P\"","v":"CAHPCL.P"},"Цена за единицу","руб./ед.",{"$nulls":22},{"$f":"IF(AL2968=0,0,AL2966*1000/AL2968)","v":{"v":0,"d":"0.00"}}]
[{"$nulls":12},{"$f":"M2966 & \".V\"","v":"CAHPCL.V"},"Объём","ед.",{"$nulls":22},{"$f":"AM2968+AN2968","v":{"v":0,"d":"0.00"}}]
[{"$nulls":12},"SAND","кварцевый песок","тыс.руб.",{"$nulls":22},{"$f":"AM2969+AN2969","v":{"v":0,"d":"0.00"}},{"$f":"AM2970*AM2971/1000","v":{"v":0,"d":"0.00"}},{"$f":"AN2970*AN2971/1000","v":{"v":0,"d":"0.00"}}]
[{"$nulls":12},{"$f":"M2969 & \".P\"","v":"SAND.P"},"Цена за единицу","руб./ед.",{"$nulls":22},{"$f":"IF(AL2971=0,0,AL2969*1000/AL2971)","v":{"v":0,"d":"0.00"}}]
[{"$nulls":12},{"$f":"M2969 & \".V\"","v":"SAND.V"},"Объём","ед.",{"$nulls":22},{"$f":"AM2971+AN2971","v":{"v":0,"d":"0.00"}}]
[{"$nulls":12},"ACIDN","кислота азотная","тыс.руб.",{"$nulls":22},{"$f":"AM2972+AN2972","v":{"v":0,"d":"0.00"}},{"$f":"AM2973*AM2974/1000","v":{"v":0,"d":"0.00"}},{"$f":"AN2973*AN2974/1000","v":{"v":0,"d":"0.00"}}]
[{"$nulls":12},{"$f":"M2972 & \".P\"","v":"ACIDN.P"},"Цена за единицу","руб./ед.",{"$nulls":22},{"$f":"IF(AL2974=0,0,AL2972*1000/AL2974)","v":{"v":0,"d":"0.00"}}]
[{"$nulls":12},{"$f":"M2972 & \".V\"","v":"ACIDN.V"},"Объём","ед.",{"$nulls":22},{"$f":"AM2974+AN2974","v":{"v":0,"d":"0.00"}}]
[{"$nulls":12},"ACIDA","кислота аскорбиновая","тыс.руб.",{"$nulls":22},{"$f":"AM2975+AN2975","v":{"v":0,"d":"0.00"}},{"$f":"AM2976*AM2977/1000","v":{"v":0,"d":"0.00"}},{"$f":"AN2976*AN2977/1000","v":{"v":0,"d":"0.00"}}]
[{"$nulls":12},{"$f":"M2975 & \".P\"","v":"ACIDA.P"},"Цена за единицу","руб./ед.",{"$nulls":22},{"$f":"IF(AL2977=0,0,AL2975*1000/AL2977)","v":{"v":0,"d":"0.00"}}]
[{"$nulls":12},{"$f":"M2975 & \".V\"","v":"ACIDA.V"},"Объём","ед.",{"$nulls":22},{"$f":"AM2977+AN2977","v":{"v":0,"d":"0.00"}}]
[{"$nulls":12},"ACIDL","кислота лимонная","тыс.руб.",{"$nulls":22},{"$f":"AM2978+AN2978","v":{"v":0,"d":"0.00"}},{"$f":"AM2979*AM2980/1000","v":{"v":0,"d":"0.00"}},{"$f":"AN2979*AN2980/1000","v":{"v":0,"d":"0.00"}}]
[{"$nulls":12},{"$f":"M2978 & \".P\"","v":"ACIDL.P"},"Цена за единицу","руб./ед.",{"$nulls":22},{"$f":"IF(AL2980=0,0,AL2978*1000/AL2980)","v":{"v":0,"d":"0.00"}}]
[{"$nulls":12},{"$f":"M2978 & \".V\"","v":"ACIDL.V"},"Объём","ед.",{"$nulls":22},{"$f":"AM2980+AN2980","v":{"v":0,"d":"0.00"}}]
[{"$nulls":12},"AURIN","кислота розоловая (аурин)","тыс.руб.",{"$nulls":22},{"$f":"AM2981+AN2981","v":{"v":0,"d":"0.00"}},{"$f":"AM2982*AM2983/1000","v":{"v":0,"d":"0.00"}},{"$f":"AN2982*AN2983/1000","v":{"v":0,"d":"0.00"}}]
[{"$nulls":12},{"$f":"M2981 & \".P\"","v":"AURIN.P"},"Цена за единицу","руб./ед.",{"$nulls":22},{"$f":"IF(AL2983=0,0,AL2981*1000/AL2983)","v":{"v":0,"d":"0.00"}}]
[{"$nulls":12},{"$f":"M2981 & \".V\"","v":"AURIN.V"},"Объём","ед.",{"$nulls":22},{"$f":"AM2983+AN2983","v":{"v":0,"d":"0.00"}}]
[{"$nulls":12},"ACIDS","кислота серная","тыс.руб.",{"$nulls":22},{"$f":"AM2984+AN2984","v":{"v":0,"d":"0.00"}},{"$f":"AM2985*AM2986/1000","v":{"v":0,"d":"0.00"}},{"$f":"AN2985*AN2986/1000","v":{"v":0,"d":"0.00"}}]
[{"$nulls":12},{"$f":"M2984 & \".P\"","v":"ACIDS.P"},"Цена за единицу","руб./ед.",{"$nulls":22},{"$f":"IF(AL2986=0,0,AL2984*1000/AL2986)","v":{"v":0,"d":"0.00"}}]
[{"$nulls":12},{"$f":"M2984 & \".V\"","v":"ACIDS.V"},"Объём","ед.",{"$nulls":22},{"$f":"AM2986+AN2986","v":{"v":0,"d":"0.00"}}]
[{"$nulls":12},"ADIDCL","кислота соляная","тыс.руб.",{"$nulls":22},{"$f":"AM2987+AN2987","v":{"v":0,"d":"0.00"}},{"$f":"AM2988*AM2989/1000","v":{"v":0,"d":"0.00"}},{"$f":"AN2988*AN2989/1000","v":{"v":0,"d":"0.00"}}]
[{"$nulls":12},{"$f":"M2987 & \".P\"","v":"ADIDCL.P"},"Цена за единицу","руб./ед.",{"$nulls":22},{"$f":"IF(AL2989=0,0,AL2987*1000/AL2989)","v":{"v":0,"d":"0.00"}}]
[{"$nulls":12},{"$f":"M2987 & \".V\"","v":"ADIDCL.V"},"Объём","ед.",{"$nulls":22},{"$f":"AM2989+AN2989","v":{"v":0,"d":"0.00"}}]
[{"$nulls":12},"ACIDAC","кислота уксусная","тыс.руб.",{"$nulls":22},{"$f":"AM2990+AN2990","v":{"v":0,"d":"0.00"}},{"$f":"AM2991*AM2992/1000","v":{"v":0,"d":"0.00"}},{"$f":"AN2991*AN2992/1000","v":{"v":0,"d":"0.00"}}]
[{"$nulls":12},{"$f":"M2990 & \".P\"","v":"ACIDAC.P"},"Цена за единицу","руб./ед.",{"$nulls":22},{"$f":"IF(AL2992=0,0,AL2990*1000/AL2992)","v":{"v":0,"d":"0.00"}}]
[{"$nulls":12},{"$f":"M2990 & \".V\"","v":"ACIDAC.V"},"Объём","ед.",{"$nulls":22},{"$f":"AM2992+AN2992","v":{"v":0,"d":"0.00"}}]
[{"$nulls":12},"ACIDOX","кислота щавелевая","тыс.руб.",{"$nulls":22},{"$f":"AM2993+AN2993","v":{"v":0,"d":"0.00"}},{"$f":"AM2994*AM2995/1000","v":{"v":0,"d":"0.00"}},{"$f":"AN2994*AN2995/1000","v":{"v":0,"d":"0.00"}}]
[{"$nulls":12},{"$f":"M2993 & \".P\"","v":"ACIDOX.P"},"Цена за единицу","руб./ед.",{"$nulls":22},{"$f":"IF(AL2995=0,0,AL2993*1000/AL2995)","v":{"v":0,"d":"0.00"}}]
[{"$nulls":12},{"$f":"M2993 & \".V\"","v":"ACIDOX.V"},"Объём","ед.",{"$nulls":22},{"$f":"AM2995+AN2995","v":{"v":0,"d":"0.00"}}]
[{"$nulls":12},"STARCH","крахмал","тыс.руб.",{"$nulls":22},{"$f":"AM2996+AN2996","v":{"v":0,"d":"0.00"}},{"$f":"AM2997*AM2998/1000","v":{"v":0,"d":"0.00"}},{"$f":"AN2997*AN2998/1000","v":{"v":0,"d":"0.00"}}]
[{"$nulls":12},{"$f":"M2996 & \".P\"","v":"STARCH.P"},"Цена за единицу","руб./ед.",{"$nulls":22},{"$f":"IF(AL2998=0,0,AL2996*1000/AL2998)","v":{"v":0,"d":"0.00"}}]
[{"$nulls":12},{"$f":"M2996 & \".V\"","v":"STARCH.V"},"Объём","ед.",{"$nulls":22},{"$f":"AM2998+AN2998","v":{"v":0,"d":"0.00"}}]
[{"$nulls":12},"LANTN","лантан азотнокислый","тыс.руб.",{"$nulls":22},{"$f":"AM2999+AN2999","v":{"v":0,"d":"0.00"}},{"$f":"AM3000*AM3001/1000","v":{"v":0,"d":"0.00"}},{"$f":"AN3000*AN3001/1000","v":{"v":0,"d":"0.00"}}]
[{"$nulls":12},{"$f":"M2999 & \".P\"","v":"LANTN.P"},"Цена за единицу","руб./ед.",{"$nulls":22},{"$f":"IF(AL3001=0,0,AL2999*1000/AL3001)","v":{"v":0,"d":"0.00"}}]
[{"$nulls":12},{"$f":"M2999 & \".V\"","v":"LANTN.V"},"Объём","ед.",{"$nulls":22},{"$f":"AM3001+AN3001","v":{"v":0,"d":"0.00"}}]
[{"$nulls":12},"MGS","магний сернокислый","тыс.руб.",{"$nulls":22},{"$f":"AM3002+AN3002","v":{"v":0,"d":"0.00"}},{"$f":"AM3003*AM3004/1000","v":{"v":0,"d":"0.00"}},{"$f":"AN3003*AN3004/1000","v":{"v":0,"d":"0.00"}}]
[{"$nulls":12},{"$f":"M3002 & \".P\"","v":"MGS.P"},"Цена за единицу","руб./ед.",{"$nulls":22},{"$f":"IF(AL3004=0,0,AL3002*1000/AL3004)","v":{"v":0,"d":"0.00"}}]
[{"$nulls":12},{"$f":"M3002 & \".V\"","v":"MGS.V"},"Объём","ед.",{"$nulls":22},{"$f":"AM3004+AN3004","v":{"v":0,"d":"0.00"}}]
[{"$nulls":12},"NATR","натр едкий","тыс.руб.",{"$nulls":22},{"$f":"AM3005+AN3005","v":{"v":0,"d":"0.00"}},{"$f":"AM3006*AM3007/1000","v":{"v":0,"d":"0.00"}},{"$f":"AN3006*AN3007/1000","v":{"v":0,"d":"0.00"}}]
[{"$nulls":12},{"$f":"M3005 & \".P\"","v":"NATR.P"},"Цена за единицу","руб./ед.",{"$nulls":22},{"$f":"IF(AL3007=0,0,AL3005*1000/AL3007)","v":{"v":0,"d":"0.00"}}]
[{"$nulls":12},{"$f":"M3005 & \".V\"","v":"NATR.V"},"Объём","ед.",{"$nulls":22},{"$f":"AM3007+AN3007","v":{"v":0,"d":"0.00"}}]
[{"$nulls":12},"NAHDOX","натрий гидроокись","тыс.руб.",{"$nulls":22},{"$f":"AM3008+AN3008","v":{"v":0,"d":"0.00"}},{"$f":"AM3009*AM3010/1000","v":{"v":0,"d":"0.00"}},{"$f":"AN3009*AN3010/1000","v":{"v":0,"d":"0.00"}}]
[{"$nulls":12},{"$f":"M3008 & \".P\"","v":"NAHDOX.P"},"Цена за единицу","руб./ед.",{"$nulls":22},{"$f":"IF(AL3010=0,0,AL3008*1000/AL3010)","v":{"v":0,"d":"0.00"}}]
[{"$nulls":12},{"$f":"M3008 & \".V\"","v":"NAHDOX.V"},"Объём","ед.",{"$nulls":22},{"$f":"AM3010+AN3010","v":{"v":0,"d":"0.00"}}]
[{"$nulls":12},"NASLC","натрий салициловокислый","тыс.руб.",{"$nulls":22},{"$f":"AM3011+AN3011","v":{"v":0,"d":"0.00"}},{"$f":"AM3012*AM3013/1000","v":{"v":0,"d":"0.00"}},{"$f":"AN3012*AN3013/1000","v":{"v":0,"d":"0.00"}}]
[{"$nulls":12},{"$f":"M3011 & \".P\"","v":"NASLC.P"},"Цена за единицу","руб./ед.",{"$nulls":22},{"$f":"IF(AL3013=0,0,AL3011*1000/AL3013)","v":{"v":0,"d":"0.00"}}]
[{"$nulls":12},{"$f":"M3011 & \".V\"","v":"NASLC.V"},"Объём","ед.",{"$nulls":22},{"$f":"AM3013+AN3013","v":{"v":0,"d":"0.00"}}]
[{"$nulls":12},"NAS","натрий сернокислый","тыс.руб.",{"$nulls":22},{"$f":"AM3014+AN3014","v":{"v":0,"d":"0.00"}},{"$f":"AM3015*AM3016/1000","v":{"v":0,"d":"0.00"}},{"$f":"AN3015*AN3016/1000","v":{"v":0,"d":"0.00"}}]
[{"$nulls":12},{"$f":"M3014 & \".P\"","v":"NAS.P"},"Цена за единицу","руб./ед.",{"$nulls":22},{"$f":"IF(AL3016=0,0,AL3014*1000/AL3016)","v":{"v":0,"d":"0.00"}}]
[{"$nulls":12},{"$f":"M3014 & \".V\"","v":"NAS.V"},"Объём","ед.",{"$nulls":22},{"$f":"AM3016+AN3016","v":{"v":0,"d":"0.00"}}]
[{"$nulls":12},"NAC","натрий углекислый","тыс.руб.",{"$nulls":22},{"$f":"AM3017+AN3017","v":{"v":0,"d":"0.00"}},{"$f":"AM3018*AM3019/1000","v":{"v":0,"d":"0.00"}},{"$f":"AN3018*AN3019/1000","v":{"v":0,"d":"0.00"}}]
[{"$nulls":12},{"$f":"M3017 & \".P\"","v":"NAC.P"},"Цена за единицу","руб./ед.",{"$nulls":22},{"$f":"IF(AL3019=0,0,AL3017*1000/AL3019)","v":{"v":0,"d":"0.00"}}]
[{"$nulls":12},{"$f":"M3017 & \".V\"","v":"NAC.V"},"Объём","ед.",{"$nulls":22},{"$f":"AM3019+AN3019","v":{"v":0,"d":"0.00"}}]
[{"$nulls":12},"NAAC","натрий уксуснокислый","тыс.руб.",{"$nulls":22},{"$f":"AM3020+AN3020","v":{"v":0,"d":"0.00"}},{"$f":"AM3021*AM3022/1000","v":{"v":0,"d":"0.00"}},{"$f":"AN3021*AN3022/1000","v":{"v":0,"d":"0.00"}}]
[{"$nulls":12},{"$f":"M3020 & \".P\"","v":"NAAC.P"},"Цена за единицу","руб./ед.",{"$nulls":22},{"$f":"IF(AL3022=0,0,AL3020*1000/AL3022)","v":{"v":0,"d":"0.00"}}]
[{"$nulls":12},{"$f":"M3020 & \".V\"","v":"NAAC.V"},"Объём","ед.",{"$nulls":22},{"$f":"AM3022+AN3022","v":{"v":0,"d":"0.00"}}]
[{"$nulls":12},"NACL","натрий хлористый","тыс.руб.",{"$nulls":22},{"$f":"AM3023+AN3023","v":{"v":0,"d":"0.00"}},{"$f":"AM3024*AM3025/1000","v":{"v":0,"d":"0.00"}},{"$f":"AN3024*AN3025/1000","v":{"v":0,"d":"0.00"}}]
[{"$nulls":12},{"$f":"M3023 & \".P\"","v":"NACL.P"},"Цена за единицу","руб./ед.",{"$nulls":22},{"$f":"IF(AL3025=0,0,AL3023*1000/AL3025)","v":{"v":0,"d":"0.00"}}]
[{"$nulls":12},{"$f":"M3023 & \".V\"","v":"NACL.V"},"Объём","ед.",{"$nulls":22},{"$f":"AM3025+AN3025","v":{"v":0,"d":"0.00"}}]
[{"$nulls":12},"RGRS","реактив Грисса","тыс.руб.",{"$nulls":22},{"$f":"AM3026+AN3026","v":{"v":0,"d":"0.00"}},{"$f":"AM3027*AM3028/1000","v":{"v":0,"d":"0.00"}},{"$f":"AN3027*AN3028/1000","v":{"v":0,"d":"0.00"}}]
[{"$nulls":12},{"$f":"M3026 & \".P\"","v":"RGRS.P"},"Цена за единицу","руб./ед.",{"$nulls":22},{"$f":"IF(AL3028=0,0,AL3026*1000/AL3028)","v":{"v":0,"d":"0.00"}}]
[{"$nulls":12},{"$f":"M3026 & \".V\"","v":"RGRS.V"},"Объём","ед.",{"$nulls":22},{"$f":"AM3028+AN3028","v":{"v":0,"d":"0.00"}}]
[{"$nulls":12},"RNSL","реактив Несслера","тыс.руб.",{"$nulls":22},{"$f":"AM3029+AN3029","v":{"v":0,"d":"0.00"}},{"$f":"AM3030*AM3031/1000","v":{"v":0,"d":"0.00"}},{"$f":"AN3030*AN3031/1000","v":{"v":0,"d":"0.00"}}]
[{"$nulls":12},{"$f":"M3029 & \".P\"","v":"RNSL.P"},"Цена за единицу","руб./ед.",{"$nulls":22},{"$f":"IF(AL3031=0,0,AL3029*1000/AL3031)","v":{"v":0,"d":"0.00"}}]
[{"$nulls":12},{"$f":"M3029 & \".V\"","v":"RNSL.V"},"Объём","ед.",{"$nulls":22},{"$f":"AM3031+AN3031","v":{"v":0,"d":"0.00"}}]
[{"$nulls":12},"PBAC","свинец уксуснокислый","тыс.руб.",{"$nulls":22},{"$f":"AM3032+AN3032","v":{"v":0,"d":"0.00"}},{"$f":"AM3033*AM3034/1000","v":{"v":0,"d":"0.00"}},{"$f":"AN3033*AN3034/1000","v":{"v":0,"d":"0.00"}}]
[{"$nulls":12},{"$f":"M3032 & \".P\"","v":"PBAC.P"},"Цена за единицу","руб./ед.",{"$nulls":22},{"$f":"IF(AL3034=0,0,AL3032*1000/AL3034)","v":{"v":0,"d":"0.00"}}]
[{"$nulls":12},{"$f":"M3032 & \".V\"","v":"PBAC.V"},"Объём","ед.",{"$nulls":22},{"$f":"AM3034+AN3034","v":{"v":0,"d":"0.00"}}]
[{"$nulls":12},"AGN","серебро азотнокислое","тыс.руб.",{"$nulls":22},{"$f":"AM3035+AN3035","v":{"v":0,"d":"0.00"}},{"$f":"AM3036*AM3037/1000","v":{"v":0,"d":"0.00"}},{"$f":"AN3036*AN3037/1000","v":{"v":0,"d":"0.00"}}]
[{"$nulls":12},{"$f":"M3035 & \".P\"","v":"AGN.P"},"Цена за единицу","руб./ед.",{"$nulls":22},{"$f":"IF(AL3037=0,0,AL3035*1000/AL3037)","v":{"v":0,"d":"0.00"}}]
[{"$nulls":12},{"$f":"M3035 & \".V\"","v":"AGN.V"},"Объём","ед.",{"$nulls":22},{"$f":"AM3037+AN3037","v":{"v":0,"d":"0.00"}}]
[{"$nulls":12},"AGS","серебро сернокислое","тыс.руб.",{"$nulls":22},{"$f":"AM3038+AN3038","v":{"v":0,"d":"0.00"}},{"$f":"AM3039*AM3040/1000","v":{"v":0,"d":"0.00"}},{"$f":"AN3039*AN3040/1000","v":{"v":0,"d":"0.00"}}]
[{"$nulls":12},{"$f":"M3038 & \".P\"","v":"AGS.P"},"Цена за единицу","руб./ед.",{"$nulls":22},{"$f":"IF(AL3040=0,0,AL3038*1000/AL3040)","v":{"v":0,"d":"0.00"}}]
[{"$nulls":12},{"$f":"M3038 & \".V\"","v":"AGS.V"},"Объём","ед.",{"$nulls":22},{"$f":"AM3040+AN3040","v":{"v":0,"d":"0.00"}}]
[{"$nulls":12},"SODACA","сода кальцинированная","тыс.руб.",{"$nulls":22},{"$f":"AM3041+AN3041","v":{"v":0,"d":"0.00"}},{"$f":"AM3042*AM3043/1000","v":{"v":0,"d":"0.00"}},{"$f":"AN3042*AN3043/1000","v":{"v":0,"d":"0.00"}}]
[{"$nulls":12},{"$f":"M3041 & \".P\"","v":"SODACA.P"},"Цена за единицу","руб./ед.",{"$nulls":22},{"$f":"IF(AL3043=0,0,AL3041*1000/AL3043)","v":{"v":0,"d":"0.00"}}]
[{"$nulls":12},{"$f":"M3041 & \".V\"","v":"SODACA.V"},"Объём","ед.",{"$nulls":22},{"$f":"AM3043+AN3043","v":{"v":0,"d":"0.00"}}]
[{"$nulls":12},"SODACS","сода каустическая","тыс.руб.",{"$nulls":22},{"$f":"AM3044+AN3044","v":{"v":0,"d":"0.00"}},{"$f":"AM3045*AM3046/1000","v":{"v":0,"d":"0.00"}},{"$f":"AN3045*AN3046/1000","v":{"v":0,"d":"0.00"}}]
[{"$nulls":12},{"$f":"M3044 & \".P\"","v":"SODACS.P"},"Цена за единицу","руб./ед.",{"$nulls":22},{"$f":"IF(AL3046=0,0,AL3044*1000/AL3046)","v":{"v":0,"d":"0.00"}}]
[{"$nulls":12},{"$f":"M3044 & \".V\"","v":"SODACS.V"},"Объём","ед.",{"$nulls":22},{"$f":"AM3046+AN3046","v":{"v":0,"d":"0.00"}}]
[{"$nulls":12},"SALT1G","соль 1 сорт","тыс.руб.",{"$nulls":22},{"$f":"AM3047+AN3047","v":{"v":0,"d":"0.00"}},{"$f":"AM3048*AM3049/1000","v":{"v":0,"d":"0.00"}},{"$f":"AN3048*AN3049/1000","v":{"v":0,"d":"0.00"}}]
[{"$nulls":12},{"$f":"M3047 & \".P\"","v":"SALT1G.P"},"Цена за единицу","руб./ед.",{"$nulls":22},{"$f":"IF(AL3049=0,0,AL3047*1000/AL3049)","v":{"v":0,"d":"0.00"}}]
[{"$nulls":12},{"$f":"M3047 & \".V\"","v":"SALT1G.V"},"Объём","ед.",{"$nulls":22},{"$f":"AM3049+AN3049","v":{"v":0,"d":"0.00"}}]
[{"$nulls":12},"SALT","соль пищевая поваренная","тыс.руб.",{"$nulls":22},{"$f":"AM3050+AN3050","v":{"v":0,"d":"0.00"}},{"$f":"AM3051*AM3052/1000","v":{"v":0,"d":"0.00"}},{"$f":"AN3051*AN3052/1000","v":{"v":0,"d":"0.00"}}]
[{"$nulls":12},{"$f":"M3050 & \".P\"","v":"SALT.P"},"Цена за единицу","руб./ед.",{"$nulls":22},{"$f":"IF(AL3052=0,0,AL3050*1000/AL3052)","v":{"v":0,"d":"0.00"}}]
[{"$nulls":12},{"$f":"M3050 & \".V\"","v":"SALT.V"},"Объём","ед.",{"$nulls":22},{"$f":"AM3052+AN3052","v":{"v":0,"d":"0.00"}}]
[{"$nulls":12},"SALTPL","соль таблетированная","тыс.руб.",{"$nulls":22},{"$f":"AM3053+AN3053","v":{"v":0,"d":"0.00"}},{"$f":"AM3054*AM3055/1000","v":{"v":0,"d":"0.00"}},{"$f":"AN3054*AN3055/1000","v":{"v":0,"d":"0.00"}}]
[{"$nulls":12},{"$f":"M3053 & \".P\"","v":"SALTPL.P"},"Цена за единицу","руб./ед.",{"$nulls":22},{"$f":"IF(AL3055=0,0,AL3053*1000/AL3055)","v":{"v":0,"d":"0.00"}}]
[{"$nulls":12},{"$f":"M3053 & \".V\"","v":"SALTPL.V"},"Объём","ед.",{"$nulls":22},{"$f":"AM3055+AN3055","v":{"v":0,"d":"0.00"}}]
[{"$nulls":12},"SALTTH","соль техническая","тыс.руб.",{"$nulls":22},{"$f":"AM3056+AN3056","v":{"v":0,"d":"0.00"}},{"$f":"AM3057*AM3058/1000","v":{"v":0,"d":"0.00"}},{"$f":"AN3057*AN3058/1000","v":{"v":0,"d":"0.00"}}]
[{"$nulls":12},{"$f":"M3056 & \".P\"","v":"SALTTH.P"},"Цена за единицу","руб./ед.",{"$nulls":22},{"$f":"IF(AL3058=0,0,AL3056*1000/AL3058)","v":{"v":0,"d":"0.00"}}]
[{"$nulls":12},{"$f":"M3056 & \".V\"","v":"SALTTH.V"},"Объём","ед.",{"$nulls":22},{"$f":"AM3058+AN3058","v":{"v":0,"d":"0.00"}}]
[{"$nulls":12},"SALTEX","соль экстра","тыс.руб.",{"$nulls":22},{"$f":"AM3059+AN3059","v":{"v":0,"d":"0.00"}},{"$f":"AM3060*AM3061/1000","v":{"v":0,"d":"0.00"}},{"$f":"AN3060*AN3061/1000","v":{"v":0,"d":"0.00"}}]
[{"$nulls":12},{"$f":"M3059 & \".P\"","v":"SALTEX.P"},"Цена за единицу","руб./ед.",{"$nulls":22},{"$f":"IF(AL3061=0,0,AL3059*1000/AL3061)","v":{"v":0,"d":"0.00"}}]
[{"$nulls":12},{"$f":"M3059 & \".V\"","v":"SALTEX.V"},"Объём","ед.",{"$nulls":22},{"$f":"AM3061+AN3061","v":{"v":0,"d":"0.00"}}]
[{"$nulls":12},"C2H5OH","спирт","тыс.руб.",{"$nulls":22},{"$f":"AM3062+AN3062","v":{"v":0,"d":"0.00"}},{"$f":"AM3063*AM3064/1000","v":{"v":0,"d":"0.00"}},{"$f":"AN3063*AN3064/1000","v":{"v":0,"d":"0.00"}}]
[{"$nulls":12},{"$f":"M3062 & \".P\"","v":"C2H5OH.P"},"Цена за единицу","руб./ед.",{"$nulls":22},{"$f":"IF(AL3064=0,0,AL3062*1000/AL3064)","v":{"v":0,"d":"0.00"}}]
[{"$nulls":12},{"$f":"M3062 & \".V\"","v":"C2H5OH.V"},"Объём","ед.",{"$nulls":22},{"$f":"AM3064+AN3064","v":{"v":0,"d":"0.00"}}]
[{"$nulls":12},"SFAL1G","сульфат алюминия 1 сорт","тыс.руб.",{"$nulls":22},{"$f":"AM3065+AN3065","v":{"v":0,"d":"0.00"}},{"$f":"AM3066*AM3067/1000","v":{"v":0,"d":"0.00"}},{"$f":"AN3066*AN3067/1000","v":{"v":0,"d":"0.00"}}]
[{"$nulls":12},{"$f":"M3065 & \".P\"","v":"SFAL1G.P"},"Цена за единицу","руб./ед.",{"$nulls":22},{"$f":"IF(AL3067=0,0,AL3065*1000/AL3067)","v":{"v":0,"d":"0.00"}}]
[{"$nulls":12},{"$f":"M3065 & \".V\"","v":"SFAL1G.V"},"Объём","ед.",{"$nulls":22},{"$f":"AM3067+AN3067","v":{"v":0,"d":"0.00"}}]
[{"$nulls":12},"SFALLQD","сульфат алюминия жидкий","тыс.руб.",{"$nulls":22},{"$f":"AM3068+AN3068","v":{"v":0,"d":"0.00"}},{"$f":"AM3069*AM3070/1000","v":{"v":0,"d":"0.00"}},{"$f":"AN3069*AN3070/1000","v":{"v":0,"d":"0.00"}}]
[{"$nulls":12},{"$f":"M3068 & \".P\"","v":"SFALLQD.P"},"Цена за единицу","руб./ед.",{"$nulls":22},{"$f":"IF(AL3070=0,0,AL3068*1000/AL3070)","v":{"v":0,"d":"0.00"}}]
[{"$nulls":12},{"$f":"M3068 & \".V\"","v":"SFALLQD.V"},"Объём","ед.",{"$nulls":22},{"$f":"AM3070+AN3070","v":{"v":0,"d":"0.00"}}]
[{"$nulls":12},"SFALT","сульфат алюминия технический","тыс.руб.",{"$nulls":22},{"$f":"AM3071+AN3071","v":{"v":0,"d":"0.00"}},{"$f":"AM3072*AM3073/1000","v":{"v":0,"d":"0.00"}},{"$f":"AN3072*AN3073/1000","v":{"v":0,"d":"0.00"}}]
[{"$nulls":12},{"$f":"M3071 & \".P\"","v":"SFALT.P"},"Цена за единицу","руб./ед.",{"$nulls":22},{"$f":"IF(AL3073=0,0,AL3071*1000/AL3073)","v":{"v":0,"d":"0.00"}}]
[{"$nulls":12},{"$f":"M3071 & \".V\"","v":"SFALT.V"},"Объём","ед.",{"$nulls":22},{"$f":"AM3073+AN3073","v":{"v":0,"d":"0.00"}}]
[{"$nulls":12},"SFAMN","сульфат аммония","тыс.руб.",{"$nulls":22},{"$f":"AM3074+AN3074","v":{"v":0,"d":"0.00"}},{"$f":"AM3075*AM3076/1000","v":{"v":0,"d":"0.00"}},{"$f":"AN3075*AN3076/1000","v":{"v":0,"d":"0.00"}}]
[{"$nulls":12},{"$f":"M3074 & \".P\"","v":"SFAMN.P"},"Цена за единицу","руб./ед.",{"$nulls":22},{"$f":"IF(AL3076=0,0,AL3074*1000/AL3076)","v":{"v":0,"d":"0.00"}}]
[{"$nulls":12},{"$f":"M3074 & \".V\"","v":"SFAMN.V"},"Объём","ед.",{"$nulls":22},{"$f":"AM3076+AN3076","v":{"v":0,"d":"0.00"}}]
[{"$nulls":12},"TM","тиомочевина","тыс.руб.",{"$nulls":22},{"$f":"AM3077+AN3077","v":{"v":0,"d":"0.00"}},{"$f":"AM3078*AM3079/1000","v":{"v":0,"d":"0.00"}},{"$f":"AN3078*AN3079/1000","v":{"v":0,"d":"0.00"}}]
[{"$nulls":12},{"$f":"M3077 & \".P\"","v":"TM.P"},"Цена за единицу","руб./ед.",{"$nulls":22},{"$f":"IF(AL3079=0,0,AL3077*1000/AL3079)","v":{"v":0,"d":"0.00"}}]
[{"$nulls":12},{"$f":"M3077 & \".V\"","v":"TM.V"},"Объём","ед.",{"$nulls":22},{"$f":"AM3079+AN3079","v":{"v":0,"d":"0.00"}}]
[{"$nulls":12},"TSFNA","тиосульфат натрия","тыс.руб.",{"$nulls":22},{"$f":"AM3080+AN3080","v":{"v":0,"d":"0.00"}},{"$f":"AM3081*AM3082/1000","v":{"v":0,"d":"0.00"}},{"$f":"AN3081*AN3082/1000","v":{"v":0,"d":"0.00"}}]
[{"$nulls":12},{"$f":"M3080 & \".P\"","v":"TSFNA.P"},"Цена за единицу","руб./ед.",{"$nulls":22},{"$f":"IF(AL3082=0,0,AL3080*1000/AL3082)","v":{"v":0,"d":"0.00"}}]
[{"$nulls":12},{"$f":"M3080 & \".V\"","v":"TSFNA.V"},"Объём","ед.",{"$nulls":22},{"$f":"AM3082+AN3082","v":{"v":0,"d":"0.00"}}]
[{"$nulls":12},"CCL4","углерод четырёххлористый","тыс.руб.",{"$nulls":22},{"$f":"AM3083+AN3083","v":{"v":0,"d":"0.00"}},{"$f":"AM3084*AM3085/1000","v":{"v":0,"d":"0.00"}},{"$f":"AN3084*AN3085/1000","v":{"v":0,"d":"0.00"}}]
[{"$nulls":12},{"$f":"M3083 & \".P\"","v":"CCL4.P"},"Цена за единицу","руб./ед.",{"$nulls":22},{"$f":"IF(AL3085=0,0,AL3083*1000/AL3085)","v":{"v":0,"d":"0.00"}}]
[{"$nulls":12},{"$f":"M3083 & \".V\"","v":"CCL4.V"},"Объём","ед.",{"$nulls":22},{"$f":"AM3085+AN3085","v":{"v":0,"d":"0.00"}}]
[{"$nulls":12},"FFTLN","фенолфталеин","тыс.руб.",{"$nulls":22},{"$f":"AM3086+AN3086","v":{"v":0,"d":"0.00"}},{"$f":"AM3087*AM3088/1000","v":{"v":0,"d":"0.00"}},{"$f":"AN3087*AN3088/1000","v":{"v":0,"d":"0.00"}}]
[{"$nulls":12},{"$f":"M3086 & \".P\"","v":"FFTLN.P"},"Цена за единицу","руб./ед.",{"$nulls":22},{"$f":"IF(AL3088=0,0,AL3086*1000/AL3088)","v":{"v":0,"d":"0.00"}}]
[{"$nulls":12},{"$f":"M3086 & \".V\"","v":"FFTLN.V"},"Объём","ед.",{"$nulls":22},{"$f":"AM3088+AN3088","v":{"v":0,"d":"0.00"}}]
[{"$nulls":12},"CL","хлор","тыс.руб.",{"$nulls":22},{"$f":"AM3089+AN3089","v":{"v":0,"d":"0.00"}},{"$f":"AM3090*AM3091/1000","v":{"v":0,"d":"0.00"}},{"$f":"AN3090*AN3091/1000","v":{"v":0,"d":"0.00"}}]
[{"$nulls":12},{"$f":"M3089 & \".P\"","v":"CL.P"},"Цена за единицу","руб./ед.",{"$nulls":22},{"$f":"IF(AL3091=0,0,AL3089*1000/AL3091)","v":{"v":0,"d":"0.00"}}]
[{"$nulls":12},{"$f":"M3089 & \".V\"","v":"CL.V"},"Объём","ед.",{"$nulls":22},{"$f":"AM3091+AN3091","v":{"v":0,"d":"0.00"}}]
[{"$nulls":12},"CLLIQ","хлор жидкий","тыс.руб.",{"$nulls":22},{"$f":"AM3092+AN3092","v":{"v":0,"d":"0.00"}},{"$f":"AM3093*AM3094/1000","v":{"v":0,"d":"0.00"}},{"$f":"AN3093*AN3094/1000","v":{"v":0,"d":"0.00"}}]
[{"$nulls":12},{"$f":"M3092 & \".P\"","v":"CLLIQ.P"},"Цена за единицу","руб./ед.",{"$nulls":22},{"$f":"IF(AL3094=0,0,AL3092*1000/AL3094)","v":{"v":0,"d":"0.00"}}]
[{"$nulls":12},{"$f":"M3092 & \".V\"","v":"CLLIQ.V"},"Объём","ед.",{"$nulls":22},{"$f":"AM3094+AN3094","v":{"v":0,"d":"0.00"}}]
[{"$nulls":12},"CLAMN","хлорамин","тыс.руб.",{"$nulls":22},{"$f":"AM3095+AN3095","v":{"v":0,"d":"0.00"}},{"$f":"AM3096*AM3097/1000","v":{"v":0,"d":"0.00"}},{"$f":"AN3096*AN3097/1000","v":{"v":0,"d":"0.00"}}]
[{"$nulls":12},{"$f":"M3095 & \".P\"","v":"CLAMN.P"},"Цена за единицу","руб./ед.",{"$nulls":22},{"$f":"IF(AL3097=0,0,AL3095*1000/AL3097)","v":{"v":0,"d":"0.00"}}]
[{"$nulls":12},{"$f":"M3095 & \".V\"","v":"CLAMN.V"},"Объём","ед.",{"$nulls":22},{"$f":"AM3097+AN3097","v":{"v":0,"d":"0.00"}}]
[{"$nulls":12},"CLFRM","хлороформ","тыс.руб.",{"$nulls":22},{"$f":"AM3098+AN3098","v":{"v":0,"d":"0.00"}},{"$f":"AM3099*AM3100/1000","v":{"v":0,"d":"0.00"}},{"$f":"AN3099*AN3100/1000","v":{"v":0,"d":"0.00"}}]
[{"$nulls":12},{"$f":"M3098 & \".P\"","v":"CLFRM.P"},"Цена за единицу","руб./ед.",{"$nulls":22},{"$f":"IF(AL3100=0,0,AL3098*1000/AL3100)","v":{"v":0,"d":"0.00"}}]
[{"$nulls":12},{"$f":"M3098 & \".V\"","v":"CLFRM.V"},"Объём","ед.",{"$nulls":22},{"$f":"AM3100+AN3100","v":{"v":0,"d":"0.00"}}]
[{"$nulls":12},"ETHL","этиленгликоль","тыс.руб.",{"$nulls":22},{"$f":"AM3101+AN3101","v":{"v":0,"d":"0.00"}},{"$f":"AM3102*AM3103/1000","v":{"v":0,"d":"0.00"}},{"$f":"AN3102*AN3103/1000","v":{"v":0,"d":"0.00"}}]
[{"$nulls":12},{"$f":"M3101 & \".P\"","v":"ETHL.P"},"Цена за единицу","руб./ед.",{"$nulls":22},{"$f":"IF(AL3103=0,0,AL3101*1000/AL3103)","v":{"v":0,"d":"0.00"}}]
[{"$nulls":12},{"$f":"M3101 & \".V\"","v":"ETHL.V"},"Объём","ед.",{"$nulls":22},{"$f":"AM3103+AN3103","v":{"v":0,"d":"0.00"}}]
[{"$nulls":12},"OTH","прочие","тыс.руб.",{"$nulls":22},{"$f":"AM3104+AN3104","v":{"v":0,"d":"0.00"}}]
[]
[]
[{"$nulls":12},"OTH","Прочие","тыс.руб.",{"$nulls":22},{"$f":"AM3107+AN3107","v":{"v":0,"d":"0.00"}}]
[]
[{"$nulls":12},"21","Полезный отпуск продукции всего","тыс.куб.м",{"$nulls":16},{"$f":"SUMIF(РО!$AS$15:$AW$15,AF$15,РО!$AS$240:$AW$240)","v":{"v":0,"d":"0.00"}},{"$f":"SUMIF(РО!$AS$15:$AW$15,AG$15,РО!$AS$240:$AW$240)","v":{"v":0,"d":"0.00"}},{"$f":"SUMIF(РО!$AS$15:$AW$15,AH$15,РО!$AS$240:$AW$240)","v":{"v":0,"d":"0.00"}}]

{"sheet":"REESTR_ORG","index":9,"n_rows":167,"n_cols":137,"rows_kept":167,"hidden":true}
["№","НСРФ","МР","ОКТМР","МО","ОКТМО","RST_ORG_ID","Наименование","ИНН","КПП","ВД (OLD)","ВД (COMBO)","ВД (PATH)","ORG_START_DATE","ORG_END_DATE","VDET_START_DATE","VDET_END_DATE",{"$nulls":3},"№","НСРФ","МР","ОКТМР","МО","ОКТМО","RST_ORG_ID","Наименование","ИНН","КПП","ВД (OLD)","ВД (COMBO)","ВД (PATH)","ORG_START_DATE","ORG_END_DATE","VDET_START_DATE","VDET_END_DATE",{"$nulls":3},"№","НСРФ","МР","ОКТМР","МО","ОКТМО","RST_ORG_ID","Наименование","ИНН","КПП","ВД (OLD)","ВД (COMBO)","ВД (PATH)","ORG_START_DATE","ORG_END_DATE","VDET_START_DATE","VDET_END_DATE",{"$nulls":3},"№","НСРФ","МР","ОКТМР","МО","ОКТМО","RST_ORG_ID","Наименование","ИНН","КПП","ВД (OLD)","ВД (COMBO)","ВД (PATH)","ORG_START_DATE","ORG_END_DATE","VDET_START_DATE","VDET_END_DATE",{"$nulls":3},"№","НСРФ","МР","ОКТМР","МО","ОКТМО","RST_ORG_ID","Наименование","ИНН","КПП","ВД (OLD)","ВД (COMBO)","ВД (PATH)","ORG_START_DATE","ORG_END_DATE","VDET_START_DATE","VDET_END_DATE",{"$nulls":3},"№","НСРФ","МР","ОКТМР","МО","ОКТМО","RST_ORG_ID","Наименование","ИНН","КПП","ВД (OLD)","ВД (COMBO)","ВД (PATH)","ORG_START_DATE","ORG_END_DATE","VDET_START_DATE","VDET_END_DATE",{"$nulls":3},"№","НСРФ","МР","ОКТМР","МО","ОКТМО","RST_ORG_ID","Наименование","ИНН","КПП","ВД (OLD)","ВД (COMBO)","ВД (PATH)","ORG_START_DATE","ORG_END_DATE","VDET_START_DATE","VDET_END_DATE"]
[{"$nulls":40},1,"Республика Башкортостан",{"$nulls":4},"26353677","\"Жилищно-коммунальный сервис\" МР Ишимбайский район РБ","0261014150","026101001","Оказание услуг в сфере водоотведения и очистки сточных вод","Прием сточных вод :: Очистка сточных вод :: Транспортировка сточных вод","/ВО/Прием сточных вод :: /ВО/Очистка сточных вод :: /ВО/Транспортировка сточных вод",null,"31-12-2017 00:00:00"]
[{"$nulls":40},2,"Республика Башкортостан",{"$nulls":4},"26807163","OOO \"Башэнергонефть\"","0265025917","027201001","Оказание услуг в сфере водоотведения","Прием сточных вод","/ВО/Прием сточных вод","12-04-2011 00:00:00"]
[{"$nulls":40},3,"Республика Башкортостан",{"$nulls":4},"26807163","OOO \"Башэнергонефть\"","0265025917","027201001","Оказание услуг в сфере очистки сточных вод","Очистка сточных вод","/ВО/Очистка сточных вод","12-04-2011 00:00:00"]
[{"$nulls":40},4,"Республика Башкортостан",{"$nulls":4},"26807163","OOO \"Башэнергонефть\"","0265025917","027201001","Оказание услуг в сфере водоотведения","Очистка сточных вод :: Транспортировка сточных вод","/ВО/Очистка сточных вод :: /ВО/Транспортировка сточных вод","12-04-2011 00:00:00"]
[{"$nulls":40},5,"Республика Башкортостан",{"$nulls":4},"26807163","OOO \"Башэнергонефть\"","0265025917","027201001","Оказание услуг по перекачке","Транспортировка сточных вод","/ВО/Транспортировка сточных вод","12-04-2011 00:00:00"]
[{"$nulls":40},6,"Республика Башкортостан",{"$nulls":4},"28031785","OOO \"Октябрьское УЭН\"","0265025917","027601001","Оказание услуг в сфере водоотведения и очистки сточных вод","Прием сточных вод :: Очистка сточных вод :: Транспортировка сточных вод","/ВО/Прием сточных вод :: /ВО/Очистка сточных вод :: /ВО/Транспортировка сточных вод","10-01-2013 00:00:00"]
[{"$nulls":40},7,"Республика Башкортостан",{"$nulls":4},"26353700","АО \" Международный аэропорт \"Уфа\"","0274108180","024501001","Оказание услуг в сфере водоотведения и очистки сточных вод","Прием сточных вод :: Очистка сточных вод :: Транспортировка сточных вод","/ВО/Прием сточных вод :: /ВО/Очистка сточных вод :: /ВО/Транспортировка сточных вод","01-01-2012 00:00:00"]
[{"$nulls":40},8,"Республика Башкортостан",{"$nulls":4},"26472063","АО \"БСК\"","0268008010","997350001","Оказание услуг в сфере водоотведения и очистки сточных вод","Прием сточных вод :: Очистка сточных вод :: Транспортировка сточных вод","/ВО/Прием сточных вод :: /ВО/Очистка сточных вод :: /ВО/Транспортировка сточных вод"]
[{"$nulls":40},9,"Республика Башкортостан",{"$nulls":4},"30791606","АО \"ГУ ЖКХ\"","5116000922","166045001","Оказание услуг в сфере водоотведения и очистки сточных вод","Прием сточных вод :: Очистка сточных вод","/ВО/Прием сточных вод :: /ВО/Очистка сточных вод"]
[{"$nulls":40},10,"Республика Башкортостан",{"$nulls":4},"30335229","АО \"ГУ ЖКХ\"","5116000922","770401001","Оказание услуг в сфере водоотведения и очистки сточных вод","Прием сточных вод :: Очистка сточных вод","/ВО/Прием сточных вод :: /ВО/Очистка сточных вод"]
[{"$nulls":40},11,"Республика Башкортостан",{"$nulls":4},"30335229","АО \"ГУ ЖКХ\"","5116000922","770401001","Оказание услуг по перекачке","Транспортировка сточных вод","/ВО/Транспортировка сточных вод"]
[{"$nulls":40},12,"Республика Башкортостан",{"$nulls":4},"30791606","АО \"ГУ ЖКХ\"","5116000922","166045001","Оказание услуг по перекачке","Транспортировка сточных вод","/ВО/Транспортировка сточных вод"]
[{"$nulls":40},13,"Республика Башкортостан",{"$nulls":4},"30335229","АО \"ГУ ЖКХ\"","5116000922","770401001","Оказание услуг в сфере водоотведения","Прием сточных вод","/ВО/Прием сточных вод"]
[{"$nulls":40},14,"Республика Башкортостан",{"$nulls":4},"30791606","АО \"ГУ ЖКХ\"","5116000922","166045001","Оказание услуг в сфере водоотведения","Прием сточных вод","/ВО/Прием сточных вод"]
[{"$nulls":40},15,"Республика Башкортостан",{"$nulls":4},"30860775","АО \"КОРПОРАЦИЯ РАЗВИТИЯ РЕСПУБЛИКИ БАШКОРТОСТАН\"","0274153834","027401001","Оказание услуг по перекачке","Транспортировка сточных вод","/ВО/Транспортировка сточных вод","10-01-2017 00:00:00"]
[{"$nulls":40},16,"Республика Башкортостан",{"$nulls":4},"26588634","АО \"УМКК\"","0273010086","027301001","Оказание услуг в сфере водоотведения и очистки сточных вод","Прием сточных вод :: Очистка сточных вод :: Транспортировка сточных вод","/ВО/Прием сточных вод :: /ВО/Очистка сточных вод :: /ВО/Транспортировка сточных вод"]
[{"$nulls":40},17,"Республика Башкортостан",{"$nulls":4},"31021059","АО \"Уфимский хлебокомбинат №1\"","0278031033","027801001","Оказание услуг в сфере водоотведения и очистки сточных вод","Прием сточных вод :: Очистка сточных вод :: Транспортировка сточных вод","/ВО/Прием сточных вод :: /ВО/Очистка сточных вод :: /ВО/Транспортировка сточных вод","29-12-2017 00:00:00"]
[{"$nulls":40},18,"Республика Башкортостан",{"$nulls":4},"26353691","АО \"Учалинский горно-обогатительный комбинат\"","0270007455","997550001","Оказание услуг в сфере водоотведения и очистки сточных вод","Прием сточных вод :: Очистка сточных вод :: Транспортировка сточных вод","/ВО/Прием сточных вод :: /ВО/Очистка сточных вод :: /ВО/Транспортировка сточных вод","09-04-2012 00:00:00"]
[{"$nulls":40},19,"Республика Башкортостан",{"$nulls":4},"30990030","АО «Башкоммунводоканал»","0278181938","027801001","Оказание услуг в сфере водоотведения и очистки сточных вод","Прием сточных вод :: Очистка сточных вод :: Транспортировка сточных вод","/ВО/Прием сточных вод :: /ВО/Очистка сточных вод :: /ВО/Транспортировка сточных вод"]
[{"$nulls":40},20,"Республика Башкортостан",{"$nulls":4},"27588602","АО «ЭКОЛАЙН»","0263012052","026301001","Оказание услуг в сфере водоотведения и очистки сточных вод","Прием сточных вод :: Очистка сточных вод :: Транспортировка сточных вод","/ВО/Прием сточных вод :: /ВО/Очистка сточных вод :: /ВО/Транспортировка сточных вод"]
[{"$nulls":40},21,"Республика Башкортостан",{"$nulls":4},"30942188","АО Санаторий \"Янган-Тау\"","0240007225","024001001","Оказание услуг в сфере водоотведения и очистки сточных вод","Прием сточных вод :: Очистка сточных вод :: Транспортировка сточных вод","/ВО/Прием сточных вод :: /ВО/Очистка сточных вод :: /ВО/Транспортировка сточных вод","15-08-2017 00:00:00"]
[{"$nulls":40},22,"Республика Башкортостан",{"$nulls":4},"26353653","ГУП санаторий \"Юматово\"","0245011962","024501001","Оказание услуг в сфере водоотведения и очистки сточных вод","Прием сточных вод :: Очистка сточных вод :: Транспортировка сточных вод","/ВО/Прием сточных вод :: /ВО/Очистка сточных вод :: /ВО/Транспортировка сточных вод",null,"31-12-2017 00:00:00"]
[{"$nulls":40},23,"Республика Башкортостан",{"$nulls":4},"28273549","ГУП санаторий \"Якты-Куль\" РБ","0201007528","020101001","Оказание услуг в сфере водоотведения и очистки сточных вод","Прием сточных вод :: Очистка сточных вод :: Транспортировка сточных вод","/ВО/Прием сточных вод :: /ВО/Очистка сточных вод :: /ВО/Транспортировка сточных вод","02-10-2013 00:00:00"]
[{"$nulls":40},24,"Республика Башкортостан",{"$nulls":4},"27958466","ГУП санаторий \"Янган-Тау\"","0240000558","024001001","Оказание услуг в сфере водоотведения и очистки сточных вод","Прием сточных вод :: Очистка сточных вод :: Транспортировка сточных вод","/ВО/Прием сточных вод :: /ВО/Очистка сточных вод :: /ВО/Транспортировка сточных вод","15-11-2012 00:00:00"]
[{"$nulls":40},25,"Республика Башкортостан",{"$nulls":4},"26471917","ГУП санаторий Ассы","0256013979","025601001","Оказание услуг в сфере водоотведения и очистки сточных вод","Прием сточных вод :: Очистка сточных вод :: Транспортировка сточных вод","/ВО/Прием сточных вод :: /ВО/Очистка сточных вод :: /ВО/Транспортировка сточных вод"]
[{"$nulls":40},26,"Республика Башкортостан",{"$nulls":4},"26760341","ГУСП совхоз «Алексеевский» РБ","0245004926","024501001","Оказание услуг в сфере водоотведения и очистки сточных вод","Прием сточных вод :: Очистка сточных вод :: Транспортировка сточных вод","/ВО/Прием сточных вод :: /ВО/Очистка сточных вод :: /ВО/Транспортировка сточных вод"]
[{"$nulls":40},27,"Республика Башкортостан",{"$nulls":4},"28152448","ДМУП \"ГорКомСервис\"","0259011320","025901001","Оказание услуг в сфере водоотведения и очистки сточных вод","Прием сточных вод :: Очистка сточных вод :: Транспортировка сточных вод","/ВО/Прием сточных вод :: /ВО/Очистка сточных вод :: /ВО/Транспортировка сточных вод","03-06-2013 00:00:00"]
[{"$nulls":40},28,"Республика Башкортостан",{"$nulls":4},"26893051","ЗАО \"Вагоноремонтный завод\"","0268021822","025250001","Оказание услуг в сфере водоотведения и очистки сточных вод","Прием сточных вод :: Очистка сточных вод :: Транспортировка сточных вод","/ВО/Прием сточных вод :: /ВО/Очистка сточных вод :: /ВО/Транспортировка сточных вод"]
[{"$nulls":40},29,"Республика Башкортостан",{"$nulls":4},"26758634","ЗАО \"Водоснабжающая компания\"","0268055772","026801001","Оказание услуг в сфере водоотведения и очистки сточных вод","Прием сточных вод :: Очистка сточных вод :: Транспортировка сточных вод","/ВО/Прием сточных вод :: /ВО/Очистка сточных вод :: /ВО/Транспортировка сточных вод"]
[{"$nulls":40},30,"Республика Башкортостан",{"$nulls":4},"26353680","ЗАО \"Мелеузовский молочноконсервный комбинат\"","0263002008","026301001","Оказание услуг по перекачке","Транспортировка сточных вод","/ВО/Транспортировка сточных вод"]
[{"$nulls":40},31,"Республика Башкортостан",{"$nulls":4},"26825369","ЗАО \"Фирма \"Мир\"","0278134166","027801001","Оказание услуг в сфере водоотведения и очистки сточных вод","Прием сточных вод :: Очистка сточных вод :: Транспортировка сточных вод","/ВО/Прием сточных вод :: /ВО/Очистка сточных вод :: /ВО/Транспортировка сточных вод"]
[{"$nulls":40},32,"Республика Башкортостан",{"$nulls":4},"26472050","ИМУП \"Межрайкоммунводоканал\"","0261002348","026101001","Оказание услуг в сфере водоотведения и очистки сточных вод","Прием сточных вод :: Очистка сточных вод :: Транспортировка сточных вод","/ВО/Прием сточных вод :: /ВО/Очистка сточных вод :: /ВО/Транспортировка сточных вод"]
[{"$nulls":40},33,"Республика Башкортостан",{"$nulls":4},"28254451","ИП Петров Валерий Юрьевич","021201532810","отсутствует","Оказание услуг в сфере водоотведения и очистки сточных вод","Прием сточных вод :: Очистка сточных вод :: Транспортировка сточных вод","/ВО/Прием сточных вод :: /ВО/Очистка сточных вод :: /ВО/Транспортировка сточных вод","06-08-2013 00:00:00"]
[{"$nulls":40},34,"Республика Башкортостан",{"$nulls":4},"28942841","ИП Савинская В.В.","744400637332","отсутствует","Оказание услуг в сфере водоотведения и очистки сточных вод","Прием сточных вод :: Очистка сточных вод :: Транспортировка сточных вод","/ВО/Прием сточных вод :: /ВО/Очистка сточных вод :: /ВО/Транспортировка сточных вод","20-03-2015 00:00:00"]
[{"$nulls":40},35,"Республика Башкортостан",{"$nulls":4},"26472019","Кармановская ГРЭС - филиал общества с огрниченной ответственностью \"Башкирская генерирующая компания\"","0277077282","026402001","Оказание услуг в сфере водоотведения и очистки сточных вод","Прием сточных вод :: Очистка сточных вод :: Транспортировка сточных вод","/ВО/Прием сточных вод :: /ВО/Очистка сточных вод :: /ВО/Транспортировка сточных вод"]
[{"$nulls":40},36,"Республика Башкортостан",{"$nulls":4},"26812367","Куйбышевская дирекция  по тепловодоснабжению структурное подразделение Центральной дирекции по тепловодоснабжению филиала ПАО «РЖД»","7708503727","631145034","Оказание услуг в сфере водоотведения и очистки сточных вод","Прием сточных вод :: Очистка сточных вод :: Транспортировка сточных вод","/ВО/Прием сточных вод :: /ВО/Очистка сточных вод :: /ВО/Транспортировка сточных вод"]
[{"$nulls":40},37,"Республика Башкортостан",{"$nulls":4},"26759540","МУЗ Чекмагушевская ЦРБ","0249002239","024901001","Оказание услуг в сфере водоотведения и очистки сточных вод","Прием сточных вод :: Очистка сточных вод :: Транспортировка сточных вод","/ВО/Прием сточных вод :: /ВО/Очистка сточных вод :: /ВО/Транспортировка сточных вод"]
[{"$nulls":40},38,"Республика Башкортостан",{"$nulls":4},"26805221","МУП \"Абзелиловское специализированное предприятие коммунального обслуживания\"","0201007969","020101001","Оказание услуг в сфере водоотведения и очистки сточных вод","Прием сточных вод :: Очистка сточных вод :: Транспортировка сточных вод","/ВО/Прием сточных вод :: /ВО/Очистка сточных вод :: /ВО/Транспортировка сточных вод"]
[{"$nulls":40},39,"Республика Башкортостан",{"$nulls":4},"30345497","МУП \"Аскар\"","0201012292","020101001","Оказание услуг в сфере водоотведения и очистки сточных вод","Прием сточных вод :: Очистка сточных вод :: Транспортировка сточных вод","/ВО/Прием сточных вод :: /ВО/Очистка сточных вод :: /ВО/Транспортировка сточных вод","02-10-2015 00:00:00"]
[{"$nulls":40},40,"Республика Башкортостан",{"$nulls":4},"28976576","МУП \"БУЗДЯКСКИЙ КОМСЕРВИС\"","0216007320","021601001","Оказание услуг в сфере водоотведения и очистки сточных вод","Прием сточных вод :: Очистка сточных вод :: Транспортировка сточных вод","/ВО/Прием сточных вод :: /ВО/Очистка сточных вод :: /ВО/Транспортировка сточных вод","05-06-2015 00:00:00"]
[{"$nulls":40},41,"Республика Башкортостан",{"$nulls":4},"26471939","МУП \"Водоканал\"","0258011092","025801001","Оказание услуг в сфере водоотведения и очистки сточных вод","Прием сточных вод :: Очистка сточных вод :: Транспортировка сточных вод","/ВО/Прием сточных вод :: /ВО/Очистка сточных вод :: /ВО/Транспортировка сточных вод"]
[{"$nulls":40},42,"Республика Башкортостан",{"$nulls":4},"26471915","МУП \"Водоканал\" (Белорецк)","0256018871","025601001","Оказание услуг в сфере водоотведения и очистки сточных вод","Прием сточных вод :: Очистка сточных вод :: Транспортировка сточных вод","/ВО/Прием сточных вод :: /ВО/Очистка сточных вод :: /ВО/Транспортировка сточных вод"]
[{"$nulls":40},43,"Республика Башкортостан",{"$nulls":4},"27916300","МУП \"Водоканал\" (Шаранский)","0251006470","025101001","Оказание услуг в сфере очистки сточных вод","Очистка сточных вод","/ВО/Очистка сточных вод","26-10-2012 00:00:00"]
[{"$nulls":40},44,"Республика Башкортостан",{"$nulls":4},"26472391","МУП \"Водоканал\"Кугарчинский","0232002329","023201001","Оказание услуг в сфере водоотведения и очистки сточных вод","Прием сточных вод :: Очистка сточных вод :: Транспортировка сточных вод","/ВО/Прием сточных вод :: /ВО/Очистка сточных вод :: /ВО/Транспортировка сточных вод"]
[{"$nulls":40},45,"Республика Башкортостан",{"$nulls":4},"26353627","МУП \"Дуванводоканал\" МР Дуванский район РБ","0220004836","022001001","Оказание услуг в сфере водоотведения и очистки сточных вод","Прием сточных вод :: Очистка сточных вод :: Транспортировка сточных вод","/ВО/Прием сточных вод :: /ВО/Очистка сточных вод :: /ВО/Транспортировка сточных вод"]
[{"$nulls":40},46,"Республика Башкортостан",{"$nulls":4},"27745143","МУП \"Дюртюливодоканал\"","0260006195","026001001","Оказание услуг в сфере очистки сточных вод","Очистка сточных вод","/ВО/Очистка сточных вод","18-06-2012 00:00:00"]
[{"$nulls":40},47,"Республика Башкортостан",{"$nulls":4},"26353670","МУП \"ЖКХ Железнодорожный\"","0256016835","025601001","Оказание услуг в сфере водоотведения и очистки сточных вод","Прием сточных вод :: Очистка сточных вод :: Транспортировка сточных вод","/ВО/Прием сточных вод :: /ВО/Очистка сточных вод :: /ВО/Транспортировка сточных вод"]
[{"$nulls":40},48,"Республика Башкортостан",{"$nulls":4},"26353716","МУП \"ЖКХ\" г.Межгорье","0279000849","027901001","Оказание услуг в сфере водоотведения и очистки сточных вод","Прием сточных вод :: Очистка сточных вод :: Транспортировка сточных вод","/ВО/Прием сточных вод :: /ВО/Очистка сточных вод :: /ВО/Транспортировка сточных вод"]
[{"$nulls":40},49,"Республика Башкортостан",{"$nulls":4},"26353620","МУП \"Инзерское ПУЖКХ\"","0211003931","025601001","Оказание услуг в сфере водоотведения и очистки сточных вод","Прием сточных вод :: Очистка сточных вод :: Транспортировка сточных вод","/ВО/Прием сточных вод :: /ВО/Очистка сточных вод :: /ВО/Транспортировка сточных вод"]
[{"$nulls":40},50,"Республика Башкортостан",{"$nulls":4},"28876660","МУП \"КАЛТАСИНСКИЕ ТС СП КАЛТАСИНСКИЙ СЕЛЬСОВЕТ МР КАЛТАСИНСКИЙ РАЙОН РБ\"","0227006889","022701001","Оказание услуг в сфере водоотведения и очистки сточных вод","Прием сточных вод :: Очистка сточных вод :: Транспортировка сточных вод","/ВО/Прием сточных вод :: /ВО/Очистка сточных вод :: /ВО/Транспортировка сточных вод","28-01-2015 00:00:00"]
[{"$nulls":40},51,"Республика Башкортостан",{"$nulls":4},"28814581","МУП \"КРАСНОХОЛМСКИЕ ТС СП КС МР КАЛТАСИНСКИЙ РАЙОН РБ\"","0227038094","022701001","Оказание услуг в сфере водоотведения и очистки сточных вод","Прием сточных вод :: Очистка сточных вод :: Транспортировка сточных вод","/ВО/Прием сточных вод :: /ВО/Очистка сточных вод :: /ВО/Транспортировка сточных вод","18-09-2014 00:00:00"]
[{"$nulls":40},52,"Республика Башкортостан",{"$nulls":4},"26471886","МУП \"Коммунхоз\"","0207005936","020701001","Оказание услуг в сфере водоотведения и очистки сточных вод","Прием сточных вод :: Очистка сточных вод :: Транспортировка сточных вод","/ВО/Прием сточных вод :: /ВО/Очистка сточных вод :: /ВО/Транспортировка сточных вод"]
[{"$nulls":40},53,"Республика Башкортостан",{"$nulls":4},"28489188","МУП \"Кушнаренковское ЖКХ\" РБ","0234008260","023401001","Оказание услуг в сфере водоотведения и очистки сточных вод","Прием сточных вод :: Очистка сточных вод :: Транспортировка сточных вод","/ВО/Прием сточных вод :: /ВО/Очистка сточных вод :: /ВО/Транспортировка сточных вод","03-03-2014 00:00:00"]
[{"$nulls":40},54,"Республика Башкортостан",{"$nulls":4},"26471967","МУП \"Межрайкоммунводоканал\"","0262000343","026201001","Оказание услуг в сфере водоотведения и очистки сточных вод","Прием сточных вод :: Очистка сточных вод :: Транспортировка сточных вод","/ВО/Прием сточных вод :: /ВО/Очистка сточных вод :: /ВО/Транспортировка сточных вод"]
[{"$nulls":40},55,"Республика Башкортостан",{"$nulls":4},"26471975","МУП \"Нефтекамскводоканал\"","0264014479","026401001","Оказание услуг в сфере водоотведения и очистки сточных вод","Прием сточных вод :: Очистка сточных вод :: Транспортировка сточных вод","/ВО/Прием сточных вод :: /ВО/Очистка сточных вод :: /ВО/Транспортировка сточных вод"]
[{"$nulls":40},56,"Республика Башкортостан",{"$nulls":4},"26472030","МУП \"Октябрьсккоммунводоканал\"","0265026710","026501001","Оказание услуг в сфере водоотведения и очистки сточных вод","Прием сточных вод :: Очистка сточных вод :: Транспортировка сточных вод","/ВО/Прием сточных вод :: /ВО/Очистка сточных вод :: /ВО/Транспортировка сточных вод"]
[{"$nulls":40},57,"Республика Башкортостан",{"$nulls":4},"26353676","МУП \"Семилетовское ПУЖКХ\"","0260005970","026001001","Оказание услуг в сфере водоотведения и очистки сточных вод","Прием сточных вод :: Очистка сточных вод :: Транспортировка сточных вод","/ВО/Прием сточных вод :: /ВО/Очистка сточных вод :: /ВО/Транспортировка сточных вод"]
[{"$nulls":40},58,"Республика Башкортостан",{"$nulls":4},"30350111","МУП \"Сибайводоканал\"","0267018087","026701001","Оказание услуг в сфере водоотведения и очистки сточных вод","Прием сточных вод :: Очистка сточных вод :: Транспортировка сточных вод","/ВО/Прием сточных вод :: /ВО/Очистка сточных вод :: /ВО/Транспортировка сточных вод"]
[{"$nulls":40},59,"Республика Башкортостан",{"$nulls":4},"26471953","МУП \"Тепловодоснабжение\"","0219007350","021901001","Оказание услуг в сфере водоотведения и очистки сточных вод","Прием сточных вод :: Очистка сточных вод :: Транспортировка сточных вод","/ВО/Прием сточных вод :: /ВО/Очистка сточных вод :: /ВО/Транспортировка сточных вод"]
[{"$nulls":40},60,"Республика Башкортостан",{"$nulls":4},"26472069","МУП \"Уфаводоканал\"","0275000238","027601001","Оказание услуг в сфере водоотведения и очистки сточных вод","Прием сточных вод :: Очистка сточных вод :: Транспортировка сточных вод","/ВО/Прием сточных вод :: /ВО/Очистка сточных вод :: /ВО/Транспортировка сточных вод"]
[{"$nulls":40},61,"Республика Башкортостан",{"$nulls":4},"26472460","МУП \"Учалыводоканал\"","0270000570","027001001","Оказание услуг в сфере водоотведения и очистки сточных вод","Прием сточных вод :: Очистка сточных вод :: Транспортировка сточных вод","/ВО/Прием сточных вод :: /ВО/Очистка сточных вод :: /ВО/Транспортировка сточных вод"]
[{"$nulls":40},62,"Республика Башкортостан",{"$nulls":4},"28464317","МУП \"ХАЙБУЛЛАЖИЛКОМСТРОЙ\"","0248008051","024801001","Оказание услуг в сфере водоотведения","Прием сточных вод","/ВО/Прием сточных вод","29-01-2014 00:00:00"]
[{"$nulls":40},63,"Республика Башкортостан",{"$nulls":4},"28464317","МУП \"ХАЙБУЛЛАЖИЛКОМСТРОЙ\"","0248008051","024801001","Оказание услуг в сфере водоотведения и очистки сточных вод","Прием сточных вод :: Очистка сточных вод :: Транспортировка сточных вод","/ВО/Прием сточных вод :: /ВО/Очистка сточных вод :: /ВО/Транспортировка сточных вод","29-01-2014 00:00:00"]
[{"$nulls":40},64,"Республика Башкортостан",{"$nulls":4},"31064955","МУП \"Чекмагушжилкомхоз\"","0249006427","024901001","Оказание услуг в сфере водоотведения и очистки сточных вод","Прием сточных вод :: Очистка сточных вод :: Транспортировка сточных вод","/ВО/Прием сточных вод :: /ВО/Очистка сточных вод :: /ВО/Транспортировка сточных вод","31-12-2017 00:00:00"]
[{"$nulls":40},65,"Республика Башкортостан",{"$nulls":4},"26651635","МУП \"Юмагузинский расчетный центр\"","0232007006","023201001","Оказание услуг в сфере водоотведения и очистки сточных вод","Прием сточных вод :: Очистка сточных вод :: Транспортировка сточных вод","/ВО/Прием сточных вод :: /ВО/Очистка сточных вод :: /ВО/Транспортировка сточных вод"]
[{"$nulls":40},66,"Республика Башкортостан",{"$nulls":4},"30393783","МУП «Татышлинские электрические сети, жилье и благоустройство»","0243004938","024301001","Оказание услуг в сфере водоотведения и очистки сточных вод","Прием сточных вод :: Очистка сточных вод :: Транспортировка сточных вод","/ВО/Прием сточных вод :: /ВО/Очистка сточных вод :: /ВО/Транспортировка сточных вод","28-01-2016 00:00:00"]
[{"$nulls":40},67,"Республика Башкортостан",{"$nulls":4},"26472048","МУП Межрайкоммунводоканал","0268000188","026801001","Оказание услуг в сфере очистки сточных вод","Очистка сточных вод","/ВО/Очистка сточных вод"]
[{"$nulls":40},68,"Республика Башкортостан",{"$nulls":4},"26472042","МУП Салаватводоканал","0266002905","026601001","Оказание услуг в сфере водоотведения","Очистка сточных вод :: Транспортировка сточных вод","/ВО/Очистка сточных вод :: /ВО/Транспортировка сточных вод"]
[{"$nulls":40},69,"Республика Башкортостан",{"$nulls":4},"30953201","Муниципальное унитарное предприятие жилищно-коммунального хозяйства муниципального района Нуримановский район Республики Башкортостан","0239000200","023901001","Оказание услуг в сфере водоотведения и очистки сточных вод","Прием сточных вод :: Очистка сточных вод :: Транспортировка сточных вод","/ВО/Прием сточных вод :: /ВО/Очистка сточных вод :: /ВО/Транспортировка сточных вод"]
[{"$nulls":40},70,"Республика Башкортостан",{"$nulls":4},"26579145","ОАО \"Белебеевский завод \"Автонормаль\"","0255010527","025250001","Оказание услуг в сфере водоотведения и очистки сточных вод","Прием сточных вод :: Очистка сточных вод :: Транспортировка сточных вод","/ВО/Прием сточных вод :: /ВО/Очистка сточных вод :: /ВО/Транспортировка сточных вод"]
[{"$nulls":40},71,"Республика Башкортостан",{"$nulls":4},"26797507","ОАО \"Племптицесовхоз Знаменский РБ\"","0255016529","025501001","Оказание услуг в сфере очистки сточных вод","Очистка сточных вод","/ВО/Очистка сточных вод"]
[{"$nulls":40},72,"Республика Башкортостан",{"$nulls":4},"27578884","ОАО \"Птицефабрика \"Башкирская\"","0245012726","024501001","Оказание услуг в сфере очистки сточных вод","Очистка сточных вод","/ВО/Очистка сточных вод"]
[{"$nulls":40},73,"Республика Башкортостан",{"$nulls":4},"26852317","ОАО \"Славянка\"","7702707386","745343001","Оказание услуг в сфере водоотведения и очистки сточных вод","Прием сточных вод :: Очистка сточных вод :: Транспортировка сточных вод","/ВО/Прием сточных вод :: /ВО/Очистка сточных вод :: /ВО/Транспортировка сточных вод","12-07-2011 00:00:00"]
[{"$nulls":40},74,"Республика Башкортостан",{"$nulls":4},"26453912","ОАО \"УКХП\" город Уфа","0274092758","027401001","Оказание услуг в сфере водоотведения и очистки сточных вод","Прием сточных вод :: Очистка сточных вод :: Транспортировка сточных вод","/ВО/Прием сточных вод :: /ВО/Очистка сточных вод :: /ВО/Транспортировка сточных вод"]
[{"$nulls":40},75,"Республика Башкортостан",{"$nulls":4},"26621297","ОАО \"Уфанефтехим\"","0277012020","997150001","Оказание услуг в сфере очистки сточных вод","Очистка сточных вод","/ВО/Очистка сточных вод"]
[{"$nulls":40},76,"Республика Башкортостан",{"$nulls":4},"26569789","ОАО \"Уфимское моторостроительное производственное объединение\"","0273008320","997850001","Оказание услуг в сфере водоотведения и очистки сточных вод","Прием сточных вод :: Очистка сточных вод :: Транспортировка сточных вод","/ВО/Прием сточных вод :: /ВО/Очистка сточных вод :: /ВО/Транспортировка сточных вод"]
[{"$nulls":40},77,"Республика Башкортостан",{"$nulls":4},"27149135","ОАО \"Уфимское приборостроительное производственное объединение\"","0276140862","027601001","Оказание услуг в сфере водоотведения и очистки сточных вод","Прием сточных вод :: Очистка сточных вод :: Транспортировка сточных вод","/ВО/Прием сточных вод :: /ВО/Очистка сточных вод :: /ВО/Транспортировка сточных вод"]
[{"$nulls":40},78,"Республика Башкортостан",{"$nulls":4},"26353690","ОАО \"Учалинский горно-обогатительный комбинат\"","0270007455","025250001","Оказание услуг в сфере водоотведения и очистки сточных вод","Прием сточных вод :: Очистка сточных вод :: Транспортировка сточных вод","/ВО/Прием сточных вод :: /ВО/Очистка сточных вод :: /ВО/Транспортировка сточных вод","06-08-2002 00:00:00"]
[{"$nulls":40},79,"Республика Башкортостан",{"$nulls":4},"26472406","ОАО «Водоканал»","0263014363","026301001","Оказание услуг по перекачке","Транспортировка сточных вод","/ВО/Транспортировка сточных вод"]
[{"$nulls":40},80,"Республика Башкортостан",{"$nulls":4},"26754510","ООО  «ЯнаулВодоканал» г.Янаул РБ","0271009046","027101001","Оказание услуг в сфере водоотведения и очистки сточных вод","Прием сточных вод :: Очистка сточных вод :: Транспортировка сточных вод","/ВО/Прием сточных вод :: /ВО/Очистка сточных вод :: /ВО/Транспортировка сточных вод"]
[{"$nulls":40},81,"Республика Башкортостан",{"$nulls":4},"26453470","ООО \"Абзаково\"","0256014475","025601001","Оказание услуг в сфере водоотведения и очистки сточных вод","Прием сточных вод :: Очистка сточных вод :: Транспортировка сточных вод","/ВО/Прием сточных вод :: /ВО/Очистка сточных вод :: /ВО/Транспортировка сточных вод"]
[{"$nulls":40},82,"Республика Башкортостан",{"$nulls":4},"28953962","ООО \"БАШЖИЛСТРОЙПРОЕКТ\"","0261020957","026101001","Оказание услуг в сфере водоотведения и очистки сточных вод","Прием сточных вод :: Очистка сточных вод :: Транспортировка сточных вод","/ВО/Прием сточных вод :: /ВО/Очистка сточных вод :: /ВО/Транспортировка сточных вод","15-04-2015 00:00:00"]
[{"$nulls":40},83,"Республика Башкортостан",{"$nulls":4},"30942075","ООО \"Башнефть-Добыча\"","0277106840","025250001","Оказание услуг в сфере водоотведения и очистки сточных вод","Прием сточных вод :: Очистка сточных вод :: Транспортировка сточных вод","/ВО/Прием сточных вод :: /ВО/Очистка сточных вод :: /ВО/Транспортировка сточных вод","15-08-2017 00:00:00"]
[{"$nulls":40},84,"Республика Башкортостан",{"$nulls":4},"26471913","ООО \"Белебеевский водоканал\"","0255014715","025501001","Оказание услуг в сфере водоотведения и очистки сточных вод","Прием сточных вод :: Очистка сточных вод :: Транспортировка сточных вод","/ВО/Прием сточных вод :: /ВО/Очистка сточных вод :: /ВО/Транспортировка сточных вод"]
[{"$nulls":40},85,"Республика Башкортостан",{"$nulls":4},"31020528","ООО \"Водоканал г. Туймазы\"","0269036490","026901001","Оказание услуг в сфере водоотведения и очистки сточных вод","Прием сточных вод :: Очистка сточных вод :: Транспортировка сточных вод","/ВО/Прием сточных вод :: /ВО/Очистка сточных вод :: /ВО/Транспортировка сточных вод","28-12-2017 00:00:00"]
[{"$nulls":40},86,"Республика Башкортостан",{"$nulls":4},"30376832","ООО \"Водоканал\"","0263017332","026301001","Оказание услуг в сфере водоотведения и очистки сточных вод","Прием сточных вод :: Очистка сточных вод :: Транспортировка сточных вод","/ВО/Прием сточных вод :: /ВО/Очистка сточных вод :: /ВО/Транспортировка сточных вод","09-12-2015 00:00:00"]
[{"$nulls":40},87,"Республика Башкортостан",{"$nulls":4},"26472379","ООО \"Водоканал\" Кармаскалинский район","0229010697","022901001","Оказание услуг в сфере водоотведения и очистки сточных вод","Прием сточных вод :: Очистка сточных вод :: Транспортировка сточных вод","/ВО/Прием сточных вод :: /ВО/Очистка сточных вод :: /ВО/Транспортировка сточных вод"]
[{"$nulls":40},88,"Республика Башкортостан",{"$nulls":4},"26472462","ООО \"Водоканал\" Федоровский район","0247004343","024701001","Оказание услуг в сфере водоотведения и очистки сточных вод","Прием сточных вод :: Очистка сточных вод :: Транспортировка сточных вод","/ВО/Прием сточных вод :: /ВО/Очистка сточных вод :: /ВО/Транспортировка сточных вод"]
[{"$nulls":40},89,"Республика Башкортостан",{"$nulls":4},"26472393","ООО \"Водоканал+Сервис\"","0232006965","023201001","Оказание услуг в сфере водоотведения и очистки сточных вод","Прием сточных вод :: Очистка сточных вод :: Транспортировка сточных вод","/ВО/Прием сточных вод :: /ВО/Очистка сточных вод :: /ВО/Транспортировка сточных вод"]
[{"$nulls":40},90,"Республика Башкортостан",{"$nulls":4},"26471929","ООО \"Водоканалстройсервис\" Бирский МР","0257008058","025701001","Оказание услуг в сфере водоотведения и очистки сточных вод","Прием сточных вод :: Очистка сточных вод :: Транспортировка сточных вод","/ВО/Прием сточных вод :: /ВО/Очистка сточных вод :: /ВО/Транспортировка сточных вод",null,"01-11-2017 00:00:00"]
[{"$nulls":40},91,"Республика Башкортостан",{"$nulls":4},"27129164","ООО \"Водолей\" Илишевского района","0225009394","022501001","Оказание услуг в сфере водоотведения и очистки сточных вод","Прием сточных вод :: Очистка сточных вод :: Транспортировка сточных вод","/ВО/Прием сточных вод :: /ВО/Очистка сточных вод :: /ВО/Транспортировка сточных вод"]
[{"$nulls":40},92,"Республика Башкортостан",{"$nulls":4},"26472058","ООО \"Водосбыт\"","0267011620","026701001","Оказание услуг в сфере водоотведения и очистки сточных вод","Прием сточных вод :: Очистка сточных вод :: Транспортировка сточных вод","/ВО/Прием сточных вод :: /ВО/Очистка сточных вод :: /ВО/Транспортировка сточных вод"]
[{"$nulls":40},93,"Республика Башкортостан",{"$nulls":4},"26471937","ООО \"Водхоз\" Благоварский район","0214005052","021401001","Оказание услуг в сфере водоотведения и очистки сточных вод","Прием сточных вод :: Очистка сточных вод :: Транспортировка сточных вод","/ВО/Прием сточных вод :: /ВО/Очистка сточных вод :: /ВО/Транспортировка сточных вод","01-08-2017 00:00:00"]
[{"$nulls":40},94,"Республика Башкортостан",{"$nulls":4},"30933684","ООО \"Город\"","0258013653","025801001","Оказание услуг в сфере водоотведения и очистки сточных вод","Прием сточных вод :: Очистка сточных вод :: Транспортировка сточных вод","/ВО/Прием сточных вод :: /ВО/Очистка сточных вод :: /ВО/Транспортировка сточных вод","17-07-2017 00:00:00"]
[{"$nulls":40},95,"Республика Башкортостан",{"$nulls":4},"26453634","ООО \"ЖКО-7\" город Нефтекамск","0264051777","026401001","Оказание услуг по перекачке","Транспортировка сточных вод","/ВО/Транспортировка сточных вод"]
[{"$nulls":40},96,"Республика Башкортостан",{"$nulls":4},"27182754","ООО \"ЖКХ С.МОСКОВО\"","0260012390","026001001","Оказание услуг в сфере водоотведения и очистки сточных вод","Прием сточных вод :: Очистка сточных вод :: Транспортировка сточных вод","/ВО/Прием сточных вод :: /ВО/Очистка сточных вод :: /ВО/Транспортировка сточных вод"]
[{"$nulls":40},97,"Республика Башкортостан",{"$nulls":4},"26754409","ООО \"ЖилкомСервис\"","0249007050","024901001","Оказание услуг в сфере водоотведения и очистки сточных вод","Прием сточных вод :: Очистка сточных вод :: Транспортировка сточных вод","/ВО/Прием сточных вод :: /ВО/Очистка сточных вод :: /ВО/Транспортировка сточных вод",null,"31-12-2017 00:00:00"]
[{"$nulls":40},98,"Республика Башкортостан",{"$nulls":4},"26472008","ООО \"Жилкомсервис\"","0231007998","023101001","Оказание услуг в сфере водоотведения и очистки сточных вод","Прием сточных вод :: Очистка сточных вод :: Транспортировка сточных вод","/ВО/Прием сточных вод :: /ВО/Очистка сточных вод :: /ВО/Транспортировка сточных вод"]
[{"$nulls":40},99,"Республика Башкортостан",{"$nulls":4},"28871722","ООО \"Камводсервис\"","0231008342","023101001","Оказание услуг в сфере водоотведения и очистки сточных вод","Прием сточных вод :: Очистка сточных вод :: Транспортировка сточных вод","/ВО/Прием сточных вод :: /ВО/Очистка сточных вод :: /ВО/Транспортировка сточных вод","19-01-2015 00:00:00"]
[{"$nulls":40},100,"Республика Башкортостан",{"$nulls":4},"26471842","ООО \"КомСервис\"","0204004807","020401001","Оказание услуг в сфере очистки сточных вод","Очистка сточных вод","/ВО/Очистка сточных вод"]
[{"$nulls":40},101,"Республика Башкортостан",{"$nulls":4},"26472247","ООО \"Коммунальник\" (Калтасинский МР)","0227006208","022701001","Оказание услуг в сфере водоотведения и очистки сточных вод","Прием сточных вод :: Очистка сточных вод :: Транспортировка сточных вод","/ВО/Прием сточных вод :: /ВО/Очистка сточных вод :: /ВО/Транспортировка сточных вод"]
[{"$nulls":40},102,"Республика Башкортостан",{"$nulls":4},"26353639","ООО \"Коммунальник\" Куюргазинский МР","0233006220","023301001","Оказание услуг в сфере водоотведения и очистки сточных вод","Прием сточных вод :: Очистка сточных вод :: Транспортировка сточных вод","/ВО/Прием сточных вод :: /ВО/Очистка сточных вод :: /ВО/Транспортировка сточных вод"]
[{"$nulls":40},103,"Республика Башкортостан",{"$nulls":4},"26453971","ООО \"Коммунальник\" с.Прибельский МР Кармаскалинский район РБ","0229012038","022901001","Оказание услуг по перекачке","Транспортировка сточных вод","/ВО/Транспортировка сточных вод"]
[{"$nulls":40},104,"Республика Башкортостан",{"$nulls":4},"26540511","ООО \"Коммунальное хозяйство\"","0216006100","021601001","Оказание услуг в сфере водоотведения и очистки сточных вод","Прием сточных вод :: Очистка сточных вод :: Транспортировка сточных вод","/ВО/Прием сточных вод :: /ВО/Очистка сточных вод :: /ВО/Транспортировка сточных вод","14-07-2010 00:00:00"]
[{"$nulls":40},105,"Республика Башкортостан",{"$nulls":4},"26472913","ООО \"Коммунальщик\" (Иглинский МР)","0224010750","022401001","Оказание услуг в сфере водоотведения и очистки сточных вод","Прием сточных вод :: Очистка сточных вод :: Транспортировка сточных вод","/ВО/Прием сточных вод :: /ВО/Очистка сточных вод :: /ВО/Транспортировка сточных вод"]
[{"$nulls":40},106,"Республика Башкортостан",{"$nulls":4},"28464376","ООО \"Коммунальщик\" (Хайбуллинский МР)","0248005540","024801001","Оказание услуг в сфере водоотведения и очистки сточных вод","Прием сточных вод :: Очистка сточных вод :: Транспортировка сточных вод","/ВО/Прием сточных вод :: /ВО/Очистка сточных вод :: /ВО/Транспортировка сточных вод","29-01-2014 00:00:00"]
[{"$nulls":40},107,"Республика Башкортостан",{"$nulls":4},"26454029","ООО \"Коммунальщик\" Салаватский район","0240804502","024001001","Оказание услуг в сфере водоотведения и очистки сточных вод","Прием сточных вод :: Очистка сточных вод :: Транспортировка сточных вод","/ВО/Прием сточных вод :: /ВО/Очистка сточных вод :: /ВО/Транспортировка сточных вод"]
[{"$nulls":40},108,"Республика Башкортостан",{"$nulls":4},"28467602","ООО \"Компания КРУС\"","0276049941","027801001","Оказание услуг в сфере водоотведения","Очистка сточных вод :: Транспортировка сточных вод","/ВО/Очистка сточных вод :: /ВО/Транспортировка сточных вод","06-02-2014 00:00:00"]
[{"$nulls":40},109,"Республика Башкортостан",{"$nulls":4},"26353631","ООО \"Краснохолмский водоканал\"","0227006695","022701001","Оказание услуг в сфере водоотведения и очистки сточных вод","Прием сточных вод :: Очистка сточных вод :: Транспортировка сточных вод","/ВО/Прием сточных вод :: /ВО/Очистка сточных вод :: /ВО/Транспортировка сточных вод"]
[{"$nulls":40},110,"Республика Башкортостан",{"$nulls":4},"28942977","ООО \"Мелеузовский кирпичный завод\"","0263011387","026301001","Оказание услуг по перекачке","Транспортировка сточных вод","/ВО/Транспортировка сточных вод","20-03-2015 00:00:00"]
[{"$nulls":40},111,"Республика Башкортостан",{"$nulls":4},"26472412","ООО \"Мечетлинский водоканал\"","0236005391","023601001","Оказание услуг в сфере водоотведения и очистки сточных вод","Прием сточных вод :: Очистка сточных вод :: Транспортировка сточных вод","/ВО/Прием сточных вод :: /ВО/Очистка сточных вод :: /ВО/Транспортировка сточных вод"]
[{"$nulls":40},112,"Республика Башкортостан",{"$nulls":4},"28950884","ООО \"ПАВЛОВКА-ВОДОКАНАЛ\"","0239005978","023901001","Оказание услуг в сфере водоотведения и очистки сточных вод","Прием сточных вод :: Очистка сточных вод :: Транспортировка сточных вод","/ВО/Прием сточных вод :: /ВО/Очистка сточных вод :: /ВО/Транспортировка сточных вод","31-03-2015 00:00:00"]
[{"$nulls":40},113,"Республика Башкортостан",{"$nulls":4},"30838851","ООО \"ПКФ Промоборудование\"","0277070784","027701001","Оказание услуг в сфере водоотведения и очистки сточных вод","Прием сточных вод :: Очистка сточных вод","/ВО/Прием сточных вод :: /ВО/Очистка сточных вод"]
[{"$nulls":40},114,"Республика Башкортостан",{"$nulls":4},"27946617","ООО \"Павловка Водоканал Сервис\"","0239005689","023901001","Оказание услуг в сфере водоотведения и очистки сточных вод","Прием сточных вод :: Очистка сточных вод :: Транспортировка сточных вод","/ВО/Прием сточных вод :: /ВО/Очистка сточных вод :: /ВО/Транспортировка сточных вод","08-11-2012 00:00:00"]
[{"$nulls":40},115,"Республика Башкортостан",{"$nulls":4},"27676834","ООО \"Первая Сетевая Компания\"","0268072425","026801001","Оказание услуг в сфере водоотведения и очистки сточных вод","Прием сточных вод :: Очистка сточных вод :: Транспортировка сточных вод","/ВО/Прием сточных вод :: /ВО/Очистка сточных вод :: /ВО/Транспортировка сточных вод","17-04-2012 00:00:00"]
[{"$nulls":40},116,"Республика Башкортостан",{"$nulls":4},"28974612","ООО \"СК \"МИЛОВСКИЙ ПАРК\"","0276150349","027601001","Оказание услуг по перекачке","Транспортировка сточных вод","/ВО/Транспортировка сточных вод","25-05-2015 00:00:00"]
[{"$nulls":40},117,"Республика Башкортостан",{"$nulls":4},"28974612","ООО \"СК \"МИЛОВСКИЙ ПАРК\"","0276150349","027601001","Оказание услуг в сфере водоотведения и очистки сточных вод","Прием сточных вод :: Очистка сточных вод :: Транспортировка сточных вод","/ВО/Прием сточных вод :: /ВО/Очистка сточных вод :: /ВО/Транспортировка сточных вод","25-05-2015 00:00:00"]
[{"$nulls":40},118,"Республика Башкортостан",{"$nulls":4},"26759549","ООО \"Сантехник\"","0249006593","024901001","Оказание услуг в сфере водоотведения и очистки сточных вод","Прием сточных вод :: Очистка сточных вод :: Транспортировка сточных вод","/ВО/Прием сточных вод :: /ВО/Очистка сточных вод :: /ВО/Транспортировка сточных вод"]
[{"$nulls":40},119,"Республика Башкортостан",{"$nulls":4},"26472448","ООО \"Стерлибашевоводоканал\"","0241004555","024101001","Оказание услуг в сфере водоотведения и очистки сточных вод","Прием сточных вод :: Очистка сточных вод :: Транспортировка сточных вод","/ВО/Прием сточных вод :: /ВО/Очистка сточных вод :: /ВО/Транспортировка сточных вод"]
[{"$nulls":40},120,"Республика Башкортостан",{"$nulls":4},"28422092","ООО \"СтройРемСервис+\"","0261019704","026101001","Оказание услуг в сфере водоотведения и очистки сточных вод","Прием сточных вод :: Очистка сточных вод :: Транспортировка сточных вод","/ВО/Прием сточных вод :: /ВО/Очистка сточных вод :: /ВО/Транспортировка сточных вод","24-10-2013 00:00:00"]
[{"$nulls":40},121,"Республика Башкортостан",{"$nulls":4},"26453968","ООО \"Стройбытсервис\" МР Кармаскалинский район","0229010601","022901001","Оказание услуг в сфере водоотведения и очистки сточных вод","Прием сточных вод :: Очистка сточных вод :: Транспортировка сточных вод","/ВО/Прием сточных вод :: /ВО/Очистка сточных вод :: /ВО/Транспортировка сточных вод"]
[{"$nulls":40},122,"Республика Башкортостан",{"$nulls":4},"26454236","ООО \"Стройресурсы\"","0245019785","024501001","Оказание услуг в сфере очистки сточных вод","Очистка сточных вод","/ВО/Очистка сточных вод"]
[{"$nulls":40},123,"Республика Башкортостан",{"$nulls":4},"26454236","ООО \"Стройресурсы\"","0245019785","024501001","Оказание услуг в сфере водоотведения и очистки сточных вод","Прием сточных вод :: Очистка сточных вод :: Транспортировка сточных вод","/ВО/Прием сточных вод :: /ВО/Очистка сточных вод :: /ВО/Транспортировка сточных вод"]
[{"$nulls":40},124,"Республика Башкортостан",{"$nulls":4},"26454236","ООО \"Стройресурсы\"","0245019785","024501001","Оказание услуг в сфере водоотведения","Прием сточных вод :: Транспортировка сточных вод","/ВО/Прием сточных вод :: /ВО/Транспортировка сточных вод"]
[{"$nulls":40},125,"Республика Башкортостан",{"$nulls":4},"27634723","ООО \"Тепловодоканал\" Салаватский район","0240000389","024001001","Оказание услуг в сфере водоотведения и очистки сточных вод","Прием сточных вод :: Очистка сточных вод :: Транспортировка сточных вод","/ВО/Прием сточных вод :: /ВО/Очистка сточных вод :: /ВО/Транспортировка сточных вод","28-02-2012 00:00:00"]
[{"$nulls":40},126,"Республика Башкортостан",{"$nulls":4},"26472450","ООО \"Туймазыводоканал\"","0269030971","026901001","Оказание услуг в сфере водоотведения и очистки сточных вод","Прием сточных вод :: Очистка сточных вод :: Транспортировка сточных вод","/ВО/Прием сточных вод :: /ВО/Очистка сточных вод :: /ВО/Транспортировка сточных вод"]
[{"$nulls":40},127,"Республика Башкортостан",{"$nulls":4},"26766191","ООО \"УК ЖКХ\"","0242007975","024201001","Оказание услуг в сфере водоотведения и очистки сточных вод","Прием сточных вод :: Очистка сточных вод :: Транспортировка сточных вод","/ВО/Прием сточных вод :: /ВО/Очистка сточных вод :: /ВО/Транспортировка сточных вод"]
[{"$nulls":40},128,"Республика Башкортостан",{"$nulls":4},"26472476","ООО \"УК Уфимское ЖКХ\"","0248006311","024801001","Оказание услуг в сфере водоотведения и очистки сточных вод","Прием сточных вод :: Очистка сточных вод :: Транспортировка сточных вод","/ВО/Прием сточных вод :: /ВО/Очистка сточных вод :: /ВО/Транспортировка сточных вод"]
[{"$nulls":40},129,"Республика Башкортостан",{"$nulls":4},"26550657","ООО \"Управление Жилищно-Коммунального Хозяйства\"","0253018658","025301001","Оказание услуг в сфере водоотведения и очистки сточных вод","Прием сточных вод :: Очистка сточных вод :: Транспортировка сточных вод","/ВО/Прием сточных вод :: /ВО/Очистка сточных вод :: /ВО/Транспортировка сточных вод"]
[{"$nulls":40},130,"Республика Башкортостан",{"$nulls":4},"26353659","ООО \"Чекмагушевское ПУЖКХ\"","0249006970","024901001","Оказание услуг в сфере водоотведения и очистки сточных вод","Прием сточных вод :: Очистка сточных вод :: Транспортировка сточных вод","/ВО/Прием сточных вод :: /ВО/Очистка сточных вод :: /ВО/Транспортировка сточных вод"]
[{"$nulls":40},131,"Республика Башкортостан",{"$nulls":4},"26472492","ООО \"Чишмывода\"","0250012070","025001001","Оказание услуг в сфере водоотведения и очистки сточных вод","Прием сточных вод :: Очистка сточных вод :: Транспортировка сточных вод","/ВО/Прием сточных вод :: /ВО/Очистка сточных вод :: /ВО/Транспортировка сточных вод"]
[{"$nulls":40},132,"Республика Башкортостан",{"$nulls":4},"30982937","ООО \"Эколайн\"","0263024530","026301001","Оказание услуг в сфере водоотведения и очистки сточных вод","Прием сточных вод :: Очистка сточных вод :: Транспортировка сточных вод","/ВО/Прием сточных вод :: /ВО/Очистка сточных вод :: /ВО/Транспортировка сточных вод","17-10-2017 00:00:00"]
[{"$nulls":40},133,"Республика Башкортостан",{"$nulls":4},"28005474","ООО «Башнефть – Сервис НПЗ»","0275075378","027501001","Оказание услуг в сфере водоотведения и очистки сточных вод","Прием сточных вод :: Очистка сточных вод :: Транспортировка сточных вод","/ВО/Прием сточных вод :: /ВО/Очистка сточных вод :: /ВО/Транспортировка сточных вод","19-12-2012 00:00:00"]
[{"$nulls":40},134,"Республика Башкортостан",{"$nulls":4},"26758794","ООО «Водоканал» (Баймакский МР)","0254011302","025401001","Оказание услуг в сфере водоотведения и очистки сточных вод","Прием сточных вод :: Очистка сточных вод :: Транспортировка сточных вод","/ВО/Прием сточных вод :: /ВО/Очистка сточных вод :: /ВО/Транспортировка сточных вод"]
[{"$nulls":40},135,"Республика Башкортостан",{"$nulls":4},"26754461","ООО «Дюртюли-Водоканал»","0260010586","026001001","Оказание услуг в сфере водоотведения и очистки сточных вод","Прием сточных вод :: Очистка сточных вод :: Транспортировка сточных вод","/ВО/Прием сточных вод :: /ВО/Очистка сточных вод :: /ВО/Транспортировка сточных вод"]
[{"$nulls":40},136,"Республика Башкортостан",{"$nulls":4},"26353644","ООО «Нуримановское ЖКХ»","0239005216","023901001","Оказание услуг в сфере очистки сточных вод","Очистка сточных вод","/ВО/Очистка сточных вод"]
[{"$nulls":40},137,"Республика Башкортостан",{"$nulls":4},"26754415","ООО «ПромВодоКанал»","0266033685","026601001","Оказание услуг в сфере водоотведения и очистки сточных вод","Прием сточных вод :: Очистка сточных вод :: Транспортировка сточных вод","/ВО/Прием сточных вод :: /ВО/Очистка сточных вод :: /ВО/Транспортировка сточных вод"]
[{"$nulls":40},138,"Республика Башкортостан",{"$nulls":4},"26453118","ООО ЖКХ \"Ургалинское\" МР Белокатайский район","0210027577","021001001","Оказание услуг в сфере водоотведения и очистки сточных вод","Прием сточных вод :: Очистка сточных вод :: Транспортировка сточных вод","/ВО/Прием сточных вод :: /ВО/Очистка сточных вод :: /ВО/Транспортировка сточных вод"]
[{"$nulls":40},139,"Республика Башкортостан",{"$nulls":4},"26454242","ООО ЖКХ \"Шемяк\"","0245021015","024501001","Оказание услуг в сфере водоотведения и очистки сточных вод","Прием сточных вод :: Очистка сточных вод :: Транспортировка сточных вод","/ВО/Прием сточных вод :: /ВО/Очистка сточных вод :: /ВО/Транспортировка сточных вод"]
[{"$nulls":40},140,"Республика Башкортостан",{"$nulls":4},"31007428","ООО ЖКХ с. Семилетка","0260011460","026001001","Оказание услуг в сфере водоотведения и очистки сточных вод","Прием сточных вод :: Очистка сточных вод :: Транспортировка сточных вод","/ВО/Прием сточных вод :: /ВО/Очистка сточных вод :: /ВО/Транспортировка сточных вод","25-12-2017 00:00:00"]
[{"$nulls":40},141,"Республика Башкортостан",{"$nulls":4},"26353704","ООО КХ \"Авдон\"","0245019658","024501001","Оказание услуг в сфере водоотведения и очистки сточных вод","Прием сточных вод :: Очистка сточных вод :: Транспортировка сточных вод","/ВО/Прием сточных вод :: /ВО/Очистка сточных вод :: /ВО/Транспортировка сточных вод"]
[{"$nulls":40},142,"Республика Башкортостан",{"$nulls":4},"26760333","ООО КХ «Николаевское»","0245021400","024501001","Оказание услуг в сфере водоотведения и очистки сточных вод","Прием сточных вод :: Очистка сточных вод :: Транспортировка сточных вод","/ВО/Прием сточных вод :: /ВО/Очистка сточных вод :: /ВО/Транспортировка сточных вод",null,"29-05-2017 00:00:00"]
[{"$nulls":40},143,"Республика Башкортостан",{"$nulls":4},"26651697","ООО ПЖУ \"Нижегородское\"","0245012420","024501001","Оказание услуг в сфере водоотведения и очистки сточных вод","Прием сточных вод :: Очистка сточных вод :: Транспортировка сточных вод","/ВО/Прием сточных вод :: /ВО/Очистка сточных вод :: /ВО/Транспортировка сточных вод"]
[{"$nulls":40},144,"Республика Башкортостан",{"$nulls":4},"28829119","ООО ПП \"ПРОМОБОРУДОВАНИЕ\"","0277086953","027701001","Оказание услуг в сфере водоотведения и очистки сточных вод","Прием сточных вод :: Очистка сточных вод :: Транспортировка сточных вод","/ВО/Прием сточных вод :: /ВО/Очистка сточных вод :: /ВО/Транспортировка сточных вод","24-11-2014 00:00:00"]
[{"$nulls":40},145,"Республика Башкортостан",{"$nulls":4},"30873301","ООО САНАТОРИЙ \"АССЫ\"","0256996711","025601001","Оказание услуг в сфере водоотведения и очистки сточных вод","Прием сточных вод :: Очистка сточных вод :: Транспортировка сточных вод","/ВО/Прием сточных вод :: /ВО/Очистка сточных вод :: /ВО/Транспортировка сточных вод","24-01-2017 00:00:00"]
[{"$nulls":40},146,"Республика Башкортостан",{"$nulls":4},"27687958","ООО Строй-Комфорт","0203003938","020301001","Оказание услуг в сфере водоотведения и очистки сточных вод","Прием сточных вод :: Очистка сточных вод :: Транспортировка сточных вод","/ВО/Прием сточных вод :: /ВО/Очистка сточных вод :: /ВО/Транспортировка сточных вод","05-05-2012 00:00:00"]
[{"$nulls":40},147,"Республика Башкортостан",{"$nulls":4},"30839066","ООО УК \"Керамик\"","0260011808","026001001","Оказание услуг в сфере водоотведения и очистки сточных вод","Прием сточных вод :: Очистка сточных вод :: Транспортировка сточных вод","/ВО/Прием сточных вод :: /ВО/Очистка сточных вод :: /ВО/Транспортировка сточных вод"]
[{"$nulls":40},148,"Республика Башкортостан",{"$nulls":4},"28501481","ООО УК \"КомУслугиУфимский\"","0248008005","024801001","Оказание услуг в сфере водоотведения и очистки сточных вод","Прием сточных вод :: Очистка сточных вод :: Транспортировка сточных вод","/ВО/Прием сточных вод :: /ВО/Очистка сточных вод :: /ВО/Транспортировка сточных вод","18-04-2014 00:00:00"]
[{"$nulls":40},149,"Республика Башкортостан",{"$nulls":4},"28486251","ООО УК \"НовоБулгаково\"","0245025010","024501001","Оказание услуг в сфере водоотведения и очистки сточных вод","Прием сточных вод :: Очистка сточных вод :: Транспортировка сточных вод","/ВО/Прием сточных вод :: /ВО/Очистка сточных вод :: /ВО/Транспортировка сточных вод","20-02-2014 00:00:00"]
[{"$nulls":40},150,"Республика Башкортостан",{"$nulls":4},"28487302","ООО УК \"Тукан\"","0256023511","027802001","Оказание услуг в сфере водоотведения и очистки сточных вод","Прием сточных вод :: Очистка сточных вод :: Транспортировка сточных вод","/ВО/Прием сточных вод :: /ВО/Очистка сточных вод :: /ВО/Транспортировка сточных вод","25-02-2014 00:00:00"]
[{"$nulls":40},151,"Республика Башкортостан",{"$nulls":4},"26472452","ООО УПТК \"Водомонтажкомплект\"","0269019015","026901001","Оказание услуг в сфере водоотведения и очистки сточных вод","Прием сточных вод :: Очистка сточных вод :: Транспортировка сточных вод","/ВО/Прием сточных вод :: /ВО/Очистка сточных вод :: /ВО/Транспортировка сточных вод"]
[{"$nulls":40},152,"Республика Башкортостан",{"$nulls":4},"26353710","ООО\"Алексеевское коммунальное управление\" МР Уфимский район РБ","0245019753","024501001","Оказание услуг в сфере водоотведения и очистки сточных вод","Прием сточных вод :: Очистка сточных вод :: Транспортировка сточных вод","/ВО/Прием сточных вод :: /ВО/Очистка сточных вод :: /ВО/Транспортировка сточных вод"]
[{"$nulls":40},153,"Республика Башкортостан",{"$nulls":4},"28536502","Раевское МУП ПО МТО \"Агротехснаб\" Альшеевского района Республики Башкортостан","0202006277","020201001","Оказание услуг в сфере водоотведения и очистки сточных вод","Прием сточных вод :: Очистка сточных вод :: Транспортировка сточных вод","/ВО/Прием сточных вод :: /ВО/Очистка сточных вод :: /ВО/Транспортировка сточных вод","27-06-2014 00:00:00"]
[{"$nulls":40},154,"Республика Башкортостан",{"$nulls":4},"26471897","СПК \"Малиновка\" Белебеевский МР","0209004127","025501001","Оказание услуг в сфере очистки сточных вод","Очистка сточных вод","/ВО/Очистка сточных вод"]
[{"$nulls":40},155,"Республика Башкортостан",{"$nulls":4},"26353692","Сибайский филиал ОАО \"Учалинский ГОК\"","0270007455","026702001","Оказание услуг по перекачке","Транспортировка сточных вод","/ВО/Транспортировка сточных вод"]
[{"$nulls":40},156,"Республика Башкортостан",{"$nulls":4},"26841421","Туймазинское нефтепроводное управление - филиал АО \"Транснефть-Урал\"","0278039018","026902001","Оказание услуг в сфере водоотведения и очистки сточных вод","Прием сточных вод :: Очистка сточных вод :: Транспортировка сточных вод","/ВО/Прием сточных вод :: /ВО/Очистка сточных вод :: /ВО/Транспортировка сточных вод"]
[{"$nulls":40},157,"Республика Башкортостан",{"$nulls":4},"30389381","Уфимское производственное отделение - филиал АО \"Транснефть-Урал\"","0278039018","027743001","Оказание услуг по перекачке","Транспортировка сточных вод","/ВО/Транспортировка сточных вод","18-01-2016 00:00:00"]
[{"$nulls":40},158,"Республика Башкортостан",{"$nulls":4},"30985819","ФГБОУ ВО \"УГАТУ\"","0274023747","027401001","Оказание услуг в сфере водоотведения и очистки сточных вод","Прием сточных вод :: Очистка сточных вод :: Транспортировка сточных вод","/ВО/Прием сточных вод :: /ВО/Очистка сточных вод :: /ВО/Транспортировка сточных вод","30-10-2017 00:00:00"]
[{"$nulls":40},159,"Республика Башкортостан",{"$nulls":4},"30985819","ФГБОУ ВО \"УГАТУ\"","0274023747","027401001","Оказание услуг по перекачке","Транспортировка сточных вод","/ВО/Транспортировка сточных вод","30-10-2017 00:00:00"]
[{"$nulls":40},160,"Республика Башкортостан",{"$nulls":4},"26453060","ФГБУ санаторий \"Глуховская\" Минздрава России","0209001038","025501001","Оказание услуг в сфере водоотведения и очистки сточных вод","Прием сточных вод :: Очистка сточных вод :: Транспортировка сточных вод","/ВО/Прием сточных вод :: /ВО/Очистка сточных вод :: /ВО/Транспортировка сточных вод"]
[{"$nulls":40},161,"Республика Башкортостан",{"$nulls":4},"26471890","ФГБУ санаторий им. С.Т. Аксакова Минздрава России","0255002773","025501001","Оказание услуг в сфере водоотведения и очистки сточных вод","Прием сточных вод :: Очистка сточных вод :: Транспортировка сточных вод","/ВО/Прием сточных вод :: /ВО/Очистка сточных вод :: /ВО/Транспортировка сточных вод"]
[{"$nulls":40},162,"Республика Башкортостан",{"$nulls":4},"28829266","ФКП \"АВАНГАРД\"","0268005588","026801001","Оказание услуг в сфере водоотведения и очистки сточных вод","Прием сточных вод :: Очистка сточных вод :: Транспортировка сточных вод","/ВО/Прием сточных вод :: /ВО/Очистка сточных вод :: /ВО/Транспортировка сточных вод","25-11-2014 00:00:00"]
[{"$nulls":40},163,"Республика Башкортостан",{"$nulls":4},"26922298","Федеральное государственное бюджетное учреждение санаторий \"Шафраново\" Министерства здравоохранения Российской Федерации","0202000395","020201001","Оказание услуг в сфере водоотведения и очистки сточных вод","Прием сточных вод :: Очистка сточных вод :: Транспортировка сточных вод","/ВО/Прием сточных вод :: /ВО/Очистка сточных вод :: /ВО/Транспортировка сточных вод"]
[{"$nulls":40},164,"Республика Башкортостан",{"$nulls":4},"30914574","Филиал ФГБУ \"ЦЖКУ\" МИНОБОРОНЫ РОССИИ (по ЦВО)","7729314745","667043001","Оказание услуг в сфере очистки сточных вод","Очистка сточных вод","/ВО/Очистка сточных вод"]
[{"$nulls":40},165,"Республика Башкортостан",{"$nulls":4},"30914574","Филиал ФГБУ \"ЦЖКУ\" МИНОБОРОНЫ РОССИИ (по ЦВО)","7729314745","667043001","Оказание услуг по перекачке","Транспортировка сточных вод","/ВО/Транспортировка сточных вод"]
[{"$nulls":40},166,"Республика Башкортостан",{"$nulls":4},"27300211","Чишминский сахарный завод","0250005763","025001001","Оказание услуг в сфере водоотведения и очистки сточных вод","Прием сточных вод :: Очистка сточных вод :: Транспортировка сточных вод","/ВО/Прием сточных вод :: /ВО/Очистка сточных вод :: /ВО/Транспортировка сточных вод"]

{"sheet":"REESTR_SOURCE","index":10,"n_rows":0,"n_cols":0,"rows_kept":0,"hidden":true}

{"sheet":"ТС.БПр","index":11,"n_rows":132,"n_cols":83,"rows_kept":132,"hidden":true,"merged":[[0,1,27,1],[0,5,1,5],[0,6,1,6],[2,2,14,2],[15,2,27,2],[56,1,83,1],[56,5,57,5],[56,6,57,6],[58,2,70,2],[71,2,83,2],[120,5,122,5],[120,6,122,6],[120,7,122,7],[120,8,122,8],[120,9,122,9],[120,10,122,10],[120,11,122,11],[120,12,120,21],[120,22,120,37],[120,38,122,38],[120,39,122,39],[120,40,122,40],[120,41,122,41],[120,42,120,44],[120,46,120,49],[121,12,122,12],[121,13,122,13],[121,14,121,16],[121,17,122,17],[121,18,122,18],[121,19,122,19],[121,20,122,20],[121,21,122,21],[121,22,122,22],[121,23,122,23],[121,24,122,24],[121,25,122,25],[121,26,122,26],[121,27,122,27],[121,28,122,28],[121,29,122,29],[121,30,122,30],[121,31,122,31],[121,32,122,32],[121,33,122,33],[121,34,122,34],[121,35,122,35],[121,36,122,36],[121,37,122,37],[121,42,122,42],[121,43,122,43],[121,44,122,44],[121,45,122,45],[121,46,122,46],[121,47,122,47],[121,48,122,48],[121,49,122,49],[125,6,126,6],[127,6,128,6],[130,67,130,81]]}
[null,null,{"$f":"F3","v":"0.0"},"-",null,{"$f":"B1","v":0},{"$nulls":46},"TOTAL_ORG"]
[]
[{"$nulls":5},{"$f":"F1 & \".0\"","v":"0.0"},"год",{"$nulls":45},"TOTAL_ORG_YEAR"]
[{"$nulls":5},{"$f":"F1 & \".1\"","v":"0.1"},"январь",{"$nulls":45},{"$f":"C1 & \"-I\"","v":"0.0-I"}]
[{"$nulls":5},{"$f":"F1 & \".2\"","v":"0.2"},"февраль",{"$nulls":45},{"$f":"C1 & \"-I\"","v":"0.0-I"}]
[{"$nulls":5},{"$f":"F1 & \".3\"","v":"0.3"},"март",{"$nulls":45},{"$f":"C1 & \"-I\"","v":"0.0-I"}]
[{"$nulls":5},{"$f":"F1 & \".4\"","v":"0.4"},"апрель",{"$nulls":45},{"$f":"C1 & \"-I\"","v":"0.0-I"}]
[{"$nulls":5},{"$f":"F1 & \".5\"","v":"0.5"},"май",{"$nulls":45},{"$f":"C1 & \"-I\"","v":"0.0-I"}]
[{"$nulls":5},{"$f":"F1 & \".6\"","v":"0.6"},"июнь",{"$nulls":45},{"$f":"C1 & \"-I\"","v":"0.0-I"}]
[{"$nulls":5},{"$f":"F1 & \".7\"","v":"0.7"},"июль",{"$nulls":45},{"$f":"C1 & \"-II\"","v":"0.0-II"}]
[{"$nulls":5},{"$f":"F1 & \".8\"","v":"0.8"},"август",{"$nulls":45},{"$f":"C1 & \"-II\"","v":"0.0-II"}]
[{"$nulls":5},{"$f":"F1 & \".9\"","v":"0.9"},"сентябрь",{"$nulls":45},{"$f":"C1 & \"-II\"","v":"0.0-II"}]
[{"$nulls":5},{"$f":"F1 & \".10\"","v":"0.10"},"октябрь",{"$nulls":45},{"$f":"C1 & \"-II\"","v":"0.0-II"}]
[{"$nulls":5},{"$f":"F1 & \".11\"","v":"0.11"},"ноябрь",{"$nulls":45},{"$f":"C1 & \"-II\"","v":"0.0-II"}]
[{"$nulls":5},{"$f":"F1 & \".12\"","v":"0.12"},"декабрь",{"$nulls":45},{"$f":"C1 & \"-II\"","v":"0.0-II"}]
{"$rows_empty":41}
["TBD",null,{"$f":"F59","v":"0.0"},"-",null,{"$f":"B57","v":0},null,{"$f":"H59","v":{"v":0,"d":"0.00"}},{"$f":"I59","v":{"v":0,"d":"0.00"}},{"$f":"A57","v":"TBD"},{"$f":"K59","v":{"v":0,"d":"0.00"}},{"$f":"L59","v":{"v":0,"d":"0.00"}},{"$f":"M59","v":{"v":0,"d":"0.00"}},null,{"$f":"O59","v":{"v":0,"d":"0.00"}},{"v":0,"d":"0.00"},{"v":0,"d":"0.00"},{"v":0,"d":"0.00"},{"v":0,"d":"0.00"},{"v":0,"d":"0.00"},{"v":0,"d":"0.00"},{"$f":"V59","v":{"v":0,"d":"0.00"}},{"v":0,"d":"0.00"},{"v":0,"d":"0.00"},{"v":0,"d":"0.00"},{"v":0,"d":"0.00"},{"v":0,"d":"0.00"},{"v":0,"d":"0.00"},{"v":0,"d":"0.00"},{"v":0,"d":"0.00"},{"$f":"AE59","v":{"v":0,"d":"0.00"}},{"v":0,"d":"0.00"},{"v":0,"d":"0.00"},{"v":0,"d":"0.00"},{"v":0,"d":"0.00"},{"v":0,"d":"0.00"},{"v":0,"d":"0.00"},{"v":0,"d":"0.00"},{"$f":"AM59","v":{"v":0,"d":"0.00"}},{"$f":"AN59","v":{"v":0,"d":"0.00"}},{"$f":"AO59","v":{"v":0,"d":"0.00"}},null,{"$f":"AQ59","v":{"v":0,"d":"0.00"}},{"v":0,"d":"0.00"},{"v":0,"d":"0.00"},{"v":0,"d":"0.00"},{"v":0,"d":"0.00"},{"v":0,"d":"0.00"},{"v":0,"d":"0.00"},{"v":0,"d":"0.00"},null,null,"TOTAL_ORG"]
[]
[{"$nulls":5},{"$f":"F57 & \".0\"","v":"0.0"},"год",{"$f":"SUMIF('Список объектов'!$R$15:$R$32,$F59,'Список объектов'!$S$15:$S$32)","v":{"v":0,"d":"0.00"}},{"$f":"SUMIF('Список объектов'!$R$15:$R$32,$F59,'Список объектов'!$T$15:$T$32)","v":{"v":0,"d":"0.00"}},{"$f":"J57","v":"TBD"},{"$f":"L59+M59-V59+AM59-W59-AE59","v":{"v":0,"d":"0.00"}},null,{"$f":"SUM(O59,R59:T59,U59,V59)","v":{"v":0,"d":"0.00"}},null,{"$f":"SUM(O60:O71)","v":{"v":0,"d":"0.00"}},{"v":0,"d":"0.00"},{"v":0,"d":"0.00"},{"v":0,"d":"0.00"},{"v":0,"d":"0.00"},{"v":0,"d":"0.00"},{"$f":"SUM(U60:U71)","v":{"v":0,"d":"0.00"}},{"$f":"SUM(V60:V71)","v":{"v":0,"d":"0.00"}},{"$f":"SUM(X59:Z59)","v":{"v":0,"d":"0.00"}},{"$nulls":3},{"$f":"SUM(AB59:AD59)","v":{"v":0,"d":"0.00"}},{"$nulls":3},{"$f":"SUM(AF59:AH59)","v":{"v":0,"d":"0.00"}},{"$nulls":3},{"$f":"SUM(AJ59:AL59)","v":{"v":0,"d":"0.00"}},{"$nulls":3},{"$f":"AN59+AO59","v":{"v":0,"d":"0.00"}},null,{"$f":"SUM(AO60:AO71)","v":{"v":0,"d":"0.00"}},null,{"$f":"SUM(AQ60:AQ71)","v":{"v":0,"d":"0.00"}},{"v":0,"d":"0.00"},{"v":0,"d":"0.00"},{"v":0,"d":"0.00"},{"v":0,"d":"0.00"},{"v":0,"d":"0.00"},{"v":0,"d":"0.00"},{"v":0,"d":"0.00"},null,null,"TOTAL_ORG_YEAR",{"$nulls":14},{"$f":"SUM($U60:$U71)+SUM($AT60:$AT71)","v":{"v":0,"d":"0.00"}},{"$f":"SUM($R60:$R71)+SUM($AV60:$AV71)","v":{"v":0,"d":"0.00"}},{"$f":"SUM($S60:$S71)+SUM($AW60:$AW71)","v":{"v":0,"d":"0.00"}},{"$f":"SUM($T60:$T71)+SUM($AX60:$AX71)","v":{"v":0,"d":"0.00"}},null,{"$f":"SUM($U60:$U71)+SUM($AT60:$AT71)","v":{"v":0,"d":"0.00"}},{"$f":"SUM($R60:$R71)+SUM($AV60:$AV71)","v":{"v":0,"d":"0.00"}},{"$f":"SUM($S60:$S71)+SUM($AW60:$AW71)","v":{"v":0,"d":"0.00"}},{"$f":"SUM($T60:$T71)+SUM($AX60:$AX71)","v":{"v":0,"d":"0.00"}},{"$nulls":6},{"$f":"M59-V59+AO59","v":{"v":0,"d":"0.00"}}]
[{"$nulls":5},{"$f":"F57 & \".1\"","v":"0.1"},"январь",null,null,{"$f":"IF(OFFSET('Список территорий'!CJ$15,$F57,0)=\"a\",\"Y\",\"N\")","v":"N"},null,null,{"v":0,"d":"0.00"},null,{"$f":"SUM(P60:Q60)","v":{"v":0,"d":"0.00"}},{"$nulls":25},{"$f":"SUM(AQ60,AT60,AU60)","v":{"v":0,"d":"0.00"}},null,{"$f":"SUM(AR60:AS60)","v":{"v":0,"d":"0.00"}},{"$nulls":3},{"$f":"SUM(AV60:AX60)","v":{"v":0,"d":"0.00"}},{"$nulls":5},{"$f":"C57 & \"-I\"","v":"0.0-I"},{"$nulls":14},{"$f":"SUM($U60:$U65)+SUM($AT60:$AT65)","v":{"v":0,"d":"0.00"}},{"$f":"SUM($R60:$R65)+SUM($AV60:$AV65)","v":{"v":0,"d":"0.00"}},{"$f":"SUM($S60:$S65)+SUM($AW60:$AW65)","v":{"v":0,"d":"0.00"}},{"$f":"SUM($T60:$T65)+SUM($AX60:$AX65)","v":{"v":0,"d":"0.00"}},null,{"$f":"SUM($U60:$U65)+SUM($AT60:$AT65)","v":{"v":0,"d":"0.00"}},{"$f":"SUM($R60:$R65)+SUM($AV60:$AV65)","v":{"v":0,"d":"0.00"}},{"$f":"SUM($S60:$S65)+SUM($AW60:$AW65)","v":{"v":0,"d":"0.00"}},{"$f":"SUM($T60:$T65)+SUM($AX60:$AX65)","v":{"v":0,"d":"0.00"}}]
[{"$nulls":5},{"$f":"F57 & \".2\"","v":"0.2"},"февраль",null,null,{"$f":"IF(OFFSET('Список территорий'!CK$15,$F57,0)=\"a\",\"Y\",\"N\")","v":"N"},null,null,{"v":0,"d":"0.00"},null,{"$f":"SUM(P61:Q61)","v":{"v":0,"d":"0.00"}},{"$nulls":25},{"v":0,"d":"0.00"},null,{"$f":"SUM(AR61:AS61)","v":{"v":0,"d":"0.00"}},{"$nulls":3},{"v":0,"d":"0.00"},{"$nulls":5},{"$f":"C57 & \"-I\"","v":"0.0-I"}]
[{"$nulls":5},{"$f":"F57 & \".3\"","v":"0.3"},"март",null,null,{"$f":"IF(OFFSET('Список территорий'!CL$15,$F57,0)=\"a\",\"Y\",\"N\")","v":"N"},null,null,{"v":0,"d":"0.00"},null,{"v":0,"d":"0.00"},{"$nulls":25},{"v":0,"d":"0.00"},null,{"v":0,"d":"0.00"},{"$nulls":3},{"v":0,"d":"0.00"},{"$nulls":5},{"$f":"C57 & \"-I\"","v":"0.0-I"}]
[{"$nulls":5},{"$f":"F57 & \".4\"","v":"0.4"},"апрель",null,null,{"$f":"IF(OFFSET('Список территорий'!CM$15,$F57,0)=\"a\",\"Y\",\"N\")","v":"N"},null,null,{"v":0,"d":"0.00"},null,{"v":0,"d":"0.00"},{"$nulls":25},{"v":0,"d":"0.00"},null,{"v":0,"d":"0.00"},{"$nulls":3},{"v":0,"d":"0.00"},{"$nulls":5},{"$f":"C57 & \"-I\"","v":"0.0-I"}]
[{"$nulls":5},{"$f":"F57 & \".5\"","v":"0.5"},"май",null,null,{"$f":"IF(OFFSET('Список территорий'!CN$15,$F57,0)=\"a\",\"Y\",\"N\")","v":"N"},null,null,{"v":0,"d":"0.00"},null,{"v":0,"d":"0.00"},{"$nulls":25},{"v":0,"d":"0.00"},null,{"v":0,"d":"0.00"},{"$nulls":3},{"v":0,"d":"0.00"},{"$nulls":5},{"$f":"C57 & \"-I\"","v":"0.0-I"}]
[{"$nulls":5},{"$f":"F57 & \".6\"","v":"0.6"},"июнь",null,null,{"$f":"IF(OFFSET('Список территорий'!CO$15,$F57,0)=\"a\",\"Y\",\"N\")","v":"N"},null,null,{"v":0,"d":"0.00"},null,{"v":0,"d":"0.00"},{"$nulls":25},{"v":0,"d":"0.00"},null,{"v":0,"d":"0.00"},{"$nulls":3},{"v":0,"d":"0.00"},{"$nulls":5},{"$f":"C57 & \"-I\"","v":"0.0-I"}]
[{"$nulls":5},{"$f":"F57 & \".7\"","v":"0.7"},"июль",null,null,{"$f":"IF(OFFSET('Список территорий'!CP$15,$F57,0)=\"a\",\"Y\",\"N\")","v":"N"},null,null,{"v":0,"d":"0.00"},null,{"v":0,"d":"0.00"},{"$nulls":25},{"v":0,"d":"0.00"},null,{"v":0,"d":"0.00"},{"$nulls":3},{"v":0,"d":"0.00"},{"$nulls":5},{"$f":"C57 & \"-II\"","v":"0.0-II"},{"$nulls":14},{"$f":"SUM($U66:$U71)+SUM($AT66:$AT71)","v":{"v":0,"d":"0.00"}},{"$f":"SUM($R66:$R71)+SUM($AV66:$AV71)","v":{"v":0,"d":"0.00"}},{"$f":"SUM($S66:$S71)+SUM($AW66:$AW71)","v":{"v":0,"d":"0.00"}},{"$f":"SUM($T66:$T71)+SUM($AX66:$AX71)","v":{"v":0,"d":"0.00"}},null,{"$f":"SUM($U66:$U71)+SUM($AT66:$AT71)","v":{"v":0,"d":"0.00"}},{"$f":"SUM($R66:$R71)+SUM($AV66:$AV71)","v":{"v":0,"d":"0.00"}},{"$f":"SUM($S66:$S71)+SUM($AW66:$AW71)","v":{"v":0,"d":"0.00"}},{"$f":"SUM($T66:$T71)+SUM($AX66:$AX71)","v":{"v":0,"d":"0.00"}}]
[{"$nulls":5},{"$f":"F57 & \".8\"","v":"0.8"},"август",null,null,{"$f":"IF(OFFSET('Список территорий'!CQ$15,$F57,0)=\"a\",\"Y\",\"N\")","v":"N"},null,null,{"v":0,"d":"0.00"},null,{"v":0,"d":"0.00"},{"$nulls":25},{"v":0,"d":"0.00"},null,{"v":0,"d":"0.00"},{"$nulls":3},{"v":0,"d":"0.00"},{"$nulls":5},{"$f":"C57 & \"-II\"","v":"0.0-II"}]
[{"$nulls":5},{"$f":"F57 & \".9\"","v":"0.9"},"сентябрь",null,null,{"$f":"IF(OFFSET('Список территорий'!CR$15,$F57,0)=\"a\",\"Y\",\"N\")","v":"N"},null,null,{"v":0,"d":"0.00"},null,{"v":0,"d":"0.00"},{"$nulls":25},{"v":0,"d":"0.00"},null,{"v":0,"d":"0.00"},{"$nulls":3},{"v":0,"d":"0.00"},{"$nulls":5},{"$f":"C57 & \"-II\"","v":"0.0-II"}]
[{"$nulls":5},{"$f":"F57 & \".10\"","v":"0.10"},"октябрь",null,null,{"$f":"IF(OFFSET('Список территорий'!CS$15,$F57,0)=\"a\",\"Y\",\"N\")","v":"N"},null,null,{"v":0,"d":"0.00"},null,{"v":0,"d":"0.00"},{"$nulls":25},{"v":0,"d":"0.00"},null,{"v":0,"d":"0.00"},{"$nulls":3},{"v":0,"d":"0.00"},{"$nulls":5},{"$f":"C57 & \"-II\"","v":"0.0-II"}]
[{"$nulls":5},{"$f":"F57 & \".11\"","v":"0.11"},"ноябрь",null,null,{"$f":"IF(OFFSET('Список территорий'!CT$15,$F57,0)=\"a\",\"Y\",\"N\")","v":"N"},null,null,{"v":0,"d":"0.00"},null,{"v":0,"d":"0.00"},{"$nulls":25},{"v":0,"d":"0.00"},null,{"v":0,"d":"0.00"},{"$nulls":3},{"v":0,"d":"0.00"},{"$nulls":5},{"$f":"C57 & \"-II\"","v":"0.0-II"}]
[{"$nulls":5},{"$f":"F57 & \".12\"","v":"0.12"},"декабрь",null,null,{"$f":"IF(OFFSET('Список территорий'!CU$15,$F57,0)=\"a\",\"Y\",\"N\")","v":"N"},null,null,{"v":0,"d":"0.00"},null,{"v":0,"d":"0.00"},{"$nulls":25},{"v":0,"d":"0.00"},null,{"v":0,"d":"0.00"},{"$nulls":3},{"v":0,"d":"0.00"},{"$nulls":5},{"$f":"C57 & \"-II\"","v":"0.0-II"}]
{"$rows_empty":47}
[{"$nulls":5},{"$f":"\"Баланс \" & TEMPLATE_SPHERE & \" (производство)\"","v":"Баланс водоотведения (производство)"}]
[{"$nulls":5},"Гкал"]
[{"$nulls":5},"№ п/п","Субъект баланса","Установленная тепловая мощность, Гкал/час","Подключённая (фактическая) тепловая нагрузка, Гкал/час","Вид(-ы) теплоносителя(-ей)","Выработка","Собственные нужды источника тепла","Отпуск с коллекторов",{"$nulls":9},"Покупная энергия",{"$nulls":15},"Отпуск в сеть","Потери в сетях","Полезный отпуск, всего",null,"Полезный отпуск на нужды предприятия",null,null,"Полезный отпуск организациям-перепродавцам","Полезный отпуск по группам потребителей"]
[{"$nulls":12},"Всего",null,"На технологические нужды предприятия",null,null,"Бюджетные потребители","Население","Прочие потребители","Организации-перепродавцы","В собственную тепловую сеть","С коллекторов, всего","от станций с мощностью производства >= 25 МВт","от станций с мощностью производства < 25 МВт","от котельных","в том числе покупка потерь с коллекторов","от станций с мощностью производства >= 25 МВт","от станций с мощностью производства < 25 МВт","от котельных","Из тепловой сети, всего","от станций с мощностью производства >= 25 МВт","от станций с мощностью производства < 25 МВт","от котельных (некомбинированная выработка)","в том числе покупка потерь из тепловой сети","от станций с мощностью производства >= 25 МВт","от станций с мощностью производства < 25 МВт","от котельных (некомбинированная выработка)",{"$nulls":4},"Всего","На собственное производство","На хозяйственные нужды","Всего","Всего","Финансируемые из бюджетов всех уровней","Население","Прочие"]
[{"$nulls":14},"Всего","На собственное производство","На хозяйственные нужды"]
[{"$nulls":6},"А","IC","CL","Б","1","2","3",null,"3.1","3.1.1","3.1.2","3.2","3.3","3.4","3.5","3.6","4.1","4.1.1","4.1.2","4.1.3","4.2","4.2.1","4.2.2","4.2.3","4.3","4.3.1","4.3.2","4.3.3","4.4","4.4.1","4.4.2","4.4.3","5","5.1","5.2",null,"5.2.1","5.2.1.1","5.2.1.2","5.2.2","5.2.3","5.2.3.1","5.2.3.2","5.2.3.3",{"$nulls":17},"RESELLERS_I","BUDGET_I","POPULATION_I","OTHERS_I","OWN_I","RESELLERS_II","BUDGET_II","POPULATION_II","OTHERS_II","OWN_II",{"$nulls":5},"BPR_vs_BTR"]
[]
[{"$nulls":3},"-",null,{"$f":"IF(TEMPLATE_SPHERE_CODE=\"COLDVSNA\",\"0.1.P\",\"0.1\")","v":"0.1"},"Всего по организации",{"$nulls":3},{"$f":"SUMIF($BA131:$BA132,$BA126,K131:K132)","v":{"v":0,"d":"0.00"}},{"$f":"SUMIF($BA131:$BA132,$BA126,L131:L132)","v":{"v":0,"d":"0.00"}},{"$f":"SUMIF($BA131:$BA132,$BA126,M131:M132)","v":{"v":0,"d":"0.00"}},null,{"$f":"SUMIF($BA131:$BA132,$BA126,O131:O132)","v":{"v":0,"d":"0.00"}},{"v":0,"d":"0.00"},{"v":0,"d":"0.00"},{"v":0,"d":"0.00"},{"v":0,"d":"0.00"},{"v":0,"d":"0.00"},{"v":0,"d":"0.00"},{"v":0,"d":"0.00"},{"v":0,"d":"0.00"},{"v":0,"d":"0.00"},{"v":0,"d":"0.00"},{"$f":"SUMIF($BA131:$BA132,$BA126,Z131:Z132)","v":{"v":0,"d":"0.00"}},{"$f":"SUMIF($BA131:$BA132,$BA126,AA131:AA132)","v":{"v":0,"d":"0.00"}},{"$f":"SUMIF($BA131:$BA132,$BA126,AB131:AB132)","v":{"v":0,"d":"0.00"}},{"$f":"SUMIF($BA131:$BA132,$BA126,AC131:AC132)","v":{"v":0,"d":"0.00"}},{"$f":"SUMIF($BA131:$BA132,$BA126,AD131:AD132)","v":{"v":0,"d":"0.00"}},{"$f":"SUMIF($BA131:$BA132,$BA126,AE131:AE132)","v":{"v":0,"d":"0.00"}},{"v":0,"d":"0.00"},{"v":0,"d":"0.00"},{"v":0,"d":"0.00"},{"v":0,"d":"0.00"},{"v":0,"d":"0.00"},{"v":0,"d":"0.00"},{"v":0,"d":"0.00"},{"v":0,"d":"0.00"},{"v":0,"d":"0.00"},{"v":0,"d":"0.00"},null,{"$f":"SUMIF($BA131:$BA132,$BA126,AQ131:AQ132)","v":{"v":0,"d":"0.00"}},{"v":0,"d":"0.00"},{"v":0,"d":"0.00"},{"v":0,"d":"0.00"},{"v":0,"d":"0.00"},{"v":0,"d":"0.00"},{"v":0,"d":"0.00"},{"v":0,"d":"0.00"},null,null,"TOTAL_ORG_YEAR"]
[{"$nulls":5},{"$f":"IF(TEMPLATE_SPHERE_CODE=\"COLDVSNA\",\"0.1.T\",\"\")","v":""}]
[]
[]
[]
[null,0,{"$nulls":65},"Сумма объёмов по периодам (I, II)",{"$nulls":14},"Общий объём производства для сравнения с БТр (нельзя передать больше, чем произведено)"]
[{"$nulls":6},"Добавить"]

{"sheet":"ТС.БТр","index":12,"n_rows":132,"n_cols":103,"rows_kept":132,"hidden":true,"merged":[[0,1,27,1],[0,5,1,5],[0,6,1,6],[2,2,14,2],[15,2,27,2],[56,1,83,1],[56,5,57,5],[56,6,57,6],[58,2,70,2],[71,2,83,2],[119,5,122,5],[119,6,122,6],[119,7,122,7],[119,8,122,8],[119,9,122,9],[119,10,122,10],[119,11,122,11],[119,12,119,19],[120,12,122,12],[120,13,120,15],[120,16,122,16],[120,17,122,17],[120,18,122,18],[120,19,122,19],[121,13,122,13],[121,14,122,14],[121,15,122,15],[125,6,126,6],[127,6,128,6],[130,67,130,76]]}
[null,null,{"$f":"F3","v":"0.0"},"-",null,{"$f":"B1","v":0},{"$nulls":46},"TOTAL_ORG"]
[]
[{"$nulls":5},{"$f":"F1 & \".0\"","v":"0.0"},"год",{"$nulls":45},"TOTAL_ORG_YEAR",{"$nulls":14},{"$f":"SUM($Q4:$Q15)","v":{"v":0,"d":"0.00"}},{"$f":"SUM($R4:$R15)","v":{"v":0,"d":"0.00"}},{"$f":"SUM($S4:$S15)","v":{"v":0,"d":"0.00"}},{"$f":"SUM($T4:$T15)","v":{"v":0,"d":"0.00"}},{"$f":"SUM($N4:$N15)","v":{"v":0,"d":"0.00"}},{"$f":"SUM($Q4:$Q15)","v":{"v":0,"d":"0.00"}},{"$f":"SUM($R4:$R15)","v":{"v":0,"d":"0.00"}},{"$f":"SUM($S4:$S15)","v":{"v":0,"d":"0.00"}},{"$f":"SUM($T4:$T15)","v":{"v":0,"d":"0.00"}},{"$f":"SUM($N4:$N15)","v":{"v":0,"d":"0.00"}},{"$nulls":5},{"$f":"SUM($Q4:$Q9)","v":{"v":0,"d":"0.00"}},{"$f":"SUM($R4:$R9)","v":{"v":0,"d":"0.00"}},{"$f":"SUM($S4:$S9)","v":{"v":0,"d":"0.00"}},{"$f":"SUM($T4:$T9)","v":{"v":0,"d":"0.00"}},{"$f":"SUM($N4:$N9)","v":{"v":0,"d":"0.00"}},{"$f":"SUM($Q10:$Q15)","v":{"v":0,"d":"0.00"}},{"$f":"SUM($R10:$R15)","v":{"v":0,"d":"0.00"}},{"$f":"SUM($S10:$S15)","v":{"v":0,"d":"0.00"}},{"$f":"SUM($T10:$T15)","v":{"v":0,"d":"0.00"}},{"$f":"SUM($N10:$N15)","v":{"v":0,"d":"0.00"}}]
[{"$nulls":5},{"$f":"F1 & \".1\"","v":"0.1"},"январь",{"$nulls":45},{"$f":"C1 & \"-I\"","v":"0.0-I"},{"$nulls":44},{"$f":"IF(OR(BP3=0,CE3=0,BP3=\"\"),0,CE3/BP3)","v":0},{"$f":"IF(OR(BQ3=0,CF3=0,BQ3=\"\"),0,CF3/BQ3)","v":0},{"$f":"IF(OR(BR3=0,CG3=0,BR3=\"\"),0,CG3/BR3)","v":0},{"$f":"IF(OR(BS3=0,CH3=0,BS3=\"\"),0,CH3/BS3)","v":0},{"$f":"IF(OR(BT3=0,CI3=0,BT3=\"\"),0,CI3/BT3)","v":0},{"$f":"IF(OR(SUM(BP3:BT3)=0,SUM(CE3:CI3)=0),0,SUM(CE3:CI3)/SUM(BP3:BT3))","v":0}]
[{"$nulls":5},{"$f":"F1 & \".2\"","v":"0.2"},"февраль",{"$nulls":45},{"$f":"C1 & \"-I\"","v":"0.0-I"}]
[{"$nulls":5},{"$f":"F1 & \".3\"","v":"0.3"},"март",{"$nulls":45},{"$f":"C1 & \"-I\"","v":"0.0-I"}]
[{"$nulls":5},{"$f":"F1 & \".4\"","v":"0.4"},"апрель",{"$nulls":45},{"$f":"C1 & \"-I\"","v":"0.0-I"}]
[{"$nulls":5},{"$f":"F1 & \".5\"","v":"0.5"},"май",{"$nulls":45},{"$f":"C1 & \"-I\"","v":"0.0-I"}]
[{"$nulls":5},{"$f":"F1 & \".6\"","v":"0.6"},"июнь",{"$nulls":45},{"$f":"C1 & \"-I\"","v":"0.0-I"}]
[{"$nulls":5},{"$f":"F1 & \".7\"","v":"0.7"},"июль",{"$nulls":45},{"$f":"C1 & \"-II\"","v":"0.0-II"},{"$nulls":44},{"$f":"IF(OR(BU3=0,CJ3=0,BU3=\"\"),0,CJ3/BU3)","v":0},{"$f":"IF(OR(BV3=0,CK3=0,BV3=\"\"),0,CK3/BV3)","v":0},{"$f":"IF(OR(BW3=0,CL3=0,BW3=\"\"),0,CL3/BW3)","v":0},{"$f":"IF(OR(BX3=0,CM3=0,BX3=\"\"),0,CM3/BX3)","v":0},{"$f":"IF(OR(BY3=0,CN3=0,BY3=\"\"),0,CN3/BY3)","v":0},{"$f":"IF(OR(SUM(BU3:BY3)=0,SUM(CJ3:CN3)=0),0,SUM(CJ3:CN3)/SUM(BU3:BY3))","v":0}]
[{"$nulls":5},{"$f":"F1 & \".8\"","v":"0.8"},"август",{"$nulls":45},{"$f":"C1 & \"-II\"","v":"0.0-II"}]
[{"$nulls":5},{"$f":"F1 & \".9\"","v":"0.9"},"сентябрь",{"$nulls":45},{"$f":"C1 & \"-II\"","v":"0.0-II"}]
[{"$nulls":5},{"$f":"F1 & \".10\"","v":"0.10"},"октябрь",{"$nulls":45},{"$f":"C1 & \"-II\"","v":"0.0-II"}]
[{"$nulls":5},{"$f":"F1 & \".11\"","v":"0.11"},"ноябрь",{"$nulls":45},{"$f":"C1 & \"-II\"","v":"0.0-II"}]
[{"$nulls":5},{"$f":"F1 & \".12\"","v":"0.12"},"декабрь",{"$nulls":45},{"$f":"C1 & \"-II\"","v":"0.0-II"}]
{"$rows_empty":41}
["TBD",null,{"$f":"F59","v":"0.0"},"-",null,{"$f":"B57","v":0},null,{"$f":"H59","v":{"v":0,"d":"0.00"}},{"$f":"I59","v":{"v":0,"d":"0.00"}},{"$f":"A57","v":"TBD"},{"$f":"K59","v":{"v":0,"d":"0.00"}},{"v":0,"d":"0.00"},{"v":0,"d":"0.00"},{"v":0,"d":"0.00"},{"v":0,"d":"0.00"},{"v":0,"d":"0.00"},{"v":0,"d":"0.00"},{"v":0,"d":"0.00"},{"v":0,"d":"0.00"},{"v":0,"d":"0.00"},{"$nulls":32},"TOTAL_ORG"]
[]
[{"$nulls":5},{"$f":"F57 & \".0\"","v":"0.0"},"год",{"$f":"SUMIF('Список объектов'!$R$15:$R$32,$F59,'Список объектов'!$W$15:$W$32)","v":{"v":0,"d":"0.00"}},{"$f":"SUMIF('Список объектов'!$R$15:$R$32,$F59,'Список объектов'!$X$15:$X$32)","v":{"v":0,"d":"0.00"}},{"$f":"J57","v":"TBD"},null,null,{"$f":"SUM(N59,Q59,R59:T59)","v":{"v":0,"d":"0.00"}},{"$f":"SUM(N60:N71)","v":{"v":0,"d":"0.00"}},{"v":0,"d":"0.00"},{"v":0,"d":"0.00"},{"v":0,"d":"0.00"},{"v":0,"d":"0.00"},{"v":0,"d":"0.00"},{"v":0,"d":"0.00"},{"$nulls":32},"TOTAL_ORG_YEAR",{"$nulls":14},{"$f":"SUM($Q60:$Q71)","v":{"v":0,"d":"0.00"}},{"$f":"SUM($R60:$R71)","v":{"v":0,"d":"0.00"}},{"$f":"SUM($S60:$S71)","v":{"v":0,"d":"0.00"}},{"$f":"SUM($T60:$T71)","v":{"v":0,"d":"0.00"}},{"$f":"SUM($N60:$N71)","v":{"v":0,"d":"0.00"}},{"$f":"SUM($Q60:$Q71)","v":{"v":0,"d":"0.00"}},{"$f":"SUM($R60:$R71)","v":{"v":0,"d":"0.00"}},{"$f":"SUM($S60:$S71)","v":{"v":0,"d":"0.00"}},{"$f":"SUM($T60:$T71)","v":{"v":0,"d":"0.00"}},{"$f":"SUM($N60:$N71)","v":{"v":0,"d":"0.00"}},{"$nulls":5},{"$f":"SUM($Q60:$Q65)","v":{"v":0,"d":"0.00"}},{"$f":"SUM($R60:$R65)","v":{"v":0,"d":"0.00"}},{"$f":"SUM($S60:$S65)","v":{"v":0,"d":"0.00"}},{"$f":"SUM($T60:$T65)","v":{"v":0,"d":"0.00"}},{"$f":"SUM($N60:$N65)","v":{"v":0,"d":"0.00"}},{"$f":"SUM($Q66:$Q71)","v":{"v":0,"d":"0.00"}},{"$f":"SUM($R66:$R71)","v":{"v":0,"d":"0.00"}},{"$f":"SUM($S66:$S71)","v":{"v":0,"d":"0.00"}},{"$f":"SUM($T66:$T71)","v":{"v":0,"d":"0.00"}},{"$f":"SUM($N66:$N71)","v":{"v":0,"d":"0.00"}}]
[{"$nulls":5},{"$f":"F57 & \".1\"","v":"0.1"},"январь",null,null,{"$f":"IF(OFFSET('Список территорий'!CJ$15,$F57,0)=\"a\",\"Y\",\"N\")","v":"N"},null,null,{"v":0,"d":"0.00"},{"$f":"SUM(O60:P60)","v":{"v":0,"d":"0.00"}},{"$nulls":38},{"$f":"C57 & \"-I\"","v":"0.0-I"},{"$nulls":14},{"$f":"SUM($Q60:$Q65)","v":{"v":0,"d":"0.00"}},{"$f":"SUM($R60:$R65)","v":{"v":0,"d":"0.00"}},{"$f":"SUM($S60:$S65)","v":{"v":0,"d":"0.00"}},{"$f":"SUM($T60:$T65)","v":{"v":0,"d":"0.00"}},{"$f":"SUM($N60:$N65)","v":{"v":0,"d":"0.00"}},{"$f":"SUM($Q60:$Q65)","v":{"v":0,"d":"0.00"}},{"$f":"SUM($R60:$R65)","v":{"v":0,"d":"0.00"}},{"$f":"SUM($S60:$S65)","v":{"v":0,"d":"0.00"}},{"$f":"SUM($T60:$T65)","v":{"v":0,"d":"0.00"}},{"$f":"SUM($N60:$N65)","v":{"v":0,"d":"0.00"}},{"$nulls":20},{"$f":"IF(OR(BP59=0,CE59=0,BP59=\"\"),0,CE59/BP59)","v":0},{"$f":"IF(OR(BQ59=0,CF59=0,BQ59=\"\"),0,CF59/BQ59)","v":0},{"$f":"IF(OR(BR59=0,CG59=0,BR59=\"\"),0,CG59/BR59)","v":0},{"$f":"IF(OR(BS59=0,CH59=0,BS59=\"\"),0,CH59/BS59)","v":0},{"$f":"IF(OR(BT59=0,CI59=0,BT59=\"\"),0,CI59/BT59)","v":0},{"$f":"IF(OR(SUM(BP59:BT59)=0,SUM(CE59:CI59)=0),0,SUM(CE59:CI59)/SUM(BP59:BT59))","v":0}]
[{"$nulls":5},{"$f":"F57 & \".2\"","v":"0.2"},"февраль",null,null,{"$f":"IF(OFFSET('Список территорий'!CK$15,$F57,0)=\"a\",\"Y\",\"N\")","v":"N"},null,null,{"v":0,"d":"0.00"},{"$f":"SUM(O61:P61)","v":{"v":0,"d":"0.00"}},{"$nulls":38},{"$f":"C57 & \"-I\"","v":"0.0-I"}]
[{"$nulls":5},{"$f":"F57 & \".3\"","v":"0.3"},"март",null,null,{"$f":"IF(OFFSET('Список территорий'!CL$15,$F57,0)=\"a\",\"Y\",\"N\")","v":"N"},null,null,{"v":0,"d":"0.00"},{"v":0,"d":"0.00"},{"$nulls":38},{"$f":"C57 & \"-I\"","v":"0.0-I"}]
[{"$nulls":5},{"$f":"F57 & \".4\"","v":"0.4"},"апрель",null,null,{"$f":"IF(OFFSET('Список территорий'!CM$15,$F57,0)=\"a\",\"Y\",\"N\")","v":"N"},null,null,{"v":0,"d":"0.00"},{"v":0,"d":"0.00"},{"$nulls":38},{"$f":"C57 & \"-I\"","v":"0.0-I"}]
[{"$nulls":5},{"$f":"F57 & \".5\"","v":"0.5"},"май",null,null,{"$f":"IF(OFFSET('Список территорий'!CN$15,$F57,0)=\"a\",\"Y\",\"N\")","v":"N"},null,null,{"v":0,"d":"0.00"},{"v":0,"d":"0.00"},{"$nulls":38},{"$f":"C57 & \"-I\"","v":"0.0-I"}]
[{"$nulls":5},{"$f":"F57 & \".6\"","v":"0.6"},"июнь",null,null,{"$f":"IF(OFFSET('Список территорий'!CO$15,$F57,0)=\"a\",\"Y\",\"N\")","v":"N"},null,null,{"v":0,"d":"0.00"},{"v":0,"d":"0.00"},{"$nulls":38},{"$f":"C57 & \"-I\"","v":"0.0-I"}]
[{"$nulls":5},{"$f":"F57 & \".7\"","v":"0.7"},"июль",null,null,{"$f":"IF(OFFSET('Список территорий'!CP$15,$F57,0)=\"a\",\"Y\",\"N\")","v":"N"},null,null,{"v":0,"d":"0.00"},{"v":0,"d":"0.00"},{"$nulls":38},{"$f":"C57 & \"-II\"","v":"0.0-II"},{"$nulls":14},{"$f":"SUM($Q66:$Q71)","v":{"v":0,"d":"0.00"}},{"$f":"SUM($R66:$R71)","v":{"v":0,"d":"0.00"}},{"$f":"SUM($S66:$S71)","v":{"v":0,"d":"0.00"}},{"$f":"SUM($T66:$T71)","v":{"v":0,"d":"0.00"}},{"$f":"SUM($N66:$N71)","v":{"v":0,"d":"0.00"}},{"$f":"SUM($Q66:$Q71)","v":{"v":0,"d":"0.00"}},{"$f":"SUM($R66:$R71)","v":{"v":0,"d":"0.00"}},{"$f":"SUM($S66:$S71)","v":{"v":0,"d":"0.00"}},{"$f":"SUM($T66:$T71)","v":{"v":0,"d":"0.00"}},{"$f":"SUM($N66:$N71)","v":{"v":0,"d":"0.00"}},{"$nulls":20},{"$f":"IF(OR(BU59=0,CJ59=0,BU59=\"\"),0,CJ59/BU59)","v":0},{"$f":"IF(OR(BV59=0,CK59=0,BV59=\"\"),0,CK59/BV59)","v":0},{"$f":"IF(OR(BW59=0,CL59=0,BW59=\"\"),0,CL59/BW59)","v":0},{"$f":"IF(OR(BX59=0,CM59=0,BX59=\"\"),0,CM59/BX59)","v":0},{"$f":"IF(OR(BY59=0,CN59=0,BY59=\"\"),0,CN59/BY59)","v":0},{"$f":"IF(OR(SUM(BU59:BY59)=0,SUM(CJ59:CN59)=0),0,SUM(CJ59:CN59)/SUM(BU59:BY59))","v":0}]
[{"$nulls":5},{"$f":"F57 & \".8\"","v":"0.8"},"август",null,null,{"$f":"IF(OFFSET('Список территорий'!CQ$15,$F57,0)=\"a\",\"Y\",\"N\")","v":"N"},null,null,{"v":0,"d":"0.00"},{"v":0,"d":"0.00"},{"$nulls":38},{"$f":"C57 & \"-II\"","v":"0.0-II"}]
[{"$nulls":5},{"$f":"F57 & \".9\"","v":"0.9"},"сентябрь",null,null,{"$f":"IF(OFFSET('Список территорий'!CR$15,$F57,0)=\"a\",\"Y\",\"N\")","v":"N"},null,null,{"v":0,"d":"0.00"},{"v":0,"d":"0.00"},{"$nulls":38},{"$f":"C57 & \"-II\"","v":"0.0-II"}]
[{"$nulls":5},{"$f":"F57 & \".10\"","v":"0.10"},"октябрь",null,null,{"$f":"IF(OFFSET('Список территорий'!CS$15,$F57,0)=\"a\",\"Y\",\"N\")","v":"N"},null,null,{"v":0,"d":"0.00"},{"v":0,"d":"0.00"},{"$nulls":38},{"$f":"C57 & \"-II\"","v":"0.0-II"}]
[{"$nulls":5},{"$f":"F57 & \".11\"","v":"0.11"},"ноябрь",null,null,{"$f":"IF(OFFSET('Список территорий'!CT$15,$F57,0)=\"a\",\"Y\",\"N\")","v":"N"},null,null,{"v":0,"d":"0.00"},{"v":0,"d":"0.00"},{"$nulls":38},{"$f":"C57 & \"-II\"","v":"0.0-II"}]
[{"$nulls":5},{"$f":"F57 & \".12\"","v":"0.12"},"декабрь",null,null,{"$f":"IF(OFFSET('Список территорий'!CU$15,$F57,0)=\"a\",\"Y\",\"N\")","v":"N"},null,null,{"v":0,"d":"0.00"},{"v":0,"d":"0.00"},{"$nulls":38},{"$f":"C57 & \"-II\"","v":"0.0-II"}]
{"$rows_empty":46}
[{"$nulls":5},{"$f":"\"Баланс \" & TEMPLATE_SPHERE & \" (транспортировка)\"","v":"Баланс водоотведения (транспортировка)"}]
[{"$nulls":5},"Гкал"]
[{"$nulls":5},"№ п/п","Субъект баланса","Установленная тепловая мощность, Гкал/час","Подключённая (фактическая) тепловая нагрузка, Гкал/час","Вид(-ы) теплоносителя(-ей)","Принято тепловой энергии для передачи (транспортировки)","Потери","Отпуск тепловой энергии"]
[{"$nulls":12},"Всего","Передано на нужды организации",null,null,"Энерго-снабжающие организации","Бюджетные потребители","Население","Прочие потребители"]
[{"$nulls":13},"Всего","На собственное производство","На хозяйственные нужды"]
[]
[{"$nulls":6},"А","IC","CL","Б",1,2,"3","3.1","3.1.1","3.1.2","3.2","3.3","3.4","3.5",{"$nulls":47},"RESELLERS_I","BUDGET_I","POPULATION_I","OTHERS_I","OWN_I","RESELLERS_II","BUDGET_II","POPULATION_II","OTHERS_II","OWN_II"]
[]
[{"$nulls":3},"-",null,{"$f":"IF(TEMPLATE_SPHERE_CODE=\"COLDVSNA\",\"0.1.P\",\"0.1\")","v":"0.1"},"Всего по организации",{"$nulls":3},{"$f":"SUMIF($BA131:$BA132,$BA126,K131:K132)","v":{"v":0,"d":"0.00"}},{"v":0,"d":"0.00"},{"v":0,"d":"0.00"},{"v":0,"d":"0.00"},{"v":0,"d":"0.00"},{"v":0,"d":"0.00"},{"v":0,"d":"0.00"},{"v":0,"d":"0.00"},{"v":0,"d":"0.00"},{"v":0,"d":"0.00"},{"$nulls":32},"TOTAL_ORG_YEAR"]
[{"$nulls":5},{"$f":"IF(TEMPLATE_SPHERE_CODE=\"COLDVSNA\",\"0.1.T\",\"\")","v":""}]
[]
[]
[]
[null,0,{"$nulls":65},"Сумма объёмов по периодам (I, II)"]
[{"$nulls":6},"Добавить"]

{"sheet":"ТС.РО","index":13,"n_rows":393,"n_cols":46,"rows_kept":393,"hidden":true,"merged":[[12,38,13,39],[13,41,13,43],[18,38,19,38],[18,39,19,39],[18,40,19,40],[18,41,19,43]]}
[]
[]
[]
[]
[]
[{"$nulls":41},12,6,6]
[]
[]
[{"$nulls":41},"Y","I","II"]
[{"$nulls":44},"START","END"]
[]
[{"$nulls":39},"Необходимо указывать значения по полугодиям (6 и 6 месяцев)"]
["FULL_MODE",{"$nulls":37},"Расходы организации",null,"Период","Год","I полугодие","II полугодие"]
[]
[]
[]
[]
[{"$nulls":45},"Добавить"]
[{"$nulls":38},"№ п/п","Наименование показателя","Единица измерения","Всего по организации",null,null,0]
[]
[{"$nulls":39},"Является ли организация плательщиком НДС"]
{"$rows_empty":14}
[{"$nulls":38},"4","Стоимость натурального топлива с учётом транспортировки (перевозки) (топливо на технологические цели)","тыс.руб.",{"$f":"SUMIF($AS$9:$AT$9,AP$9,$AS36:$AT36)","v":{"v":0,"d":"0.00"}},{"v":0,"d":"0.00"},{"v":0,"d":"0.00"}]
[{"$nulls":38},"4.NG","Газ природный","тыс.руб.",{"v":0,"d":"0.00"},{"v":0,"d":"0.00"},{"v":0,"d":"0.00"}]
[{"$nulls":38},"4.NGL","Газ лимитный","тыс.руб.",{"v":0,"d":"0.00"},{"v":0,"d":"0.00"},{"v":0,"d":"0.00"}]
[{"$nulls":38},"4.NGU","Газ сверхлимитный","тыс.руб.",{"v":0,"d":"0.00"},{"v":0,"d":"0.00"},{"v":0,"d":"0.00"}]
[{"$nulls":38},"4.NGC","Газ коммерческий","тыс.руб.",{"v":0,"d":"0.00"},{"v":0,"d":"0.00"},{"v":0,"d":"0.00"}]
[{"$nulls":38},"4.GBL","Газ доменный","тыс.руб.",{"v":0,"d":"0.00"},{"v":0,"d":"0.00"},{"v":0,"d":"0.00"}]
[{"$nulls":38},"4.GCK","Газ коксовый","тыс.руб.",{"v":0,"d":"0.00"},{"v":0,"d":"0.00"},{"v":0,"d":"0.00"}]
[{"$nulls":38},"4.GOA","Газ нефтяной (попутный)","тыс.руб.",{"v":0,"d":"0.00"},{"v":0,"d":"0.00"},{"v":0,"d":"0.00"}]
[{"$nulls":38},"4.DSG","Газ сухой отбензиненный","тыс.руб.",{"v":0,"d":"0.00"},{"v":0,"d":"0.00"},{"v":0,"d":"0.00"}]
[{"$nulls":38},"4.GCN","Газовый конденсат","тыс.руб.",{"v":0,"d":"0.00"},{"v":0,"d":"0.00"},{"v":0,"d":"0.00"}]
[{"$nulls":38},"4.LNG","Газ сжиженный","тыс.руб.",{"v":0,"d":"0.00"},{"v":0,"d":"0.00"},{"v":0,"d":"0.00"}]
[{"$nulls":38},"4.DSL","Дизельное топливо","тыс.руб.",{"v":0,"d":"0.00"},{"v":0,"d":"0.00"},{"v":0,"d":"0.00"}]
[{"$nulls":38},"4.DSLA","А (арктическое)","тыс.руб.",{"v":0,"d":"0.00"},{"v":0,"d":"0.00"},{"v":0,"d":"0.00"}]
[{"$nulls":38},"4.DSLW","З (зимнее)","тыс.руб.",{"v":0,"d":"0.00"},{"v":0,"d":"0.00"},{"v":0,"d":"0.00"}]
[{"$nulls":38},"4.DSLS","Л (летнее)","тыс.руб.",{"v":0,"d":"0.00"},{"v":0,"d":"0.00"},{"v":0,"d":"0.00"}]
[{"$nulls":38},"4.DSLO","Е (межсезонное)","тыс.руб.",{"v":0,"d":"0.00"},{"v":0,"d":"0.00"},{"v":0,"d":"0.00"}]
[{"$nulls":38},"4.MST","Мазут","тыс.руб.",{"v":0,"d":"0.00"},{"v":0,"d":"0.00"},{"v":0,"d":"0.00"}]
[{"$nulls":38},"4.MSTM40","М-40","тыс.руб.",{"v":0,"d":"0.00"},{"v":0,"d":"0.00"},{"v":0,"d":"0.00"}]
[{"$nulls":38},"4.MSTM100","М-100","тыс.руб.",{"v":0,"d":"0.00"},{"v":0,"d":"0.00"},{"v":0,"d":"0.00"}]
[{"$nulls":38},"4.MSTM200","М-200","тыс.руб.",{"v":0,"d":"0.00"},{"v":0,"d":"0.00"},{"v":0,"d":"0.00"}]
[{"$nulls":38},"4.MSTT","мазут марки \"Т\"","тыс.руб.",{"$f":"SUMIF($AS$9:$AT$9,AP$9,$AS56:$AT56)","v":{"v":0,"d":"0.00"}},{"v":0,"d":"0.00"},{"v":0,"d":"0.00"}]
[{"$nulls":38},"4.MSTF5","Ф-5","тыс.руб.",{"v":0,"d":"0.00"},{"v":0,"d":"0.00"},{"v":0,"d":"0.00"}]
[{"$nulls":38},"4.MSTF12","Ф-12","тыс.руб.",{"v":0,"d":"0.00"},{"v":0,"d":"0.00"},{"v":0,"d":"0.00"}]
[{"$nulls":38},"4.OIL","Нефть","тыс.руб.",{"v":0,"d":"0.00"},{"v":0,"d":"0.00"},{"v":0,"d":"0.00"}]
[{"$nulls":38},"4.COA","Уголь","тыс.руб.",{"v":0,"d":"0.00"},{"v":0,"d":"0.00"},{"v":0,"d":"0.00"}]
[{"$nulls":38},"4.COAA","Уголь антрацит","тыс.руб.",{"v":0,"d":"0.00"},{"v":0,"d":"0.00"},{"v":0,"d":"0.00"}]
[{"$nulls":38},"4.COAB","Уголь бурый","тыс.руб.",{"v":0,"d":"0.00"},{"v":0,"d":"0.00"},{"v":0,"d":"0.00"}]
[{"$nulls":38},"4.COAG","Уголь газовый","тыс.руб.",{"v":0,"d":"0.00"},{"v":0,"d":"0.00"},{"v":0,"d":"0.00"}]
[{"$nulls":38},"4.COALF","Уголь длиннопламенный","тыс.руб.",{"v":0,"d":"0.00"},{"v":0,"d":"0.00"},{"v":0,"d":"0.00"}]
[{"$nulls":38},"4.COAF","Уголь жирный","тыс.руб.",{"v":0,"d":"0.00"},{"v":0,"d":"0.00"},{"v":0,"d":"0.00"}]
[{"$nulls":38},"4.COAC","Уголь коксовый","тыс.руб.",{"v":0,"d":"0.00"},{"v":0,"d":"0.00"},{"v":0,"d":"0.00"}]
[{"$nulls":38},"4.COASC","Уголь отощённо-спекающийся","тыс.руб.",{"v":0,"d":"0.00"},{"v":0,"d":"0.00"},{"v":0,"d":"0.00"}]
[{"$nulls":38},"4.COAWC","Уголь слабоспекающийся","тыс.руб.",{"v":0,"d":"0.00"},{"v":0,"d":"0.00"},{"v":0,"d":"0.00"}]
[{"$nulls":38},"4.COAS","Уголь тощий","тыс.руб.",{"v":0,"d":"0.00"},{"v":0,"d":"0.00"},{"v":0,"d":"0.00"}]
[{"$nulls":38},"4.ENR","Энергия","тыс.руб.",{"v":0,"d":"0.00"},{"v":0,"d":"0.00"},{"v":0,"d":"0.00"}]
[{"$nulls":38},"4.PWR","Заявленная мощность","тыс.руб.",{"v":0,"d":"0.00"},{"v":0,"d":"0.00"},{"v":0,"d":"0.00"}]
[{"$nulls":38},"4.CWD","Уголь древесный","тыс.руб.",{"v":0,"d":"0.00"},{"v":0,"d":"0.00"},{"v":0,"d":"0.00"}]
[{"$nulls":38},"4.WDS","Дрова","тыс.руб.",{"v":0,"d":"0.00"},{"v":0,"d":"0.00"},{"v":0,"d":"0.00"}]
[{"$nulls":38},"4.PLT","Пеллеты","тыс.руб.",{"v":0,"d":"0.00"},{"v":0,"d":"0.00"},{"v":0,"d":"0.00"}]
[{"$nulls":38},"4.SAW","Опилки","тыс.руб.",{"v":0,"d":"0.00"},{"v":0,"d":"0.00"},{"v":0,"d":"0.00"}]
[{"$nulls":38},"4.PEA","Торф","тыс.руб.",{"v":0,"d":"0.00"},{"v":0,"d":"0.00"},{"v":0,"d":"0.00"}]
[{"$nulls":38},"4.SHL","Сланцы","тыс.руб.",{"v":0,"d":"0.00"},{"v":0,"d":"0.00"},{"v":0,"d":"0.00"}]
[{"$nulls":38},"4.STF","Печное бытовое топливо","тыс.руб.",{"v":0,"d":"0.00"},{"v":0,"d":"0.00"},{"v":0,"d":"0.00"}]
[{"$nulls":38},"4.OTH","Прочие виды топлива","тыс.руб.",{"v":0,"d":"0.00"},{"v":0,"d":"0.00"},{"v":0,"d":"0.00"}]
{"$rows_empty":10}
[{"$nulls":38},"5","Энергия, в том числе ","тыс.руб.",{"$f":"SUMIF($AS$9:$AT$9,AP$9,$AS90:$AT90)","v":{"v":0,"d":"0.00"}},{"v":0,"d":"0.00"},{"v":0,"d":"0.00"}]
[{"$nulls":38},"5.1","энергия (покупная энергия) на технологические цели ","тыс.руб.",{"v":0,"d":"0.00"},{"v":0,"d":"0.00"},{"v":0,"d":"0.00"}]
[{"$nulls":38},"5.1.1","затраты на покупную тепловую энергию ","тыс.руб.",{"v":0,"d":"0.00"},{"v":0,"d":"0.00"},{"v":0,"d":"0.00"}]
[{"$nulls":38},{"$f":"AM92 & \".1\"","v":"5.1.1.1"},"С коллекторов, всего","тыс.руб.",{"v":0,"d":"0.00"},{"v":0,"d":"0.00"},{"v":0,"d":"0.00"}]
[{"$nulls":38},{"$f":"AM92 & \".1.1\"","v":"5.1.1.1.1"},"от станций с мощностью производства >= 25 МВт","тыс.руб.",{"v":0,"d":"0.00"},{"v":0,"d":"0.00"},{"v":0,"d":"0.00"}]
[{"$nulls":38},{"$f":"AM92 & \".1.1.0.1\"","v":"5.1.1.1.1.0.1"},"объём ТЭ","тыс. Гкал",{"v":0,"d":"0.00"},{"v":0,"d":"0.00"},{"v":0,"d":"0.00"}]
[{"$nulls":38},{"$f":"AM92 & \".1.1.0.2\"","v":"5.1.1.1.1.0.2"},"цена ТЭ","руб./Гкал",{"$f":"IF(AP95=0,0,AP94/AP95)","v":{"v":0,"d":"0.00"}},{"$f":"IF(AQ95=0,0,AQ94/AQ95)","v":{"v":0,"d":"0.00"}},{"$f":"IF(AR95=0,0,AR94/AR95)","v":{"v":0,"d":"0.00"}}]
[]
[{"$nulls":38},{"$f":"AM92 & \".1.2\"","v":"5.1.1.1.2"},"от станций с мощностью производства < 25 МВт","тыс.руб.",{"$f":"SUMIF($AS$9:$AT$9,AP$9,$AS98:$AT98)","v":{"v":0,"d":"0.00"}},{"v":0,"d":"0.00"},{"v":0,"d":"0.00"}]
[{"$nulls":38},{"$f":"AM92 & \".1.2.0.1\"","v":"5.1.1.1.2.0.1"},"объём ТЭ","тыс. Гкал",{"v":0,"d":"0.00"},{"v":0,"d":"0.00"},{"v":0,"d":"0.00"}]
[{"$nulls":38},{"$f":"AM92 & \".1.2.0.2\"","v":"5.1.1.1.2.0.2"},"цена ТЭ","руб./Гкал",{"$f":"IF(AP99=0,0,AP98/AP99)","v":{"v":0,"d":"0.00"}},{"$f":"IF(AQ99=0,0,AQ98/AQ99)","v":{"v":0,"d":"0.00"}},{"$f":"IF(AR99=0,0,AR98/AR99)","v":{"v":0,"d":"0.00"}}]
[]
[{"$nulls":38},{"$f":"AM92 & \".1.3\"","v":"5.1.1.1.3"},"от котельных","тыс.руб.",{"$f":"SUMIF($AS$9:$AT$9,AP$9,$AS102:$AT102)","v":{"v":0,"d":"0.00"}},{"v":0,"d":"0.00"},{"v":0,"d":"0.00"}]
[{"$nulls":38},{"$f":"AM92 & \".1.3.0.1\"","v":"5.1.1.1.3.0.1"},"объём ТЭ","тыс. Гкал",{"v":0,"d":"0.00"},{"v":0,"d":"0.00"},{"v":0,"d":"0.00"}]
[{"$nulls":38},{"$f":"AM92 & \".1.3.0.2\"","v":"5.1.1.1.3.0.2"},"цена ТЭ","руб./Гкал",{"$f":"IF(AP103=0,0,AP102/AP103)","v":{"v":0,"d":"0.00"}},{"$f":"IF(AQ103=0,0,AQ102/AQ103)","v":{"v":0,"d":"0.00"}},{"$f":"IF(AR103=0,0,AR102/AR103)","v":{"v":0,"d":"0.00"}}]
[{"$nulls":38},{"$f":"AM92 & \".2\"","v":"5.1.1.2"},"в том числе покупка потерь с коллекторов","тыс.руб.",{"$f":"SUMIF($AS$9:$AT$9,AP$9,$AS105:$AT105)","v":{"v":0,"d":"0.00"}},{"v":0,"d":"0.00"},{"v":0,"d":"0.00"}]
[{"$nulls":38},{"$f":"AM92 & \".2.1\"","v":"5.1.1.2.1"},"от станций с мощностью производства >= 25 МВт","тыс.руб.",{"v":0,"d":"0.00"},{"v":0,"d":"0.00"},{"v":0,"d":"0.00"}]
[{"$nulls":38},{"$f":"AM92 & \".2.2\"","v":"5.1.1.2.2"},"от станций с мощностью производства < 25 МВт","тыс.руб.",{"v":0,"d":"0.00"},{"v":0,"d":"0.00"},{"v":0,"d":"0.00"}]
[{"$nulls":38},{"$f":"AM92 & \".2.3\"","v":"5.1.1.2.3"},"от котельных","тыс.руб."]
[{"$nulls":38},{"$f":"AM92 & \".3\"","v":"5.1.1.3"},"Из тепловой сети, всего","тыс.руб.",{"$f":"SUMIF($AS$9:$AT$9,AP$9,$AS109:$AT109)","v":{"v":0,"d":"0.00"}},{"v":0,"d":"0.00"},{"v":0,"d":"0.00"}]
[{"$nulls":38},{"$f":"AM92 & \".3.1\"","v":"5.1.1.3.1"},"от станций с мощностью производства >= 25 МВт","тыс.руб.",{"v":0,"d":"0.00"},{"v":0,"d":"0.00"},{"v":0,"d":"0.00"}]
[{"$nulls":38},{"$f":"AM92 & \".3.1.0.1\"","v":"5.1.1.3.1.0.1"},"объём ТЭ","тыс. Гкал",{"v":0,"d":"0.00"},{"v":0,"d":"0.00"},{"v":0,"d":"0.00"}]
[{"$nulls":38},{"$f":"AM92 & \".3.1.0.2\"","v":"5.1.1.3.1.0.2"},"цена ТЭ","руб./Гкал",{"$f":"IF(AP111=0,0,AP110/AP111)","v":{"v":0,"d":"0.00"}},{"$f":"IF(AQ111=0,0,AQ110/AQ111)","v":{"v":0,"d":"0.00"}},{"$f":"IF(AR111=0,0,AR110/AR111)","v":{"v":0,"d":"0.00"}}]
[]
[{"$nulls":38},{"$f":"AM92 & \".3.2\"","v":"5.1.1.3.2"},"от станций с мощностью производства < 25 МВт","тыс.руб.",{"$f":"SUMIF($AS$9:$AT$9,AP$9,$AS114:$AT114)","v":{"v":0,"d":"0.00"}},{"v":0,"d":"0.00"},{"v":0,"d":"0.00"}]
[{"$nulls":38},{"$f":"AM92 & \".3.2.0.1\"","v":"5.1.1.3.2.0.1"},"объём ТЭ","тыс. Гкал",{"v":0,"d":"0.00"},{"v":0,"d":"0.00"},{"v":0,"d":"0.00"}]
[{"$nulls":38},{"$f":"AM92 & \".3.2.0.2\"","v":"5.1.1.3.2.0.2"},"цена ТЭ","руб./Гкал",{"$f":"IF(AP115=0,0,AP114/AP115)","v":{"v":0,"d":"0.00"}},{"$f":"IF(AQ115=0,0,AQ114/AQ115)","v":{"v":0,"d":"0.00"}},{"$f":"IF(AR115=0,0,AR114/AR115)","v":{"v":0,"d":"0.00"}}]
[]
[{"$nulls":38},{"$f":"AM92 & \".3.3\"","v":"5.1.1.3.3"},"от котельных (некомбинированная выработка)","тыс.руб.",{"$f":"SUMIF($AS$9:$AT$9,AP$9,$AS118:$AT118)","v":{"v":0,"d":"0.00"}},{"v":0,"d":"0.00"},{"v":0,"d":"0.00"}]
[{"$nulls":38},{"$f":"AM92 & \".3.3.0.1\"","v":"5.1.1.3.3.0.1"},"объём ТЭ","тыс. Гкал",{"v":0,"d":"0.00"},{"v":0,"d":"0.00"},{"v":0,"d":"0.00"}]
[{"$nulls":38},{"$f":"AM92 & \".3.3.0.2\"","v":"5.1.1.3.3.0.2"},"цена ТЭ","руб./Гкал",{"$f":"IF(AP119=0,0,AP118/AP119)","v":{"v":0,"d":"0.00"}},{"$f":"IF(AQ119=0,0,AQ118/AQ119)","v":{"v":0,"d":"0.00"}},{"$f":"IF(AR119=0,0,AR118/AR119)","v":{"v":0,"d":"0.00"}}]
[]
[{"$nulls":38},{"$f":"AM92 & \".4\"","v":"5.1.1.4"},"в том числе покупка потерь из тепловой сети","тыс.руб.",{"$f":"SUMIF($AS$9:$AT$9,AP$9,$AS122:$AT122)","v":{"v":0,"d":"0.00"}},{"v":0,"d":"0.00"},{"v":0,"d":"0.00"}]
[{"$nulls":38},{"$f":"AM92 & \".4.1\"","v":"5.1.1.4.1"},"от станций с мощностью производства >= 25 МВт","тыс.руб.",{"v":0,"d":"0.00"},{"v":0,"d":"0.00"},{"v":0,"d":"0.00"}]
[{"$nulls":38},{"$f":"AM92 & \".4.2\"","v":"5.1.1.4.2"},"от станций с мощностью производства < 25 МВт","тыс.руб.",{"v":0,"d":"0.00"},{"v":0,"d":"0.00"},{"v":0,"d":"0.00"}]
[{"$nulls":38},{"$f":"AM92 & \".4.3\"","v":"5.1.1.4.3"},"от котельных (некомбинированная выработка)","тыс.руб.",{"v":0,"d":"0.00"},{"v":0,"d":"0.00"},{"v":0,"d":"0.00"}]
[{"$nulls":38},"5.1.2","затраты на оплату услуг по передаче тепловой энергии","тыс.руб.",{"v":0,"d":"0.00"},{"v":0,"d":"0.00"},{"v":0,"d":"0.00"}]
[{"$nulls":38},"5.1.3","затраты на покупную электрическую энергию, по уровням напряжения:","тыс.руб.",{"v":0,"d":"0.00"},{"v":0,"d":"0.00"},{"v":0,"d":"0.00"}]
[{"$nulls":38},"5.1.3.0.1","объём энергии","тыс.кВт*ч",{"v":0,"d":"0.00"},{"v":0,"d":"0.00"},{"v":0,"d":"0.00"}]
[{"$nulls":38},"5.1.3.0.2","объём заявленной мощности","МВт",{"v":0,"d":"0.00"},{"v":0,"d":"0.00"},{"v":0,"d":"0.00"}]
[{"$nulls":38},"5.1.3.1.1","энергия НН (0,4 кВ и ниже)","тыс.руб.",{"v":0,"d":"0.00"},{"v":0,"d":"0.00"},{"v":0,"d":"0.00"}]
[{"$nulls":38},"5.1.3.1.1.1","тариф на энергию","руб./кВт*ч",{"$f":"IF(AP132=0,0,AP130/AP132)","v":{"v":0,"d":"0.00"}},{"$f":"IF(AQ132=0,0,AQ130/AQ132)","v":{"v":0,"d":"0.00"}},{"$f":"IF(AR132=0,0,AR130/AR132)","v":{"v":0,"d":"0.00"}}]
[{"$nulls":38},"5.1.3.1.1.2","объём энергии","тыс.кВт*ч",{"$f":"SUMIF($AS$9:$AT$9,AP$9,$AS132:$AT132)","v":{"v":0,"d":"0.00"}},{"v":0,"d":"0.00"},{"v":0,"d":"0.00"}]
[{"$nulls":38},"5.1.3.1.2","заявленная мощность по НН (0,4 кВ и ниже)","тыс.руб.",{"v":0,"d":"0.00"},{"v":0,"d":"0.00"},{"v":0,"d":"0.00"}]
[{"$nulls":38},"5.1.3.1.2.1","тариф на заявленную мощность","руб./кВт*мес",{"$f":"IF(AP135=0,0,AP133/AP135)","v":{"v":0,"d":"0.00"}},{"$f":"IF(AQ135=0,0,AQ133/AQ135)","v":{"v":0,"d":"0.00"}},{"$f":"IF(AR135=0,0,AR133/AR135)","v":{"v":0,"d":"0.00"}}]
[{"$nulls":38},"5.1.3.1.2.2","годовой объём мощности","МВт",{"$f":"SUMIF($AS$9:$AT$9,AP$9,$AS135:$AT135)","v":{"v":0,"d":"0.00"}},{"v":0,"d":"0.00"},{"v":0,"d":"0.00"}]
[{"$nulls":38},"5.1.3.2.1","энергия СН 2 (1-20 кВ)","тыс.руб.",{"v":0,"d":"0.00"},{"v":0,"d":"0.00"},{"v":0,"d":"0.00"}]
[{"$nulls":38},"5.1.3.2.1.1","тариф на энергию","руб./кВт*ч",{"$f":"IF(AP138=0,0,AP136/AP138)","v":{"v":0,"d":"0.00"}},{"$f":"IF(AQ138=0,0,AQ136/AQ138)","v":{"v":0,"d":"0.00"}},{"$f":"IF(AR138=0,0,AR136/AR138)","v":{"v":0,"d":"0.00"}}]
[{"$nulls":38},"5.1.3.2.1.2","объём энергии","тыс.кВт*ч",{"$f":"SUMIF($AS$9:$AT$9,AP$9,$AS138:$AT138)","v":{"v":0,"d":"0.00"}},{"v":0,"d":"0.00"},{"v":0,"d":"0.00"}]
[{"$nulls":38},"5.1.3.2.2","заявленная мощность по СН 2 (1-20 кВ)","тыс.руб.",{"v":0,"d":"0.00"},{"v":0,"d":"0.00"},{"v":0,"d":"0.00"}]
[{"$nulls":38},"5.1.3.2.2.1","тариф на заявленную мощность","руб./кВт*мес",{"$f":"IF(AP141=0,0,AP139/AP141)","v":{"v":0,"d":"0.00"}},{"$f":"IF(AQ141=0,0,AQ139/AQ141)","v":{"v":0,"d":"0.00"}},{"$f":"IF(AR141=0,0,AR139/AR141)","v":{"v":0,"d":"0.00"}}]
[{"$nulls":38},"5.1.3.2.2.2","годовой объём мощности","МВт",{"$f":"SUMIF($AS$9:$AT$9,AP$9,$AS141:$AT141)","v":{"v":0,"d":"0.00"}},{"v":0,"d":"0.00"},{"v":0,"d":"0.00"}]
[{"$nulls":38},"5.1.3.3.1","энергия СН 1 (35 кВ)","тыс.руб.",{"v":0,"d":"0.00"},{"v":0,"d":"0.00"},{"v":0,"d":"0.00"}]
[{"$nulls":38},"5.1.3.3.1.1","тариф на энергию","руб./кВт*ч",{"$f":"IF(AP144=0,0,AP142/AP144)","v":{"v":0,"d":"0.00"}},{"$f":"IF(AQ144=0,0,AQ142/AQ144)","v":{"v":0,"d":"0.00"}},{"$f":"IF(AR144=0,0,AR142/AR144)","v":{"v":0,"d":"0.00"}}]
[{"$nulls":38},"5.1.3.3.1.2","объём энергии","тыс.кВт*ч",{"$f":"SUMIF($AS$9:$AT$9,AP$9,$AS144:$AT144)","v":{"v":0,"d":"0.00"}},{"v":0,"d":"0.00"},{"v":0,"d":"0.00"}]
[{"$nulls":38},"5.1.3.3.2","заявленная мощность по СН 1 (35 кВ)","тыс.руб.",{"v":0,"d":"0.00"},{"v":0,"d":"0.00"},{"v":0,"d":"0.00"}]
[{"$nulls":38},"5.1.3.3.2.1","тариф на заявленную мощность","руб./кВт*мес",{"$f":"IF(AP147=0,0,AP145/AP147)","v":{"v":0,"d":"0.00"}},{"$f":"IF(AQ147=0,0,AQ145/AQ147)","v":{"v":0,"d":"0.00"}},{"$f":"IF(AR147=0,0,AR145/AR147)","v":{"v":0,"d":"0.00"}}]
[{"$nulls":38},"5.1.3.3.2.2","годовой объём мощности","МВт",{"$f":"SUMIF($AS$9:$AT$9,AP$9,$AS147:$AT147)","v":{"v":0,"d":"0.00"}},{"v":0,"d":"0.00"},{"v":0,"d":"0.00"}]
[{"$nulls":38},"5.1.3.4.1","энергия ВН (110 кВ и выше)","тыс.руб.",{"v":0,"d":"0.00"},{"v":0,"d":"0.00"},{"v":0,"d":"0.00"}]
[{"$nulls":38},"5.1.3.4.1.1","тариф на энергию","руб./кВт*ч",{"$f":"IF(AP150=0,0,AP148/AP150)","v":{"v":0,"d":"0.00"}},{"$f":"IF(AQ150=0,0,AQ148/AQ150)","v":{"v":0,"d":"0.00"}},{"$f":"IF(AR150=0,0,AR148/AR150)","v":{"v":0,"d":"0.00"}}]
[{"$nulls":38},"5.1.3.4.1.2","объём энергии","тыс.кВт*ч",{"$f":"SUMIF($AS$9:$AT$9,AP$9,$AS150:$AT150)","v":{"v":0,"d":"0.00"}},{"v":0,"d":"0.00"},{"v":0,"d":"0.00"}]
[{"$nulls":38},"5.1.3.4.2","заявленная мощность по ВН (110 кВ и выше)","тыс.руб.",{"v":0,"d":"0.00"},{"v":0,"d":"0.00"},{"v":0,"d":"0.00"}]
[{"$nulls":38},"5.1.3.4.2.1","тариф на заявленную мощность","руб./кВт*мес",{"$f":"IF(AP153=0,0,AP151/AP153)","v":{"v":0,"d":"0.00"}},{"$f":"IF(AQ153=0,0,AQ151/AQ153)","v":{"v":0,"d":"0.00"}},{"$f":"IF(AR153=0,0,AR151/AR153)","v":{"v":0,"d":"0.00"}}]
[{"$nulls":38},"5.1.3.4.2.2","годовой объём мощности","МВт",{"$f":"SUMIF($AS$9:$AT$9,AP$9,$AS153:$AT153)","v":{"v":0,"d":"0.00"}},{"v":0,"d":"0.00"},{"v":0,"d":"0.00"}]
[{"$nulls":38},"5.2","энергия на хозяйственные нужды ","тыс.руб.",{"v":0,"d":"0.00"},{"v":0,"d":"0.00"},{"v":0,"d":"0.00"}]
[{"$nulls":38},"5.2.1","тепловая энергия ","тыс.руб.",{"v":0,"d":"0.00"},{"v":0,"d":"0.00"},{"v":0,"d":"0.00"}]
[{"$nulls":38},{"$f":"AM155 & \".1\"","v":"5.2.1.1"},"С коллекторов, всего","тыс.руб.",{"v":0,"d":"0.00"},{"v":0,"d":"0.00"},{"v":0,"d":"0.00"}]
[{"$nulls":38},{"$f":"AM155 & \".1.1\"","v":"5.2.1.1.1"},"от станций с мощностью производства >= 25 МВт","тыс.руб.",{"v":0,"d":"0.00"},{"v":0,"d":"0.00"},{"v":0,"d":"0.00"}]
[{"$nulls":38},{"$f":"AM155 & \".1.1.0.1\"","v":"5.2.1.1.1.0.1"},"объём ТЭ","тыс. Гкал",{"v":0,"d":"0.00"},{"v":0,"d":"0.00"},{"v":0,"d":"0.00"}]
[{"$nulls":38},{"$f":"AM155 & \".1.1.0.2\"","v":"5.2.1.1.1.0.2"},"цена ТЭ","руб./Гкал",{"$f":"IF(AP158=0,0,AP157/AP158)","v":{"v":0,"d":"0.00"}},{"$f":"IF(AQ158=0,0,AQ157/AQ158)","v":{"v":0,"d":"0.00"}},{"$f":"IF(AR158=0,0,AR157/AR158)","v":{"v":0,"d":"0.00"}}]
[]
[{"$nulls":38},{"$f":"AM155 & \".1.2\"","v":"5.2.1.1.2"},"от станций с мощностью производства < 25 МВт","тыс.руб.",{"$f":"SUMIF($AS$9:$AT$9,AP$9,$AS161:$AT161)","v":{"v":0,"d":"0.00"}},{"v":0,"d":"0.00"},{"v":0,"d":"0.00"}]
[{"$nulls":38},{"$f":"AM155 & \".1.2.0.1\"","v":"5.2.1.1.2.0.1"},"объём ТЭ","тыс. Гкал",{"v":0,"d":"0.00"},{"v":0,"d":"0.00"},{"v":0,"d":"0.00"}]
[{"$nulls":38},{"$f":"AM155 & \".1.2.0.2\"","v":"5.2.1.1.2.0.2"},"цена ТЭ","руб./Гкал",{"$f":"IF(AP162=0,0,AP161/AP162)","v":{"v":0,"d":"0.00"}},{"$f":"IF(AQ162=0,0,AQ161/AQ162)","v":{"v":0,"d":"0.00"}},{"$f":"IF(AR162=0,0,AR161/AR162)","v":{"v":0,"d":"0.00"}}]
[]
[{"$nulls":38},{"$f":"AM155 & \".1.3\"","v":"5.2.1.1.3"},"от котельных","тыс.руб.",{"$f":"SUMIF($AS$9:$AT$9,AP$9,$AS165:$AT165)","v":{"v":0,"d":"0.00"}},{"v":0,"d":"0.00"},{"v":0,"d":"0.00"}]
[{"$nulls":38},{"$f":"AM155 & \".1.3.0.1\"","v":"5.2.1.1.3.0.1"},"объём ТЭ","тыс. Гкал",{"v":0,"d":"0.00"},{"v":0,"d":"0.00"},{"v":0,"d":"0.00"}]
[{"$nulls":38},{"$f":"AM155 & \".1.3.0.2\"","v":"5.2.1.1.3.0.2"},"цена ТЭ","руб./Гкал",{"$f":"IF(AP166=0,0,AP165/AP166)","v":{"v":0,"d":"0.00"}},{"$f":"IF(AQ166=0,0,AQ165/AQ166)","v":{"v":0,"d":"0.00"}},{"$f":"IF(AR166=0,0,AR165/AR166)","v":{"v":0,"d":"0.00"}}]
[{"$nulls":38},{"$f":"AM155 & \".2\"","v":"5.2.1.2"},"в том числе покупка потерь с коллекторов","тыс.руб.",{"$f":"SUMIF($AS$9:$AT$9,AP$9,$AS168:$AT168)","v":{"v":0,"d":"0.00"}},{"v":0,"d":"0.00"},{"v":0,"d":"0.00"}]
[{"$nulls":38},{"$f":"AM155 & \".2.1\"","v":"5.2.1.2.1"},"от станций с мощностью производства >= 25 МВт","тыс.руб.",{"v":0,"d":"0.00"},{"v":0,"d":"0.00"},{"v":0,"d":"0.00"}]
[{"$nulls":38},{"$f":"AM155 & \".2.2\"","v":"5.2.1.2.2"},"от станций с мощностью производства < 25 МВт","тыс.руб.",{"v":0,"d":"0.00"},{"v":0,"d":"0.00"},{"v":0,"d":"0.00"}]
[{"$nulls":38},{"$f":"AM155 & \".2.3\"","v":"5.2.1.2.3"},"от котельных","тыс.руб."]
[{"$nulls":38},{"$f":"AM155 & \".3\"","v":"5.2.1.3"},"Из тепловой сети, всего","тыс.руб.",{"$f":"SUMIF($AS$9:$AT$9,AP$9,$AS172:$AT172)","v":{"v":0,"d":"0.00"}},{"v":0,"d":"0.00"},{"v":0,"d":"0.00"}]
[{"$nulls":38},{"$f":"AM155 & \".3.1\"","v":"5.2.1.3.1"},"от станций с мощностью производства >= 25 МВт","тыс.руб.",{"v":0,"d":"0.00"},{"v":0,"d":"0.00"},{"v":0,"d":"0.00"}]
[{"$nulls":38},{"$f":"AM155 & \".3.1.0.1\"","v":"5.2.1.3.1.0.1"},"объём ТЭ","тыс. Гкал",{"v":0,"d":"0.00"},{"v":0,"d":"0.00"},{"v":0,"d":"0.00"}]
[{"$nulls":38},{"$f":"AM155 & \".3.1.0.2\"","v":"5.2.1.3.1.0.2"},"цена ТЭ","руб./Гкал",{"$f":"IF(AP174=0,0,AP173/AP174)","v":{"v":0,"d":"0.00"}},{"$f":"IF(AQ174=0,0,AQ173/AQ174)","v":{"v":0,"d":"0.00"}},{"$f":"IF(AR174=0,0,AR173/AR174)","v":{"v":0,"d":"0.00"}}]
[]
[{"$nulls":38},{"$f":"AM155 & \".3.2\"","v":"5.2.1.3.2"},"от станций с мощностью производства < 25 МВт","тыс.руб.",{"$f":"SUMIF($AS$9:$AT$9,AP$9,$AS177:$AT177)","v":{"v":0,"d":"0.00"}},{"v":0,"d":"0.00"},{"v":0,"d":"0.00"}]
[{"$nulls":38},{"$f":"AM155 & \".3.2.0.1\"","v":"5.2.1.3.2.0.1"},"объём ТЭ","тыс. Гкал",{"v":0,"d":"0.00"},{"v":0,"d":"0.00"},{"v":0,"d":"0.00"}]
[{"$nulls":38},{"$f":"AM155 & \".3.2.0.2\"","v":"5.2.1.3.2.0.2"},"цена ТЭ","руб./Гкал",{"$f":"IF(AP178=0,0,AP177/AP178)","v":{"v":0,"d":"0.00"}},{"$f":"IF(AQ178=0,0,AQ177/AQ178)","v":{"v":0,"d":"0.00"}},{"$f":"IF(AR178=0,0,AR177/AR178)","v":{"v":0,"d":"0.00"}}]
[]
[{"$nulls":38},{"$f":"AM155 & \".3.3\"","v":"5.2.1.3.3"},"от котельных (некомбинированная выработка)","тыс.руб.",{"$f":"SUMIF($AS$9:$AT$9,AP$9,$AS181:$AT181)","v":{"v":0,"d":"0.00"}},{"v":0,"d":"0.00"},{"v":0,"d":"0.00"}]
[{"$nulls":38},{"$f":"AM155 & \".3.3.0.1\"","v":"5.2.1.3.3.0.1"},"объём ТЭ","тыс. Гкал",{"v":0,"d":"0.00"},{"v":0,"d":"0.00"},{"v":0,"d":"0.00"}]
[{"$nulls":38},{"$f":"AM155 & \".3.3.0.2\"","v":"5.2.1.3.3.0.2"},"цена ТЭ","руб./Гкал",{"$f":"IF(AP182=0,0,AP181/AP182)","v":{"v":0,"d":"0.00"}},{"$f":"IF(AQ182=0,0,AQ181/AQ182)","v":{"v":0,"d":"0.00"}},{"$f":"IF(AR182=0,0,AR181/AR182)","v":{"v":0,"d":"0.00"}}]
[]
[{"$nulls":38},{"$f":"AM155 & \".4\"","v":"5.2.1.4"},"в том числе покупка потерь из тепловой сети","тыс.руб.",{"$f":"SUMIF($AS$9:$AT$9,AP$9,$AS185:$AT185)","v":{"v":0,"d":"0.00"}},{"v":0,"d":"0.00"},{"v":0,"d":"0.00"}]
[{"$nulls":38},{"$f":"AM155 & \".4.1\"","v":"5.2.1.4.1"},"от станций с мощностью производства >= 25 МВт","тыс.руб.",{"v":0,"d":"0.00"},{"v":0,"d":"0.00"},{"v":0,"d":"0.00"}]
[{"$nulls":38},{"$f":"AM155 & \".4.2\"","v":"5.2.1.4.2"},"от станций с мощностью производства < 25 МВт","тыс.руб.",{"v":0,"d":"0.00"},{"v":0,"d":"0.00"},{"v":0,"d":"0.00"}]
[{"$nulls":38},{"$f":"AM155 & \".4.3\"","v":"5.2.1.4.3"},"от котельных (некомбинированная выработка)","тыс.руб.",{"v":0,"d":"0.00"},{"v":0,"d":"0.00"},{"v":0,"d":"0.00"}]
[{"$nulls":38},"5.2.2","электрическая энергия ","тыс.руб.",{"v":0,"d":"0.00"},{"v":0,"d":"0.00"},{"v":0,"d":"0.00"}]
[{"$nulls":38},"5.2.2.0.1","объём энергии","тыс.кВт*ч",{"v":0,"d":"0.00"},{"v":0,"d":"0.00"},{"v":0,"d":"0.00"}]
[{"$nulls":38},"5.2.2.0.2","объём заявленной мощности","МВт",{"v":0,"d":"0.00"},{"v":0,"d":"0.00"},{"v":0,"d":"0.00"}]
[{"$nulls":38},"5.2.2.1.1","энергия НН (0,4 кВ и ниже)","тыс.руб.",{"v":0,"d":"0.00"},{"v":0,"d":"0.00"},{"v":0,"d":"0.00"}]
[{"$nulls":38},"5.2.2.1.1.1","тариф на энергию","руб./кВт*ч",{"$f":"IF(AP194=0,0,AP192/AP194)","v":{"v":0,"d":"0.00"}},{"$f":"IF(AQ194=0,0,AQ192/AQ194)","v":{"v":0,"d":"0.00"}},{"$f":"IF(AR194=0,0,AR192/AR194)","v":{"v":0,"d":"0.00"}}]
[{"$nulls":38},"5.2.2.1.1.2","объём энергии","тыс.кВт*ч",{"$f":"SUMIF($AS$9:$AT$9,AP$9,$AS194:$AT194)","v":{"v":0,"d":"0.00"}},{"v":0,"d":"0.00"},{"v":0,"d":"0.00"}]
[{"$nulls":38},"5.2.2.1.2","заявленная мощность по НН (0,4 кВ и ниже)","тыс.руб.",{"v":0,"d":"0.00"},{"v":0,"d":"0.00"},{"v":0,"d":"0.00"}]
[{"$nulls":38},"5.2.2.1.2.1","тариф на заявленную мощность","руб./кВт*мес",{"$f":"IF(AP197=0,0,AP195/AP197)","v":{"v":0,"d":"0.00"}},{"$f":"IF(AQ197=0,0,AQ195/AQ197)","v":{"v":0,"d":"0.00"}},{"$f":"IF(AR197=0,0,AR195/AR197)","v":{"v":0,"d":"0.00"}}]
[{"$nulls":38},"5.2.2.1.2.2","годовой объём мощности","МВт",{"$f":"SUMIF($AS$9:$AT$9,AP$9,$AS197:$AT197)","v":{"v":0,"d":"0.00"}},{"v":0,"d":"0.00"},{"v":0,"d":"0.00"}]
[{"$nulls":38},"5.2.2.2.1","энергия СН 2 (1-20 кВ)","тыс.руб.",{"v":0,"d":"0.00"},{"v":0,"d":"0.00"},{"v":0,"d":"0.00"}]
[{"$nulls":38},"5.2.2.2.1.1","тариф на энергию","руб./кВт*ч",{"$f":"IF(AP200=0,0,AP198/AP200)","v":{"v":0,"d":"0.00"}},{"$f":"IF(AQ200=0,0,AQ198/AQ200)","v":{"v":0,"d":"0.00"}},{"$f":"IF(AR200=0,0,AR198/AR200)","v":{"v":0,"d":"0.00"}}]
[{"$nulls":38},"5.2.2.2.1.2","объём энергии","тыс.кВт*ч",{"$f":"SUMIF($AS$9:$AT$9,AP$9,$AS200:$AT200)","v":{"v":0,"d":"0.00"}},{"v":0,"d":"0.00"},{"v":0,"d":"0.00"}]
[{"$nulls":38},"5.2.2.2.2","заявленная мощность по СН 2 (1-20 кВ)","тыс.руб.",{"v":0,"d":"0.00"},{"v":0,"d":"0.00"},{"v":0,"d":"0.00"}]
[{"$nulls":38},"5.2.2.2.2.1","тариф на заявленную мощность","руб./кВт*мес",{"$f":"IF(AP203=0,0,AP201/AP203)","v":{"v":0,"d":"0.00"}},{"$f":"IF(AQ203=0,0,AQ201/AQ203)","v":{"v":0,"d":"0.00"}},{"$f":"IF(AR203=0,0,AR201/AR203)","v":{"v":0,"d":"0.00"}}]
[{"$nulls":38},"5.2.2.2.2.2","годовой объём мощности","МВт",{"$f":"SUMIF($AS$9:$AT$9,AP$9,$AS203:$AT203)","v":{"v":0,"d":"0.00"}},{"v":0,"d":"0.00"},{"v":0,"d":"0.00"}]
[{"$nulls":38},"5.2.2.3.1","энергия СН 1 (35 кВ)","тыс.руб.",{"v":0,"d":"0.00"},{"v":0,"d":"0.00"},{"v":0,"d":"0.00"}]
[{"$nulls":38},"5.2.2.3.1.1","тариф на энергию","руб./кВт*ч",{"$f":"IF(AP206=0,0,AP204/AP206)","v":{"v":0,"d":"0.00"}},{"$f":"IF(AQ206=0,0,AQ204/AQ206)","v":{"v":0,"d":"0.00"}},{"$f":"IF(AR206=0,0,AR204/AR206)","v":{"v":0,"d":"0.00"}}]
[{"$nulls":38},"5.2.2.3.1.2","объём энергии","тыс.кВт*ч",{"$f":"SUMIF($AS$9:$AT$9,AP$9,$AS206:$AT206)","v":{"v":0,"d":"0.00"}},{"v":0,"d":"0.00"},{"v":0,"d":"0.00"}]
[{"$nulls":38},"5.2.2.3.2","заявленная мощность по СН 1 (35 кВ)","тыс.руб.",{"v":0,"d":"0.00"},{"v":0,"d":"0.00"},{"v":0,"d":"0.00"}]
[{"$nulls":38},"5.2.2.3.2.1","тариф на заявленную мощность","руб./кВт*мес",{"$f":"IF(AP209=0,0,AP207/AP209)","v":{"v":0,"d":"0.00"}},{"$f":"IF(AQ209=0,0,AQ207/AQ209)","v":{"v":0,"d":"0.00"}},{"$f":"IF(AR209=0,0,AR207/AR209)","v":{"v":0,"d":"0.00"}}]
[{"$nulls":38},"5.2.2.3.2.2","годовой объём мощности","МВт",{"$f":"SUMIF($AS$9:$AT$9,AP$9,$AS209:$AT209)","v":{"v":0,"d":"0.00"}},{"v":0,"d":"0.00"},{"v":0,"d":"0.00"}]
[{"$nulls":38},"5.2.2.4.1","энергия ВН (110 кВ и выше)","тыс.руб.",{"v":0,"d":"0.00"},{"v":0,"d":"0.00"},{"v":0,"d":"0.00"}]
[{"$nulls":38},"5.2.2.4.1.1","тариф на энергию","руб./кВт*ч",{"$f":"IF(AP212=0,0,AP210/AP212)","v":{"v":0,"d":"0.00"}},{"$f":"IF(AQ212=0,0,AQ210/AQ212)","v":{"v":0,"d":"0.00"}},{"$f":"IF(AR212=0,0,AR210/AR212)","v":{"v":0,"d":"0.00"}}]
[{"$nulls":38},"5.2.2.4.1.2","объём энергии","тыс.кВт*ч",{"$f":"SUMIF($AS$9:$AT$9,AP$9,$AS212:$AT212)","v":{"v":0,"d":"0.00"}},{"v":0,"d":"0.00"},{"v":0,"d":"0.00"}]
[{"$nulls":38},"5.2.2.4.2","заявленная мощность по ВН (110 кВ и выше)","тыс.руб.",{"v":0,"d":"0.00"},{"v":0,"d":"0.00"},{"v":0,"d":"0.00"}]
[{"$nulls":38},"5.2.2.4.2.1","тариф на заявленную мощность","руб./кВт*мес",{"$f":"IF(AP215=0,0,AP213/AP215)","v":{"v":0,"d":"0.00"}},{"$f":"IF(AQ215=0,0,AQ213/AQ215)","v":{"v":0,"d":"0.00"}},{"$f":"IF(AR215=0,0,AR213/AR215)","v":{"v":0,"d":"0.00"}}]
[{"$nulls":38},"5.2.2.4.2.2","годовой объём мощности","МВт",{"$f":"SUMIF($AS$9:$AT$9,AP$9,$AS215:$AT215)","v":{"v":0,"d":"0.00"}},{"v":0,"d":"0.00"},{"v":0,"d":"0.00"}]
[{"$nulls":38},"6","Затраты на оплату труда ","тыс.руб.",{"v":0,"d":"0.00"},{"v":0,"d":"0.00"},{"v":0,"d":"0.00"}]
[{"$nulls":38},"6.0.1","Справочно: среднемесячная оплата труда в целом по организации","руб./мес.",null,{"$f":"IF(AQ218=0,0,(1000*AQ216/AQ218)/AQ$6)","v":{"v":0,"d":"0.00"}},{"$f":"IF(AR218=0,0,(1000*AR216/AR218)/AR$6)","v":{"v":0,"d":"0.00"}}]
[{"$nulls":38},"6.0.2","Справочно: численность персонала в целом по организации","ед.",null,{"$f":"SUMIF($AS$9:$AT$9,AQ$9,$AS218:$AT218)","v":{"v":0,"d":"0.00"}},{"$f":"SUMIF($AS$9:$AT$9,AR$9,$AS218:$AT218)","v":{"v":0,"d":"0.00"}}]
[{"$nulls":38},{"$f":"AM218 & \".1\"","v":"6.0.2.1"},"Справочно: нормативная численность персонала в целом по организации","ед.",null,{"$f":"SUMIF($AS$9:$AT$9,AQ$9,$AS219:$AT219)","v":{"v":0,"d":"0.00"}},{"$f":"SUMIF($AS$9:$AT$9,AR$9,$AS219:$AT219)","v":{"v":0,"d":"0.00"}}]
[{"$nulls":38},{"$f":"AM218 & \".2\"","v":"6.0.2.2"},"Отношение фактической численности персонала к нормативной","%",null,{"$f":"IF(AQ219=0,0,AQ218/AQ219*100)","v":{"v":0,"d":"0.00"}},{"$f":"IF(AR219=0,0,AR218/AR219*100)","v":{"v":0,"d":"0.00"}}]
[{"$nulls":38},"6.0.3","Справочно: минимальный размер оплаты труда в целом по организации","руб./мес."]
[{"$nulls":38},"6.1","оплата труда основных производственных рабочих","тыс.руб.",{"$f":"SUMIF($AS$9:$AT$9,AP$9,$AS222:$AT222)","v":{"v":0,"d":"0.00"}},{"$f":"SUMIF($AS$9:$AT$9,AQ$9,$AS222:$AT222)","v":{"v":0,"d":"0.00"}},{"$f":"SUMIF($AS$9:$AT$9,AR$9,$AS222:$AT222)","v":{"v":0,"d":"0.00"}}]
[{"$nulls":38},"6.1.1","среднемесячная оплата труда основных производственных рабочих","руб./мес.",null,{"$f":"IF(AQ224=0,0,(1000*AQ222/AQ224)/AQ$6)","v":{"v":0,"d":"0.00"}},{"$f":"IF(AR224=0,0,(1000*AR222/AR224)/AR$6)","v":{"v":0,"d":"0.00"}}]
[{"$nulls":38},"6.1.2","численность основного производственного персонала, относимого на регулируемый вид деятельности","ед.",null,{"$f":"SUMIF($AS$9:$AT$9,AQ$9,$AS224:$AT224)","v":{"v":0,"d":"0.00"}},{"$f":"SUMIF($AS$9:$AT$9,AR$9,$AS224:$AT224)","v":{"v":0,"d":"0.00"}}]
[{"$nulls":38},{"$f":"AM224 & \".0\"","v":"6.1.2.0"},{"$f":"\"справочно: нормативная \" & AN224","v":"справочно: нормативная численность основного производственного персонала, относимого на регулируемый вид деятельности"},"ед.",null,{"$f":"SUMIF($AS$9:$AT$9,AQ$9,$AS225:$AT225)","v":{"v":0,"d":"0.00"}},{"$f":"SUMIF($AS$9:$AT$9,AR$9,$AS225:$AT225)","v":{"v":0,"d":"0.00"}}]
[{"$nulls":38},"6.1.3","Тарифная ставка рабочего 1-го разряда","руб./мес."]
[{"$nulls":38},"6.1.4","Базовая тарифная ставка рабочего 1-го разряда","руб./мес."]
[{"$nulls":38},"6.1.5","Минимальная тарифная ставка рабочего 1-го разряда","руб./мес."]
[{"$nulls":38},"6.2","оплата труда ремонтного персонала","тыс.руб.",{"$f":"SUMIF($AS$9:$AT$9,AP$9,$AS229:$AT229)","v":{"v":0,"d":"0.00"}},{"$f":"SUMIF($AS$9:$AT$9,AQ$9,$AS229:$AT229)","v":{"v":0,"d":"0.00"}},{"$f":"SUMIF($AS$9:$AT$9,AR$9,$AS229:$AT229)","v":{"v":0,"d":"0.00"}}]
[{"$nulls":38},"6.2.1","среднемесячная оплата труда ремонтного персонала","руб./мес.",null,{"$f":"IF(AQ231=0,0,(1000*AQ229/AQ231)/AQ$6)","v":{"v":0,"d":"0.00"}},{"$f":"IF(AR231=0,0,(1000*AR229/AR231)/AR$6)","v":{"v":0,"d":"0.00"}}]
[{"$nulls":38},"6.2.2","численность ремонтного персонала, относимого на регулируемый вид деятельности","ед.",null,{"$f":"SUMIF($AS$9:$AT$9,AQ$9,$AS231:$AT231)","v":{"v":0,"d":"0.00"}},{"$f":"SUMIF($AS$9:$AT$9,AR$9,$AS231:$AT231)","v":{"v":0,"d":"0.00"}}]
[{"$nulls":38},{"$f":"AM231 & \".0\"","v":"6.2.2.0"},{"$f":"\"справочно: нормативная \" & AN231","v":"справочно: нормативная численность ремонтного персонала, относимого на регулируемый вид деятельности"},"ед.",null,{"$f":"SUMIF($AS$9:$AT$9,AQ$9,$AS232:$AT232)","v":{"v":0,"d":"0.00"}},{"$f":"SUMIF($AS$9:$AT$9,AR$9,$AS232:$AT232)","v":{"v":0,"d":"0.00"}}]
[{"$nulls":38},"6.2.3","Тарифная ставка рабочего 1-го разряда","руб./мес."]
[{"$nulls":38},"6.2.4","Базовая тарифная ставка рабочего 1-го разряда","руб./мес."]
[{"$nulls":38},"6.2.5","Минимальная тарифная ставка рабочего 1-го разряда","руб./мес."]
[{"$nulls":38},"6.3","оплата труда цехового персонала","тыс.руб.",{"$f":"SUMIF($AS$9:$AT$9,AP$9,$AS236:$AT236)","v":{"v":0,"d":"0.00"}},{"$f":"SUMIF($AS$9:$AT$9,AQ$9,$AS236:$AT236)","v":{"v":0,"d":"0.00"}},{"$f":"SUMIF($AS$9:$AT$9,AR$9,$AS236:$AT236)","v":{"v":0,"d":"0.00"}}]
[{"$nulls":38},"6.3.1","среднемесячная оплата труда цехового персонала","руб./мес.",null,{"$f":"IF(AQ238=0,0,(1000*AQ236/AQ238)/AQ$6)","v":{"v":0,"d":"0.00"}},{"$f":"IF(AR238=0,0,(1000*AR236/AR238)/AR$6)","v":{"v":0,"d":"0.00"}}]
[{"$nulls":38},"6.3.2","численность цехового персонала, относимого на регулируемый вид деятельности","ед.",null,{"$f":"SUMIF($AS$9:$AT$9,AQ$9,$AS238:$AT238)","v":{"v":0,"d":"0.00"}},{"v":0,"d":"0.00"}]
[{"$nulls":38},{"$f":"AM238 & \".0\"","v":"6.3.2.0"},{"$f":"\"справочно: нормативная \" & AN238","v":"справочно: нормативная численность цехового персонала, относимого на регулируемый вид деятельности"},"ед.",null,{"v":0,"d":"0.00"},{"v":0,"d":"0.00"}]
[{"$nulls":38},"6.4","оплата труда АУП","тыс.руб.",{"$f":"SUMIF($AS$9:$AT$9,AP$9,$AS240:$AT240)","v":{"v":0,"d":"0.00"}},{"v":0,"d":"0.00"},{"v":0,"d":"0.00"}]
[{"$nulls":38},"6.4.1","среднемесячная оплата труда АУП","руб./мес.",null,{"$f":"IF(AQ242=0,0,(1000*AQ240/AQ242)/AQ$6)","v":{"v":0,"d":"0.00"}},{"$f":"IF(AR242=0,0,(1000*AR240/AR242)/AR$6)","v":{"v":0,"d":"0.00"}}]
[{"$nulls":38},"6.4.2","численность АУП, относимого на регулируемый вид деятельности","ед.",null,{"$f":"SUMIF($AS$9:$AT$9,AQ$9,$AS242:$AT242)","v":{"v":0,"d":"0.00"}},{"v":0,"d":"0.00"}]
[{"$nulls":38},{"$f":"AM242 & \".0\"","v":"6.4.2.0"},{"$f":"\"справочно: нормативная \" & AN242","v":"справочно: нормативная численность АУП, относимого на регулируемый вид деятельности"},"ед.",null,{"v":0,"d":"0.00"},{"v":0,"d":"0.00"}]
[{"$nulls":38},"6.5","оплата труда прочего персонала, относимого на регулируемый вид деятельности","тыс.руб.",{"$f":"SUMIF($AS$9:$AT$9,AP$9,$AS244:$AT244)","v":{"v":0,"d":"0.00"}},{"v":0,"d":"0.00"},{"v":0,"d":"0.00"}]
[{"$nulls":38},"6.5.1","среднемесячная оплата труда прочего персонала, относимого на регулируемый вид деятельности","руб./мес.",null,{"$f":"IF(AQ246=0,0,(1000*AQ244/AQ246)/AQ$6)","v":{"v":0,"d":"0.00"}},{"$f":"IF(AR246=0,0,(1000*AR244/AR246)/AR$6)","v":{"v":0,"d":"0.00"}}]
[{"$nulls":38},"6.5.2","численность прочего персонала, относимого на регулируемый вид деятельности","ед.",null,{"$f":"SUMIF($AS$9:$AT$9,AQ$9,$AS246:$AT246)","v":{"v":0,"d":"0.00"}},{"v":0,"d":"0.00"}]
[{"$nulls":38},{"$f":"AM246 & \".0\"","v":"6.5.2.0"},{"$f":"\"справочно: нормативная \" & AN246","v":"справочно: нормативная численность прочего персонала, относимого на регулируемый вид деятельности"},"ед.",null,{"v":0,"d":"0.00"},{"v":0,"d":"0.00"}]
[{"$nulls":38},"7","Отчисления на социальные нужды, в том числе ","тыс.руб.",{"$f":"SUMIF($AS$9:$AT$9,AP$9,$AS248:$AT248)","v":{"v":0,"d":"0.00"}},{"v":0,"d":"0.00"},{"v":0,"d":"0.00"}]
[{"$nulls":38},"7.0","процент отчислений на социальные нужды","%"]
[{"$nulls":38},"7.1","отчисления на соц. нужды от заработной платы основных производственных рабочих","тыс.руб.",{"$f":"SUMIF($AS$9:$AT$9,AP$9,$AS250:$AT250)","v":{"v":0,"d":"0.00"}},{"v":0,"d":"0.00"},{"v":0,"d":"0.00"}]
[{"$nulls":38},"7.2","отчисления на соц. нужды от заработной платы ремонтного персонала","тыс.руб.",{"v":0,"d":"0.00"},{"v":0,"d":"0.00"},{"v":0,"d":"0.00"}]
[{"$nulls":38},"7.3","отчисления на соц. нужды от заработной платы цехового персонала","тыс.руб.",{"v":0,"d":"0.00"},{"v":0,"d":"0.00"},{"v":0,"d":"0.00"}]
[{"$nulls":38},"7.4","отчисления на соц. нужды от заработной платы АУП","тыс.руб.",{"v":0,"d":"0.00"},{"v":0,"d":"0.00"},{"v":0,"d":"0.00"}]
[{"$nulls":38},"7.5","отчисления на соц. нужды от заработной платы прочего персонала","тыс.руб.",{"v":0,"d":"0.00"},{"v":0,"d":"0.00"},{"v":0,"d":"0.00"}]
[]
[{"$nulls":38},"8","Холодная вода","тыс.руб.",{"$f":"SUMIF($AS$9:$AT$9,AP$9,$AS256:$AT256)","v":{"v":0,"d":"0.00"}},{"$f":"SUMIF($AS$9:$AT$9,AQ$9,$AS256:$AT256)","v":{"v":0,"d":"0.00"}},{"$f":"SUMIF($AS$9:$AT$9,AR$9,$AS256:$AT256)","v":{"v":0,"d":"0.00"}}]
[{"$nulls":38},"8.1","Цена","руб./куб.м"]
[{"$nulls":38},"8.2","Объём","тыс.куб.м",{"$f":"SUMIF($AS$9:$AT$9,AP$9,$AS258:$AT258)","v":{"v":0,"d":"0.00"}},{"v":0,"d":"0.00"},{"v":0,"d":"0.00"}]
[{"$nulls":38},"9","Водоотведение","тыс.руб.",{"v":0,"d":"0.00"},{"v":0,"d":"0.00"},{"v":0,"d":"0.00"}]
[{"$nulls":38},"9.1","Цена","руб./куб.м"]
[{"$nulls":38},"9.2","Объём","тыс.куб.м",{"$f":"SUMIF($AS$9:$AT$9,AP$9,$AS261:$AT261)","v":{"v":0,"d":"0.00"}},{"v":0,"d":"0.00"},{"v":0,"d":"0.00"}]
[{"$nulls":38},"10","Теплоноситель","тыс.руб.",{"v":0,"d":"0.00"},{"v":0,"d":"0.00"},{"v":0,"d":"0.00"}]
[{"$nulls":38},"11","Расходы, связанные с созданием нормативных запасов топлива","тыс.руб.",{"v":0,"d":"0.00"},{"v":0,"d":"0.00"},{"v":0,"d":"0.00"}]
[]
[{"$nulls":38},"12","Расходы на приобретение сырья и материалов","тыс.руб.",{"$f":"SUMIF($AS$9:$AT$9,AP$9,$AS265:$AT265)","v":{"v":0,"d":"0.00"}},{"v":0,"d":"0.00"},{"v":0,"d":"0.00"}]
[{"$nulls":38},{"$f":"AM265 & \".1\"","v":"12.1"},"Реагенты, фильтрующие и ионообменные материалы для водоподготовки","тыс.руб.",{"v":0,"d":"0.00"},{"v":0,"d":"0.00"},{"v":0,"d":"0.00"}]
[{"$nulls":38},{"$f":"AM265 & \".2\"","v":"12.2"},"ГСМ","тыс.руб.",{"v":0,"d":"0.00"},{"v":0,"d":"0.00"},{"v":0,"d":"0.00"}]
[{"$nulls":38},{"$f":"AM265 & \".3\"","v":"12.3"},"На текущий и капитальный ремонт","тыс.руб.",{"v":0,"d":"0.00"},{"v":0,"d":"0.00"},{"v":0,"d":"0.00"}]
[{"$nulls":38},{"$f":"AM265 & \".4\"","v":"12.4"},"На текущее содержание и техническое обслуживание","тыс.руб.",{"v":0,"d":"0.00"},{"v":0,"d":"0.00"},{"v":0,"d":"0.00"}]
[{"$nulls":38},{"$f":"AM265 & \".5\"","v":"12.5"},"Специальная одежда","тыс.руб.",{"v":0,"d":"0.00"},{"v":0,"d":"0.00"},{"v":0,"d":"0.00"}]
[{"$nulls":38},{"$f":"AM265 & \".6\"","v":"12.6"},"Хозяйственный инвентарь и другие вспомогательные материалы","тыс.руб.",{"v":0,"d":"0.00"},{"v":0,"d":"0.00"},{"v":0,"d":"0.00"}]
[{"$nulls":38},{"$f":"AM265 & \".7\"","v":"12.7"},"Прочие расходы","тыс.руб.",{"v":0,"d":"0.00"},{"v":0,"d":"0.00"},{"v":0,"d":"0.00"}]
[{"$nulls":38},"13","Ремонт основных средств, выполняемый подрядным способом","тыс.руб.",{"v":0,"d":"0.00"},{"v":0,"d":"0.00"},{"v":0,"d":"0.00"}]
[{"$nulls":38},"14","Расходы на оплату работ и услуг производственного характера, выполняемых по договорам со сторонними организациями","тыс.руб.",{"v":0,"d":"0.00"},{"v":0,"d":"0.00"},{"v":0,"d":"0.00"}]
[{"$nulls":38},{"$f":"AM274 & \".1\"","v":"14.1"},"транспортные услуги","тыс.руб.",{"v":0,"d":"0.00"},{"v":0,"d":"0.00"},{"v":0,"d":"0.00"}]
[{"$nulls":38},{"$f":"AM274 & \".2\"","v":"14.2"},"работы по техническому регламенту","тыс.руб.",{"v":0,"d":"0.00"},{"v":0,"d":"0.00"},{"v":0,"d":"0.00"}]
[{"$nulls":38},{"$f":"AM274 & \".3\"","v":"14.3"},"прочие услуги вспомогательных производств","тыс.руб.",{"v":0,"d":"0.00"},{"v":0,"d":"0.00"},{"v":0,"d":"0.00"}]
[{"$nulls":38},{"$f":"AM274 & \".4\"","v":"14.4"},"иные работы и услуги производственного характера","тыс.руб.",{"v":0,"d":"0.00"},{"v":0,"d":"0.00"},{"v":0,"d":"0.00"}]
[{"$nulls":38},"15","Расходы на оплату иных работ и услуг, выполняемых по договорам с организациями, включая:","тыс.руб.",{"v":0,"d":"0.00"},{"v":0,"d":"0.00"},{"v":0,"d":"0.00"}]
[{"$nulls":38},{"$f":"AM279 & \".1\"","v":"15.1"},"услуги связи","тыс.руб.",{"v":0,"d":"0.00"},{"v":0,"d":"0.00"},{"v":0,"d":"0.00"}]
[{"$nulls":38},{"$f":"AM279 & \".2\"","v":"15.2"},"услуги вневедомственной охраны ","тыс.руб.",{"v":0,"d":"0.00"},{"v":0,"d":"0.00"},{"v":0,"d":"0.00"}]
[{"$nulls":38},{"$f":"AM279 & \".3\"","v":"15.3"},"коммунальные услуги ","тыс.руб.",{"v":0,"d":"0.00"},{"v":0,"d":"0.00"},{"v":0,"d":"0.00"}]
[{"$nulls":38},{"$f":"AM279 & \".4\"","v":"15.4"},"расходы на консультационные услуги","тыс.руб.",{"v":0,"d":"0.00"},{"v":0,"d":"0.00"},{"v":0,"d":"0.00"}]
[{"$nulls":38},{"$f":"AM279 & \".5\"","v":"15.5"},"расходы на юридические услуги","тыс.руб.",{"v":0,"d":"0.00"},{"v":0,"d":"0.00"},{"v":0,"d":"0.00"}]
[{"$nulls":38},{"$f":"AM279 & \".6\"","v":"15.6"},"расходы на информационные услуги","тыс.руб.",{"v":0,"d":"0.00"},{"v":0,"d":"0.00"},{"v":0,"d":"0.00"}]
[{"$nulls":38},{"$f":"AM279 & \".7\"","v":"15.7"},"расходы на аудиторские услуги","тыс.руб.",{"v":0,"d":"0.00"},{"v":0,"d":"0.00"},{"v":0,"d":"0.00"}]
[{"$nulls":38},{"$f":"AM279 & \".8\"","v":"15.8"},"услуги по стратегическому управлению организацией","тыс.руб.",{"v":0,"d":"0.00"},{"v":0,"d":"0.00"},{"v":0,"d":"0.00"}]
[{"$nulls":38},{"$f":"AM279 & \".9\"","v":"15.9"},"расходы по подготовке и освоению производства (пуско-наладочные работы)","тыс.руб.",{"v":0,"d":"0.00"},{"v":0,"d":"0.00"},{"v":0,"d":"0.00"}]
[{"$nulls":38},{"$f":"AM279 & \".10\"","v":"15.10"},"целевые средства на НИОКР","тыс.руб.",{"v":0,"d":"0.00"},{"v":0,"d":"0.00"},{"v":0,"d":"0.00"}]
[{"$nulls":38},{"$f":"AM279 & \".11\"","v":"15.11"},"средства на необязательное (дополнительное) страхование","тыс.руб.",{"v":0,"d":"0.00"},{"v":0,"d":"0.00"},{"v":0,"d":"0.00"}]
[{"$nulls":38},{"$f":"AM279 & \".12\"","v":"15.12"},"иные работы и услуги","тыс.руб.",{"v":0,"d":"0.00"},{"v":0,"d":"0.00"},{"v":0,"d":"0.00"}]
[]
[{"$nulls":38},"RENT","Аренда имущества","тыс.руб.",{"$f":"SUMIF($AS$9:$AT$9,AP$9,$AS293:$AT293)","v":{"v":0,"d":"0.00"}},{"v":0,"d":"0.00"},{"v":0,"d":"0.00"}]
[{"$nulls":38},"RENT.1","Аренда объектов в государственной собственности","тыс.руб.",{"v":0,"d":"0.00"},{"v":0,"d":"0.00"},{"v":0,"d":"0.00"}]
[{"$nulls":38},"RENT.2","Аренда объектов в муниципальной собственности","тыс.руб.",{"v":0,"d":"0.00"},{"v":0,"d":"0.00"},{"v":0,"d":"0.00"}]
[{"$nulls":38},"RENT.3","Прочее","тыс.руб.",{"v":0,"d":"0.00"},{"v":0,"d":"0.00"},{"v":0,"d":"0.00"}]
[{"$nulls":38},"16","Расходы на служебные командировки","тыс.руб.",{"v":0,"d":"0.00"},{"v":0,"d":"0.00"},{"v":0,"d":"0.00"}]
[{"$nulls":38},"17","Расходы на обучение персонала","тыс.руб.",{"v":0,"d":"0.00"},{"v":0,"d":"0.00"},{"v":0,"d":"0.00"}]
[{"$nulls":38},"18","Расходы на вывод из эксплуатации (в том числе на консервацию) и вывод из консервации","тыс.руб.",{"v":0,"d":"0.00"},{"v":0,"d":"0.00"},{"v":0,"d":"0.00"}]
[{"$nulls":38},"19","Услуги банков","тыс.руб.",{"v":0,"d":"0.00"},{"v":0,"d":"0.00"},{"v":0,"d":"0.00"}]
[{"$nulls":38},"20","Прочие операционные расходы","тыс.руб.",{"v":0,"d":"0.00"},{"v":0,"d":"0.00"},{"v":0,"d":"0.00"}]
[{"$nulls":38},{"$f":"AM301 & \".1\"","v":"20.1"},"Общехозяйственные расходы","тыс.руб.",{"v":0,"d":"0.00"},{"v":0,"d":"0.00"},{"v":0,"d":"0.00"}]
[{"$nulls":38},{"$f":"AM301 & \".2\"","v":"20.2"},"Иные расходы","тыс.руб.",{"v":0,"d":"0.00"},{"v":0,"d":"0.00"},{"v":0,"d":"0.00"}]
[{"$nulls":38},"21","Расходы на оплату услуг, оказываемых организациями, осуществляющими регулируемые виды деятельности","тыс.руб.",{"v":0,"d":"0.00"},{"v":0,"d":"0.00"},{"v":0,"d":"0.00"}]
[{"$nulls":38},"22","Арендная плата","тыс.руб.",{"v":0,"d":"0.00"},{"v":0,"d":"0.00"},{"v":0,"d":"0.00"}]
[{"$nulls":38},{"$f":"AM305 & \".1\"","v":"22.1"},"аренда производственных объектов","тыс.руб.",{"v":0,"d":"0.00"},{"v":0,"d":"0.00"},{"v":0,"d":"0.00"}]
[{"$nulls":38},{"$f":"AM305 & \".2\"","v":"22.2"},"аренда непроизводственных объектов","тыс.руб.",{"v":0,"d":"0.00"},{"v":0,"d":"0.00"},{"v":0,"d":"0.00"}]
[{"$nulls":38},"23","Концессионная плата","тыс.руб.",{"v":0,"d":"0.00"},{"v":0,"d":"0.00"},{"v":0,"d":"0.00"}]
[{"$nulls":38},"24","Лизинговый платеж","тыс.руб.",{"v":0,"d":"0.00"},{"v":0,"d":"0.00"},{"v":0,"d":"0.00"}]
[{"$nulls":38},{"$f":"AM309 & \".1\"","v":"24.1"},"лизинг производственных объектов","тыс.руб.",{"v":0,"d":"0.00"},{"v":0,"d":"0.00"},{"v":0,"d":"0.00"}]
[{"$nulls":38},{"$f":"AM309 & \".2\"","v":"24.2"},"лизинг непроизводственных объектов (без перехода права собственности на предмет лизинга к лизингополучателю)","тыс.руб.",{"v":0,"d":"0.00"},{"v":0,"d":"0.00"},{"v":0,"d":"0.00"}]
[{"$nulls":38},{"$f":"AM309 & \".3\"","v":"24.3"},"лизинг непроизводственных объектов  (с переходом права собственности на предмет лизинга к лизингополучателю)","тыс.руб.",{"v":0,"d":"0.00"},{"v":0,"d":"0.00"},{"v":0,"d":"0.00"}]
[{"$nulls":38},"25","Расходы на уплату налогов, сборов и других обязательных платежей, в том числе:","тыс.руб.",{"$f":"SUMIF($AS$9:$AT$9,AP$9,$AS313:$AT313)","v":{"v":0,"d":"0.00"}},{"v":0,"d":"0.00"},{"v":0,"d":"0.00"}]
[{"$nulls":38},{"$f":"AM313 & \".1\"","v":"25.1"},"плата за выбросы и сбросы загрязняющих веществ в окружающую среду, размещение отходов и другие виды негативного воздействия на окружающую среду в пределах установленных нормативов и (или) лимитов","тыс.руб.",{"v":0,"d":"0.00"},{"v":0,"d":"0.00"},{"v":0,"d":"0.00"}]
[{"$nulls":38},{"$f":"AM313 & \".2\"","v":"25.2"},"расходы на обязательное страхование","тыс.руб.",{"v":0,"d":"0.00"},{"v":0,"d":"0.00"},{"v":0,"d":"0.00"}]
[{"$nulls":38},{"$f":"AM313 & \".3\"","v":"25.3"},"иные расходы","тыс.руб.",{"v":0,"d":"0.00"},{"v":0,"d":"0.00"},{"v":0,"d":"0.00"}]
[{"$nulls":38},{"$f":"AM313 & \".4\"","v":"25.4"},"уплата налогов, всего","тыс.руб.",{"v":0,"d":"0.00"},{"v":0,"d":"0.00"},{"v":0,"d":"0.00"}]
[{"$nulls":38},{"$f":"AM317 & \".1\"","v":"25.4.1"},"налог на имущество организаций","тыс.руб.",{"v":0,"d":"0.00"},{"v":0,"d":"0.00"},{"v":0,"d":"0.00"}]
[{"$nulls":38},{"$f":"AM317 & \".2\"","v":"25.4.2"},"земельный налог","тыс.руб.",{"v":0,"d":"0.00"},{"v":0,"d":"0.00"},{"v":0,"d":"0.00"}]
[{"$nulls":38},{"$f":"AM317 & \".3\"","v":"25.4.3"},"транспортный налог","тыс.руб.",{"v":0,"d":"0.00"},{"v":0,"d":"0.00"},{"v":0,"d":"0.00"}]
[{"$nulls":38},{"$f":"AM317 & \".4\"","v":"25.4.4"},"водный налог","тыс.руб.",{"v":0,"d":"0.00"},{"v":0,"d":"0.00"},{"v":0,"d":"0.00"}]
[{"$nulls":38},{"$f":"AM317 & \".5\"","v":"25.4.5"},"прочие налоги","тыс.руб.",{"v":0,"d":"0.00"},{"v":0,"d":"0.00"},{"v":0,"d":"0.00"}]
[{"$nulls":38},"26","Расходы по сомнительным долгам","тыс.руб.",{"v":0,"d":"0.00"},{"v":0,"d":"0.00"},{"v":0,"d":"0.00"}]
[{"$nulls":38},"27","Амортизация основных средств и нематериальных активов","тыс.руб.",{"v":0,"d":"0.00"},{"v":0,"d":"0.00"},{"v":0,"d":"0.00"}]
[{"$nulls":38},{"$f":"AM324 & \".1\"","v":"27.1"},"Амортизация производственного оборудования","тыс.руб.",{"v":0,"d":"0.00"},{"v":0,"d":"0.00"},{"v":0,"d":"0.00"}]
[{"$nulls":38},{"$f":"AM324 & \".2\"","v":"27.2"},"Амортизация иных основных средств и нематериальных активов","тыс.руб.",{"v":0,"d":"0.00"},{"v":0,"d":"0.00"},{"v":0,"d":"0.00"}]
[{"$nulls":38},"28","Расходы на выплаты по договорам займа и кредитным договорам, включая проценты по ним","тыс.руб.",{"v":0,"d":"0.00"},{"v":0,"d":"0.00"},{"v":0,"d":"0.00"}]
[{"$nulls":38},"29","Прочие неподконтрольные расходы","тыс.руб.",{"v":0,"d":"0.00"},{"v":0,"d":"0.00"},{"v":0,"d":"0.00"}]
[{"$nulls":38},"30","Налог на прибыль","тыс.руб.",{"v":0,"d":"0.00"},{"v":0,"d":"0.00"},{"v":0,"d":"0.00"}]
[]
[{"$nulls":38},"РО","Итого расходы","тыс.руб.",{"$f":"SUMIF($AS$9:$AT$9,AP$9,$AS331:$AT331)","v":{"v":0,"d":"0.00"}},{"$f":"SUMIF($AS$9:$AT$9,AQ$9,$AS331:$AT331)","v":{"v":0,"d":"0.00"}},{"$f":"SUMIF($AS$9:$AT$9,AR$9,$AS331:$AT331)","v":{"v":0,"d":"0.00"}}]
[]
[{"$nulls":38},"РР","Итого расходы на реализацию","тыс.руб.",{"$f":"SUMIF($AS$9:$AT$9,AP$9,$AS333:$AT333)","v":{"v":0,"d":"0.00"}},{"$f":"SUMIF($AS$9:$AT$9,AQ$9,$AS333:$AT333)","v":{"v":0,"d":"0.00"}},{"$f":"SUMIF($AS$9:$AT$9,AR$9,$AS333:$AT333)","v":{"v":0,"d":"0.00"}}]
[]
[{"$nulls":38},"У","Убыток","тыс.руб.",{"$f":"SUMIF($AS$9:$AT$9,AP$9,$AS335:$AT335)","v":{"v":0,"d":"0.00"}},{"v":0,"d":"0.00"},{"v":0,"d":"0.00"}]
[{"$nulls":38},"П","Прибыль","тыс.руб.",{"v":0,"d":"0.00"},{"v":0,"d":"0.00"},{"v":0,"d":"0.00"}]
[]
[{"$nulls":38},"П.1","Прибыль на развитие производства (капитальные вложения)","тыс.руб.",{"$f":"SUMIF($AS$9:$AT$9,AP$9,$AS338:$AT338)","v":{"v":0,"d":"0.00"}},{"v":0,"d":"0.00"},{"v":0,"d":"0.00"}]
[{"$nulls":38},"П.2","Прибыль на социальное развитие","тыс.руб.",{"v":0,"d":"0.00"},{"v":0,"d":"0.00"},{"v":0,"d":"0.00"}]
[{"$nulls":38},"П.3","Прибыль на поощрение","тыс.руб.",{"v":0,"d":"0.00"},{"v":0,"d":"0.00"},{"v":0,"d":"0.00"}]
[{"$nulls":38},"П.4","Прибыль на прочие цели","тыс.руб.",{"v":0,"d":"0.00"},{"v":0,"d":"0.00"},{"v":0,"d":"0.00"}]
{"$rows_empty":8}
[{"$nulls":38},"РП","Итого расходы с учётом расходов из прибыли","тыс.руб.",{"$f":"SUMIF($AS$9:$AT$9,AP$9,$AS350:$AT350)","v":{"v":0,"d":"0.00"}},{"$f":"SUMIF($AS$9:$AT$9,AQ$9,$AS350:$AT350)","v":{"v":0,"d":"0.00"}},{"$f":"SUMIF($AS$9:$AT$9,AR$9,$AS350:$AT350)","v":{"v":0,"d":"0.00"}}]
{"$rows_empty":19}
[{"$nulls":38},"UI.TOTAL","Полезный отпуск продукции всего:\n[БТр!п.3] - транспортировка\n[БПр!п.3 - БПр!п.3.6 + БПр!п.5.2] - производство","Гкал",{"$f":"SUMIF($AS$9:$AT$9,AP$9,$AS370:$AT370)","v":{"v":0,"d":"0.00"}},{"v":0,"d":"0.00"},{"v":0,"d":"0.00"}]
[{"$nulls":38},"UI.EC","Полезный отпуск продукции на реализацию потребителям:\n[БТр!п.3.2:3.5] - транспортировка\n[БПр!п.3.2:3.5 + БПр!п.5.2.2 + БПр!п.5.2.3] - производство","Гкал",{"v":0,"d":"0.00"},{"v":0,"d":"0.00"},{"v":0,"d":"0.00"}]
[{"$nulls":38},"UI.COEF","Коэффициент (доля) на реализацию потребителям",null,{"$f":"IF(AP370=0,0,AP371/AP370)","v":{"v":0,"d":"0.00"}},{"$f":"IF(AQ370=0,0,AQ371/AQ370)","v":{"v":0,"d":"0.00"}},{"$f":"IF(AR370=0,0,AR371/AR370)","v":{"v":0,"d":"0.00"}}]
[{"$nulls":38},"UI.PURE.EC","Полезный отпуск продукции на реализацию потребителям без учёта перепродажи:\n[БТр!п.3.3:3.5] - транспортировка\n[БПр!п.3.2:3.4 + БПр!п.5.2.3] - производство","Гкал",{"$f":"SUMIF($AS$9:$AT$9,AP$9,$AS373:$AT373)","v":{"v":0,"d":"0.00"}},{"$f":"SUMIF($AS$9:$AT$9,AQ$9,$AS373:$AT373)","v":{"v":0,"d":"0.00"}},{"$f":"SUMIF($AS$9:$AT$9,AR$9,$AS373:$AT373)","v":{"v":0,"d":"0.00"}}]
[]
[{"$nulls":38},"PROFITABILITY","Рентабельность","%",{"$f":"IF(AP331=0,0,(AP336-AP335)/AP331*100)","v":{"v":0,"d":"0.00"}},{"$f":"IF(AQ331=0,0,(AQ336-AQ335)/AQ331*100)","v":{"v":0,"d":"0.00"}},{"$f":"IF(AR331=0,0,(AR336-AR335)/AR331*100)","v":{"v":0,"d":"0.00"}}]
[]
[{"$nulls":38},"D","Справочно: результат деятельности в периоде регулирования","тыс.руб.",{"$f":"SUMIF($AS$9:$AT$9,AP$9,$AS377:$AT377)","v":{"v":0,"d":"0.00"}},{"v":0,"d":"0.00"},{"v":0,"d":"0.00"}]
[{"$nulls":38},{"$f":"AM377 & \".0.1\"","v":"D.0.1"},"Общий доход от реализации потребителям без учёта НДС, исходя из утверждённых тарифов","тыс.руб.",{"v":0,"d":"0.00"},{"v":0,"d":"0.00"},{"v":0,"d":"0.00"}]
[{"$nulls":38},{"$f":"AM377 & \".0.2\"","v":"D.0.2"},"Полезный отпуск продукции на реализацию потребителям","Гкал",{"v":0,"d":"0.00"},{"v":0,"d":"0.00"},{"v":0,"d":"0.00"}]
[{"$nulls":38},{"$f":"AM377 & \".1\"","v":"D.1"},"Организации-перепродавцы / энергоснабжающие организации","тыс.руб.",{"v":0,"d":"0.00"},{"v":0,"d":"0.00"},{"v":0,"d":"0.00"}]
[{"$nulls":38},{"$f":"AM380 & \".1\"","v":"D.1.1"},"средневзвешенный тариф","руб./Гкал",{"$f":"IF(AP382=0,0,AP380*1000/AP382)","v":{"v":0,"d":"0.00"}},{"$f":"IF(AQ382=0,0,AQ380*1000/AQ382)","v":{"v":0,"d":"0.00"}},{"$f":"IF(AR382=0,0,AR380*1000/AR382)","v":{"v":0,"d":"0.00"}}]
[{"$nulls":38},{"$f":"AM380 & \".2\"","v":"D.1.2"},"объём","Гкал",{"$f":"SUMIF($AS$9:$AT$9,AP$9,$AS382:$AT382)","v":{"v":0,"d":"0.00"}},{"v":0,"d":"0.00"},{"v":0,"d":"0.00"}]
[{"$nulls":38},{"$f":"AM377 & \".2\"","v":"D.2"},"Бюджетные потребители","тыс.руб.",{"v":0,"d":"0.00"},{"v":0,"d":"0.00"},{"v":0,"d":"0.00"}]
[{"$nulls":38},{"$f":"AM383 & \".1\"","v":"D.2.1"},"средневзвешенный тариф","руб./Гкал",{"$f":"IF(AP385=0,0,AP383*1000/AP385)","v":{"v":0,"d":"0.00"}},{"$f":"IF(AQ385=0,0,AQ383*1000/AQ385)","v":{"v":0,"d":"0.00"}},{"$f":"IF(AR385=0,0,AR383*1000/AR385)","v":{"v":0,"d":"0.00"}}]
[{"$nulls":38},{"$f":"AM383 & \".2\"","v":"D.2.2"},"объём","Гкал",{"$f":"SUMIF($AS$9:$AT$9,AP$9,$AS385:$AT385)","v":{"v":0,"d":"0.00"}},{"v":0,"d":"0.00"},{"v":0,"d":"0.00"}]
[{"$nulls":38},{"$f":"AM377 & \".3\"","v":"D.3"},"Население","тыс.руб.",{"v":0,"d":"0.00"},{"v":0,"d":"0.00"},{"v":0,"d":"0.00"}]
[{"$nulls":38},{"$f":"AM386 & \".1\"","v":"D.3.1"},"средневзвешенный тариф","руб./Гкал",{"$f":"IF(AP388=0,0,AP386*1000/AP388)","v":{"v":0,"d":"0.00"}},{"$f":"IF(AQ388=0,0,AQ386*1000/AQ388)","v":{"v":0,"d":"0.00"}},{"$f":"IF(AR388=0,0,AR386*1000/AR388)","v":{"v":0,"d":"0.00"}}]
[{"$nulls":38},{"$f":"AM386 & \".2\"","v":"D.3.2"},"объём","Гкал",{"$f":"SUMIF($AS$9:$AT$9,AP$9,$AS388:$AT388)","v":{"v":0,"d":"0.00"}},{"v":0,"d":"0.00"},{"v":0,"d":"0.00"}]
[{"$nulls":38},{"$f":"AM377 & \".4\"","v":"D.4"},"Прочие","тыс.руб.",{"v":0,"d":"0.00"},{"v":0,"d":"0.00"},{"v":0,"d":"0.00"}]
[{"$nulls":38},{"$f":"AM389 & \".1\"","v":"D.4.1"},"средневзвешенный тариф","руб./Гкал",{"$f":"IF(AP391=0,0,AP389*1000/AP391)","v":{"v":0,"d":"0.00"}},{"$f":"IF(AQ391=0,0,AQ389*1000/AQ391)","v":{"v":0,"d":"0.00"}},{"$f":"IF(AR391=0,0,AR389*1000/AR391)","v":{"v":0,"d":"0.00"}}]
[{"$nulls":38},{"$f":"AM389 & \".2\"","v":"D.4.2"},"объём","Гкал",{"$f":"SUMIF($AS$9:$AT$9,AP$9,$AS391:$AT391)","v":{"v":0,"d":"0.00"}},{"v":0,"d":"0.00"},{"v":0,"d":"0.00"}]
[{"$nulls":38},{"$f":"AM377 & \".5\"","v":"D.5"},"Объём дотаций из всех уровней бюджета","тыс.руб.",{"v":0,"d":"0.00"},{"v":0,"d":"0.00"},{"v":0,"d":"0.00"}]
[{"$nulls":38},{"$f":"AM377 & \".6\"","v":"D.6"},"Доходы, полученные сверх реализации по утверждённым тарифам","тыс.руб.",{"v":0,"d":"0.00"},{"v":0,"d":"0.00"},{"v":0,"d":"0.00"}]

{"sheet":"ТС.Т","index":14,"n_rows":960,"n_cols":46,"rows_kept":960,"hidden":true,"merged":[[12,38,13,39],[13,41,13,43],[18,38,19,38],[18,39,19,39],[18,40,19,40],[18,41,19,43]]}
[]
[]
[]
[]
[]
[{"$nulls":41},12,6,6]
[]
[]
[{"$nulls":41},"Y","I","II"]
[{"$nulls":44},"START","END"]
[{"$nulls":41},"Y","I","II"]
[{"$nulls":39},"Необходимо указывать значения по полугодиям (6 и 6 месяцев)"]
["FULL_MODE",{"$nulls":37},"Топливо на технологические цели",null,"Период","Год","I полугодие","II полугодие"]
[]
[]
[]
[]
[{"$nulls":45},"Добавить"]
[{"$nulls":38},"№ п/п","Наименование показателя","Единица измерения","Всего по организации",null,null,0]
[]
[{"$nulls":39},"Является ли организация плательщиком НДС"]
[{"$nulls":39},"Выбор используемых видов (марок) топлива - двойным щелчком мыши над расчётным блоком"]
{"$rows_empty":13}
[{"$nulls":38},"4","Стоимость натурального топлива с учётом транспортировки (перевозки) (топливо на технологические цели)","тыс.руб.",{"$f":"SUMIF($AS$9:$AT$9,AP$9,$AS36:$AT36)","v":{"v":0,"d":"0.00"}},{"v":0,"d":"0.00"},{"v":0,"d":"0.00"}]
[{"$nulls":31},"NG",{"$nulls":6},"4.NG","Газ природный","тыс.руб.",{"v":0,"d":"0.00"},{"v":0,"d":"0.00"},{"v":0,"d":"0.00"}]
[{"$nulls":31},"NGL",{"$nulls":6},"4.NGL","Газ лимитный","тыс.руб.",{"v":0,"d":"0.00"},{"v":0,"d":"0.00"},{"v":0,"d":"0.00"}]
[{"$nulls":31},"NGU",{"$nulls":6},"4.NGU","Газ сверхлимитный","тыс.руб.",{"v":0,"d":"0.00"},{"v":0,"d":"0.00"},{"v":0,"d":"0.00"}]
[{"$nulls":31},"NGC",{"$nulls":6},"4.NGC","Газ коммерческий","тыс.руб.",{"v":0,"d":"0.00"},{"v":0,"d":"0.00"},{"v":0,"d":"0.00"}]
[{"$nulls":31},"GBL",{"$nulls":6},"4.GBL","Газ доменный","тыс.руб.",{"v":0,"d":"0.00"},{"v":0,"d":"0.00"},{"v":0,"d":"0.00"}]
[{"$nulls":31},"GCK",{"$nulls":6},"4.GCK","Газ коксовый","тыс.руб.",{"v":0,"d":"0.00"},{"v":0,"d":"0.00"},{"v":0,"d":"0.00"}]
[{"$nulls":31},"GOA",{"$nulls":6},"4.GOA","Газ нефтяной (попутный)","тыс.руб.",{"v":0,"d":"0.00"},{"v":0,"d":"0.00"},{"v":0,"d":"0.00"}]
[{"$nulls":31},"DSG",{"$nulls":6},"4.DSG","Газ сухой отбензиненный","тыс.руб.",{"v":0,"d":"0.00"},{"v":0,"d":"0.00"},{"v":0,"d":"0.00"}]
[{"$nulls":31},"GCN",{"$nulls":6},"4.GCN","Газовый конденсат","тыс.руб.",{"v":0,"d":"0.00"},{"v":0,"d":"0.00"},{"v":0,"d":"0.00"}]
[{"$nulls":31},"LNG",{"$nulls":6},"4.LNG","Газ сжиженный","тыс.руб.",{"v":0,"d":"0.00"},{"v":0,"d":"0.00"},{"v":0,"d":"0.00"}]
[{"$nulls":31},"DSL",{"$nulls":6},"4.DSL","Дизельное топливо","тыс.руб.",{"v":0,"d":"0.00"},{"v":0,"d":"0.00"},{"v":0,"d":"0.00"}]
[{"$nulls":31},"DSLA",{"$nulls":6},"4.DSLA","А (арктическое)","тыс.руб.",{"v":0,"d":"0.00"},{"v":0,"d":"0.00"},{"v":0,"d":"0.00"}]
[{"$nulls":31},"DSLW",{"$nulls":6},"4.DSLW","З (зимнее)","тыс.руб.",{"v":0,"d":"0.00"},{"v":0,"d":"0.00"},{"v":0,"d":"0.00"}]
[{"$nulls":31},"DSLS",{"$nulls":6},"4.DSLS","Л (летнее)","тыс.руб.",{"v":0,"d":"0.00"},{"v":0,"d":"0.00"},{"v":0,"d":"0.00"}]
[{"$nulls":31},"DSLO",{"$nulls":6},"4.DSLO","Е (межсезонное)","тыс.руб.",{"v":0,"d":"0.00"},{"v":0,"d":"0.00"},{"v":0,"d":"0.00"}]
[{"$nulls":31},"MST",{"$nulls":6},"4.MST","Мазут","тыс.руб.",{"v":0,"d":"0.00"},{"v":0,"d":"0.00"},{"v":0,"d":"0.00"}]
[{"$nulls":31},"MSTM40",{"$nulls":6},"4.MSTM40","М-40","тыс.руб.",{"v":0,"d":"0.00"},{"v":0,"d":"0.00"},{"v":0,"d":"0.00"}]
[{"$nulls":31},"MSTM100",{"$nulls":6},"4.MSTM100","М-100","тыс.руб.",{"v":0,"d":"0.00"},{"v":0,"d":"0.00"},{"v":0,"d":"0.00"}]
[{"$nulls":31},"MSTM200",{"$nulls":6},"4.MSTM200","М-200","тыс.руб.",{"v":0,"d":"0.00"},{"v":0,"d":"0.00"},{"v":0,"d":"0.00"}]
[{"$nulls":31},"MSTT",{"$nulls":6},"4.MSTT","мазут марки \"Т\"","тыс.руб.",{"$f":"SUMIF($AS$9:$AT$9,AP$9,$AS56:$AT56)","v":{"v":0,"d":"0.00"}},{"v":0,"d":"0.00"},{"v":0,"d":"0.00"}]
[{"$nulls":31},"MSTF5",{"$nulls":6},"4.MSTF5","Ф-5","тыс.руб.",{"v":0,"d":"0.00"},{"v":0,"d":"0.00"},{"v":0,"d":"0.00"}]
[{"$nulls":31},"MSTF12",{"$nulls":6},"4.MSTF12","Ф-12","тыс.руб.",{"v":0,"d":"0.00"},{"v":0,"d":"0.00"},{"v":0,"d":"0.00"}]
[{"$nulls":31},"OIL",{"$nulls":6},"4.OIL","Нефть","тыс.руб.",{"v":0,"d":"0.00"},{"v":0,"d":"0.00"},{"v":0,"d":"0.00"}]
[{"$nulls":31},"COA",{"$nulls":6},"4.COA","Уголь","тыс.руб.",{"v":0,"d":"0.00"},{"v":0,"d":"0.00"},{"v":0,"d":"0.00"}]
[{"$nulls":31},"COAA",{"$nulls":6},"4.COAA","Уголь антрацит","тыс.руб.",{"v":0,"d":"0.00"},{"v":0,"d":"0.00"},{"v":0,"d":"0.00"}]
[{"$nulls":31},"COAB",{"$nulls":6},"4.COAB","Уголь бурый","тыс.руб.",{"v":0,"d":"0.00"},{"v":0,"d":"0.00"},{"v":0,"d":"0.00"}]
[{"$nulls":31},"COAG",{"$nulls":6},"4.COAG","Уголь газовый","тыс.руб.",{"v":0,"d":"0.00"},{"v":0,"d":"0.00"},{"v":0,"d":"0.00"}]
[{"$nulls":31},"COALF",{"$nulls":6},"4.COALF","Уголь длиннопламенный","тыс.руб.",{"v":0,"d":"0.00"},{"v":0,"d":"0.00"},{"v":0,"d":"0.00"}]
[{"$nulls":31},"COAF",{"$nulls":6},"4.COAF","Уголь жирный","тыс.руб.",{"v":0,"d":"0.00"},{"v":0,"d":"0.00"},{"v":0,"d":"0.00"}]
[{"$nulls":31},"COAC",{"$nulls":6},"4.COAC","Уголь коксовый","тыс.руб.",{"v":0,"d":"0.00"},{"v":0,"d":"0.00"},{"v":0,"d":"0.00"}]
[{"$nulls":31},"COASC",{"$nulls":6},"4.COASC","Уголь отощённо-спекающийся","тыс.руб.",{"v":0,"d":"0.00"},{"v":0,"d":"0.00"},{"v":0,"d":"0.00"}]
[{"$nulls":31},"COAWC",{"$nulls":6},"4.COAWC","Уголь слабоспекающийся","тыс.руб.",{"v":0,"d":"0.00"},{"v":0,"d":"0.00"},{"v":0,"d":"0.00"}]
[{"$nulls":31},"COAS",{"$nulls":6},"4.COAS","Уголь тощий","тыс.руб.",{"v":0,"d":"0.00"},{"v":0,"d":"0.00"},{"v":0,"d":"0.00"}]
[{"$nulls":31},"ENR",{"$nulls":6},"4.ENR","Энергия","тыс.руб.",{"v":0,"d":"0.00"},{"v":0,"d":"0.00"},{"v":0,"d":"0.00"}]
[{"$nulls":31},"PWR",{"$nulls":6},"4.PWR","Заявленная мощность","тыс.руб.",{"v":0,"d":"0.00"},{"v":0,"d":"0.00"},{"v":0,"d":"0.00"}]
[{"$nulls":31},"CWD",{"$nulls":6},"4.CWD","Уголь древесный","тыс.руб.",{"v":0,"d":"0.00"},{"v":0,"d":"0.00"},{"v":0,"d":"0.00"}]
[{"$nulls":31},"WDS",{"$nulls":6},"4.WDS","Дрова","тыс.руб.",{"v":0,"d":"0.00"},{"v":0,"d":"0.00"},{"v":0,"d":"0.00"}]
[{"$nulls":31},"PLT",{"$nulls":6},"4.PLT","Пеллеты","тыс.руб.",{"v":0,"d":"0.00"},{"v":0,"d":"0.00"},{"v":0,"d":"0.00"}]
[{"$nulls":31},"SAW",{"$nulls":6},"4.SAW","Опилки","тыс.руб.",{"v":0,"d":"0.00"},{"v":0,"d":"0.00"},{"v":0,"d":"0.00"}]
[{"$nulls":31},"PEA",{"$nulls":6},"4.PEA","Торф","тыс.руб.",{"v":0,"d":"0.00"},{"v":0,"d":"0.00"},{"v":0,"d":"0.00"}]
[{"$nulls":31},"SHL",{"$nulls":6},"4.SHL","Сланцы","тыс.руб.",{"v":0,"d":"0.00"},{"v":0,"d":"0.00"},{"v":0,"d":"0.00"}]
[{"$nulls":31},"STF",{"$nulls":6},"4.STF","Печное бытовое топливо","тыс.руб.",{"v":0,"d":"0.00"},{"v":0,"d":"0.00"},{"v":0,"d":"0.00"}]
[{"$nulls":31},"OTH",{"$nulls":6},"4.OTH","Прочие виды топлива","тыс.руб.",{"v":0,"d":"0.00"},{"v":0,"d":"0.00"},{"v":0,"d":"0.00"}]
[{"$nulls":38},"4.CFPTR","Цена условного топлива с учётом транспортировки (перевозки)","тыс.руб./тут",{"$f":"IF(AP168=0,0,AP36/AP168)","v":{"v":0,"d":"0.00"}},{"v":0,"d":"0.00"},{"v":0,"d":"0.00"}]
[{"$nulls":31},"NG",{"$nulls":6},"4.CFPTR.NG","Газ природный","тыс.руб./тут",{"v":0,"d":"0.00"},{"v":0,"d":"0.00"},{"v":0,"d":"0.00"}]
[{"$nulls":31},"NGL",{"$nulls":6},"4.CFPTR.NGL","Газ лимитный","тыс.руб./тут",{"v":0,"d":"0.00"},{"v":0,"d":"0.00"},{"v":0,"d":"0.00"}]
[{"$nulls":31},"NGU",{"$nulls":6},"4.CFPTR.NGU","Газ сверхлимитный","тыс.руб./тут",{"v":0,"d":"0.00"},{"v":0,"d":"0.00"},{"v":0,"d":"0.00"}]
[{"$nulls":31},"NGC",{"$nulls":6},"4.CFPTR.NGC","Газ коммерческий","тыс.руб./тут",{"v":0,"d":"0.00"},{"v":0,"d":"0.00"},{"v":0,"d":"0.00"}]
[{"$nulls":31},"GBL",{"$nulls":6},"4.CFPTR.GBL","Газ доменный","тыс.руб./тут",{"v":0,"d":"0.00"},{"v":0,"d":"0.00"},{"v":0,"d":"0.00"}]
[{"$nulls":31},"GCK",{"$nulls":6},"4.CFPTR.GCK","Газ коксовый","тыс.руб./тут",{"v":0,"d":"0.00"},{"v":0,"d":"0.00"},{"v":0,"d":"0.00"}]
[{"$nulls":31},"GOA",{"$nulls":6},"4.CFPTR.GOA","Газ нефтяной (попутный)","тыс.руб./тут",{"v":0,"d":"0.00"},{"v":0,"d":"0.00"},{"v":0,"d":"0.00"}]
[{"$nulls":31},"DSG",{"$nulls":6},"4.CFPTR.DSG","Газ сухой отбензиненный","тыс.руб./тут",{"v":0,"d":"0.00"},{"v":0,"d":"0.00"},{"v":0,"d":"0.00"}]
[{"$nulls":31},"GCN",{"$nulls":6},"4.CFPTR.GCN","Газовый конденсат","тыс.руб./тут",{"v":0,"d":"0.00"},{"v":0,"d":"0.00"},{"v":0,"d":"0.00"}]
[{"$nulls":31},"LNG",{"$nulls":6},"4.CFPTR.LNG","Газ сжиженный","тыс.руб./тут",{"v":0,"d":"0.00"},{"v":0,"d":"0.00"},{"v":0,"d":"0.00"}]
[{"$nulls":31},"DSL",{"$nulls":6},"4.CFPTR.DSL","Дизельное топливо","тыс.руб./тут",{"v":0,"d":"0.00"},{"v":0,"d":"0.00"},{"v":0,"d":"0.00"}]
[{"$nulls":31},"DSLA",{"$nulls":6},"4.CFPTR.DSLA","А (арктическое)","тыс.руб./тут",{"v":0,"d":"0.00"},{"v":0,"d":"0.00"},{"v":0,"d":"0.00"}]
[{"$nulls":31},"DSLW",{"$nulls":6},"4.CFPTR.DSLW","З (зимнее)","тыс.руб./тут",{"v":0,"d":"0.00"},{"v":0,"d":"0.00"},{"v":0,"d":"0.00"}]
[{"$nulls":31},"DSLS",{"$nulls":6},"4.CFPTR.DSLS","Л (летнее)","тыс.руб./тут",{"v":0,"d":"0.00"},{"v":0,"d":"0.00"},{"v":0,"d":"0.00"}]
[{"$nulls":31},"DSLO",{"$nulls":6},"4.CFPTR.DSLO","Е (межсезонное)","тыс.руб./тут",{"v":0,"d":"0.00"},{"v":0,"d":"0.00"},{"v":0,"d":"0.00"}]
[{"$nulls":31},"MST",{"$nulls":6},"4.CFPTR.MST","Мазут","тыс.руб./тут",{"v":0,"d":"0.00"},{"v":0,"d":"0.00"},{"v":0,"d":"0.00"}]
[{"$nulls":31},"MSTM40",{"$nulls":6},"4.CFPTR.MSTM40","М-40","тыс.руб./тут",{"v":0,"d":"0.00"},{"v":0,"d":"0.00"},{"v":0,"d":"0.00"}]
[{"$nulls":31},"MSTM100",{"$nulls":6},"4.CFPTR.MSTM100","М-100","тыс.руб./тут",{"v":0,"d":"0.00"},{"v":0,"d":"0.00"},{"v":0,"d":"0.00"}]
[{"$nulls":31},"MSTM200",{"$nulls":6},"4.CFPTR.MSTM200","М-200","тыс.руб./тут",{"v":0,"d":"0.00"},{"v":0,"d":"0.00"},{"v":0,"d":"0.00"}]
[{"$nulls":31},"MSTT",{"$nulls":6},"4.CFPTR.MSTT","мазут марки \"Т\"","тыс.руб./тут",{"$f":"IF(AP188=0,0,AP56/AP188)","v":{"v":0,"d":"0.00"}},{"v":0,"d":"0.00"},{"v":0,"d":"0.00"}]
[{"$nulls":31},"MSTF5",{"$nulls":6},"4.CFPTR.MSTF5","Ф-5","тыс.руб./тут",{"v":0,"d":"0.00"},{"v":0,"d":"0.00"},{"v":0,"d":"0.00"}]
[{"$nulls":31},"MSTF12",{"$nulls":6},"4.CFPTR.MSTF12","Ф-12","тыс.руб./тут",{"v":0,"d":"0.00"},{"v":0,"d":"0.00"},{"v":0,"d":"0.00"}]
[{"$nulls":31},"OIL",{"$nulls":6},"4.CFPTR.OIL","Нефть","тыс.руб./тут",{"v":0,"d":"0.00"},{"v":0,"d":"0.00"},{"v":0,"d":"0.00"}]
[{"$nulls":31},"COA",{"$nulls":6},"4.CFPTR.COA","Уголь","тыс.руб./тут",{"v":0,"d":"0.00"},{"v":0,"d":"0.00"},{"v":0,"d":"0.00"}]
[{"$nulls":31},"COAA",{"$nulls":6},"4.CFPTR.COAA","Уголь антрацит","тыс.руб./тут",{"$f":"IF(AP193=0,0,AP61/AP193)","v":{"v":0,"d":"0.00"}},{"v":0,"d":"0.00"},{"v":0,"d":"0.00"}]
[{"$nulls":31},"COAB",{"$nulls":6},"4.CFPTR.COAB","Уголь бурый","тыс.руб./тут",{"v":0,"d":"0.00"},{"v":0,"d":"0.00"},{"v":0,"d":"0.00"}]
[{"$nulls":31},"COAG",{"$nulls":6},"4.CFPTR.COAG","Уголь газовый","тыс.руб./тут",{"v":0,"d":"0.00"},{"v":0,"d":"0.00"},{"v":0,"d":"0.00"}]
[{"$nulls":31},"COALF",{"$nulls":6},"4.CFPTR.COALF","Уголь длиннопламенный","тыс.руб./тут",{"v":0,"d":"0.00"},{"v":0,"d":"0.00"},{"v":0,"d":"0.00"}]
[{"$nulls":31},"COAF",{"$nulls":6},"4.CFPTR.COAF","Уголь жирный","тыс.руб./тут",{"v":0,"d":"0.00"},{"v":0,"d":"0.00"},{"v":0,"d":"0.00"}]
[{"$nulls":31},"COAC",{"$nulls":6},"4.CFPTR.COAC","Уголь коксовый","тыс.руб./тут",{"v":0,"d":"0.00"},{"v":0,"d":"0.00"},{"v":0,"d":"0.00"}]
[{"$nulls":31},"COASC",{"$nulls":6},"4.CFPTR.COASC","Уголь отощённо-спекающийся","тыс.руб./тут",{"v":0,"d":"0.00"},{"v":0,"d":"0.00"},{"v":0,"d":"0.00"}]
[{"$nulls":31},"COAWC",{"$nulls":6},"4.CFPTR.COAWC","Уголь слабоспекающийся","тыс.руб./тут",{"v":0,"d":"0.00"},{"v":0,"d":"0.00"},{"v":0,"d":"0.00"}]
[{"$nulls":31},"COAS",{"$nulls":6},"4.CFPTR.COAS","Уголь тощий","тыс.руб./тут",{"v":0,"d":"0.00"},{"v":0,"d":"0.00"},{"v":0,"d":"0.00"}]
[]
[]
[{"$nulls":31},"CWD",{"$nulls":6},"4.CFPTR.CWD","Уголь древесный","тыс.руб./тут",{"$f":"IF(AP204=0,0,AP72/AP204)","v":{"v":0,"d":"0.00"}},{"v":0,"d":"0.00"},{"v":0,"d":"0.00"}]
[{"$nulls":31},"WDS",{"$nulls":6},"4.CFPTR.WDS","Дрова","тыс.руб./тут",{"v":0,"d":"0.00"},{"v":0,"d":"0.00"},{"v":0,"d":"0.00"}]
[{"$nulls":31},"PLT",{"$nulls":6},"4.CFPTR.PLT","Пеллеты","тыс.руб./тут",{"v":0,"d":"0.00"},{"v":0,"d":"0.00"},{"v":0,"d":"0.00"}]
[{"$nulls":31},"SAW",{"$nulls":6},"4.CFPTR.SAW","Опилки","тыс.руб./тут",{"v":0,"d":"0.00"},{"v":0,"d":"0.00"},{"v":0,"d":"0.00"}]
[{"$nulls":31},"PEA",{"$nulls":6},"4.CFPTR.PEA","Торф","тыс.руб./тут",{"v":0,"d":"0.00"},{"v":0,"d":"0.00"},{"v":0,"d":"0.00"}]
[{"$nulls":31},"SHL",{"$nulls":6},"4.CFPTR.SHL","Сланцы","тыс.руб./тут",{"v":0,"d":"0.00"},{"v":0,"d":"0.00"},{"v":0,"d":"0.00"}]
[{"$nulls":31},"STF",{"$nulls":6},"4.CFPTR.STF","Печное бытовое топливо","тыс.руб./тут",{"v":0,"d":"0.00"},{"v":0,"d":"0.00"},{"v":0,"d":"0.00"}]
[]
[{"$nulls":38},"4.NFPTR","Цена натурального топлива с учётом транспортировки (перевозки)"]
[{"$nulls":31},"NG",{"$nulls":6},"4.NFPTR.NG","Газ природный","руб./тыс.м3",{"$f":"IF(AP301=0,0,AP37/AP301*1000)","v":{"v":0,"d":"0.00"}},{"v":0,"d":"0.00"},{"v":0,"d":"0.00"}]
[{"$nulls":31},"NGL",{"$nulls":6},"4.NFPTR.NGL","Газ лимитный","руб./тыс.м3",{"v":0,"d":"0.00"},{"v":0,"d":"0.00"},{"v":0,"d":"0.00"}]
[{"$nulls":31},"NGU",{"$nulls":6},"4.NFPTR.NGU","Газ сверхлимитный","руб./тыс.м3",{"v":0,"d":"0.00"},{"v":0,"d":"0.00"},{"v":0,"d":"0.00"}]
[{"$nulls":31},"NGC",{"$nulls":6},"4.NFPTR.NGC","Газ коммерческий","руб./тыс.м3",{"v":0,"d":"0.00"},{"v":0,"d":"0.00"},{"v":0,"d":"0.00"}]
[{"$nulls":31},"GBL",{"$nulls":6},"4.NFPTR.GBL","Газ доменный","руб./тнт",{"v":0,"d":"0.00"},{"v":0,"d":"0.00"},{"v":0,"d":"0.00"}]
[{"$nulls":31},"GCK",{"$nulls":6},"4.NFPTR.GCK","Газ коксовый","руб./тнт",{"v":0,"d":"0.00"},{"v":0,"d":"0.00"},{"v":0,"d":"0.00"}]
[{"$nulls":31},"GOA",{"$nulls":6},"4.NFPTR.GOA","Газ нефтяной (попутный)","руб./тнт",{"v":0,"d":"0.00"},{"v":0,"d":"0.00"},{"v":0,"d":"0.00"}]
[{"$nulls":31},"DSG",{"$nulls":6},"4.NFPTR.DSG","Газ сухой отбензиненный","руб./тнт",{"v":0,"d":"0.00"},{"v":0,"d":"0.00"},{"v":0,"d":"0.00"}]
[{"$nulls":31},"GCN",{"$nulls":6},"4.NFPTR.GCN","Газовый конденсат","руб./тнт",{"v":0,"d":"0.00"},{"v":0,"d":"0.00"},{"v":0,"d":"0.00"}]
[{"$nulls":31},"LNG",{"$nulls":6},"4.NFPTR.LNG","Газ сжиженный","руб./тнт",{"v":0,"d":"0.00"},{"v":0,"d":"0.00"},{"v":0,"d":"0.00"}]
[{"$nulls":31},"DSL",{"$nulls":6},"4.NFPTR.DSL","Дизельное топливо","руб./тнт",{"v":0,"d":"0.00"},{"v":0,"d":"0.00"},{"v":0,"d":"0.00"}]
[{"$nulls":31},"DSLA",{"$nulls":6},"4.NFPTR.DSLA","А (арктическое)","руб./тнт",{"v":0,"d":"0.00"},{"v":0,"d":"0.00"},{"v":0,"d":"0.00"}]
[{"$nulls":31},"DSLW",{"$nulls":6},"4.NFPTR.DSLW","З (зимнее)","руб./тнт",{"v":0,"d":"0.00"},{"v":0,"d":"0.00"},{"v":0,"d":"0.00"}]
[{"$nulls":31},"DSLS",{"$nulls":6},"4.NFPTR.DSLS","Л (летнее)","руб./тнт",{"v":0,"d":"0.00"},{"v":0,"d":"0.00"},{"v":0,"d":"0.00"}]
[{"$nulls":31},"DSLO",{"$nulls":6},"4.NFPTR.DSLO","Е (межсезонное)","руб./тнт",{"v":0,"d":"0.00"},{"v":0,"d":"0.00"},{"v":0,"d":"0.00"}]
[{"$nulls":31},"MST",{"$nulls":6},"4.NFPTR.MST","Мазут","руб./тнт",{"v":0,"d":"0.00"},{"v":0,"d":"0.00"},{"v":0,"d":"0.00"}]
[{"$nulls":31},"MSTM40",{"$nulls":6},"4.NFPTR.MSTM40","М-40","руб./тнт",{"v":0,"d":"0.00"},{"v":0,"d":"0.00"},{"v":0,"d":"0.00"}]
[{"$nulls":31},"MSTM100",{"$nulls":6},"4.NFPTR.MSTM100","М-100","руб./тнт",{"v":0,"d":"0.00"},{"v":0,"d":"0.00"},{"v":0,"d":"0.00"}]
[{"$nulls":31},"MSTM200",{"$nulls":6},"4.NFPTR.MSTM200","М-200","руб./тнт",{"v":0,"d":"0.00"},{"v":0,"d":"0.00"},{"v":0,"d":"0.00"}]
[{"$nulls":31},"MSTT",{"$nulls":6},"4.NFPTR.MSTT","мазут марки \"Т\"","руб./тнт",{"v":0,"d":"0.00"},{"v":0,"d":"0.00"},{"v":0,"d":"0.00"}]
[{"$nulls":31},"MSTF5",{"$nulls":6},"4.NFPTR.MSTF5","Ф-5","руб./тнт",{"$f":"IF(AP321=0,0,AP57/AP321*1000)","v":{"v":0,"d":"0.00"}},{"v":0,"d":"0.00"},{"v":0,"d":"0.00"}]
[{"$nulls":31},"MSTF12",{"$nulls":6},"4.NFPTR.MSTF12","Ф-12","руб./тнт",{"v":0,"d":"0.00"},{"v":0,"d":"0.00"},{"v":0,"d":"0.00"}]
[{"$nulls":31},"OIL",{"$nulls":6},"4.NFPTR.OIL","Нефть","руб./тнт",{"v":0,"d":"0.00"},{"v":0,"d":"0.00"},{"v":0,"d":"0.00"}]
[{"$nulls":31},"COA",{"$nulls":6},"4.NFPTR.COA","Уголь","руб./тнт",{"v":0,"d":"0.00"},{"v":0,"d":"0.00"},{"v":0,"d":"0.00"}]
[{"$nulls":31},"COAA",{"$nulls":6},"4.NFPTR.COAA","Уголь антрацит","руб./тнт",{"v":0,"d":"0.00"},{"v":0,"d":"0.00"},{"v":0,"d":"0.00"}]
[{"$nulls":31},"COAB",{"$nulls":6},"4.NFPTR.COAB","Уголь бурый","руб./тнт",{"v":0,"d":"0.00"},{"v":0,"d":"0.00"},{"v":0,"d":"0.00"}]
[{"$nulls":31},"COAG",{"$nulls":6},"4.NFPTR.COAG","Уголь газовый","руб./тнт",{"v":0,"d":"0.00"},{"v":0,"d":"0.00"},{"v":0,"d":"0.00"}]
[{"$nulls":31},"COALF",{"$nulls":6},"4.NFPTR.COALF","Уголь длиннопламенный","руб./тнт",{"v":0,"d":"0.00"},{"v":0,"d":"0.00"},{"v":0,"d":"0.00"}]
[{"$nulls":31},"COAF",{"$nulls":6},"4.NFPTR.COAF","Уголь жирный","руб./тнт",{"v":0,"d":"0.00"},{"v":0,"d":"0.00"},{"v":0,"d":"0.00"}]
[{"$nulls":31},"COAC",{"$nulls":6},"4.NFPTR.COAC","Уголь коксовый","руб./тнт",{"v":0,"d":"0.00"},{"v":0,"d":"0.00"},{"v":0,"d":"0.00"}]
[{"$nulls":31},"COASC",{"$nulls":6},"4.NFPTR.COASC","Уголь отощённо-спекающийся","руб./тнт",{"v":0,"d":"0.00"},{"v":0,"d":"0.00"},{"v":0,"d":"0.00"}]
[{"$nulls":31},"COAWC",{"$nulls":6},"4.NFPTR.COAWC","Уголь слабоспекающийся","руб./тнт",{"v":0,"d":"0.00"},{"v":0,"d":"0.00"},{"v":0,"d":"0.00"}]
[{"$nulls":31},"COAS",{"$nulls":6},"4.NFPTR.COAS","Уголь тощий","руб./тнт",{"v":0,"d":"0.00"},{"v":0,"d":"0.00"},{"v":0,"d":"0.00"}]
[{"$nulls":31},"ENR",{"$nulls":6},"4.NFPTR.ENR","Энергия","руб./кВт*ч",{"$f":"IF(AP924=0,0,AP70/AP924)","v":{"v":0,"d":"0.00"}},{"v":0,"d":"0.00"},{"v":0,"d":"0.00"}]
[{"$nulls":31},"PWR",{"$nulls":6},"4.NFPTR.PWR","Заявленная мощность","руб./кВт*мес",{"v":0,"d":"0.00"},{"v":0,"d":"0.00"},{"v":0,"d":"0.00"}]
[{"$nulls":31},"CWD",{"$nulls":6},"4.NFPTR.CWD","Уголь древесный","руб./тнт",{"$f":"IF(AP336=0,0,AP72/AP336*1000)","v":{"v":0,"d":"0.00"}},{"v":0,"d":"0.00"},{"v":0,"d":"0.00"}]
[{"$nulls":31},"WDS",{"$nulls":6},"4.NFPTR.WDS","Дрова","руб./тнт",{"v":0,"d":"0.00"},{"v":0,"d":"0.00"},{"v":0,"d":"0.00"}]
[{"$nulls":31},"PLT",{"$nulls":6},"4.NFPTR.PLT","Пеллеты","руб./тнт",{"v":0,"d":"0.00"},{"v":0,"d":"0.00"},{"v":0,"d":"0.00"}]
[{"$nulls":31},"SAW",{"$nulls":6},"4.NFPTR.SAW","Опилки","руб./тнт",{"v":0,"d":"0.00"},{"v":0,"d":"0.00"},{"v":0,"d":"0.00"}]
[{"$nulls":31},"PEA",{"$nulls":6},"4.NFPTR.PEA","Торф","руб./тнт",{"v":0,"d":"0.00"},{"v":0,"d":"0.00"},{"v":0,"d":"0.00"}]
[{"$nulls":31},"SHL",{"$nulls":6},"4.NFPTR.SHL","Сланцы","руб./тнт",{"v":0,"d":"0.00"},{"v":0,"d":"0.00"},{"v":0,"d":"0.00"}]
[{"$nulls":31},"STF",{"$nulls":6},"4.NFPTR.STF","Печное бытовое топливо","руб./тнт",{"v":0,"d":"0.00"},{"v":0,"d":"0.00"},{"v":0,"d":"0.00"}]
[]
[{"$nulls":38},"4.CFV","Расход условного топлива","тут",{"$f":"SUMIF($AS$9:$AT$9,AP$9,$AS168:$AT168)","v":{"v":0,"d":"0.00"}},{"v":0,"d":"0.00"},{"v":0,"d":"0.00"}]
[{"$nulls":31},"NG",{"$nulls":6},"4.CFV.NG","Газ природный","тут",{"v":0,"d":"0.00"},{"v":0,"d":"0.00"},{"v":0,"d":"0.00"}]
[{"$nulls":31},"NGL",{"$nulls":6},"4.CFV.NGL","Газ лимитный","тут",{"v":0,"d":"0.00"},{"v":0,"d":"0.00"},{"v":0,"d":"0.00"}]
[{"$nulls":31},"NGU",{"$nulls":6},"4.CFV.NGU","Газ сверхлимитный","тут",{"v":0,"d":"0.00"},{"v":0,"d":"0.00"},{"v":0,"d":"0.00"}]
[{"$nulls":31},"NGC",{"$nulls":6},"4.CFV.NGC","Газ коммерческий","тут",{"v":0,"d":"0.00"},{"v":0,"d":"0.00"},{"v":0,"d":"0.00"}]
[{"$nulls":31},"GBL",{"$nulls":6},"4.CFV.GBL","Газ доменный","тут",{"v":0,"d":"0.00"},{"v":0,"d":"0.00"},{"v":0,"d":"0.00"}]
[{"$nulls":31},"GCK",{"$nulls":6},"4.CFV.GCK","Газ коксовый","тут",{"v":0,"d":"0.00"},{"v":0,"d":"0.00"},{"v":0,"d":"0.00"}]
[{"$nulls":31},"GOA",{"$nulls":6},"4.CFV.GOA","Газ нефтяной (попутный)","тут",{"v":0,"d":"0.00"},{"v":0,"d":"0.00"},{"v":0,"d":"0.00"}]
[{"$nulls":31},"DSG",{"$nulls":6},"4.CFV.DSG","Газ сухой отбензиненный","тут",{"v":0,"d":"0.00"},{"v":0,"d":"0.00"},{"v":0,"d":"0.00"}]
[{"$nulls":31},"GCN",{"$nulls":6},"4.CFV.GCN","Газовый конденсат","тут",{"v":0,"d":"0.00"},{"v":0,"d":"0.00"},{"v":0,"d":"0.00"}]
[{"$nulls":31},"LNG",{"$nulls":6},"4.CFV.LNG","Газ сжиженный","тут",{"v":0,"d":"0.00"},{"v":0,"d":"0.00"},{"v":0,"d":"0.00"}]
[{"$nulls":31},"DSL",{"$nulls":6},"4.CFV.DSL","Дизельное топливо","тут",{"v":0,"d":"0.00"},{"v":0,"d":"0.00"},{"v":0,"d":"0.00"}]
[{"$nulls":31},"DSLA",{"$nulls":6},"4.CFV.DSLA","А (арктическое)","тут",{"v":0,"d":"0.00"},{"v":0,"d":"0.00"},{"v":0,"d":"0.00"}]
[{"$nulls":31},"DSLW",{"$nulls":6},"4.CFV.DSLW","З (зимнее)","тут",{"v":0,"d":"0.00"},{"v":0,"d":"0.00"},{"v":0,"d":"0.00"}]
[{"$nulls":31},"DSLS",{"$nulls":6},"4.CFV.DSLS","Л (летнее)","тут",{"v":0,"d":"0.00"},{"v":0,"d":"0.00"},{"v":0,"d":"0.00"}]
[{"$nulls":31},"DSLO",{"$nulls":6},"4.CFV.DSLO","Е (межсезонное)","тут",{"v":0,"d":"0.00"},{"v":0,"d":"0.00"},{"v":0,"d":"0.00"}]
[{"$nulls":31},"MST",{"$nulls":6},"4.CFV.MST","Мазут","тут",{"v":0,"d":"0.00"},{"v":0,"d":"0.00"},{"v":0,"d":"0.00"}]
[{"$nulls":31},"MSTM40",{"$nulls":6},"4.CFV.MSTM40","М-40","тут",{"v":0,"d":"0.00"},{"v":0,"d":"0.00"},{"v":0,"d":"0.00"}]
[{"$nulls":31},"MSTM100",{"$nulls":6},"4.CFV.MSTM100","М-100","тут",{"v":0,"d":"0.00"},{"v":0,"d":"0.00"},{"v":0,"d":"0.00"}]
[{"$nulls":31},"MSTM200",{"$nulls":6},"4.CFV.MSTM200","М-200","тут",{"v":0,"d":"0.00"},{"v":0,"d":"0.00"},{"v":0,"d":"0.00"}]
[{"$nulls":31},"MSTT",{"$nulls":6},"4.CFV.MSTT","мазут марки \"Т\"","тут",{"$f":"SUMIF($AS$9:$AT$9,AP$9,$AS188:$AT188)","v":{"v":0,"d":"0.00"}},{"v":0,"d":"0.00"},{"v":0,"d":"0.00"}]
[{"$nulls":31},"MSTF5",{"$nulls":6},"4.CFV.MSTF5","Ф-5","тут",{"v":0,"d":"0.00"},{"v":0,"d":"0.00"},{"v":0,"d":"0.00"}]
[{"$nulls":31},"MSTF12",{"$nulls":6},"4.CFV.MSTF12","Ф-12","тут",{"v":0,"d":"0.00"},{"v":0,"d":"0.00"},{"v":0,"d":"0.00"}]
[{"$nulls":31},"OIL",{"$nulls":6},"4.CFV.OIL","Нефть","тут",{"v":0,"d":"0.00"},{"v":0,"d":"0.00"},{"v":0,"d":"0.00"}]
[{"$nulls":31},"COA",{"$nulls":6},"4.CFV.COA","Уголь","тут",{"v":0,"d":"0.00"},{"v":0,"d":"0.00"},{"v":0,"d":"0.00"}]
[{"$nulls":31},"COAA",{"$nulls":6},"4.CFV.COAA","Уголь антрацит","тут",{"v":0,"d":"0.00"},{"v":0,"d":"0.00"},{"v":0,"d":"0.00"}]
[{"$nulls":31},"COAB",{"$nulls":6},"4.CFV.COAB","Уголь бурый","тут",{"v":0,"d":"0.00"},{"v":0,"d":"0.00"},{"v":0,"d":"0.00"}]
[{"$nulls":31},"COAG",{"$nulls":6},"4.CFV.COAG","Уголь газовый","тут",{"v":0,"d":"0.00"},{"v":0,"d":"0.00"},{"v":0,"d":"0.00"}]
[{"$nulls":31},"COALF",{"$nulls":6},"4.CFV.COALF","Уголь длиннопламенный","тут",{"v":0,"d":"0.00"},{"v":0,"d":"0.00"},{"v":0,"d":"0.00"}]
[{"$nulls":31},"COAF",{"$nulls":6},"4.CFV.COAF","Уголь жирный","тут",{"v":0,"d":"0.00"},{"v":0,"d":"0.00"},{"v":0,"d":"0.00"}]
[{"$nulls":31},"COAC",{"$nulls":6},"4.CFV.COAC","Уголь коксовый","тут",{"v":0,"d":"0.00"},{"v":0,"d":"0.00"},{"v":0,"d":"0.00"}]
[{"$nulls":31},"COASC",{"$nulls":6},"4.CFV.COASC","Уголь отощённо-спекающийся","тут",{"v":0,"d":"0.00"},{"v":0,"d":"0.00"},{"v":0,"d":"0.00"}]
[{"$nulls":31},"COAWC",{"$nulls":6},"4.CFV.COAWC","Уголь слабоспекающийся","тут",{"v":0,"d":"0.00"},{"v":0,"d":"0.00"},{"v":0,"d":"0.00"}]
[{"$nulls":31},"COAS",{"$nulls":6},"4.CFV.COAS","Уголь тощий","тут",{"v":0,"d":"0.00"},{"v":0,"d":"0.00"},{"v":0,"d":"0.00"}]
[]
[]
[{"$nulls":31},"CWD",{"$nulls":6},"4.CFV.CWD","Уголь древесный","тут",{"$f":"SUMIF($AS$9:$AT$9,AP$9,$AS204:$AT204)","v":{"v":0,"d":"0.00"}},{"v":0,"d":"0.00"},{"v":0,"d":"0.00"}]
[{"$nulls":31},"WDS",{"$nulls":6},"4.CFV.WDS","Дрова","тут",{"v":0,"d":"0.00"},{"v":0,"d":"0.00"},{"v":0,"d":"0.00"}]
[{"$nulls":31},"PLT",{"$nulls":6},"4.CFV.PLT","Пеллеты","тут",{"v":0,"d":"0.00"},{"v":0,"d":"0.00"},{"v":0,"d":"0.00"}]
[{"$nulls":31},"SAW",{"$nulls":6},"4.CFV.SAW","Опилки","тут",{"v":0,"d":"0.00"},{"v":0,"d":"0.00"},{"v":0,"d":"0.00"}]
[{"$nulls":31},"PEA",{"$nulls":6},"4.CFV.PEA","Торф","тут",{"v":0,"d":"0.00"},{"v":0,"d":"0.00"},{"v":0,"d":"0.00"}]
[{"$nulls":31},"SHL",{"$nulls":6},"4.CFV.SHL","Сланцы","тут",{"v":0,"d":"0.00"},{"v":0,"d":"0.00"},{"v":0,"d":"0.00"}]
[{"$nulls":31},"STF",{"$nulls":6},"4.CFV.STF","Печное бытовое топливо","тут",{"v":0,"d":"0.00"},{"v":0,"d":"0.00"},{"v":0,"d":"0.00"}]
[]
[{"$nulls":38},"4.P","Доля","%",{"$f":"SUM(AP213,AP217:AP222,AP223,AP228,AP235,AP236,AP248:AP254)","v":{"v":0,"d":"0.00"}},{"$f":"SUM(AQ213,AQ217:AQ222,AQ223,AQ228,AQ235,AQ236,AQ248:AQ254)","v":{"v":0,"d":"0.00"}},{"$f":"SUM(AR213,AR217:AR222,AR223,AR228,AR235,AR236,AR248:AR254)","v":{"v":0,"d":"0.00"}}]
[{"$nulls":31},"NG",{"$nulls":6},"4.P.NG","Газ природный","%",{"$f":"IF(AP$168=0,0,AP169/AP$168*100)","v":{"v":0,"d":"0.00"}},{"v":0,"d":"0.00"},{"v":0,"d":"0.00"}]
[{"$nulls":31},"NGL",{"$nulls":6},"4.P.NGL","Газ лимитный","%",{"v":0,"d":"0.00"},{"v":0,"d":"0.00"},{"v":0,"d":"0.00"}]
[{"$nulls":31},"NGU",{"$nulls":6},"4.P.NGU","Газ сверхлимитный","%",{"v":0,"d":"0.00"},{"v":0,"d":"0.00"},{"v":0,"d":"0.00"}]
[{"$nulls":31},"NGC",{"$nulls":6},"4.P.NGC","Газ коммерческий","%",{"v":0,"d":"0.00"},{"v":0,"d":"0.00"},{"v":0,"d":"0.00"}]
[{"$nulls":31},"GBL",{"$nulls":6},"4.P.GBL","Газ доменный","%",{"v":0,"d":"0.00"},{"v":0,"d":"0.00"},{"v":0,"d":"0.00"}]
[{"$nulls":31},"GCK",{"$nulls":6},"4.P.GCK","Газ коксовый","%",{"v":0,"d":"0.00"},{"v":0,"d":"0.00"},{"v":0,"d":"0.00"}]
[{"$nulls":31},"GOA",{"$nulls":6},"4.P.GOA","Газ нефтяной (попутный)","%",{"v":0,"d":"0.00"},{"v":0,"d":"0.00"},{"v":0,"d":"0.00"}]
[{"$nulls":31},"DSG",{"$nulls":6},"4.P.DSG","Газ сухой отбензиненный","%",{"v":0,"d":"0.00"},{"v":0,"d":"0.00"},{"v":0,"d":"0.00"}]
[{"$nulls":31},"GCN",{"$nulls":6},"4.P.GCN","Газовый конденсат","%",{"v":0,"d":"0.00"},{"v":0,"d":"0.00"},{"v":0,"d":"0.00"}]
[{"$nulls":31},"LNG",{"$nulls":6},"4.P.LNG","Газ сжиженный","%",{"v":0,"d":"0.00"},{"v":0,"d":"0.00"},{"v":0,"d":"0.00"}]
[{"$nulls":31},"DSL",{"$nulls":6},"4.P.DSL","Дизельное топливо","%",{"v":0,"d":"0.00"},{"v":0,"d":"0.00"},{"v":0,"d":"0.00"}]
[{"$nulls":31},"DSLA",{"$nulls":6},"4.P.DSLA","А (арктическое)","%",{"v":0,"d":"0.00"},{"v":0,"d":"0.00"},{"v":0,"d":"0.00"}]
[{"$nulls":31},"DSLW",{"$nulls":6},"4.P.DSLW","З (зимнее)","%",{"v":0,"d":"0.00"},{"v":0,"d":"0.00"},{"v":0,"d":"0.00"}]
[{"$nulls":31},"DSLS",{"$nulls":6},"4.P.DSLS","Л (летнее)","%",{"v":0,"d":"0.00"},{"v":0,"d":"0.00"},{"v":0,"d":"0.00"}]
[{"$nulls":31},"DSLO",{"$nulls":6},"4.P.DSLO","Е (межсезонное)","%",{"v":0,"d":"0.00"},{"v":0,"d":"0.00"},{"v":0,"d":"0.00"}]
[{"$nulls":31},"MST",{"$nulls":6},"4.P.MST","Мазут","%",{"v":0,"d":"0.00"},{"v":0,"d":"0.00"},{"v":0,"d":"0.00"}]
[{"$nulls":31},"MSTM40",{"$nulls":6},"4.P.MSTM40","М-40","%",{"v":0,"d":"0.00"},{"v":0,"d":"0.00"},{"v":0,"d":"0.00"}]
[{"$nulls":31},"MSTM100",{"$nulls":6},"4.P.MSTM100","М-100","%",{"v":0,"d":"0.00"},{"v":0,"d":"0.00"},{"v":0,"d":"0.00"}]
[{"$nulls":31},"MSTM200",{"$nulls":6},"4.P.MSTM200","М-200","%",{"v":0,"d":"0.00"},{"v":0,"d":"0.00"},{"v":0,"d":"0.00"}]
[{"$nulls":31},"MSTT",{"$nulls":6},"4.P.MSTT","мазут марки \"Т\"","%",{"v":0,"d":"0.00"},{"v":0,"d":"0.00"},{"v":0,"d":"0.00"}]
[{"$nulls":31},"MSTF5",{"$nulls":6},"4.P.MSTF5","Ф-5","%",{"$f":"IF(AP$168=0,0,AP189/AP$168*100)","v":{"v":0,"d":"0.00"}},{"v":0,"d":"0.00"},{"v":0,"d":"0.00"}]
[{"$nulls":31},"MSTF12",{"$nulls":6},"4.P.MSTF12","Ф-12","%",{"v":0,"d":"0.00"},{"v":0,"d":"0.00"},{"v":0,"d":"0.00"}]
[{"$nulls":31},"OIL",{"$nulls":6},"4.P.OIL","Нефть","%",{"v":0,"d":"0.00"},{"v":0,"d":"0.00"},{"v":0,"d":"0.00"}]
[{"$nulls":31},"COA",{"$nulls":6},"4.P.COA","Уголь","%",{"v":0,"d":"0.00"},{"v":0,"d":"0.00"},{"v":0,"d":"0.00"}]
[{"$nulls":31},"COAA",{"$nulls":6},"4.P.COAA","Уголь антрацит","%",{"v":0,"d":"0.00"},{"v":0,"d":"0.00"},{"v":0,"d":"0.00"}]
[{"$nulls":31},"COAB",{"$nulls":6},"4.P.COAB","Уголь бурый","%",{"v":0,"d":"0.00"},{"v":0,"d":"0.00"},{"v":0,"d":"0.00"}]
[{"$nulls":31},"COAG",{"$nulls":6},"4.P.COAG","Уголь газовый","%",{"v":0,"d":"0.00"},{"v":0,"d":"0.00"},{"v":0,"d":"0.00"}]
[{"$nulls":31},"COALF",{"$nulls":6},"4.P.COALF","Уголь длиннопламенный","%",{"v":0,"d":"0.00"},{"v":0,"d":"0.00"},{"v":0,"d":"0.00"}]
[{"$nulls":31},"COAF",{"$nulls":6},"4.P.COAF","Уголь жирный","%",{"v":0,"d":"0.00"},{"v":0,"d":"0.00"},{"v":0,"d":"0.00"}]
[{"$nulls":31},"COAC",{"$nulls":6},"4.P.COAC","Уголь коксовый","%",{"v":0,"d":"0.00"},{"v":0,"d":"0.00"},{"v":0,"d":"0.00"}]
[{"$nulls":31},"COASC",{"$nulls":6},"4.P.COASC","Уголь отощённо-спекающийся","%",{"v":0,"d":"0.00"},{"v":0,"d":"0.00"},{"v":0,"d":"0.00"}]
[{"$nulls":31},"COAWC",{"$nulls":6},"4.P.COAWC","Уголь слабоспекающийся","%",{"v":0,"d":"0.00"},{"v":0,"d":"0.00"},{"v":0,"d":"0.00"}]
[{"$nulls":31},"COAS",{"$nulls":6},"4.P.COAS","Уголь тощий","%",{"v":0,"d":"0.00"},{"v":0,"d":"0.00"},{"v":0,"d":"0.00"}]
[]
[]
[{"$nulls":31},"CWD",{"$nulls":6},"4.P.CWD","Уголь древесный","%",{"$f":"IF(AP$168=0,0,AP204/AP$168*100)","v":{"v":0,"d":"0.00"}},{"v":0,"d":"0.00"},{"v":0,"d":"0.00"}]
[{"$nulls":31},"WDS",{"$nulls":6},"4.P.WDS","Дрова","%",{"v":0,"d":"0.00"},{"v":0,"d":"0.00"},{"v":0,"d":"0.00"}]
[{"$nulls":31},"PLT",{"$nulls":6},"4.P.PLT","Пеллеты","%",{"v":0,"d":"0.00"},{"v":0,"d":"0.00"},{"v":0,"d":"0.00"}]
[{"$nulls":31},"SAW",{"$nulls":6},"4.P.SAW","Опилки","%",{"v":0,"d":"0.00"},{"v":0,"d":"0.00"},{"v":0,"d":"0.00"}]
[{"$nulls":31},"PEA",{"$nulls":6},"4.P.PEA","Торф","%",{"v":0,"d":"0.00"},{"v":0,"d":"0.00"},{"v":0,"d":"0.00"}]
[{"$nulls":31},"SHL",{"$nulls":6},"4.P.SHL","Сланцы","%",{"v":0,"d":"0.00"},{"v":0,"d":"0.00"},{"v":0,"d":"0.00"}]
[{"$nulls":31},"STF",{"$nulls":6},"4.P.STF","Печное бытовое топливо","%",{"v":0,"d":"0.00"},{"v":0,"d":"0.00"},{"v":0,"d":"0.00"}]
[]
[{"$nulls":38},"4.CF","Переводной коэффициент"]
[{"$nulls":31},"NG",{"$nulls":6},"4.CF.NG","Газ природный"]
[{"$nulls":31},"NGL",{"$nulls":6},"4.CF.NGL","Газ лимитный"]
[{"$nulls":31},"NGU",{"$nulls":6},"4.CF.NGU","Газ сверхлимитный"]
[{"$nulls":31},"NGC",{"$nulls":6},"4.CF.NGC","Газ коммерческий"]
[{"$nulls":31},"GBL",{"$nulls":6},"4.CF.GBL","Газ доменный"]
[{"$nulls":31},"GCK",{"$nulls":6},"4.CF.GCK","Газ коксовый"]
[{"$nulls":31},"GOA",{"$nulls":6},"4.CF.GOA","Газ нефтяной (попутный)"]
[{"$nulls":31},"DSG",{"$nulls":6},"4.CF.DSG","Газ сухой отбензиненный"]
[{"$nulls":31},"GCN",{"$nulls":6},"4.CF.GCN","Газовый конденсат"]
[{"$nulls":31},"LNG",{"$nulls":6},"4.CF.LNG","Газ сжиженный"]
[{"$nulls":31},"DSL",{"$nulls":6},"4.CF.DSL","Дизельное топливо"]
[{"$nulls":31},"DSLA",{"$nulls":6},"4.CF.DSLA","А (арктическое)"]
[{"$nulls":31},"DSLW",{"$nulls":6},"4.CF.DSLW","З (зимнее)"]
[{"$nulls":31},"DSLS",{"$nulls":6},"4.CF.DSLS","Л (летнее)"]
[{"$nulls":31},"DSLO",{"$nulls":6},"4.CF.DSLO","Е (межсезонное)"]
[{"$nulls":31},"MST",{"$nulls":6},"4.CF.MST","Мазут"]
[{"$nulls":31},"MSTM40",{"$nulls":6},"4.CF.MSTM40","М-40"]
[{"$nulls":31},"MSTM100",{"$nulls":6},"4.CF.MSTM100","М-100"]
[{"$nulls":31},"MSTM200",{"$nulls":6},"4.CF.MSTM200","М-200"]
[{"$nulls":31},"MSTT",{"$nulls":6},"4.CF.MSTT","мазут марки \"Т\""]
[{"$nulls":31},"MSTF5",{"$nulls":6},"4.CF.MSTF5","Ф-5"]
[{"$nulls":31},"MSTF12",{"$nulls":6},"4.CF.MSTF12","Ф-12"]
[{"$nulls":31},"OIL",{"$nulls":6},"4.CF.OIL","Нефть"]
[{"$nulls":31},"COA",{"$nulls":6},"4.CF.COA","Уголь"]
[{"$nulls":31},"COAA",{"$nulls":6},"4.CF.COAA","Уголь антрацит"]
[{"$nulls":31},"COAB",{"$nulls":6},"4.CF.COAB","Уголь бурый"]
[{"$nulls":31},"COAG",{"$nulls":6},"4.CF.COAG","Уголь газовый"]
[{"$nulls":31},"COALF",{"$nulls":6},"4.CF.COALF","Уголь длиннопламенный"]
[{"$nulls":31},"COAF",{"$nulls":6},"4.CF.COAF","Уголь жирный"]
[{"$nulls":31},"COAC",{"$nulls":6},"4.CF.COAC","Уголь коксовый"]
[{"$nulls":31},"COASC",{"$nulls":6},"4.CF.COASC","Уголь отощённо-спекающийся"]
[{"$nulls":31},"COAWC",{"$nulls":6},"4.CF.COAWC","Уголь слабоспекающийся"]
[{"$nulls":31},"COAS",{"$nulls":6},"4.CF.COAS","Уголь тощий"]
[]
[]
[{"$nulls":31},"CWD",{"$nulls":6},"4.CF.CWD","Уголь древесный"]
[{"$nulls":31},"WDS",{"$nulls":6},"4.CF.WDS","Дрова"]
[{"$nulls":31},"PLT",{"$nulls":6},"4.CF.PLT","Пеллеты"]
[{"$nulls":31},"SAW",{"$nulls":6},"4.CF.SAW","Опилки"]
[{"$nulls":31},"PEA",{"$nulls":6},"4.CF.PEA","Торф"]
[{"$nulls":31},"SHL",{"$nulls":6},"4.CF.SHL","Сланцы"]
[{"$nulls":31},"STF",{"$nulls":6},"4.CF.STF","Печное бытовое топливо"]
[]
[{"$nulls":38},"4.NFV","Расход натурального топлива"]
[{"$nulls":31},"NG",{"$nulls":6},"4.NFV.NG","Газ природный","тыс.м3",{"$f":"SUMIF($AS$9:$AT$9,AP$9,$AS301:$AT301)","v":{"v":0,"d":"0.00"}},{"v":0,"d":"0.00"},{"v":0,"d":"0.00"}]
[{"$nulls":31},"NGL",{"$nulls":6},"4.NFV.NGL","Газ лимитный","тыс.м3",{"v":0,"d":"0.00"},{"v":0,"d":"0.00"},{"v":0,"d":"0.00"}]
[{"$nulls":31},"NGU",{"$nulls":6},"4.NFV.NGU","Газ сверхлимитный","тыс.м3",{"v":0,"d":"0.00"},{"v":0,"d":"0.00"},{"v":0,"d":"0.00"}]
[{"$nulls":31},"NGC",{"$nulls":6},"4.NFV.NGC","Газ коммерческий","тыс.м3",{"v":0,"d":"0.00"},{"v":0,"d":"0.00"},{"v":0,"d":"0.00"}]
[{"$nulls":31},"GBL",{"$nulls":6},"4.NFV.GBL","Газ доменный","тнт",{"v":0,"d":"0.00"},{"v":0,"d":"0.00"},{"v":0,"d":"0.00"}]
[{"$nulls":31},"GCK",{"$nulls":6},"4.NFV.GCK","Газ коксовый","тнт",{"v":0,"d":"0.00"},{"v":0,"d":"0.00"},{"v":0,"d":"0.00"}]
[{"$nulls":31},"GOA",{"$nulls":6},"4.NFV.GOA","Газ нефтяной (попутный)","тнт",{"v":0,"d":"0.00"},{"v":0,"d":"0.00"},{"v":0,"d":"0.00"}]
[{"$nulls":31},"DSG",{"$nulls":6},"4.NFV.DSG","Газ сухой отбензиненный","тнт",{"v":0,"d":"0.00"},{"v":0,"d":"0.00"},{"v":0,"d":"0.00"}]
[{"$nulls":31},"GCN",{"$nulls":6},"4.NFV.GCN","Газовый конденсат","тнт",{"v":0,"d":"0.00"},{"v":0,"d":"0.00"},{"v":0,"d":"0.00"}]
[{"$nulls":31},"LNG",{"$nulls":6},"4.NFV.LNG","Газ сжиженный","тнт",{"v":0,"d":"0.00"},{"v":0,"d":"0.00"},{"v":0,"d":"0.00"}]
[{"$nulls":31},"DSL",{"$nulls":6},"4.NFV.DSL","Дизельное топливо","тнт",{"v":0,"d":"0.00"},{"v":0,"d":"0.00"},{"v":0,"d":"0.00"}]
[{"$nulls":31},"DSLA",{"$nulls":6},"4.NFV.DSLA","А (арктическое)","тнт",{"v":0,"d":"0.00"},{"v":0,"d":"0.00"},{"v":0,"d":"0.00"}]
[{"$nulls":31},"DSLW",{"$nulls":6},"4.NFV.DSLW","З (зимнее)","тнт",{"v":0,"d":"0.00"},{"v":0,"d":"0.00"},{"v":0,"d":"0.00"}]
[{"$nulls":31},"DSLS",{"$nulls":6},"4.NFV.DSLS","Л (летнее)","тнт",{"v":0,"d":"0.00"},{"v":0,"d":"0.00"},{"v":0,"d":"0.00"}]
[{"$nulls":31},"DSLO",{"$nulls":6},"4.NFV.DSLO","Е (межсезонное)","тнт",{"v":0,"d":"0.00"},{"v":0,"d":"0.00"},{"v":0,"d":"0.00"}]
[{"$nulls":31},"MST",{"$nulls":6},"4.NFV.MST","Мазут","тнт",{"v":0,"d":"0.00"},{"v":0,"d":"0.00"},{"v":0,"d":"0.00"}]
[{"$nulls":31},"MSTM40",{"$nulls":6},"4.NFV.MSTM40","М-40","тнт",{"v":0,"d":"0.00"},{"v":0,"d":"0.00"},{"v":0,"d":"0.00"}]
[{"$nulls":31},"MSTM100",{"$nulls":6},"4.NFV.MSTM100","М-100","тнт",{"v":0,"d":"0.00"},{"v":0,"d":"0.00"},{"v":0,"d":"0.00"}]
[{"$nulls":31},"MSTM200",{"$nulls":6},"4.NFV.MSTM200","М-200","тнт",{"v":0,"d":"0.00"},{"v":0,"d":"0.00"},{"v":0,"d":"0.00"}]
[{"$nulls":31},"MSTT",{"$nulls":6},"4.NFV.MSTT","мазут марки \"Т\"","тнт",{"v":0,"d":"0.00"},{"v":0,"d":"0.00"},{"v":0,"d":"0.00"}]
[{"$nulls":31},"MSTF5",{"$nulls":6},"4.NFV.MSTF5","Ф-5","тнт",{"$f":"SUMIF($AS$9:$AT$9,AP$9,$AS321:$AT321)","v":{"v":0,"d":"0.00"}},{"v":0,"d":"0.00"},{"v":0,"d":"0.00"}]
[{"$nulls":31},"MSTF12",{"$nulls":6},"4.NFV.MSTF12","Ф-12","тнт",{"v":0,"d":"0.00"},{"v":0,"d":"0.00"},{"v":0,"d":"0.00"}]
[{"$nulls":31},"OIL",{"$nulls":6},"4.NFV.OIL","Нефть","тнт",{"v":0,"d":"0.00"},{"v":0,"d":"0.00"},{"v":0,"d":"0.00"}]
[{"$nulls":31},"COA",{"$nulls":6},"4.NFV.COA","Уголь","тнт",{"v":0,"d":"0.00"},{"v":0,"d":"0.00"},{"v":0,"d":"0.00"}]
[{"$nulls":31},"COAA",{"$nulls":6},"4.NFV.COAA","Уголь антрацит","тнт",{"v":0,"d":"0.00"},{"v":0,"d":"0.00"},{"v":0,"d":"0.00"}]
[{"$nulls":31},"COAB",{"$nulls":6},"4.NFV.COAB","Уголь бурый","тнт",{"v":0,"d":"0.00"},{"v":0,"d":"0.00"},{"v":0,"d":"0.00"}]
[{"$nulls":31},"COAG",{"$nulls":6},"4.NFV.COAG","Уголь газовый","тнт",{"v":0,"d":"0.00"},{"v":0,"d":"0.00"},{"v":0,"d":"0.00"}]
[{"$nulls":31},"COALF",{"$nulls":6},"4.NFV.COALF","Уголь длиннопламенный","тнт",{"v":0,"d":"0.00"},{"v":0,"d":"0.00"},{"v":0,"d":"0.00"}]
[{"$nulls":31},"COAF",{"$nulls":6},"4.NFV.COAF","Уголь жирный","тнт",{"v":0,"d":"0.00"},{"v":0,"d":"0.00"},{"v":0,"d":"0.00"}]
[{"$nulls":31},"COAC",{"$nulls":6},"4.NFV.COAC","Уголь коксовый","тнт",{"v":0,"d":"0.00"},{"v":0,"d":"0.00"},{"v":0,"d":"0.00"}]
[{"$nulls":31},"COASC",{"$nulls":6},"4.NFV.COASC","Уголь отощённо-спекающийся","тнт",{"v":0,"d":"0.00"},{"v":0,"d":"0.00"},{"v":0,"d":"0.00"}]
[{"$nulls":31},"COAWC",{"$nulls":6},"4.NFV.COAWC","Уголь слабоспекающийся","тнт",{"v":0,"d":"0.00"},{"v":0,"d":"0.00"},{"v":0,"d":"0.00"}]
[{"$nulls":31},"COAS",{"$nulls":6},"4.NFV.COAS","Уголь тощий","тнт",{"v":0,"d":"0.00"},{"v":0,"d":"0.00"},{"v":0,"d":"0.00"}]
[{"$nulls":31},"ENR",{"$nulls":6},"4.NFV.ENR","Энергия","тыс.кВт*ч",{"v":0,"d":"0.00"},{"v":0,"d":"0.00"},{"v":0,"d":"0.00"}]
[{"$nulls":31},"PWR",{"$nulls":6},"4.NFV.PWR","Заявленная мощность","МВт",{"v":0,"d":"0.00"},{"v":0,"d":"0.00"},{"v":0,"d":"0.00"}]
[{"$nulls":31},"CWD",{"$nulls":6},"4.NFV.CWD","Уголь древесный","тнт",{"v":0,"d":"0.00"},{"v":0,"d":"0.00"},{"v":0,"d":"0.00"}]
[{"$nulls":31},"WDS",{"$nulls":6},"4.NFV.WDS","Дрова","тнт",{"v":0,"d":"0.00"},{"v":0,"d":"0.00"},{"v":0,"d":"0.00"}]
[{"$nulls":31},"PLT",{"$nulls":6},"4.NFV.PLT","Пеллеты","тнт",{"v":0,"d":"0.00"},{"v":0,"d":"0.00"},{"v":0,"d":"0.00"}]
[{"$nulls":31},"SAW",{"$nulls":6},"4.NFV.SAW","Опилки","тнт",{"v":0,"d":"0.00"},{"v":0,"d":"0.00"},{"v":0,"d":"0.00"}]
[{"$nulls":31},"PEA",{"$nulls":6},"4.NFV.PEA","Торф","тнт",{"v":0,"d":"0.00"},{"v":0,"d":"0.00"},{"v":0,"d":"0.00"}]
[{"$nulls":31},"SHL",{"$nulls":6},"4.NFV.SHL","Сланцы","тнт",{"v":0,"d":"0.00"},{"v":0,"d":"0.00"},{"v":0,"d":"0.00"}]
[{"$nulls":31},"STF",{"$nulls":6},"4.NFV.STF","Печное бытовое топливо","тнт",{"v":0,"d":"0.00"},{"v":0,"d":"0.00"},{"v":0,"d":"0.00"}]
[]
[{"$nulls":38},"4.NGV","Расход природного газа"]
[{"$nulls":31},"NGL",{"$nulls":6},"4.NGV.NGL","Газ лимитный","тыс.м3",{"$f":"SUMIF($AS$9:$AT$9,AP$9,$AS345:$AT345)","v":{"v":0,"d":"0.00"}},{"v":0,"d":"0.00"},{"v":0,"d":"0.00"}]
[{"$nulls":31},"NGL",{"$nulls":6},"4.NGV.1.NGL","1 группа: свыше 500 млн.м3","тыс.м3",{"v":0,"d":"0.00"},{"v":0,"d":"0.00"},{"v":0,"d":"0.00"}]
[{"$nulls":31},"NGL",{"$nulls":6},"4.NGV.2.NGL","2 группа: от 100 до 500 млн.м3 включительно","тыс.м3",{"v":0,"d":"0.00"},{"v":0,"d":"0.00"},{"v":0,"d":"0.00"}]
[{"$nulls":31},"NGL",{"$nulls":6},"4.NGV.3.NGL","3 группа: от 10 до 100 млн.м3 включительно","тыс.м3",{"v":0,"d":"0.00"},{"v":0,"d":"0.00"},{"v":0,"d":"0.00"}]
[{"$nulls":31},"NGL",{"$nulls":6},"4.NGV.4.NGL","4 группа: от 1 до 10 млн.м3 включительно","тыс.м3",{"v":0,"d":"0.00"},{"v":0,"d":"0.00"},{"v":0,"d":"0.00"}]
[{"$nulls":31},"NGL",{"$nulls":6},"4.NGV.5.NGL","5 группа: от 0,1 до 1 млн.м3 включительно","тыс.м3",{"v":0,"d":"0.00"},{"v":0,"d":"0.00"},{"v":0,"d":"0.00"}]
[{"$nulls":31},"NGL",{"$nulls":6},"4.NGV.6.NGL","6 группа: от 0,01 до 0,1 млн.м3 включительно","тыс.м3",{"v":0,"d":"0.00"},{"v":0,"d":"0.00"},{"v":0,"d":"0.00"}]
[{"$nulls":31},"NGL",{"$nulls":6},"4.NGV.7.NGL","7 группа: до 0,01 млн.м3 включительно","тыс.м3",{"v":0,"d":"0.00"},{"v":0,"d":"0.00"},{"v":0,"d":"0.00"}]
[{"$nulls":31},"NGU",{"$nulls":6},"4.NGV.NGU","Газ сверхлимитный","тыс.м3",{"v":0,"d":"0.00"},{"v":0,"d":"0.00"},{"v":0,"d":"0.00"}]
[{"$nulls":31},"NGU",{"$nulls":6},"4.NGV.1.NGU","1 группа: свыше 500 млн.м3","тыс.м3",{"v":0,"d":"0.00"},{"v":0,"d":"0.00"},{"v":0,"d":"0.00"}]
[{"$nulls":31},"NGU",{"$nulls":6},"4.NGV.2.NGU","2 группа: от 100 до 500 млн.м3 включительно","тыс.м3",{"v":0,"d":"0.00"},{"v":0,"d":"0.00"},{"v":0,"d":"0.00"}]
[{"$nulls":31},"NGU",{"$nulls":6},"4.NGV.3.NGU","3 группа: от 10 до 100 млн.м3 включительно","тыс.м3",{"v":0,"d":"0.00"},{"v":0,"d":"0.00"},{"v":0,"d":"0.00"}]
[{"$nulls":31},"NGU",{"$nulls":6},"4.NGV.4.NGU","4 группа: от 1 до 10 млн.м3 включительно","тыс.м3",{"v":0,"d":"0.00"},{"v":0,"d":"0.00"},{"v":0,"d":"0.00"}]
[{"$nulls":31},"NGU",{"$nulls":6},"4.NGV.5.NGU","5 группа: от 0,1 до 1 млн.м3 включительно","тыс.м3",{"v":0,"d":"0.00"},{"v":0,"d":"0.00"},{"v":0,"d":"0.00"}]
[{"$nulls":31},"NGU",{"$nulls":6},"4.NGV.6.NGU","6 группа: от 0,01 до 0,1 млн.м3 включительно","тыс.м3",{"v":0,"d":"0.00"},{"v":0,"d":"0.00"},{"v":0,"d":"0.00"}]
[{"$nulls":31},"NGU",{"$nulls":6},"4.NGV.7.NGU","7 группа: до 0,01 млн.м3 включительно","тыс.м3",{"v":0,"d":"0.00"},{"v":0,"d":"0.00"},{"v":0,"d":"0.00"}]
[]
[{"$nulls":39},"Показатели себестоимости топлива "]
[]
[{"$nulls":38},"4.NFP","Цена натурального топлива без учёта транспортировки (перевозки)"]
[{"$nulls":31},"NG",{"$nulls":6},"4.NFP.NG","Газ природный","руб./тыс.м3",{"$f":"IF(AP301=0,0,AP409/AP301*1000)","v":{"v":0,"d":"0.00"}},{"$f":"IF(AQ301=0,0,AQ409/AQ301*1000)","v":{"v":0,"d":"0.00"}},{"$f":"IF(AR301=0,0,AR409/AR301*1000)","v":{"v":0,"d":"0.00"}}]
[{"$nulls":31},"NGL",{"$nulls":6},"4.NFP.NGL","Газ лимитный","руб./тыс.м3",{"$f":"IF(AP302=0,0,AP410/AP302*1000)","v":{"v":0,"d":"0.00"}},{"v":0,"d":"0.00"},{"v":0,"d":"0.00"}]
[{"$nulls":31},"NGU",{"$nulls":6},"4.NFP.NGU","Газ сверхлимитный","руб./тыс.м3",{"v":0,"d":"0.00"},{"v":0,"d":"0.00"},{"v":0,"d":"0.00"}]
[{"$nulls":31},"NGC",{"$nulls":6},"4.NFP.NGC","Газ коммерческий","руб./тыс.м3",{"$f":"IF(AP304=0,0,AP412/AP304*1000)","v":{"v":0,"d":"0.00"}},{"v":0,"d":"0.00"},{"v":0,"d":"0.00"}]
[{"$nulls":31},"GBL",{"$nulls":6},"4.NFP.GBL","Газ доменный","руб./тнт",{"v":0,"d":"0.00"},{"v":0,"d":"0.00"},{"v":0,"d":"0.00"}]
[{"$nulls":31},"GCK",{"$nulls":6},"4.NFP.GCK","Газ коксовый","руб./тнт",{"v":0,"d":"0.00"},{"v":0,"d":"0.00"},{"v":0,"d":"0.00"}]
[{"$nulls":31},"GOA",{"$nulls":6},"4.NFP.GOA","Газ нефтяной (попутный)","руб./тнт",{"v":0,"d":"0.00"},{"v":0,"d":"0.00"},{"v":0,"d":"0.00"}]
[{"$nulls":31},"DSG",{"$nulls":6},"4.NFP.DSG","Газ сухой отбензиненный","руб./тнт",{"v":0,"d":"0.00"},{"v":0,"d":"0.00"},{"v":0,"d":"0.00"}]
[{"$nulls":31},"GCN",{"$nulls":6},"4.NFP.GCN","Газовый конденсат","руб./тнт",{"v":0,"d":"0.00"},{"v":0,"d":"0.00"},{"v":0,"d":"0.00"}]
[{"$nulls":31},"LNG",{"$nulls":6},"4.NFP.LNG","Газ сжиженный","руб./тнт",{"v":0,"d":"0.00"},{"v":0,"d":"0.00"},{"v":0,"d":"0.00"}]
[{"$nulls":31},"DSL",{"$nulls":6},"4.NFP.DSL","Дизельное топливо","руб./тнт",{"v":0,"d":"0.00"},{"v":0,"d":"0.00"},{"v":0,"d":"0.00"}]
[{"$nulls":31},"DSLA",{"$nulls":6},"4.NFP.DSLA","А (арктическое)","руб./тнт",{"v":0,"d":"0.00"},{"v":0,"d":"0.00"},{"v":0,"d":"0.00"}]
[{"$nulls":31},"DSLW",{"$nulls":6},"4.NFP.DSLW","З (зимнее)","руб./тнт",{"v":0,"d":"0.00"},{"v":0,"d":"0.00"},{"v":0,"d":"0.00"}]
[{"$nulls":31},"DSLS",{"$nulls":6},"4.NFP.DSLS","Л (летнее)","руб./тнт",{"v":0,"d":"0.00"},{"v":0,"d":"0.00"},{"v":0,"d":"0.00"}]
[{"$nulls":31},"DSLO",{"$nulls":6},"4.NFP.DSLO","Е (межсезонное)","руб./тнт",{"v":0,"d":"0.00"},{"v":0,"d":"0.00"},{"v":0,"d":"0.00"}]
[{"$nulls":31},"MST",{"$nulls":6},"4.NFP.MST","Мазут","руб./тнт",{"v":0,"d":"0.00"},{"v":0,"d":"0.00"},{"v":0,"d":"0.00"}]
[{"$nulls":31},"MSTM40",{"$nulls":6},"4.NFP.MSTM40","М-40","руб./тнт",{"v":0,"d":"0.00"},{"v":0,"d":"0.00"},{"v":0,"d":"0.00"}]
[{"$nulls":31},"MSTM100",{"$nulls":6},"4.NFP.MSTM100","М-100","руб./тнт",{"v":0,"d":"0.00"},{"v":0,"d":"0.00"},{"v":0,"d":"0.00"}]
[{"$nulls":31},"MSTM200",{"$nulls":6},"4.NFP.MSTM200","М-200","руб./тнт",{"v":0,"d":"0.00"},{"v":0,"d":"0.00"},{"v":0,"d":"0.00"}]
[{"$nulls":31},"MSTT",{"$nulls":6},"4.NFP.MSTT","мазут марки \"Т\"","руб./тнт",{"v":0,"d":"0.00"},{"v":0,"d":"0.00"},{"v":0,"d":"0.00"}]
[{"$nulls":31},"MSTF5",{"$nulls":6},"4.NFP.MSTF5","Ф-5","руб./тнт",{"v":0,"d":"0.00"},{"v":0,"d":"0.00"},{"v":0,"d":"0.00"}]
[{"$nulls":31},"MSTF12",{"$nulls":6},"4.NFP.MSTF12","Ф-12","руб./тнт",{"v":0,"d":"0.00"},{"v":0,"d":"0.00"},{"v":0,"d":"0.00"}]
[{"$nulls":31},"OIL",{"$nulls":6},"4.NFP.OIL","Нефть","руб./тнт",{"v":0,"d":"0.00"},{"v":0,"d":"0.00"},{"v":0,"d":"0.00"}]
[{"$nulls":31},"COA",{"$nulls":6},"4.NFP.COA","Уголь","руб./тнт",{"v":0,"d":"0.00"},{"v":0,"d":"0.00"},{"v":0,"d":"0.00"}]
[{"$nulls":31},"COAA",{"$nulls":6},"4.NFP.COAA","Уголь антрацит","руб./тнт",{"v":0,"d":"0.00"},{"v":0,"d":"0.00"},{"v":0,"d":"0.00"}]
[{"$nulls":31},"COAB",{"$nulls":6},"4.NFP.COAB","Уголь бурый","руб./тнт",{"v":0,"d":"0.00"},{"v":0,"d":"0.00"},{"v":0,"d":"0.00"}]
[{"$nulls":31},"COAG",{"$nulls":6},"4.NFP.COAG","Уголь газовый","руб./тнт",{"v":0,"d":"0.00"},{"v":0,"d":"0.00"},{"v":0,"d":"0.00"}]
[{"$nulls":31},"COALF",{"$nulls":6},"4.NFP.COALF","Уголь длиннопламенный","руб./тнт",{"v":0,"d":"0.00"},{"v":0,"d":"0.00"},{"v":0,"d":"0.00"}]
[{"$nulls":31},"COAF",{"$nulls":6},"4.NFP.COAF","Уголь жирный","руб./тнт",{"v":0,"d":"0.00"},{"v":0,"d":"0.00"},{"v":0,"d":"0.00"}]
[{"$nulls":31},"COAC",{"$nulls":6},"4.NFP.COAC","Уголь коксовый","руб./тнт",{"v":0,"d":"0.00"},{"v":0,"d":"0.00"},{"v":0,"d":"0.00"}]
[{"$nulls":31},"COASC",{"$nulls":6},"4.NFP.COASC","Уголь отощённо-спекающийся","руб./тнт",{"v":0,"d":"0.00"},{"v":0,"d":"0.00"},{"v":0,"d":"0.00"}]
[{"$nulls":31},"COAWC",{"$nulls":6},"4.NFP.COAWC","Уголь слабоспекающийся","руб./тнт",{"v":0,"d":"0.00"},{"v":0,"d":"0.00"},{"v":0,"d":"0.00"}]
[{"$nulls":31},"COAS",{"$nulls":6},"4.NFP.COAS","Уголь тощий","руб./тнт",{"v":0,"d":"0.00"},{"v":0,"d":"0.00"},{"v":0,"d":"0.00"}]
[]
[]
[{"$nulls":31},"CWD",{"$nulls":6},"4.NFP.CWD","Уголь древесный","руб./тнт",{"$f":"IF(AP336=0,0,AP444/AP336*1000)","v":{"v":0,"d":"0.00"}},{"v":0,"d":"0.00"},{"v":0,"d":"0.00"}]
[{"$nulls":31},"WDS",{"$nulls":6},"4.NFP.WDS","Дрова","руб./тнт",{"v":0,"d":"0.00"},{"v":0,"d":"0.00"},{"v":0,"d":"0.00"}]
[{"$nulls":31},"PLT",{"$nulls":6},"4.NFP.PLT","Пеллеты","руб./тнт",{"v":0,"d":"0.00"},{"v":0,"d":"0.00"},{"v":0,"d":"0.00"}]
[{"$nulls":31},"SAW",{"$nulls":6},"4.NFP.SAW","Опилки","руб./тнт",{"v":0,"d":"0.00"},{"v":0,"d":"0.00"},{"v":0,"d":"0.00"}]
[{"$nulls":31},"PEA",{"$nulls":6},"4.NFP.PEA","Торф","руб./тнт",{"v":0,"d":"0.00"},{"v":0,"d":"0.00"},{"v":0,"d":"0.00"}]
[{"$nulls":31},"SHL",{"$nulls":6},"4.NFP.SHL","Сланцы","руб./тнт",{"v":0,"d":"0.00"},{"v":0,"d":"0.00"},{"v":0,"d":"0.00"}]
[{"$nulls":31},"STF",{"$nulls":6},"4.NFP.STF","Печное бытовое топливо","руб./тнт",{"v":0,"d":"0.00"},{"v":0,"d":"0.00"},{"v":0,"d":"0.00"}]
[]
[{"$nulls":38},"4.NFC","Стоимость натурального топлива без учёта транспортировки (перевозки)","тыс.руб.",{"$f":"SUMIF($AS$9:$AT$9,AP$9,$AS408:$AT408)","v":{"v":0,"d":"0.00"}},{"v":0,"d":"0.00"},{"v":0,"d":"0.00"}]
[{"$nulls":31},"NG",{"$nulls":6},"NFC.NG","Газ природный","тыс.руб.",{"v":0,"d":"0.00"},{"v":0,"d":"0.00"},{"v":0,"d":"0.00"}]
[{"$nulls":31},"NGL",{"$nulls":6},"NFC.NGL","Газ лимитный","тыс.руб.",{"v":0,"d":"0.00"},{"v":0,"d":"0.00"},{"v":0,"d":"0.00"}]
[{"$nulls":31},"NGU",{"$nulls":6},"NFC.NGU","Газ сверхлимитный","тыс.руб.",{"v":0,"d":"0.00"},{"v":0,"d":"0.00"},{"v":0,"d":"0.00"}]
[{"$nulls":31},"NGC",{"$nulls":6},"NFC.NGC","Газ коммерческий","тыс.руб.",{"v":0,"d":"0.00"},{"v":0,"d":"0.00"},{"v":0,"d":"0.00"}]
[{"$nulls":31},"GBL",{"$nulls":6},"NFC.GBL","Газ доменный","тыс.руб.",{"v":0,"d":"0.00"},{"v":0,"d":"0.00"},{"v":0,"d":"0.00"}]
[{"$nulls":31},"GCK",{"$nulls":6},"NFC.GCK","Газ коксовый","тыс.руб.",{"v":0,"d":"0.00"},{"v":0,"d":"0.00"},{"v":0,"d":"0.00"}]
[{"$nulls":31},"GOA",{"$nulls":6},"NFC.GOA","Газ нефтяной (попутный)","тыс.руб.",{"v":0,"d":"0.00"},{"v":0,"d":"0.00"},{"v":0,"d":"0.00"}]
[{"$nulls":31},"DSG",{"$nulls":6},"NFC.DSG","Газ сухой отбензиненный","тыс.руб.",{"v":0,"d":"0.00"},{"v":0,"d":"0.00"},{"v":0,"d":"0.00"}]
[{"$nulls":31},"GCN",{"$nulls":6},"NFC.GCN","Газовый конденсат","тыс.руб.",{"v":0,"d":"0.00"},{"v":0,"d":"0.00"},{"v":0,"d":"0.00"}]
[{"$nulls":31},"LNG",{"$nulls":6},"NFC.LNG","Газ сжиженный","тыс.руб.",{"v":0,"d":"0.00"},{"v":0,"d":"0.00"},{"v":0,"d":"0.00"}]
[{"$nulls":31},"DSL",{"$nulls":6},"NFC.DSL","Дизельное топливо","тыс.руб.",{"v":0,"d":"0.00"},{"v":0,"d":"0.00"},{"v":0,"d":"0.00"}]
[{"$nulls":31},"DSLA",{"$nulls":6},"NFC.DSLA","А (арктическое)","тыс.руб.",{"v":0,"d":"0.00"},{"v":0,"d":"0.00"},{"v":0,"d":"0.00"}]
[{"$nulls":31},"DSLW",{"$nulls":6},"NFC.DSLW","З (зимнее)","тыс.руб.",{"v":0,"d":"0.00"},{"v":0,"d":"0.00"},{"v":0,"d":"0.00"}]
[{"$nulls":31},"DSLS",{"$nulls":6},"NFC.DSLS","Л (летнее)","тыс.руб.",{"v":0,"d":"0.00"},{"v":0,"d":"0.00"},{"v":0,"d":"0.00"}]
[{"$nulls":31},"DSLO",{"$nulls":6},"NFC.DSLO","Е (межсезонное)","тыс.руб.",{"v":0,"d":"0.00"},{"v":0,"d":"0.00"},{"v":0,"d":"0.00"}]
[{"$nulls":31},"MST",{"$nulls":6},"NFC.MST","Мазут","тыс.руб.",{"v":0,"d":"0.00"},{"v":0,"d":"0.00"},{"v":0,"d":"0.00"}]
[{"$nulls":31},"MSTM40",{"$nulls":6},"NFC.MSTM40","М-40","тыс.руб.",{"v":0,"d":"0.00"},{"v":0,"d":"0.00"},{"v":0,"d":"0.00"}]
[{"$nulls":31},"MSTM100",{"$nulls":6},"NFC.MSTM100","М-100","тыс.руб.",{"v":0,"d":"0.00"},{"v":0,"d":"0.00"},{"v":0,"d":"0.00"}]
[{"$nulls":31},"MSTM200",{"$nulls":6},"NFC.MSTM200","М-200","тыс.руб.",{"v":0,"d":"0.00"},{"v":0,"d":"0.00"},{"v":0,"d":"0.00"}]
[{"$nulls":31},"MSTT",{"$nulls":6},"NFC.MSTT","мазут марки \"Т\"","тыс.руб.",{"$f":"SUMIF($AS$9:$AT$9,AP$9,$AS428:$AT428)","v":{"v":0,"d":"0.00"}},{"v":0,"d":"0.00"},{"v":0,"d":"0.00"}]
[{"$nulls":31},"MSTF5",{"$nulls":6},"NFC.MSTF5","Ф-5","тыс.руб.",{"v":0,"d":"0.00"},{"v":0,"d":"0.00"},{"v":0,"d":"0.00"}]
[{"$nulls":31},"MSTF12",{"$nulls":6},"NFC.MSTF12","Ф-12","тыс.руб.",{"v":0,"d":"0.00"},{"v":0,"d":"0.00"},{"v":0,"d":"0.00"}]
[{"$nulls":31},"OIL",{"$nulls":6},"NFC.OIL","Нефть","тыс.руб.",{"v":0,"d":"0.00"},{"v":0,"d":"0.00"},{"v":0,"d":"0.00"}]
[{"$nulls":31},"COA",{"$nulls":6},"NFC.COA","Уголь","тыс.руб.",{"v":0,"d":"0.00"},{"v":0,"d":"0.00"},{"v":0,"d":"0.00"}]
[{"$nulls":31},"COAA",{"$nulls":6},"NFC.COAA","Уголь антрацит","тыс.руб.",{"v":0,"d":"0.00"},{"v":0,"d":"0.00"},{"v":0,"d":"0.00"}]
[{"$nulls":31},"COAB",{"$nulls":6},"NFC.COAB","Уголь бурый","тыс.руб.",{"v":0,"d":"0.00"},{"v":0,"d":"0.00"},{"v":0,"d":"0.00"}]
[{"$nulls":31},"COAG",{"$nulls":6},"NFC.COAG","Уголь газовый","тыс.руб.",{"v":0,"d":"0.00"},{"v":0,"d":"0.00"},{"v":0,"d":"0.00"}]
[{"$nulls":31},"COALF",{"$nulls":6},"NFC.COALF","Уголь длиннопламенный","тыс.руб.",{"v":0,"d":"0.00"},{"v":0,"d":"0.00"},{"v":0,"d":"0.00"}]
[{"$nulls":31},"COAF",{"$nulls":6},"NFC.COAF","Уголь жирный","тыс.руб.",{"v":0,"d":"0.00"},{"v":0,"d":"0.00"},{"v":0,"d":"0.00"}]
[{"$nulls":31},"COAC",{"$nulls":6},"NFC.COAC","Уголь коксовый","тыс.руб.",{"v":0,"d":"0.00"},{"v":0,"d":"0.00"},{"v":0,"d":"0.00"}]
[{"$nulls":31},"COASC",{"$nulls":6},"NFC.COASC","Уголь отощённо-спекающийся","тыс.руб.",{"v":0,"d":"0.00"},{"v":0,"d":"0.00"},{"v":0,"d":"0.00"}]
[{"$nulls":31},"COAWC",{"$nulls":6},"NFC.COAWC","Уголь слабоспекающийся","тыс.руб.",{"v":0,"d":"0.00"},{"v":0,"d":"0.00"},{"v":0,"d":"0.00"}]
[{"$nulls":31},"COAS",{"$nulls":6},"NFC.COAS","Уголь тощий","тыс.руб.",{"v":0,"d":"0.00"},{"v":0,"d":"0.00"},{"v":0,"d":"0.00"}]
[]
[]
[{"$nulls":31},"CWD",{"$nulls":6},"NFC.CWD","Уголь древесный","тыс.руб.",{"$f":"SUMIF($AS$9:$AT$9,AP$9,$AS444:$AT444)","v":{"v":0,"d":"0.00"}},{"v":0,"d":"0.00"},{"v":0,"d":"0.00"}]
[{"$nulls":31},"WDS",{"$nulls":6},"NFC.WDS","Дрова","тыс.руб.",{"v":0,"d":"0.00"},{"v":0,"d":"0.00"},{"v":0,"d":"0.00"}]
[{"$nulls":31},"PLT",{"$nulls":6},"NFC.PLT","Пеллеты","тыс.руб.",{"v":0,"d":"0.00"},{"v":0,"d":"0.00"},{"v":0,"d":"0.00"}]
[{"$nulls":31},"SAW",{"$nulls":6},"NFC.SAW","Опилки","тыс.руб.",{"v":0,"d":"0.00"},{"v":0,"d":"0.00"},{"v":0,"d":"0.00"}]
[{"$nulls":31},"PEA",{"$nulls":6},"NFC.PEA","Торф","тыс.руб.",{"v":0,"d":"0.00"},{"v":0,"d":"0.00"},{"v":0,"d":"0.00"}]
[{"$nulls":31},"SHL",{"$nulls":6},"NFC.SHL","Сланцы","тыс.руб.",{"v":0,"d":"0.00"},{"v":0,"d":"0.00"},{"v":0,"d":"0.00"}]
[{"$nulls":31},"STF",{"$nulls":6},"NFC.STF","Печное бытовое топливо","тыс.руб.",{"v":0,"d":"0.00"},{"v":0,"d":"0.00"},{"v":0,"d":"0.00"}]
[]
[]
[{"$nulls":39},"Показатели транспортировки (перевозки) топлива"]
[]
[{"$nulls":38},"4.0.3.1.1.1","Природный газ. Газ лимитный. Тариф на ССУ (cнабженческо-сбытовые услуги)"]
[{"$nulls":31},"NGL",{"$nulls":6},{"$f":"AM455 & \".1\"","v":"4.0.3.1.1.1.1"},"1 группа: свыше 500 млн.м3","руб./тыс.м3",{"$f":"IF(AP304=0,0,AP472/AP304*1000)","v":{"v":0,"d":"0.00"}},{"v":0,"d":"0.00"},{"v":0,"d":"0.00"}]
[{"$nulls":31},"NGL",{"$nulls":6},{"$f":"AM455 & \".2\"","v":"4.0.3.1.1.1.2"},"2 группа: от 100 до 500 млн.м3 включительно","руб./тыс.м3",{"v":0,"d":"0.00"},{"v":0,"d":"0.00"},{"v":0,"d":"0.00"}]
[{"$nulls":31},"NGL",{"$nulls":6},{"$f":"AM455 & \".3\"","v":"4.0.3.1.1.1.3"},"3 группа: от 10 до 100 млн.м3 включительно","руб./тыс.м3",{"v":0,"d":"0.00"},{"v":0,"d":"0.00"},{"v":0,"d":"0.00"}]
[{"$nulls":31},"NGL",{"$nulls":6},{"$f":"AM455 & \".4\"","v":"4.0.3.1.1.1.4"},"4 группа: от 1 до 10 млн.м3 включительно","руб./тыс.м3",{"v":0,"d":"0.00"},{"v":0,"d":"0.00"},{"v":0,"d":"0.00"}]
[{"$nulls":31},"NGL",{"$nulls":6},{"$f":"AM455 & \".5\"","v":"4.0.3.1.1.1.5"},"5 группа: от 0,1 до 1 млн.м3 включительно","руб./тыс.м3",{"v":0,"d":"0.00"},{"v":0,"d":"0.00"},{"v":0,"d":"0.00"}]
[{"$nulls":31},"NGL",{"$nulls":6},{"$f":"AM455 & \".6\"","v":"4.0.3.1.1.1.6"},"6 группа: от 0,01 до 0,1 млн.м3 включительно","руб./тыс.м3",{"v":0,"d":"0.00"},{"v":0,"d":"0.00"},{"v":0,"d":"0.00"}]
[{"$nulls":31},"NGL",{"$nulls":6},{"$f":"AM455 & \".7\"","v":"4.0.3.1.1.1.7"},"7 группа: до 0,01 млн.м3 включительно","руб./тыс.м3",{"v":0,"d":"0.00"},{"v":0,"d":"0.00"},{"v":0,"d":"0.00"}]
[{"$nulls":38},"4.0.3.1.1.2","Природный газ. Газ лимитный. Тариф ГРО (услуги газораспределительной организации)"]
[{"$nulls":31},"NGL",{"$nulls":6},{"$f":"AM463 & \".1\"","v":"4.0.3.1.1.2.1"},"1 группа: свыше 500 млн.м3","руб./тыс.м3",{"$f":"IF(AP304=0,0,AP480/AP304*1000)","v":{"v":0,"d":"0.00"}},{"v":0,"d":"0.00"},{"v":0,"d":"0.00"}]
[{"$nulls":31},"NGL",{"$nulls":6},{"$f":"AM463 & \".2\"","v":"4.0.3.1.1.2.2"},"2 группа: от 100 до 500 млн.м3 включительно","руб./тыс.м3",{"v":0,"d":"0.00"},{"v":0,"d":"0.00"},{"v":0,"d":"0.00"}]
[{"$nulls":31},"NGL",{"$nulls":6},{"$f":"AM463 & \".3\"","v":"4.0.3.1.1.2.3"},"3 группа: от 10 до 100 млн.м3 включительно","руб./тыс.м3",{"v":0,"d":"0.00"},{"v":0,"d":"0.00"},{"v":0,"d":"0.00"}]
[{"$nulls":31},"NGL",{"$nulls":6},{"$f":"AM463 & \".4\"","v":"4.0.3.1.1.2.4"},"4 группа: от 1 до 10 млн.м3 включительно","руб./тыс.м3",{"v":0,"d":"0.00"},{"v":0,"d":"0.00"},{"v":0,"d":"0.00"}]
[{"$nulls":31},"NGL",{"$nulls":6},{"$f":"AM463 & \".5\"","v":"4.0.3.1.1.2.5"},"5 группа: от 0,1 до 1 млн.м3 включительно","руб./тыс.м3",{"v":0,"d":"0.00"},{"v":0,"d":"0.00"},{"v":0,"d":"0.00"}]
[{"$nulls":31},"NGL",{"$nulls":6},{"$f":"AM463 & \".6\"","v":"4.0.3.1.1.2.6"},"6 группа: от 0,01 до 0,1 млн.м3 включительно","руб./тыс.м3",{"v":0,"d":"0.00"},{"v":0,"d":"0.00"},{"v":0,"d":"0.00"}]
[{"$nulls":31},"NGL",{"$nulls":6},{"$f":"AM463 & \".7\"","v":"4.0.3.1.1.2.7"},"7 группа: до 0,01 млн.м3 включительно","руб./тыс.м3",{"v":0,"d":"0.00"},{"v":0,"d":"0.00"},{"v":0,"d":"0.00"}]
[{"$nulls":31},"NGL",{"$nulls":6},"4.0.3.1.1.3","Природный газ. Газ лимитный. ПССУ (плата за cнабженческо-сбытовые услуги), всего","тыс.руб.",{"$f":"SUMIF($AS$9:$AT$9,AP$9,$AS471:$AT471)","v":{"v":0,"d":"0.00"}},{"v":0,"d":"0.00"},{"v":0,"d":"0.00"}]
[{"$nulls":31},"NGL",{"$nulls":6},{"$f":"AM471 & \".1\"","v":"4.0.3.1.1.3.1"},"1 группа: свыше 500 млн.м3","тыс.руб.",{"v":0,"d":"0.00"},{"v":0,"d":"0.00"},{"v":0,"d":"0.00"}]
[{"$nulls":31},"NGL",{"$nulls":6},{"$f":"AM471 & \".2\"","v":"4.0.3.1.1.3.2"},"2 группа: от 100 до 500 млн.м3 включительно","тыс.руб.",{"v":0,"d":"0.00"},{"v":0,"d":"0.00"},{"v":0,"d":"0.00"}]
[{"$nulls":31},"NGL",{"$nulls":6},{"$f":"AM471 & \".3\"","v":"4.0.3.1.1.3.3"},"3 группа: от 10 до 100 млн.м3 включительно","тыс.руб.",{"v":0,"d":"0.00"},{"v":0,"d":"0.00"},{"v":0,"d":"0.00"}]
[{"$nulls":31},"NGL",{"$nulls":6},{"$f":"AM471 & \".4\"","v":"4.0.3.1.1.3.4"},"4 группа: от 1 до 10 млн.м3 включительно","тыс.руб.",{"v":0,"d":"0.00"},{"v":0,"d":"0.00"},{"v":0,"d":"0.00"}]
[{"$nulls":31},"NGL",{"$nulls":6},{"$f":"AM471 & \".5\"","v":"4.0.3.1.1.3.5"},"5 группа: от 0,1 до 1 млн.м3 включительно","тыс.руб.",{"v":0,"d":"0.00"},{"v":0,"d":"0.00"},{"v":0,"d":"0.00"}]
[{"$nulls":31},"NGL",{"$nulls":6},{"$f":"AM471 & \".6\"","v":"4.0.3.1.1.3.6"},"6 группа: от 0,01 до 0,1 млн.м3 включительно","тыс.руб.",{"v":0,"d":"0.00"},{"v":0,"d":"0.00"},{"v":0,"d":"0.00"}]
[{"$nulls":31},"NGL",{"$nulls":6},{"$f":"AM471 & \".7\"","v":"4.0.3.1.1.3.7"},"7 группа: до 0,01 млн.м3 включительно","тыс.руб.",{"v":0,"d":"0.00"},{"v":0,"d":"0.00"},{"v":0,"d":"0.00"}]
[{"$nulls":31},"NGL",{"$nulls":6},"4.0.3.1.1.4","Природный газ. Газ лимитный. ГРО (плата за услуги газораспределительной организации), всего","тыс.руб.",{"v":0,"d":"0.00"},{"v":0,"d":"0.00"},{"v":0,"d":"0.00"}]
[{"$nulls":31},"NGL",{"$nulls":6},{"$f":"AM479 & \".1\"","v":"4.0.3.1.1.4.1"},"1 группа: свыше 500 млн.м3","тыс.руб.",{"v":0,"d":"0.00"},{"v":0,"d":"0.00"},{"v":0,"d":"0.00"}]
[{"$nulls":31},"NGL",{"$nulls":6},{"$f":"AM479 & \".2\"","v":"4.0.3.1.1.4.2"},"2 группа: от 100 до 500 млн.м3 включительно","тыс.руб.",{"v":0,"d":"0.00"},{"v":0,"d":"0.00"},{"v":0,"d":"0.00"}]
[{"$nulls":31},"NGL",{"$nulls":6},{"$f":"AM479 & \".3\"","v":"4.0.3.1.1.4.3"},"3 группа: от 10 до 100 млн.м3 включительно","тыс.руб.",{"v":0,"d":"0.00"},{"v":0,"d":"0.00"},{"v":0,"d":"0.00"}]
[{"$nulls":31},"NGL",{"$nulls":6},{"$f":"AM479 & \".4\"","v":"4.0.3.1.1.4.4"},"4 группа: от 1 до 10 млн.м3 включительно","тыс.руб.",{"v":0,"d":"0.00"},{"v":0,"d":"0.00"},{"v":0,"d":"0.00"}]
[{"$nulls":31},"NGL",{"$nulls":6},{"$f":"AM479 & \".5\"","v":"4.0.3.1.1.4.5"},"5 группа: от 0,1 до 1 млн.м3 включительно","тыс.руб.",{"v":0,"d":"0.00"},{"v":0,"d":"0.00"},{"v":0,"d":"0.00"}]
[{"$nulls":31},"NGL",{"$nulls":6},{"$f":"AM479 & \".6\"","v":"4.0.3.1.1.4.6"},"6 группа: от 0,01 до 0,1 млн.м3 включительно","тыс.руб.",{"v":0,"d":"0.00"},{"v":0,"d":"0.00"},{"v":0,"d":"0.00"}]
[{"$nulls":31},"NGL",{"$nulls":6},{"$f":"AM479 & \".7\"","v":"4.0.3.1.1.4.7"},"7 группа: до 0,01 млн.м3 включительно","тыс.руб.",{"v":0,"d":"0.00"},{"v":0,"d":"0.00"},{"v":0,"d":"0.00"}]
[{"$nulls":31},"NGL",{"$nulls":6},"4.0.3.1.1.5","Природный газ. Газ лимитный. ТТР (плата за услуги транзитной транспортировки), всего","тыс.руб.",{"v":0,"d":"0.00"},{"v":0,"d":"0.00"},{"v":0,"d":"0.00"}]
[{"$nulls":31},"NGL",{"$nulls":6},{"$f":"AM487 & \".1\"","v":"4.0.3.1.1.5.1"},"Средний тариф транзитной транспортировки","руб./тыс.м3",{"$f":"IF(AP489=0,0,AP487/AP489*1000)","v":{"v":0,"d":"0.00"}},{"$f":"IF(AQ489=0,0,AQ487/AQ489*1000)","v":{"v":0,"d":"0.00"}},{"$f":"IF(AR489=0,0,AR487/AR489*1000)","v":{"v":0,"d":"0.00"}}]
[{"$nulls":31},"NGL",{"$nulls":6},{"$f":"AM487 & \".2\"","v":"4.0.3.1.1.5.2"},"Объём топлива, транспортируемого в транзитном потоке","тыс.м3",{"$f":"SUMIF($AS$9:$AT$9,AP$9,$AS489:$AT489)","v":{"v":0,"d":"0.00"}},{"$f":"SUMIF($AS$9:$AT$9,AQ$9,$AS489:$AT489)","v":{"v":0,"d":"0.00"}},{"$f":"SUMIF($AS$9:$AT$9,AR$9,$AS489:$AT489)","v":{"v":0,"d":"0.00"}}]
[{"$nulls":38},"4.0.3.1.2.1","Природный газ. Газ сверхлимитный. Тариф на ССУ (cнабженческо-сбытовые услуги)"]
[{"$nulls":31},"NGU",{"$nulls":6},{"$f":"AM490 & \".1\"","v":"4.0.3.1.2.1.1"},"1 группа: свыше 500 млн.м3","руб./тыс.м3",{"$f":"IF(AP312=0,0,AP507/AP312*1000)","v":{"v":0,"d":"0.00"}},{"v":0,"d":"0.00"},{"v":0,"d":"0.00"}]
[{"$nulls":31},"NGU",{"$nulls":6},{"$f":"AM490 & \".2\"","v":"4.0.3.1.2.1.2"},"2 группа: от 100 до 500 млн.м3 включительно","руб./тыс.м3",{"v":0,"d":"0.00"},{"v":0,"d":"0.00"},{"v":0,"d":"0.00"}]
[{"$nulls":31},"NGU",{"$nulls":6},{"$f":"AM490 & \".3\"","v":"4.0.3.1.2.1.3"},"3 группа: от 10 до 100 млн.м3 включительно","руб./тыс.м3",{"v":0,"d":"0.00"},{"v":0,"d":"0.00"},{"v":0,"d":"0.00"}]
[{"$nulls":31},"NGU",{"$nulls":6},{"$f":"AM490 & \".4\"","v":"4.0.3.1.2.1.4"},"4 группа: от 1 до 10 млн.м3 включительно","руб./тыс.м3",{"v":0,"d":"0.00"},{"v":0,"d":"0.00"},{"v":0,"d":"0.00"}]
[{"$nulls":31},"NGU",{"$nulls":6},{"$f":"AM490 & \".5\"","v":"4.0.3.1.2.1.5"},"5 группа: от 0,1 до 1 млн.м3 включительно","руб./тыс.м3",{"v":0,"d":"0.00"},{"v":0,"d":"0.00"},{"v":0,"d":"0.00"}]
[{"$nulls":31},"NGU",{"$nulls":6},{"$f":"AM490 & \".6\"","v":"4.0.3.1.2.1.6"},"6 группа: от 0,01 до 0,1 млн.м3 включительно","руб./тыс.м3",{"v":0,"d":"0.00"},{"v":0,"d":"0.00"},{"v":0,"d":"0.00"}]
[{"$nulls":31},"NGU",{"$nulls":6},{"$f":"AM490 & \".7\"","v":"4.0.3.1.2.1.7"},"7 группа: до 0,01 млн.м3 включительно","руб./тыс.м3",{"v":0,"d":"0.00"},{"v":0,"d":"0.00"},{"v":0,"d":"0.00"}]
[{"$nulls":38},"4.0.3.1.2.2","Природный газ. Газ сверхлимитный. Тариф ГРО (услуги газораспределительной организации)"]
[{"$nulls":31},"NGU",{"$nulls":6},{"$f":"AM498 & \".1\"","v":"4.0.3.1.2.2.1"},"1 группа: свыше 500 млн.м3","руб./тыс.м3",{"$f":"IF(AP312=0,0,AP515/AP312*1000)","v":{"v":0,"d":"0.00"}},{"v":0,"d":"0.00"},{"v":0,"d":"0.00"}]
[{"$nulls":31},"NGU",{"$nulls":6},{"$f":"AM498 & \".2\"","v":"4.0.3.1.2.2.2"},"2 группа: от 100 до 500 млн.м3 включительно","руб./тыс.м3",{"v":0,"d":"0.00"},{"v":0,"d":"0.00"},{"v":0,"d":"0.00"}]
[{"$nulls":31},"NGU",{"$nulls":6},{"$f":"AM498 & \".3\"","v":"4.0.3.1.2.2.3"},"3 группа: от 10 до 100 млн.м3 включительно","руб./тыс.м3",{"v":0,"d":"0.00"},{"v":0,"d":"0.00"},{"v":0,"d":"0.00"}]
[{"$nulls":31},"NGU",{"$nulls":6},{"$f":"AM498 & \".4\"","v":"4.0.3.1.2.2.4"},"4 группа: от 1 до 10 млн.м3 включительно","руб./тыс.м3",{"v":0,"d":"0.00"},{"v":0,"d":"0.00"},{"v":0,"d":"0.00"}]
[{"$nulls":31},"NGU",{"$nulls":6},{"$f":"AM498 & \".5\"","v":"4.0.3.1.2.2.5"},"5 группа: от 0,1 до 1 млн.м3 включительно","руб./тыс.м3",{"v":0,"d":"0.00"},{"v":0,"d":"0.00"},{"v":0,"d":"0.00"}]
[{"$nulls":31},"NGU",{"$nulls":6},{"$f":"AM498 & \".6\"","v":"4.0.3.1.2.2.6"},"6 группа: от 0,01 до 0,1 млн.м3 включительно","руб./тыс.м3",{"v":0,"d":"0.00"},{"v":0,"d":"0.00"},{"v":0,"d":"0.00"}]
[{"$nulls":31},"NGU",{"$nulls":6},{"$f":"AM498 & \".7\"","v":"4.0.3.1.2.2.7"},"7 группа: до 0,01 млн.м3 включительно","руб./тыс.м3",{"v":0,"d":"0.00"},{"v":0,"d":"0.00"},{"v":0,"d":"0.00"}]
[{"$nulls":31},"NGU",{"$nulls":6},"4.0.3.1.2.3","Природный газ. Газ сверхлимитный. ПССУ (плата за cнабженческо-сбытовые услуги), всего","тыс.руб.",{"$f":"SUMIF($AS$9:$AT$9,AP$9,$AS506:$AT506)","v":{"v":0,"d":"0.00"}},{"v":0,"d":"0.00"},{"v":0,"d":"0.00"}]
[{"$nulls":31},"NGU",{"$nulls":6},{"$f":"AM506 & \".1\"","v":"4.0.3.1.2.3.1"},"1 группа: свыше 500 млн.м3","тыс.руб.",{"v":0,"d":"0.00"},{"v":0,"d":"0.00"},{"v":0,"d":"0.00"}]
[{"$nulls":31},"NGU",{"$nulls":6},{"$f":"AM506 & \".2\"","v":"4.0.3.1.2.3.2"},"2 группа: от 100 до 500 млн.м3 включительно","тыс.руб.",{"v":0,"d":"0.00"},{"v":0,"d":"0.00"},{"v":0,"d":"0.00"}]
[{"$nulls":31},"NGU",{"$nulls":6},{"$f":"AM506 & \".3\"","v":"4.0.3.1.2.3.3"},"3 группа: от 10 до 100 млн.м3 включительно","тыс.руб.",{"v":0,"d":"0.00"},{"v":0,"d":"0.00"},{"v":0,"d":"0.00"}]
[{"$nulls":31},"NGU",{"$nulls":6},{"$f":"AM506 & \".4\"","v":"4.0.3.1.2.3.4"},"4 группа: от 1 до 10 млн.м3 включительно","тыс.руб.",{"v":0,"d":"0.00"},{"v":0,"d":"0.00"},{"v":0,"d":"0.00"}]
[{"$nulls":31},"NGU",{"$nulls":6},{"$f":"AM506 & \".5\"","v":"4.0.3.1.2.3.5"},"5 группа: от 0,1 до 1 млн.м3 включительно","тыс.руб.",{"v":0,"d":"0.00"},{"v":0,"d":"0.00"},{"v":0,"d":"0.00"}]
[{"$nulls":31},"NGU",{"$nulls":6},{"$f":"AM506 & \".6\"","v":"4.0.3.1.2.3.6"},"6 группа: от 0,01 до 0,1 млн.м3 включительно","тыс.руб.",{"v":0,"d":"0.00"},{"v":0,"d":"0.00"},{"v":0,"d":"0.00"}]
[{"$nulls":31},"NGU",{"$nulls":6},{"$f":"AM506 & \".7\"","v":"4.0.3.1.2.3.7"},"7 группа: до 0,01 млн.м3 включительно","тыс.руб.",{"v":0,"d":"0.00"},{"v":0,"d":"0.00"},{"v":0,"d":"0.00"}]
[{"$nulls":31},"NGU",{"$nulls":6},"4.0.3.1.2.4","Природный газ. Газ сверхлимитный. ГРО (плата за услуги газораспределительной организации), всего","тыс.руб.",{"v":0,"d":"0.00"},{"v":0,"d":"0.00"},{"v":0,"d":"0.00"}]
[{"$nulls":31},"NGU",{"$nulls":6},{"$f":"AM514 & \".1\"","v":"4.0.3.1.2.4.1"},"1 группа: свыше 500 млн.м3","тыс.руб.",{"v":0,"d":"0.00"},{"v":0,"d":"0.00"},{"v":0,"d":"0.00"}]
[{"$nulls":31},"NGU",{"$nulls":6},{"$f":"AM514 & \".2\"","v":"4.0.3.1.2.4.2"},"2 группа: от 100 до 500 млн.м3 включительно","тыс.руб.",{"v":0,"d":"0.00"},{"v":0,"d":"0.00"},{"v":0,"d":"0.00"}]
[{"$nulls":31},"NGU",{"$nulls":6},{"$f":"AM514 & \".3\"","v":"4.0.3.1.2.4.3"},"3 группа: от 10 до 100 млн.м3 включительно","тыс.руб.",{"v":0,"d":"0.00"},{"v":0,"d":"0.00"},{"v":0,"d":"0.00"}]
[{"$nulls":31},"NGU",{"$nulls":6},{"$f":"AM514 & \".4\"","v":"4.0.3.1.2.4.4"},"4 группа: от 1 до 10 млн.м3 включительно","тыс.руб.",{"v":0,"d":"0.00"},{"v":0,"d":"0.00"},{"v":0,"d":"0.00"}]
[{"$nulls":31},"NGU",{"$nulls":6},{"$f":"AM514 & \".5\"","v":"4.0.3.1.2.4.5"},"5 группа: от 0,1 до 1 млн.м3 включительно","тыс.руб.",{"v":0,"d":"0.00"},{"v":0,"d":"0.00"},{"v":0,"d":"0.00"}]
[{"$nulls":31},"NGU",{"$nulls":6},{"$f":"AM514 & \".6\"","v":"4.0.3.1.2.4.6"},"6 группа: от 0,01 до 0,1 млн.м3 включительно","тыс.руб.",{"v":0,"d":"0.00"},{"v":0,"d":"0.00"},{"v":0,"d":"0.00"}]
[{"$nulls":31},"NGU",{"$nulls":6},{"$f":"AM514 & \".7\"","v":"4.0.3.1.2.4.7"},"7 группа: до 0,01 млн.м3 включительно","тыс.руб.",{"v":0,"d":"0.00"},{"v":0,"d":"0.00"},{"v":0,"d":"0.00"}]
[{"$nulls":31},"NGU",{"$nulls":6},"4.0.3.1.2.5","Природный газ. Газ сверхлимитный. ТТР (плата за услуги транзитной транспортировки), всего","тыс.руб.",{"v":0,"d":"0.00"},{"v":0,"d":"0.00"},{"v":0,"d":"0.00"}]
[{"$nulls":31},"NGU",{"$nulls":6},{"$f":"AM522 & \".1\"","v":"4.0.3.1.2.5.1"},"Средний тариф транзитной транспортировки","руб./тыс.м3",{"$f":"IF(AP524=0,0,AP522/AP524*1000)","v":{"v":0,"d":"0.00"}},{"$f":"IF(AQ524=0,0,AQ522/AQ524*1000)","v":{"v":0,"d":"0.00"}},{"$f":"IF(AR524=0,0,AR522/AR524*1000)","v":{"v":0,"d":"0.00"}}]
[{"$nulls":31},"NGU",{"$nulls":6},{"$f":"AM522 & \".2\"","v":"4.0.3.1.2.5.2"},"Объём топлива, транспортируемого в транзитном потоке","тыс.м3",{"$f":"SUMIF($AS$9:$AT$9,AP$9,$AS524:$AT524)","v":{"v":0,"d":"0.00"}},{"$f":"SUMIF($AS$9:$AT$9,AQ$9,$AS524:$AT524)","v":{"v":0,"d":"0.00"}},{"$f":"SUMIF($AS$9:$AT$9,AR$9,$AS524:$AT524)","v":{"v":0,"d":"0.00"}}]
[{"$nulls":38},"4.PATR","Перевозка автомобильным транспортом. Цена (тариф) за транспортировку (перевозку) единицы топлива"]
{"$rows_empty":8}
[{"$nulls":31},"GCN",{"$nulls":6},"4.PATR.GCN","Газовый конденсат","руб./тнт",{"$f":"IF(AP578=0,0,AP622/AP578*1000)","v":{"v":0,"d":"0.00"}},{"v":0,"d":"0.00"},{"v":0,"d":"0.00"}]
[{"$nulls":31},"LNG",{"$nulls":6},"4.PATR.LNG","Газ сжиженный","руб./тнт",{"v":0,"d":"0.00"},{"v":0,"d":"0.00"},{"v":0,"d":"0.00"}]
[{"$nulls":31},"DSL",{"$nulls":6},"4.PATR.DSL","Дизельное топливо","руб./тнт",{"v":0,"d":"0.00"},{"v":0,"d":"0.00"},{"v":0,"d":"0.00"}]
[{"$nulls":31},"DSLA",{"$nulls":6},"4.PATR.DSLA","А (арктическое)","руб./тнт",{"v":0,"d":"0.00"},{"v":0,"d":"0.00"},{"v":0,"d":"0.00"}]
[{"$nulls":31},"DSLW",{"$nulls":6},"4.PATR.DSLW","З (зимнее)","руб./тнт",{"v":0,"d":"0.00"},{"v":0,"d":"0.00"},{"v":0,"d":"0.00"}]
[{"$nulls":31},"DSLS",{"$nulls":6},"4.PATR.DSLS","Л (летнее)","руб./тнт",{"v":0,"d":"0.00"},{"v":0,"d":"0.00"},{"v":0,"d":"0.00"}]
[{"$nulls":31},"DSLO",{"$nulls":6},"4.PATR.DSLO","Е (межсезонное)","руб./тнт",{"v":0,"d":"0.00"},{"v":0,"d":"0.00"},{"v":0,"d":"0.00"}]
[{"$nulls":31},"MST",{"$nulls":6},"4.PATR.MST","Мазут","руб./тнт",{"v":0,"d":"0.00"},{"v":0,"d":"0.00"},{"v":0,"d":"0.00"}]
[{"$nulls":31},"MSTM40",{"$nulls":6},"4.PATR.MSTM40","М-40","руб./тнт",{"v":0,"d":"0.00"},{"v":0,"d":"0.00"},{"v":0,"d":"0.00"}]
[{"$nulls":31},"MSTM100",{"$nulls":6},"4.PATR.MSTM100","М-100","руб./тнт",{"v":0,"d":"0.00"},{"v":0,"d":"0.00"},{"v":0,"d":"0.00"}]
[{"$nulls":31},"MSTM200",{"$nulls":6},"4.PATR.MSTM200","М-200","руб./тнт",{"v":0,"d":"0.00"},{"v":0,"d":"0.00"},{"v":0,"d":"0.00"}]
[{"$nulls":31},"MSTT",{"$nulls":6},"4.PATR.MSTT","мазут марки \"Т\"","руб./тнт",{"v":0,"d":"0.00"},{"v":0,"d":"0.00"},{"v":0,"d":"0.00"}]
[{"$nulls":31},"MSTF5",{"$nulls":6},"4.PATR.MSTF5","Ф-5","руб./тнт",{"v":0,"d":"0.00"},{"v":0,"d":"0.00"},{"v":0,"d":"0.00"}]
[{"$nulls":31},"MSTF12",{"$nulls":6},"4.PATR.MSTF12","Ф-12","руб./тнт",{"v":0,"d":"0.00"},{"v":0,"d":"0.00"},{"v":0,"d":"0.00"}]
[{"$nulls":31},"OIL",{"$nulls":6},"4.PATR.OIL","Нефть","руб./тнт",{"v":0,"d":"0.00"},{"v":0,"d":"0.00"},{"v":0,"d":"0.00"}]
[{"$nulls":31},"COA",{"$nulls":6},"4.PATR.COA","Уголь","руб./тнт",{"v":0,"d":"0.00"},{"v":0,"d":"0.00"},{"v":0,"d":"0.00"}]
[{"$nulls":31},"COAA",{"$nulls":6},"4.PATR.COAA","Уголь антрацит","руб./тнт",{"v":0,"d":"0.00"},{"v":0,"d":"0.00"},{"v":0,"d":"0.00"}]
[{"$nulls":31},"COAB",{"$nulls":6},"4.PATR.COAB","Уголь бурый","руб./тнт",{"v":0,"d":"0.00"},{"v":0,"d":"0.00"},{"v":0,"d":"0.00"}]
[{"$nulls":31},"COAG",{"$nulls":6},"4.PATR.COAG","Уголь газовый","руб./тнт",{"v":0,"d":"0.00"},{"v":0,"d":"0.00"},{"v":0,"d":"0.00"}]
[{"$nulls":31},"COALF",{"$nulls":6},"4.PATR.COALF","Уголь длиннопламенный","руб./тнт",{"v":0,"d":"0.00"},{"v":0,"d":"0.00"},{"v":0,"d":"0.00"}]
[{"$nulls":31},"COAF",{"$nulls":6},"4.PATR.COAF","Уголь жирный","руб./тнт",{"v":0,"d":"0.00"},{"v":0,"d":"0.00"},{"v":0,"d":"0.00"}]
[{"$nulls":31},"COAC",{"$nulls":6},"4.PATR.COAC","Уголь коксовый","руб./тнт",{"v":0,"d":"0.00"},{"v":0,"d":"0.00"},{"v":0,"d":"0.00"}]
[{"$nulls":31},"COASC",{"$nulls":6},"4.PATR.COASC","Уголь отощённо-спекающийся","руб./тнт",{"v":0,"d":"0.00"},{"v":0,"d":"0.00"},{"v":0,"d":"0.00"}]
[{"$nulls":31},"COAWC",{"$nulls":6},"4.PATR.COAWC","Уголь слабоспекающийся","руб./тнт",{"v":0,"d":"0.00"},{"v":0,"d":"0.00"},{"v":0,"d":"0.00"}]
[{"$nulls":31},"COAS",{"$nulls":6},"4.PATR.COAS","Уголь тощий","руб./тнт",{"v":0,"d":"0.00"},{"v":0,"d":"0.00"},{"v":0,"d":"0.00"}]
[]
[]
[{"$nulls":31},"CWD",{"$nulls":6},"4.PATR.CWD","Уголь древесный","руб./тнт",{"$f":"IF(AP605=0,0,AP649/AP605*1000)","v":{"v":0,"d":"0.00"}},{"v":0,"d":"0.00"},{"v":0,"d":"0.00"}]
[{"$nulls":31},"WDS",{"$nulls":6},"4.PATR.WDS","Дрова","руб./тнт",{"v":0,"d":"0.00"},{"v":0,"d":"0.00"},{"v":0,"d":"0.00"}]
[{"$nulls":31},"PLT",{"$nulls":6},"4.PATR.PLT","Пеллеты","руб./тнт",{"v":0,"d":"0.00"},{"v":0,"d":"0.00"},{"v":0,"d":"0.00"}]
[{"$nulls":31},"SAW",{"$nulls":6},"4.PATR.SAW","Опилки","руб./тнт",{"v":0,"d":"0.00"},{"v":0,"d":"0.00"},{"v":0,"d":"0.00"}]
[{"$nulls":31},"PEA",{"$nulls":6},"4.PATR.PEA","Торф","руб./тнт",{"v":0,"d":"0.00"},{"v":0,"d":"0.00"},{"v":0,"d":"0.00"}]
[{"$nulls":31},"SHL",{"$nulls":6},"4.PATR.SHL","Сланцы","руб./тнт",{"v":0,"d":"0.00"},{"v":0,"d":"0.00"},{"v":0,"d":"0.00"}]
[{"$nulls":31},"STF",{"$nulls":6},"4.PATR.STF","Печное бытовое топливо","руб./тнт",{"v":0,"d":"0.00"},{"v":0,"d":"0.00"},{"v":0,"d":"0.00"}]
[]
[{"$nulls":38},"4.VATR","Перевозка автомобильным транспортом. Объём транспортировки (перевозки) топлива"]
{"$rows_empty":8}
[{"$nulls":31},"GCN",{"$nulls":6},"4.VATR.GCN","Газовый конденсат","тнт",{"$f":"SUMIF($AS$9:$AT$9,AP$9,$AS578:$AT578)","v":{"v":0,"d":"0.00"}},{"v":0,"d":"0.00"},{"v":0,"d":"0.00"}]
[{"$nulls":31},"LNG",{"$nulls":6},"4.VATR.LNG","Газ сжиженный","тнт",{"v":0,"d":"0.00"},{"v":0,"d":"0.00"},{"v":0,"d":"0.00"}]
[{"$nulls":31},"DSL",{"$nulls":6},"4.VATR.DSL","Дизельное топливо","тнт",{"v":0,"d":"0.00"},{"v":0,"d":"0.00"},{"v":0,"d":"0.00"}]
[{"$nulls":31},"DSLA",{"$nulls":6},"4.VATR.DSLA","А (арктическое)","тнт",{"v":0,"d":"0.00"},{"v":0,"d":"0.00"},{"v":0,"d":"0.00"}]
[{"$nulls":31},"DSLW",{"$nulls":6},"4.VATR.DSLW","З (зимнее)","тнт",{"v":0,"d":"0.00"},{"v":0,"d":"0.00"},{"v":0,"d":"0.00"}]
[{"$nulls":31},"DSLS",{"$nulls":6},"4.VATR.DSLS","Л (летнее)","тнт",{"v":0,"d":"0.00"},{"v":0,"d":"0.00"},{"v":0,"d":"0.00"}]
[{"$nulls":31},"DSLO",{"$nulls":6},"4.VATR.DSLO","Е (межсезонное)","тнт",{"v":0,"d":"0.00"},{"v":0,"d":"0.00"},{"v":0,"d":"0.00"}]
[{"$nulls":31},"MST",{"$nulls":6},"4.VATR.MST","Мазут","тнт",{"v":0,"d":"0.00"},{"v":0,"d":"0.00"},{"v":0,"d":"0.00"}]
[{"$nulls":31},"MSTM40",{"$nulls":6},"4.VATR.MSTM40","М-40","тнт",{"v":0,"d":"0.00"},{"v":0,"d":"0.00"},{"v":0,"d":"0.00"}]
[{"$nulls":31},"MSTM100",{"$nulls":6},"4.VATR.MSTM100","М-100","тнт",{"v":0,"d":"0.00"},{"v":0,"d":"0.00"},{"v":0,"d":"0.00"}]
[{"$nulls":31},"MSTM200",{"$nulls":6},"4.VATR.MSTM200","М-200","тнт",{"v":0,"d":"0.00"},{"v":0,"d":"0.00"},{"v":0,"d":"0.00"}]
[{"$nulls":31},"MSTT",{"$nulls":6},"4.VATR.MSTT","мазут марки \"Т\"","тнт",{"v":0,"d":"0.00"},{"v":0,"d":"0.00"},{"v":0,"d":"0.00"}]
[{"$nulls":31},"MSTF5",{"$nulls":6},"4.VATR.MSTF5","Ф-5","тнт",{"v":0,"d":"0.00"},{"v":0,"d":"0.00"},{"v":0,"d":"0.00"}]
[{"$nulls":31},"MSTF12",{"$nulls":6},"4.VATR.MSTF12","Ф-12","тнт",{"v":0,"d":"0.00"},{"v":0,"d":"0.00"},{"v":0,"d":"0.00"}]
[{"$nulls":31},"OIL",{"$nulls":6},"4.VATR.OIL","Нефть","тнт",{"v":0,"d":"0.00"},{"v":0,"d":"0.00"},{"v":0,"d":"0.00"}]
[{"$nulls":31},"COA",{"$nulls":6},"4.VATR.COA","Уголь","тнт",{"v":0,"d":"0.00"},{"v":0,"d":"0.00"},{"v":0,"d":"0.00"}]
[{"$nulls":31},"COAA",{"$nulls":6},"4.VATR.COAA","Уголь антрацит","тнт",{"v":0,"d":"0.00"},{"v":0,"d":"0.00"},{"v":0,"d":"0.00"}]
[{"$nulls":31},"COAB",{"$nulls":6},"4.VATR.COAB","Уголь бурый","тнт",{"v":0,"d":"0.00"},{"v":0,"d":"0.00"},{"v":0,"d":"0.00"}]
[{"$nulls":31},"COAG",{"$nulls":6},"4.VATR.COAG","Уголь газовый","тнт",{"v":0,"d":"0.00"},{"v":0,"d":"0.00"},{"v":0,"d":"0.00"}]
[{"$nulls":31},"COALF",{"$nulls":6},"4.VATR.COALF","Уголь длиннопламенный","тнт",{"v":0,"d":"0.00"},{"v":0,"d":"0.00"},{"v":0,"d":"0.00"}]
[{"$nulls":31},"COAF",{"$nulls":6},"4.VATR.COAF","Уголь жирный","тнт",{"v":0,"d":"0.00"},{"v":0,"d":"0.00"},{"v":0,"d":"0.00"}]
[{"$nulls":31},"COAC",{"$nulls":6},"4.VATR.COAC","Уголь коксовый","тнт",{"v":0,"d":"0.00"},{"v":0,"d":"0.00"},{"v":0,"d":"0.00"}]
[{"$nulls":31},"COASC",{"$nulls":6},"4.VATR.COASC","Уголь отощённо-спекающийся","тнт",{"v":0,"d":"0.00"},{"v":0,"d":"0.00"},{"v":0,"d":"0.00"}]
[{"$nulls":31},"COAWC",{"$nulls":6},"4.VATR.COAWC","Уголь слабоспекающийся","тнт",{"v":0,"d":"0.00"},{"v":0,"d":"0.00"},{"v":0,"d":"0.00"}]
[{"$nulls":31},"COAS",{"$nulls":6},"4.VATR.COAS","Уголь тощий","тнт",{"v":0,"d":"0.00"},{"v":0,"d":"0.00"},{"v":0,"d":"0.00"}]
[]
[]
[{"$nulls":31},"CWD",{"$nulls":6},"4.VATR.CWD","Уголь древесный","тнт",{"$f":"SUMIF($AS$9:$AT$9,AP$9,$AS605:$AT605)","v":{"v":0,"d":"0.00"}},{"v":0,"d":"0.00"},{"v":0,"d":"0.00"}]
[{"$nulls":31},"WDS",{"$nulls":6},"4.VATR.WDS","Дрова","тнт",{"v":0,"d":"0.00"},{"v":0,"d":"0.00"},{"v":0,"d":"0.00"}]
[{"$nulls":31},"PLT",{"$nulls":6},"4.VATR.PLT","Пеллеты","тнт",{"v":0,"d":"0.00"},{"v":0,"d":"0.00"},{"v":0,"d":"0.00"}]
[{"$nulls":31},"SAW",{"$nulls":6},"4.VATR.SAW","Опилки","тнт",{"v":0,"d":"0.00"},{"v":0,"d":"0.00"},{"v":0,"d":"0.00"}]
[{"$nulls":31},"PEA",{"$nulls":6},"4.VATR.PEA","Торф","тнт",{"v":0,"d":"0.00"},{"v":0,"d":"0.00"},{"v":0,"d":"0.00"}]
[{"$nulls":31},"SHL",{"$nulls":6},"4.VATR.SHL","Сланцы","тнт",{"v":0,"d":"0.00"},{"v":0,"d":"0.00"},{"v":0,"d":"0.00"}]
[{"$nulls":31},"STF",{"$nulls":6},"4.VATR.STF","Печное бытовое топливо","тнт",{"v":0,"d":"0.00"},{"v":0,"d":"0.00"},{"v":0,"d":"0.00"}]
[]
[{"$nulls":38},"4.CATR","Перевозка автомобильным транспортом. Стоимость транспортировки (перевозки) топлива","тыс.руб.",{"$f":"SUMIF($AS$9:$AT$9,AP$9,$AS613:$AT613)","v":{"v":0,"d":"0.00"}},{"$f":"SUMIF($AS$9:$AT$9,AQ$9,$AS613:$AT613)","v":{"v":0,"d":"0.00"}},{"$f":"SUMIF($AS$9:$AT$9,AR$9,$AS613:$AT613)","v":{"v":0,"d":"0.00"}}]
{"$rows_empty":8}
[{"$nulls":31},"GCN",{"$nulls":6},"4.CATR.GCN","Газовый конденсат","тыс.руб.",{"$f":"SUMIF($AS$9:$AT$9,AP$9,$AS622:$AT622)","v":{"v":0,"d":"0.00"}},{"v":0,"d":"0.00"},{"v":0,"d":"0.00"}]
[{"$nulls":31},"LNG",{"$nulls":6},"4.CATR.LNG","Газ сжиженный","тыс.руб.",{"v":0,"d":"0.00"},{"v":0,"d":"0.00"},{"v":0,"d":"0.00"}]
[{"$nulls":31},"DSL",{"$nulls":6},"4.CATR.DSL","Дизельное топливо","тыс.руб.",{"v":0,"d":"0.00"},{"v":0,"d":"0.00"},{"v":0,"d":"0.00"}]
[{"$nulls":31},"DSLA",{"$nulls":6},"4.CATR.DSLA","А (арктическое)","тыс.руб.",{"v":0,"d":"0.00"},{"v":0,"d":"0.00"},{"v":0,"d":"0.00"}]
[{"$nulls":31},"DSLW",{"$nulls":6},"4.CATR.DSLW","З (зимнее)","тыс.руб.",{"v":0,"d":"0.00"},{"v":0,"d":"0.00"},{"v":0,"d":"0.00"}]
[{"$nulls":31},"DSLS",{"$nulls":6},"4.CATR.DSLS","Л (летнее)","тыс.руб.",{"v":0,"d":"0.00"},{"v":0,"d":"0.00"},{"v":0,"d":"0.00"}]
[{"$nulls":31},"DSLO",{"$nulls":6},"4.CATR.DSLO","Е (межсезонное)","тыс.руб.",{"v":0,"d":"0.00"},{"v":0,"d":"0.00"},{"v":0,"d":"0.00"}]
[{"$nulls":31},"MST",{"$nulls":6},"4.CATR.MST","Мазут","тыс.руб.",{"v":0,"d":"0.00"},{"v":0,"d":"0.00"},{"v":0,"d":"0.00"}]
[{"$nulls":31},"MSTM40",{"$nulls":6},"4.CATR.MSTM40","М-40","тыс.руб.",{"v":0,"d":"0.00"},{"v":0,"d":"0.00"},{"v":0,"d":"0.00"}]
[{"$nulls":31},"MSTM100",{"$nulls":6},"4.CATR.MSTM100","М-100","тыс.руб.",{"v":0,"d":"0.00"},{"v":0,"d":"0.00"},{"v":0,"d":"0.00"}]
[{"$nulls":31},"MSTM200",{"$nulls":6},"4.CATR.MSTM200","М-200","тыс.руб.",{"v":0,"d":"0.00"},{"v":0,"d":"0.00"},{"v":0,"d":"0.00"}]
[{"$nulls":31},"MSTT",{"$nulls":6},"4.CATR.MSTT","мазут марки \"Т\"","тыс.руб.",{"v":0,"d":"0.00"},{"v":0,"d":"0.00"},{"v":0,"d":"0.00"}]
[{"$nulls":31},"MSTF5",{"$nulls":6},"4.CATR.MSTF5","Ф-5","тыс.руб.",{"v":0,"d":"0.00"},{"v":0,"d":"0.00"},{"v":0,"d":"0.00"}]
[{"$nulls":31},"MSTF12",{"$nulls":6},"4.CATR.MSTF12","Ф-12","тыс.руб.",{"v":0,"d":"0.00"},{"v":0,"d":"0.00"},{"v":0,"d":"0.00"}]
[{"$nulls":31},"OIL",{"$nulls":6},"4.CATR.OIL","Нефть","тыс.руб.",{"v":0,"d":"0.00"},{"v":0,"d":"0.00"},{"v":0,"d":"0.00"}]
[{"$nulls":31},"COA",{"$nulls":6},"4.CATR.COA","Уголь","тыс.руб.",{"v":0,"d":"0.00"},{"v":0,"d":"0.00"},{"v":0,"d":"0.00"}]
[{"$nulls":31},"COAA",{"$nulls":6},"4.CATR.COAA","Уголь антрацит","тыс.руб.",{"v":0,"d":"0.00"},{"v":0,"d":"0.00"},{"v":0,"d":"0.00"}]
[{"$nulls":31},"COAB",{"$nulls":6},"4.CATR.COAB","Уголь бурый","тыс.руб.",{"v":0,"d":"0.00"},{"v":0,"d":"0.00"},{"v":0,"d":"0.00"}]
[{"$nulls":31},"COAG",{"$nulls":6},"4.CATR.COAG","Уголь газовый","тыс.руб.",{"v":0,"d":"0.00"},{"v":0,"d":"0.00"},{"v":0,"d":"0.00"}]
[{"$nulls":31},"COALF",{"$nulls":6},"4.CATR.COALF","Уголь длиннопламенный","тыс.руб.",{"v":0,"d":"0.00"},{"v":0,"d":"0.00"},{"v":0,"d":"0.00"}]
[{"$nulls":31},"COAF",{"$nulls":6},"4.CATR.COAF","Уголь жирный","тыс.руб.",{"v":0,"d":"0.00"},{"v":0,"d":"0.00"},{"v":0,"d":"0.00"}]
[{"$nulls":31},"COAC",{"$nulls":6},"4.CATR.COAC","Уголь коксовый","тыс.руб.",{"v":0,"d":"0.00"},{"v":0,"d":"0.00"},{"v":0,"d":"0.00"}]
[{"$nulls":31},"COASC",{"$nulls":6},"4.CATR.COASC","Уголь отощённо-спекающийся","тыс.руб.",{"v":0,"d":"0.00"},{"v":0,"d":"0.00"},{"v":0,"d":"0.00"}]
[{"$nulls":31},"COAWC",{"$nulls":6},"4.CATR.COAWC","Уголь слабоспекающийся","тыс.руб.",{"v":0,"d":"0.00"},{"v":0,"d":"0.00"},{"v":0,"d":"0.00"}]
[{"$nulls":31},"COAS",{"$nulls":6},"4.CATR.COAS","Уголь тощий","тыс.руб.",{"v":0,"d":"0.00"},{"v":0,"d":"0.00"},{"v":0,"d":"0.00"}]
[]
[]
[{"$nulls":31},"CWD",{"$nulls":6},"4.CATR.CWD","Уголь древесный","тыс.руб.",{"$f":"SUMIF($AS$9:$AT$9,AP$9,$AS649:$AT649)","v":{"v":0,"d":"0.00"}},{"v":0,"d":"0.00"},{"v":0,"d":"0.00"}]
[{"$nulls":31},"WDS",{"$nulls":6},"4.CATR.WDS","Дрова","тыс.руб.",{"v":0,"d":"0.00"},{"v":0,"d":"0.00"},{"v":0,"d":"0.00"}]
[{"$nulls":31},"PLT",{"$nulls":6},"4.CATR.PLT","Пеллеты","тыс.руб.",{"v":0,"d":"0.00"},{"v":0,"d":"0.00"},{"v":0,"d":"0.00"}]
[{"$nulls":31},"SAW",{"$nulls":6},"4.CATR.SAW","Опилки","тыс.руб.",{"v":0,"d":"0.00"},{"v":0,"d":"0.00"},{"v":0,"d":"0.00"}]
[{"$nulls":31},"PEA",{"$nulls":6},"4.CATR.PEA","Торф","тыс.руб.",{"v":0,"d":"0.00"},{"v":0,"d":"0.00"},{"v":0,"d":"0.00"}]
[{"$nulls":31},"SHL",{"$nulls":6},"4.CATR.SHL","Сланцы","тыс.руб.",{"v":0,"d":"0.00"},{"v":0,"d":"0.00"},{"v":0,"d":"0.00"}]
[{"$nulls":31},"STF",{"$nulls":6},"4.CATR.STF","Печное бытовое топливо","тыс.руб.",{"v":0,"d":"0.00"},{"v":0,"d":"0.00"},{"v":0,"d":"0.00"}]
[]
[{"$nulls":38},"4.PRTR","Перевозка ж/д транспортом. Цена (тариф) за транспортировку (перевозку) единицы топлива"]
{"$rows_empty":8}
[{"$nulls":31},"GCN",{"$nulls":6},"4.PRTR.GCN","Газовый конденсат","руб./тнт",{"$f":"IF(AP710=0,0,AP754/AP710*1000)","v":{"v":0,"d":"0.00"}},{"v":0,"d":"0.00"},{"v":0,"d":"0.00"}]
[{"$nulls":31},"LNG",{"$nulls":6},"4.PRTR.LNG","Газ сжиженный","руб./тнт",{"v":0,"d":"0.00"},{"v":0,"d":"0.00"},{"v":0,"d":"0.00"}]
[{"$nulls":31},"DSL",{"$nulls":6},"4.PRTR.DSL","Дизельное топливо","руб./тнт",{"v":0,"d":"0.00"},{"v":0,"d":"0.00"},{"v":0,"d":"0.00"}]
[{"$nulls":31},"DSLA",{"$nulls":6},"4.PRTR.DSLA","А (арктическое)","руб./тнт",{"v":0,"d":"0.00"},{"v":0,"d":"0.00"},{"v":0,"d":"0.00"}]
[{"$nulls":31},"DSLW",{"$nulls":6},"4.PRTR.DSLW","З (зимнее)","руб./тнт",{"v":0,"d":"0.00"},{"v":0,"d":"0.00"},{"v":0,"d":"0.00"}]
[{"$nulls":31},"DSLS",{"$nulls":6},"4.PRTR.DSLS","Л (летнее)","руб./тнт",{"v":0,"d":"0.00"},{"v":0,"d":"0.00"},{"v":0,"d":"0.00"}]
[{"$nulls":31},"DSLO",{"$nulls":6},"4.PRTR.DSLO","Е (межсезонное)","руб./тнт",{"v":0,"d":"0.00"},{"v":0,"d":"0.00"},{"v":0,"d":"0.00"}]
[{"$nulls":31},"MST",{"$nulls":6},"4.PRTR.MST","Мазут","руб./тнт",{"v":0,"d":"0.00"},{"v":0,"d":"0.00"},{"v":0,"d":"0.00"}]
[{"$nulls":31},"MSTM40",{"$nulls":6},"4.PRTR.MSTM40","М-40","руб./тнт",{"v":0,"d":"0.00"},{"v":0,"d":"0.00"},{"v":0,"d":"0.00"}]
[{"$nulls":31},"MSTM100",{"$nulls":6},"4.PRTR.MSTM100","М-100","руб./тнт",{"v":0,"d":"0.00"},{"v":0,"d":"0.00"},{"v":0,"d":"0.00"}]
[{"$nulls":31},"MSTM200",{"$nulls":6},"4.PRTR.MSTM200","М-200","руб./тнт",{"v":0,"d":"0.00"},{"v":0,"d":"0.00"},{"v":0,"d":"0.00"}]
[{"$nulls":31},"MSTT",{"$nulls":6},"4.PRTR.MSTT","мазут марки \"Т\"","руб./тнт",{"v":0,"d":"0.00"},{"v":0,"d":"0.00"},{"v":0,"d":"0.00"}]
[{"$nulls":31},"MSTF5",{"$nulls":6},"4.PRTR.MSTF5","Ф-5","руб./тнт",{"v":0,"d":"0.00"},{"v":0,"d":"0.00"},{"v":0,"d":"0.00"}]
[{"$nulls":31},"MSTF12",{"$nulls":6},"4.PRTR.MSTF12","Ф-12","руб./тнт",{"v":0,"d":"0.00"},{"v":0,"d":"0.00"},{"v":0,"d":"0.00"}]
[{"$nulls":31},"OIL",{"$nulls":6},"4.PRTR.OIL","Нефть","руб./тнт",{"v":0,"d":"0.00"},{"v":0,"d":"0.00"},{"v":0,"d":"0.00"}]
[{"$nulls":31},"COA",{"$nulls":6},"4.PRTR.COA","Уголь","руб./тнт",{"v":0,"d":"0.00"},{"v":0,"d":"0.00"},{"v":0,"d":"0.00"}]
[{"$nulls":31},"COAA",{"$nulls":6},"4.PRTR.COAA","Уголь антрацит","руб./тнт",{"v":0,"d":"0.00"},{"v":0,"d":"0.00"},{"v":0,"d":"0.00"}]
[{"$nulls":31},"COAB",{"$nulls":6},"4.PRTR.COAB","Уголь бурый","руб./тнт",{"v":0,"d":"0.00"},{"v":0,"d":"0.00"},{"v":0,"d":"0.00"}]
[{"$nulls":31},"COAG",{"$nulls":6},"4.PRTR.COAG","Уголь газовый","руб./тнт",{"v":0,"d":"0.00"},{"v":0,"d":"0.00"},{"v":0,"d":"0.00"}]
[{"$nulls":31},"COALF",{"$nulls":6},"4.PRTR.COALF","Уголь длиннопламенный","руб./тнт",{"v":0,"d":"0.00"},{"v":0,"d":"0.00"},{"v":0,"d":"0.00"}]
[{"$nulls":31},"COAF",{"$nulls":6},"4.PRTR.COAF","Уголь жирный","руб./тнт",{"v":0,"d":"0.00"},{"v":0,"d":"0.00"},{"v":0,"d":"0.00"}]
[{"$nulls":31},"COAC",{"$nulls":6},"4.PRTR.COAC","Уголь коксовый","руб./тнт",{"v":0,"d":"0.00"},{"v":0,"d":"0.00"},{"v":0,"d":"0.00"}]
[{"$nulls":31},"COASC",{"$nulls":6},"4.PRTR.COASC","Уголь отощённо-спекающийся","руб./тнт",{"v":0,"d":"0.00"},{"v":0,"d":"0.00"},{"v":0,"d":"0.00"}]
[{"$nulls":31},"COAWC",{"$nulls":6},"4.PRTR.COAWC","Уголь слабоспекающийся","руб./тнт",{"v":0,"d":"0.00"},{"v":0,"d":"0.00"},{"v":0,"d":"0.00"}]
[{"$nulls":31},"COAS",{"$nulls":6},"4.PRTR.COAS","Уголь тощий","руб./тнт",{"v":0,"d":"0.00"},{"v":0,"d":"0.00"},{"v":0,"d":"0.00"}]
[]
[]
[{"$nulls":31},"CWD",{"$nulls":6},"4.PRTR.CWD","Уголь древесный","руб./тнт",{"$f":"IF(AP737=0,0,AP781/AP737*1000)","v":{"v":0,"d":"0.00"}},{"v":0,"d":"0.00"},{"v":0,"d":"0.00"}]
[{"$nulls":31},"WDS",{"$nulls":6},"4.PRTR.WDS","Дрова","руб./тнт",{"v":0,"d":"0.00"},{"v":0,"d":"0.00"},{"v":0,"d":"0.00"}]
[{"$nulls":31},"PLT",{"$nulls":6},"4.PRTR.PLT","Пеллеты","руб./тнт",{"v":0,"d":"0.00"},{"v":0,"d":"0.00"},{"v":0,"d":"0.00"}]
[{"$nulls":31},"SAW",{"$nulls":6},"4.PRTR.SAW","Опилки","руб./тнт",{"v":0,"d":"0.00"},{"v":0,"d":"0.00"},{"v":0,"d":"0.00"}]
[{"$nulls":31},"PEA",{"$nulls":6},"4.PRTR.PEA","Торф","руб./тнт",{"v":0,"d":"0.00"},{"v":0,"d":"0.00"},{"v":0,"d":"0.00"}]
[{"$nulls":31},"SHL",{"$nulls":6},"4.PRTR.SHL","Сланцы","руб./тнт",{"v":0,"d":"0.00"},{"v":0,"d":"0.00"},{"v":0,"d":"0.00"}]
[{"$nulls":31},"STF",{"$nulls":6},"4.PRTR.STF","Печное бытовое топливо","руб./тнт",{"v":0,"d":"0.00"},{"v":0,"d":"0.00"},{"v":0,"d":"0.00"}]
[]
[{"$nulls":38},"4.VRTR","Перевозка ж/д транспортом. Объём транспортировки (перевозки) топлива"]
{"$rows_empty":8}
[{"$nulls":31},"GCN",{"$nulls":6},"4.VRTR.GCN","Газовый конденсат","тнт",{"$f":"SUMIF($AS$9:$AT$9,AP$9,$AS710:$AT710)","v":{"v":0,"d":"0.00"}},{"v":0,"d":"0.00"},{"v":0,"d":"0.00"}]
[{"$nulls":31},"LNG",{"$nulls":6},"4.VRTR.LNG","Газ сжиженный","тнт",{"v":0,"d":"0.00"},{"v":0,"d":"0.00"},{"v":0,"d":"0.00"}]
[{"$nulls":31},"DSL",{"$nulls":6},"4.VRTR.DSL","Дизельное топливо","тнт",{"v":0,"d":"0.00"},{"v":0,"d":"0.00"},{"v":0,"d":"0.00"}]
[{"$nulls":31},"DSLA",{"$nulls":6},"4.VRTR.DSLA","А (арктическое)","тнт",{"v":0,"d":"0.00"},{"v":0,"d":"0.00"},{"v":0,"d":"0.00"}]
[{"$nulls":31},"DSLW",{"$nulls":6},"4.VRTR.DSLW","З (зимнее)","тнт",{"v":0,"d":"0.00"},{"v":0,"d":"0.00"},{"v":0,"d":"0.00"}]
[{"$nulls":31},"DSLS",{"$nulls":6},"4.VRTR.DSLS","Л (летнее)","тнт",{"v":0,"d":"0.00"},{"v":0,"d":"0.00"},{"v":0,"d":"0.00"}]
[{"$nulls":31},"DSLO",{"$nulls":6},"4.VRTR.DSLO","Е (межсезонное)","тнт",{"v":0,"d":"0.00"},{"v":0,"d":"0.00"},{"v":0,"d":"0.00"}]
[{"$nulls":31},"MST",{"$nulls":6},"4.VRTR.MST","Мазут","тнт",{"v":0,"d":"0.00"},{"v":0,"d":"0.00"},{"v":0,"d":"0.00"}]
[{"$nulls":31},"MSTM40",{"$nulls":6},"4.VRTR.MSTM40","М-40","тнт",{"v":0,"d":"0.00"},{"v":0,"d":"0.00"},{"v":0,"d":"0.00"}]
[{"$nulls":31},"MSTM100",{"$nulls":6},"4.VRTR.MSTM100","М-100","тнт",{"v":0,"d":"0.00"},{"v":0,"d":"0.00"},{"v":0,"d":"0.00"}]
[{"$nulls":31},"MSTM200",{"$nulls":6},"4.VRTR.MSTM200","М-200","тнт",{"v":0,"d":"0.00"},{"v":0,"d":"0.00"},{"v":0,"d":"0.00"}]
[{"$nulls":31},"MSTT",{"$nulls":6},"4.VRTR.MSTT","мазут марки \"Т\"","тнт",{"v":0,"d":"0.00"},{"v":0,"d":"0.00"},{"v":0,"d":"0.00"}]
[{"$nulls":31},"MSTF5",{"$nulls":6},"4.VRTR.MSTF5","Ф-5","тнт",{"v":0,"d":"0.00"},{"v":0,"d":"0.00"},{"v":0,"d":"0.00"}]
[{"$nulls":31},"MSTF12",{"$nulls":6},"4.VRTR.MSTF12","Ф-12","тнт",{"v":0,"d":"0.00"},{"v":0,"d":"0.00"},{"v":0,"d":"0.00"}]
[{"$nulls":31},"OIL",{"$nulls":6},"4.VRTR.OIL","Нефть","тнт",{"v":0,"d":"0.00"},{"v":0,"d":"0.00"},{"v":0,"d":"0.00"}]
[{"$nulls":31},"COA",{"$nulls":6},"4.VRTR.COA","Уголь","тнт",{"v":0,"d":"0.00"},{"v":0,"d":"0.00"},{"v":0,"d":"0.00"}]
[{"$nulls":31},"COAA",{"$nulls":6},"4.VRTR.COAA","Уголь антрацит","тнт",{"v":0,"d":"0.00"},{"v":0,"d":"0.00"},{"v":0,"d":"0.00"}]
[{"$nulls":31},"COAB",{"$nulls":6},"4.VRTR.COAB","Уголь бурый","тнт",{"v":0,"d":"0.00"},{"v":0,"d":"0.00"},{"v":0,"d":"0.00"}]
[{"$nulls":31},"COAG",{"$nulls":6},"4.VRTR.COAG","Уголь газовый","тнт",{"v":0,"d":"0.00"},{"v":0,"d":"0.00"},{"v":0,"d":"0.00"}]
[{"$nulls":31},"COALF",{"$nulls":6},"4.VRTR.COALF","Уголь длиннопламенный","тнт",{"v":0,"d":"0.00"},{"v":0,"d":"0.00"},{"v":0,"d":"0.00"}]
[{"$nulls":31},"COAF",{"$nulls":6},"4.VRTR.COAF","Уголь жирный","тнт",{"v":0,"d":"0.00"},{"v":0,"d":"0.00"},{"v":0,"d":"0.00"}]
[{"$nulls":31},"COAC",{"$nulls":6},"4.VRTR.COAC","Уголь коксовый","тнт",{"v":0,"d":"0.00"},{"v":0,"d":"0.00"},{"v":0,"d":"0.00"}]
[{"$nulls":31},"COASC",{"$nulls":6},"4.VRTR.COASC","Уголь отощённо-спекающийся","тнт",{"v":0,"d":"0.00"},{"v":0,"d":"0.00"},{"v":0,"d":"0.00"}]
[{"$nulls":31},"COAWC",{"$nulls":6},"4.VRTR.COAWC","Уголь слабоспекающийся","тнт",{"v":0,"d":"0.00"},{"v":0,"d":"0.00"},{"v":0,"d":"0.00"}]
[{"$nulls":31},"COAS",{"$nulls":6},"4.VRTR.COAS","Уголь тощий","тнт",{"v":0,"d":"0.00"},{"v":0,"d":"0.00"},{"v":0,"d":"0.00"}]
[]
[]
[{"$nulls":31},"CWD",{"$nulls":6},"4.VRTR.CWD","Уголь древесный","тнт",{"$f":"SUMIF($AS$9:$AT$9,AP$9,$AS737:$AT737)","v":{"v":0,"d":"0.00"}},{"v":0,"d":"0.00"},{"v":0,"d":"0.00"}]
[{"$nulls":31},"WDS",{"$nulls":6},"4.VRTR.WDS","Дрова","тнт",{"v":0,"d":"0.00"},{"v":0,"d":"0.00"},{"v":0,"d":"0.00"}]
[{"$nulls":31},"PLT",{"$nulls":6},"4.VRTR.PLT","Пеллеты","тнт",{"v":0,"d":"0.00"},{"v":0,"d":"0.00"},{"v":0,"d":"0.00"}]
[{"$nulls":31},"SAW",{"$nulls":6},"4.VRTR.SAW","Опилки","тнт",{"v":0,"d":"0.00"},{"v":0,"d":"0.00"},{"v":0,"d":"0.00"}]
[{"$nulls":31},"PEA",{"$nulls":6},"4.VRTR.PEA","Торф","тнт",{"v":0,"d":"0.00"},{"v":0,"d":"0.00"},{"v":0,"d":"0.00"}]
[{"$nulls":31},"SHL",{"$nulls":6},"4.VRTR.SHL","Сланцы","тнт",{"v":0,"d":"0.00"},{"v":0,"d":"0.00"},{"v":0,"d":"0.00"}]
[{"$nulls":31},"STF",{"$nulls":6},"4.VRTR.STF","Печное бытовое топливо","тнт",{"v":0,"d":"0.00"},{"v":0,"d":"0.00"},{"v":0,"d":"0.00"}]
[]
[{"$nulls":38},"4.CRTR","Перевозка ж/д транспортом. Стоимость транспортировки (перевозки) топлива","тыс.руб.",{"$f":"SUMIF($AS$9:$AT$9,AP$9,$AS745:$AT745)","v":{"v":0,"d":"0.00"}},{"$f":"SUMIF($AS$9:$AT$9,AQ$9,$AS745:$AT745)","v":{"v":0,"d":"0.00"}},{"$f":"SUMIF($AS$9:$AT$9,AR$9,$AS745:$AT745)","v":{"v":0,"d":"0.00"}}]
{"$rows_empty":8}
[{"$nulls":31},"GCN",{"$nulls":6},"4.CRTR.GCN","Газовый конденсат","тыс.руб.",{"$f":"SUMIF($AS$9:$AT$9,AP$9,$AS754:$AT754)","v":{"v":0,"d":"0.00"}},{"v":0,"d":"0.00"},{"v":0,"d":"0.00"}]
[{"$nulls":31},"LNG",{"$nulls":6},"4.CRTR.LNG","Газ сжиженный","тыс.руб.",{"v":0,"d":"0.00"},{"v":0,"d":"0.00"},{"v":0,"d":"0.00"}]
[{"$nulls":31},"DSL",{"$nulls":6},"4.CRTR.DSL","Дизельное топливо","тыс.руб.",{"v":0,"d":"0.00"},{"v":0,"d":"0.00"},{"v":0,"d":"0.00"}]
[{"$nulls":31},"DSLA",{"$nulls":6},"4.CRTR.DSLA","А (арктическое)","тыс.руб.",{"v":0,"d":"0.00"},{"v":0,"d":"0.00"},{"v":0,"d":"0.00"}]
[{"$nulls":31},"DSLW",{"$nulls":6},"4.CRTR.DSLW","З (зимнее)","тыс.руб.",{"v":0,"d":"0.00"},{"v":0,"d":"0.00"},{"v":0,"d":"0.00"}]
[{"$nulls":31},"DSLS",{"$nulls":6},"4.CRTR.DSLS","Л (летнее)","тыс.руб.",{"v":0,"d":"0.00"},{"v":0,"d":"0.00"},{"v":0,"d":"0.00"}]
[{"$nulls":31},"DSLO",{"$nulls":6},"4.CRTR.DSLO","Е (межсезонное)","тыс.руб.",{"v":0,"d":"0.00"},{"v":0,"d":"0.00"},{"v":0,"d":"0.00"}]
[{"$nulls":31},"MST",{"$nulls":6},"4.CRTR.MST","Мазут","тыс.руб.",{"v":0,"d":"0.00"},{"v":0,"d":"0.00"},{"v":0,"d":"0.00"}]
[{"$nulls":31},"MSTM40",{"$nulls":6},"4.CRTR.MSTM40","М-40","тыс.руб.",{"v":0,"d":"0.00"},{"v":0,"d":"0.00"},{"v":0,"d":"0.00"}]
[{"$nulls":31},"MSTM100",{"$nulls":6},"4.CRTR.MSTM100","М-100","тыс.руб.",{"v":0,"d":"0.00"},{"v":0,"d":"0.00"},{"v":0,"d":"0.00"}]
[{"$nulls":31},"MSTM200",{"$nulls":6},"4.CRTR.MSTM200","М-200","тыс.руб.",{"v":0,"d":"0.00"},{"v":0,"d":"0.00"},{"v":0,"d":"0.00"}]
[{"$nulls":31},"MSTT",{"$nulls":6},"4.CRTR.MSTT","мазут марки \"Т\"","тыс.руб.",{"v":0,"d":"0.00"},{"v":0,"d":"0.00"},{"v":0,"d":"0.00"}]
[{"$nulls":31},"MSTF5",{"$nulls":6},"4.CRTR.MSTF5","Ф-5","тыс.руб.",{"v":0,"d":"0.00"},{"v":0,"d":"0.00"},{"v":0,"d":"0.00"}]
[{"$nulls":31},"MSTF12",{"$nulls":6},"4.CRTR.MSTF12","Ф-12","тыс.руб.",{"v":0,"d":"0.00"},{"v":0,"d":"0.00"},{"v":0,"d":"0.00"}]
[{"$nulls":31},"OIL",{"$nulls":6},"4.CRTR.OIL","Нефть","тыс.руб.",{"v":0,"d":"0.00"},{"v":0,"d":"0.00"},{"v":0,"d":"0.00"}]
[{"$nulls":31},"COA",{"$nulls":6},"4.CRTR.COA","Уголь","тыс.руб.",{"v":0,"d":"0.00"},{"v":0,"d":"0.00"},{"v":0,"d":"0.00"}]
[{"$nulls":31},"COAA",{"$nulls":6},"4.CRTR.COAA","Уголь антрацит","тыс.руб.",{"v":0,"d":"0.00"},{"v":0,"d":"0.00"},{"v":0,"d":"0.00"}]
[{"$nulls":31},"COAB",{"$nulls":6},"4.CRTR.COAB","Уголь бурый","тыс.руб.",{"v":0,"d":"0.00"},{"v":0,"d":"0.00"},{"v":0,"d":"0.00"}]
[{"$nulls":31},"COAG",{"$nulls":6},"4.CRTR.COAG","Уголь газовый","тыс.руб.",{"v":0,"d":"0.00"},{"v":0,"d":"0.00"},{"v":0,"d":"0.00"}]
[{"$nulls":31},"COALF",{"$nulls":6},"4.CRTR.COALF","Уголь длиннопламенный","тыс.руб.",{"v":0,"d":"0.00"},{"v":0,"d":"0.00"},{"v":0,"d":"0.00"}]
[{"$nulls":31},"COAF",{"$nulls":6},"4.CRTR.COAF","Уголь жирный","тыс.руб.",{"v":0,"d":"0.00"},{"v":0,"d":"0.00"},{"v":0,"d":"0.00"}]
[{"$nulls":31},"COAC",{"$nulls":6},"4.CRTR.COAC","Уголь коксовый","тыс.руб.",{"v":0,"d":"0.00"},{"v":0,"d":"0.00"},{"v":0,"d":"0.00"}]
[{"$nulls":31},"COASC",{"$nulls":6},"4.CRTR.COASC","Уголь отощённо-спекающийся","тыс.руб.",{"v":0,"d":"0.00"},{"v":0,"d":"0.00"},{"v":0,"d":"0.00"}]
[{"$nulls":31},"COAWC",{"$nulls":6},"4.CRTR.COAWC","Уголь слабоспекающийся","тыс.руб.",{"v":0,"d":"0.00"},{"v":0,"d":"0.00"},{"v":0,"d":"0.00"}]
[{"$nulls":31},"COAS",{"$nulls":6},"4.CRTR.COAS","Уголь тощий","тыс.руб.",{"v":0,"d":"0.00"},{"v":0,"d":"0.00"},{"v":0,"d":"0.00"}]
[]
[]
[{"$nulls":31},"CWD",{"$nulls":6},"4.CRTR.CWD","Уголь древесный","тыс.руб.",{"$f":"SUMIF($AS$9:$AT$9,AP$9,$AS781:$AT781)","v":{"v":0,"d":"0.00"}},{"v":0,"d":"0.00"},{"v":0,"d":"0.00"}]
[{"$nulls":31},"WDS",{"$nulls":6},"4.CRTR.WDS","Дрова","тыс.руб.",{"v":0,"d":"0.00"},{"v":0,"d":"0.00"},{"v":0,"d":"0.00"}]
[{"$nulls":31},"PLT",{"$nulls":6},"4.CRTR.PLT","Пеллеты","тыс.руб.",{"v":0,"d":"0.00"},{"v":0,"d":"0.00"},{"v":0,"d":"0.00"}]
[{"$nulls":31},"SAW",{"$nulls":6},"4.CRTR.SAW","Опилки","тыс.руб.",{"v":0,"d":"0.00"},{"v":0,"d":"0.00"},{"v":0,"d":"0.00"}]
[{"$nulls":31},"PEA",{"$nulls":6},"4.CRTR.PEA","Торф","тыс.руб.",{"v":0,"d":"0.00"},{"v":0,"d":"0.00"},{"v":0,"d":"0.00"}]
[{"$nulls":31},"SHL",{"$nulls":6},"4.CRTR.SHL","Сланцы","тыс.руб.",{"v":0,"d":"0.00"},{"v":0,"d":"0.00"},{"v":0,"d":"0.00"}]
[{"$nulls":31},"STF",{"$nulls":6},"4.CRTR.STF","Печное бытовое топливо","тыс.руб.",{"v":0,"d":"0.00"},{"v":0,"d":"0.00"},{"v":0,"d":"0.00"}]
[]
[{"$nulls":38},"4.POTR","Иные виды транспортировки (перевозки). Цена (тариф) за транспортировку (перевозку) единицы топлива"]
{"$rows_empty":8}
[{"$nulls":31},"GCN",{"$nulls":6},"4.POTR.GCN","Газовый конденсат","руб./тнт",{"$f":"IF(AP842=0,0,AP886/AP842*1000)","v":{"v":0,"d":"0.00"}},{"v":0,"d":"0.00"},{"v":0,"d":"0.00"}]
[{"$nulls":31},"LNG",{"$nulls":6},"4.POTR.LNG","Газ сжиженный","руб./тнт",{"v":0,"d":"0.00"},{"v":0,"d":"0.00"},{"v":0,"d":"0.00"}]
[{"$nulls":31},"DSL",{"$nulls":6},"4.POTR.DSL","Дизельное топливо","руб./тнт",{"v":0,"d":"0.00"},{"v":0,"d":"0.00"},{"v":0,"d":"0.00"}]
[{"$nulls":31},"DSLA",{"$nulls":6},"4.POTR.DSLA","А (арктическое)","руб./тнт",{"v":0,"d":"0.00"},{"v":0,"d":"0.00"},{"v":0,"d":"0.00"}]
[{"$nulls":31},"DSLW",{"$nulls":6},"4.POTR.DSLW","З (зимнее)","руб./тнт",{"v":0,"d":"0.00"},{"v":0,"d":"0.00"},{"v":0,"d":"0.00"}]
[{"$nulls":31},"DSLS",{"$nulls":6},"4.POTR.DSLS","Л (летнее)","руб./тнт",{"v":0,"d":"0.00"},{"v":0,"d":"0.00"},{"v":0,"d":"0.00"}]
[{"$nulls":31},"DSLO",{"$nulls":6},"4.POTR.DSLO","Е (межсезонное)","руб./тнт",{"v":0,"d":"0.00"},{"v":0,"d":"0.00"},{"v":0,"d":"0.00"}]
[{"$nulls":31},"MST",{"$nulls":6},"4.POTR.MST","Мазут","руб./тнт",{"v":0,"d":"0.00"},{"v":0,"d":"0.00"},{"v":0,"d":"0.00"}]
[{"$nulls":31},"MSTM40",{"$nulls":6},"4.POTR.MSTM40","М-40","руб./тнт",{"v":0,"d":"0.00"},{"v":0,"d":"0.00"},{"v":0,"d":"0.00"}]
[{"$nulls":31},"MSTM100",{"$nulls":6},"4.POTR.MSTM100","М-100","руб./тнт",{"v":0,"d":"0.00"},{"v":0,"d":"0.00"},{"v":0,"d":"0.00"}]
[{"$nulls":31},"MSTM200",{"$nulls":6},"4.POTR.MSTM200","М-200","руб./тнт",{"v":0,"d":"0.00"},{"v":0,"d":"0.00"},{"v":0,"d":"0.00"}]
[{"$nulls":31},"MSTT",{"$nulls":6},"4.POTR.MSTT","мазут марки \"Т\"","руб./тнт",{"v":0,"d":"0.00"},{"v":0,"d":"0.00"},{"v":0,"d":"0.00"}]
[{"$nulls":31},"MSTF5",{"$nulls":6},"4.POTR.MSTF5","Ф-5","руб./тнт",{"v":0,"d":"0.00"},{"v":0,"d":"0.00"},{"v":0,"d":"0.00"}]
[{"$nulls":31},"MSTF12",{"$nulls":6},"4.POTR.MSTF12","Ф-12","руб./тнт",{"v":0,"d":"0.00"},{"v":0,"d":"0.00"},{"v":0,"d":"0.00"}]
[{"$nulls":31},"OIL",{"$nulls":6},"4.POTR.OIL","Нефть","руб./тнт",{"v":0,"d":"0.00"},{"v":0,"d":"0.00"},{"v":0,"d":"0.00"}]
[{"$nulls":31},"COA",{"$nulls":6},"4.POTR.COA","Уголь","руб./тнт",{"v":0,"d":"0.00"},{"v":0,"d":"0.00"},{"v":0,"d":"0.00"}]
[{"$nulls":31},"COAA",{"$nulls":6},"4.POTR.COAA","Уголь антрацит","руб./тнт",{"v":0,"d":"0.00"},{"v":0,"d":"0.00"},{"v":0,"d":"0.00"}]
[{"$nulls":31},"COAB",{"$nulls":6},"4.POTR.COAB","Уголь бурый","руб./тнт",{"v":0,"d":"0.00"},{"v":0,"d":"0.00"},{"v":0,"d":"0.00"}]
[{"$nulls":31},"COAG",{"$nulls":6},"4.POTR.COAG","Уголь газовый","руб./тнт",{"v":0,"d":"0.00"},{"v":0,"d":"0.00"},{"v":0,"d":"0.00"}]
[{"$nulls":31},"COALF",{"$nulls":6},"4.POTR.COALF","Уголь длиннопламенный","руб./тнт",{"v":0,"d":"0.00"},{"v":0,"d":"0.00"},{"v":0,"d":"0.00"}]
[{"$nulls":31},"COAF",{"$nulls":6},"4.POTR.COAF","Уголь жирный","руб./тнт",{"v":0,"d":"0.00"},{"v":0,"d":"0.00"},{"v":0,"d":"0.00"}]
[{"$nulls":31},"COAC",{"$nulls":6},"4.POTR.COAC","Уголь коксовый","руб./тнт",{"v":0,"d":"0.00"},{"v":0,"d":"0.00"},{"v":0,"d":"0.00"}]
[{"$nulls":31},"COASC",{"$nulls":6},"4.POTR.COASC","Уголь отощённо-спекающийся","руб./тнт",{"v":0,"d":"0.00"},{"v":0,"d":"0.00"},{"v":0,"d":"0.00"}]
[{"$nulls":31},"COAWC",{"$nulls":6},"4.POTR.COAWC","Уголь слабоспекающийся","руб./тнт",{"v":0,"d":"0.00"},{"v":0,"d":"0.00"},{"v":0,"d":"0.00"}]
[{"$nulls":31},"COAS",{"$nulls":6},"4.POTR.COAS","Уголь тощий","руб./тнт",{"v":0,"d":"0.00"},{"v":0,"d":"0.00"},{"v":0,"d":"0.00"}]
[]
[]
[{"$nulls":31},"CWD",{"$nulls":6},"4.POTR.CWD","Уголь древесный","руб./тнт",{"$f":"IF(AP869=0,0,AP913/AP869*1000)","v":{"v":0,"d":"0.00"}},{"v":0,"d":"0.00"},{"v":0,"d":"0.00"}]
[{"$nulls":31},"WDS",{"$nulls":6},"4.POTR.WDS","Дрова","руб./тнт",{"v":0,"d":"0.00"},{"v":0,"d":"0.00"},{"v":0,"d":"0.00"}]
[{"$nulls":31},"PLT",{"$nulls":6},"4.POTR.PLT","Пеллеты","руб./тнт",{"v":0,"d":"0.00"},{"v":0,"d":"0.00"},{"v":0,"d":"0.00"}]
[{"$nulls":31},"SAW",{"$nulls":6},"4.POTR.SAW","Опилки","руб./тнт",{"v":0,"d":"0.00"},{"v":0,"d":"0.00"},{"v":0,"d":"0.00"}]
[{"$nulls":31},"PEA",{"$nulls":6},"4.POTR.PEA","Торф","руб./тнт",{"v":0,"d":"0.00"},{"v":0,"d":"0.00"},{"v":0,"d":"0.00"}]
[{"$nulls":31},"SHL",{"$nulls":6},"4.POTR.SHL","Сланцы","руб./тнт",{"v":0,"d":"0.00"},{"v":0,"d":"0.00"},{"v":0,"d":"0.00"}]
[{"$nulls":31},"STF",{"$nulls":6},"4.POTR.STF","Печное бытовое топливо","руб./тнт",{"v":0,"d":"0.00"},{"v":0,"d":"0.00"},{"v":0,"d":"0.00"}]
[]
[{"$nulls":38},"4.VOTR","Иные виды транспортировки (перевозки). Объём транспортировки (перевозки) топлива"]
{"$rows_empty":8}
[{"$nulls":31},"GCN",{"$nulls":6},"4.VOTR.GCN","Газовый конденсат","тнт",{"$f":"SUMIF($AS$9:$AT$9,AP$9,$AS842:$AT842)","v":{"v":0,"d":"0.00"}},{"v":0,"d":"0.00"},{"v":0,"d":"0.00"}]
[{"$nulls":31},"LNG",{"$nulls":6},"4.VOTR.LNG","Газ сжиженный","тнт",{"v":0,"d":"0.00"},{"v":0,"d":"0.00"},{"v":0,"d":"0.00"}]
[{"$nulls":31},"DSL",{"$nulls":6},"4.VOTR.DSL","Дизельное топливо","тнт",{"v":0,"d":"0.00"},{"v":0,"d":"0.00"},{"v":0,"d":"0.00"}]
[{"$nulls":31},"DSLA",{"$nulls":6},"4.VOTR.DSLA","А (арктическое)","тнт",{"v":0,"d":"0.00"},{"v":0,"d":"0.00"},{"v":0,"d":"0.00"}]
[{"$nulls":31},"DSLW",{"$nulls":6},"4.VOTR.DSLW","З (зимнее)","тнт",{"v":0,"d":"0.00"},{"v":0,"d":"0.00"},{"v":0,"d":"0.00"}]
[{"$nulls":31},"DSLS",{"$nulls":6},"4.VOTR.DSLS","Л (летнее)","тнт",{"v":0,"d":"0.00"},{"v":0,"d":"0.00"},{"v":0,"d":"0.00"}]
[{"$nulls":31},"DSLO",{"$nulls":6},"4.VOTR.DSLO","Е (межсезонное)","тнт",{"v":0,"d":"0.00"},{"v":0,"d":"0.00"},{"v":0,"d":"0.00"}]
[{"$nulls":31},"MST",{"$nulls":6},"4.VOTR.MST","Мазут","тнт",{"v":0,"d":"0.00"},{"v":0,"d":"0.00"},{"v":0,"d":"0.00"}]
[{"$nulls":31},"MSTM40",{"$nulls":6},"4.VOTR.MSTM40","М-40","тнт",{"v":0,"d":"0.00"},{"v":0,"d":"0.00"},{"v":0,"d":"0.00"}]
[{"$nulls":31},"MSTM100",{"$nulls":6},"4.VOTR.MSTM100","М-100","тнт",{"v":0,"d":"0.00"},{"v":0,"d":"0.00"},{"v":0,"d":"0.00"}]
[{"$nulls":31},"MSTM200",{"$nulls":6},"4.VOTR.MSTM200","М-200","тнт",{"v":0,"d":"0.00"},{"v":0,"d":"0.00"},{"v":0,"d":"0.00"}]
[{"$nulls":31},"MSTT",{"$nulls":6},"4.VOTR.MSTT","мазут марки \"Т\"","тнт",{"v":0,"d":"0.00"},{"v":0,"d":"0.00"},{"v":0,"d":"0.00"}]
[{"$nulls":31},"MSTF5",{"$nulls":6},"4.VOTR.MSTF5","Ф-5","тнт",{"v":0,"d":"0.00"},{"v":0,"d":"0.00"},{"v":0,"d":"0.00"}]
[{"$nulls":31},"MSTF12",{"$nulls":6},"4.VOTR.MSTF12","Ф-12","тнт",{"v":0,"d":"0.00"},{"v":0,"d":"0.00"},{"v":0,"d":"0.00"}]
[{"$nulls":31},"OIL",{"$nulls":6},"4.VOTR.OIL","Нефть","тнт",{"v":0,"d":"0.00"},{"v":0,"d":"0.00"},{"v":0,"d":"0.00"}]
[{"$nulls":31},"COA",{"$nulls":6},"4.VOTR.COA","Уголь","тнт",{"v":0,"d":"0.00"},{"v":0,"d":"0.00"},{"v":0,"d":"0.00"}]
[{"$nulls":31},"COAA",{"$nulls":6},"4.VOTR.COAA","Уголь антрацит","тнт",{"v":0,"d":"0.00"},{"v":0,"d":"0.00"},{"v":0,"d":"0.00"}]
[{"$nulls":31},"COAB",{"$nulls":6},"4.VOTR.COAB","Уголь бурый","тнт",{"v":0,"d":"0.00"},{"v":0,"d":"0.00"},{"v":0,"d":"0.00"}]
[{"$nulls":31},"COAG",{"$nulls":6},"4.VOTR.COAG","Уголь газовый","тнт",{"v":0,"d":"0.00"},{"v":0,"d":"0.00"},{"v":0,"d":"0.00"}]
[{"$nulls":31},"COALF",{"$nulls":6},"4.VOTR.COALF","Уголь длиннопламенный","тнт",{"v":0,"d":"0.00"},{"v":0,"d":"0.00"},{"v":0,"d":"0.00"}]
[{"$nulls":31},"COAF",{"$nulls":6},"4.VOTR.COAF","Уголь жирный","тнт",{"v":0,"d":"0.00"},{"v":0,"d":"0.00"},{"v":0,"d":"0.00"}]
[{"$nulls":31},"COAC",{"$nulls":6},"4.VOTR.COAC","Уголь коксовый","тнт",{"v":0,"d":"0.00"},{"v":0,"d":"0.00"},{"v":0,"d":"0.00"}]
[{"$nulls":31},"COASC",{"$nulls":6},"4.VOTR.COASC","Уголь отощённо-спекающийся","тнт",{"v":0,"d":"0.00"},{"v":0,"d":"0.00"},{"v":0,"d":"0.00"}]
[{"$nulls":31},"COAWC",{"$nulls":6},"4.VOTR.COAWC","Уголь слабоспекающийся","тнт",{"v":0,"d":"0.00"},{"v":0,"d":"0.00"},{"v":0,"d":"0.00"}]
[{"$nulls":31},"COAS",{"$nulls":6},"4.VOTR.COAS","Уголь тощий","тнт",{"v":0,"d":"0.00"},{"v":0,"d":"0.00"},{"v":0,"d":"0.00"}]
[]
[]
[{"$nulls":31},"CWD",{"$nulls":6},"4.VOTR.CWD","Уголь древесный","тнт",{"$f":"SUMIF($AS$9:$AT$9,AP$9,$AS869:$AT869)","v":{"v":0,"d":"0.00"}},{"v":0,"d":"0.00"},{"v":0,"d":"0.00"}]
[{"$nulls":31},"WDS",{"$nulls":6},"4.VOTR.WDS","Дрова","тнт",{"v":0,"d":"0.00"},{"v":0,"d":"0.00"},{"v":0,"d":"0.00"}]
[{"$nulls":31},"PLT",{"$nulls":6},"4.VOTR.PLT","Пеллеты","тнт",{"v":0,"d":"0.00"},{"v":0,"d":"0.00"},{"v":0,"d":"0.00"}]
[{"$nulls":31},"SAW",{"$nulls":6},"4.VOTR.SAW","Опилки","тнт",{"v":0,"d":"0.00"},{"v":0,"d":"0.00"},{"v":0,"d":"0.00"}]
[{"$nulls":31},"PEA",{"$nulls":6},"4.VOTR.PEA","Торф","тнт",{"v":0,"d":"0.00"},{"v":0,"d":"0.00"},{"v":0,"d":"0.00"}]
[{"$nulls":31},"SHL",{"$nulls":6},"4.VOTR.SHL","Сланцы","тнт",{"v":0,"d":"0.00"},{"v":0,"d":"0.00"},{"v":0,"d":"0.00"}]
[{"$nulls":31},"STF",{"$nulls":6},"4.VOTR.STF","Печное бытовое топливо","тнт",{"v":0,"d":"0.00"},{"v":0,"d":"0.00"},{"v":0,"d":"0.00"}]
[]
[{"$nulls":38},"4.COTR","Иные виды транспортировки (перевозки). Стоимость транспортировки (перевозки) топлива","тыс.руб.",{"$f":"SUMIF($AS$9:$AT$9,AP$9,$AS877:$AT877)","v":{"v":0,"d":"0.00"}},{"$f":"SUMIF($AS$9:$AT$9,AQ$9,$AS877:$AT877)","v":{"v":0,"d":"0.00"}},{"$f":"SUMIF($AS$9:$AT$9,AR$9,$AS877:$AT877)","v":{"v":0,"d":"0.00"}}]
{"$rows_empty":8}
[{"$nulls":31},"GCN",{"$nulls":6},"4.COTR.GCN","Газовый конденсат","тыс.руб.",{"$f":"SUMIF($AS$9:$AT$9,AP$9,$AS886:$AT886)","v":{"v":0,"d":"0.00"}},{"v":0,"d":"0.00"},{"v":0,"d":"0.00"}]
[{"$nulls":31},"LNG",{"$nulls":6},"4.COTR.LNG","Газ сжиженный","тыс.руб.",{"v":0,"d":"0.00"},{"v":0,"d":"0.00"},{"v":0,"d":"0.00"}]
[{"$nulls":31},"DSL",{"$nulls":6},"4.COTR.DSL","Дизельное топливо","тыс.руб.",{"v":0,"d":"0.00"},{"v":0,"d":"0.00"},{"v":0,"d":"0.00"}]
[{"$nulls":31},"DSLA",{"$nulls":6},"4.COTR.DSLA","А (арктическое)","тыс.руб.",{"v":0,"d":"0.00"},{"v":0,"d":"0.00"},{"v":0,"d":"0.00"}]
[{"$nulls":31},"DSLW",{"$nulls":6},"4.COTR.DSLW","З (зимнее)","тыс.руб.",{"v":0,"d":"0.00"},{"v":0,"d":"0.00"},{"v":0,"d":"0.00"}]
[{"$nulls":31},"DSLS",{"$nulls":6},"4.COTR.DSLS","Л (летнее)","тыс.руб.",{"v":0,"d":"0.00"},{"v":0,"d":"0.00"},{"v":0,"d":"0.00"}]
[{"$nulls":31},"DSLO",{"$nulls":6},"4.COTR.DSLO","Е (межсезонное)","тыс.руб.",{"v":0,"d":"0.00"},{"v":0,"d":"0.00"},{"v":0,"d":"0.00"}]
[{"$nulls":31},"MST",{"$nulls":6},"4.COTR.MST","Мазут","тыс.руб.",{"v":0,"d":"0.00"},{"v":0,"d":"0.00"},{"v":0,"d":"0.00"}]
[{"$nulls":31},"MSTM40",{"$nulls":6},"4.COTR.MSTM40","М-40","тыс.руб.",{"v":0,"d":"0.00"},{"v":0,"d":"0.00"},{"v":0,"d":"0.00"}]
[{"$nulls":31},"MSTM100",{"$nulls":6},"4.COTR.MSTM100","М-100","тыс.руб.",{"v":0,"d":"0.00"},{"v":0,"d":"0.00"},{"v":0,"d":"0.00"}]
[{"$nulls":31},"MSTM200",{"$nulls":6},"4.COTR.MSTM200","М-200","тыс.руб.",{"v":0,"d":"0.00"},{"v":0,"d":"0.00"},{"v":0,"d":"0.00"}]
[{"$nulls":31},"MSTT",{"$nulls":6},"4.COTR.MSTT","мазут марки \"Т\"","тыс.руб.",{"v":0,"d":"0.00"},{"v":0,"d":"0.00"},{"v":0,"d":"0.00"}]
[{"$nulls":31},"MSTF5",{"$nulls":6},"4.COTR.MSTF5","Ф-5","тыс.руб.",{"v":0,"d":"0.00"},{"v":0,"d":"0.00"},{"v":0,"d":"0.00"}]
[{"$nulls":31},"MSTF12",{"$nulls":6},"4.COTR.MSTF12","Ф-12","тыс.руб.",{"v":0,"d":"0.00"},{"v":0,"d":"0.00"},{"v":0,"d":"0.00"}]
[{"$nulls":31},"OIL",{"$nulls":6},"4.COTR.OIL","Нефть","тыс.руб.",{"v":0,"d":"0.00"},{"v":0,"d":"0.00"},{"v":0,"d":"0.00"}]
[{"$nulls":31},"COA",{"$nulls":6},"4.COTR.COA","Уголь","тыс.руб.",{"v":0,"d":"0.00"},{"v":0,"d":"0.00"},{"v":0,"d":"0.00"}]
[{"$nulls":31},"COAA",{"$nulls":6},"4.COTR.COAA","Уголь антрацит","тыс.руб.",{"v":0,"d":"0.00"},{"v":0,"d":"0.00"},{"v":0,"d":"0.00"}]
[{"$nulls":31},"COAB",{"$nulls":6},"4.COTR.COAB","Уголь бурый","тыс.руб.",{"v":0,"d":"0.00"},{"v":0,"d":"0.00"},{"v":0,"d":"0.00"}]
[{"$nulls":31},"COAG",{"$nulls":6},"4.COTR.COAG","Уголь газовый","тыс.руб.",{"v":0,"d":"0.00"},{"v":0,"d":"0.00"},{"v":0,"d":"0.00"}]
[{"$nulls":31},"COALF",{"$nulls":6},"4.COTR.COALF","Уголь длиннопламенный","тыс.руб.",{"v":0,"d":"0.00"},{"v":0,"d":"0.00"},{"v":0,"d":"0.00"}]
[{"$nulls":31},"COAF",{"$nulls":6},"4.COTR.COAF","Уголь жирный","тыс.руб.",{"v":0,"d":"0.00"},{"v":0,"d":"0.00"},{"v":0,"d":"0.00"}]
[{"$nulls":31},"COAC",{"$nulls":6},"4.COTR.COAC","Уголь коксовый","тыс.руб.",{"v":0,"d":"0.00"},{"v":0,"d":"0.00"},{"v":0,"d":"0.00"}]
[{"$nulls":31},"COASC",{"$nulls":6},"4.COTR.COASC","Уголь отощённо-спекающийся","тыс.руб.",{"v":0,"d":"0.00"},{"v":0,"d":"0.00"},{"v":0,"d":"0.00"}]
[{"$nulls":31},"COAWC",{"$nulls":6},"4.COTR.COAWC","Уголь слабоспекающийся","тыс.руб.",{"v":0,"d":"0.00"},{"v":0,"d":"0.00"},{"v":0,"d":"0.00"}]
[{"$nulls":31},"COAS",{"$nulls":6},"4.COTR.COAS","Уголь тощий","тыс.руб.",{"v":0,"d":"0.00"},{"v":0,"d":"0.00"},{"v":0,"d":"0.00"}]
[]
[]
[{"$nulls":31},"CWD",{"$nulls":6},"4.COTR.CWD","Уголь древесный","тыс.руб.",{"$f":"SUMIF($AS$9:$AT$9,AP$9,$AS913:$AT913)","v":{"v":0,"d":"0.00"}},{"v":0,"d":"0.00"},{"v":0,"d":"0.00"}]
[{"$nulls":31},"WDS",{"$nulls":6},"4.COTR.WDS","Дрова","тыс.руб.",{"v":0,"d":"0.00"},{"v":0,"d":"0.00"},{"v":0,"d":"0.00"}]
[{"$nulls":31},"PLT",{"$nulls":6},"4.COTR.PLT","Пеллеты","тыс.руб.",{"v":0,"d":"0.00"},{"v":0,"d":"0.00"},{"v":0,"d":"0.00"}]
[{"$nulls":31},"SAW",{"$nulls":6},"4.COTR.SAW","Опилки","тыс.руб.",{"v":0,"d":"0.00"},{"v":0,"d":"0.00"},{"v":0,"d":"0.00"}]
[{"$nulls":31},"PEA",{"$nulls":6},"4.COTR.PEA","Торф","тыс.руб.",{"v":0,"d":"0.00"},{"v":0,"d":"0.00"},{"v":0,"d":"0.00"}]
[{"$nulls":31},"SHL",{"$nulls":6},"4.COTR.SHL","Сланцы","тыс.руб.",{"v":0,"d":"0.00"},{"v":0,"d":"0.00"},{"v":0,"d":"0.00"}]
[{"$nulls":31},"STF",{"$nulls":6},"4.COTR.STF","Печное бытовое топливо","тыс.руб.",{"v":0,"d":"0.00"},{"v":0,"d":"0.00"},{"v":0,"d":"0.00"}]
[]
[]
[{"$nulls":39},"Показатели расхода электроэнергии по уровням напряжения"]
[]
[{"$nulls":31},"ENR",{"$nulls":6},"4.13.0.1","объём энергии","тыс.кВтч",{"$f":"SUMIF($AS$9:$AT$9,AP$9,$AS924:$AT924)","v":{"v":0,"d":"0.00"}},{"v":0,"d":"0.00"},{"v":0,"d":"0.00"}]
[{"$nulls":31},"PWR",{"$nulls":6},"4.13.0.2","объём заявленной мощности","МВт",{"v":0,"d":"0.00"},{"v":0,"d":"0.00"},{"v":0,"d":"0.00"}]
[{"$nulls":31},"ENR",{"$nulls":6},"4.13.1.1","энергия НН (0,4 кВ и ниже)","тыс.руб.",{"v":0,"d":"0.00"},{"v":0,"d":"0.00"},{"v":0,"d":"0.00"}]
[{"$nulls":31},"ENR",{"$nulls":6},{"$f":"AM926 & \".1\"","v":"4.13.1.1.1"},"тариф на энергию","руб./кВт*ч",{"$f":"IF(AP928=0,0,AP926/AP928)","v":{"v":0,"d":"0.00"}},{"$f":"IF(AQ928=0,0,AQ926/AQ928)","v":{"v":0,"d":"0.00"}},{"$f":"IF(AR928=0,0,AR926/AR928)","v":{"v":0,"d":"0.00"}}]
[{"$nulls":31},"ENR",{"$nulls":6},{"$f":"AM926 & \".2\"","v":"4.13.1.1.2"},"объём энергии","тыс.кВтч",{"$f":"SUMIF($AS$9:$AT$9,AP$9,$AS928:$AT928)","v":{"v":0,"d":"0.00"}},{"v":0,"d":"0.00"},{"v":0,"d":"0.00"}]
[{"$nulls":31},"PWR",{"$nulls":6},"4.13.1.2","заявленная мощность по НН (0,4 кВ и ниже)","тыс.руб.",{"v":0,"d":"0.00"},{"v":0,"d":"0.00"},{"v":0,"d":"0.00"}]
[{"$nulls":31},"PWR",{"$nulls":6},{"$f":"AM929 & \".1\"","v":"4.13.1.2.1"},"тариф на заявленную мощность","руб./кВт*мес",{"$f":"IF(AP931=0,0,AP929/AP931)","v":{"v":0,"d":"0.00"}},{"$f":"IF(AQ931=0,0,AQ929/AQ931)","v":{"v":0,"d":"0.00"}},{"$f":"IF(AR931=0,0,AR929/AR931)","v":{"v":0,"d":"0.00"}}]
[{"$nulls":31},"PWR",{"$nulls":6},{"$f":"AM929 & \".2\"","v":"4.13.1.2.2"},"годовой объём мощности","МВт",{"$f":"SUMIF($AS$9:$AT$9,AP$9,$AS931:$AT931)","v":{"v":0,"d":"0.00"}},{"v":0,"d":"0.00"},{"v":0,"d":"0.00"}]
[{"$nulls":31},"ENR",{"$nulls":6},"4.13.2.1","энергия СН 2 (1-20 кВ)","тыс.руб.",{"v":0,"d":"0.00"},{"v":0,"d":"0.00"},{"v":0,"d":"0.00"}]
[{"$nulls":31},"ENR",{"$nulls":6},{"$f":"AM932 & \".1\"","v":"4.13.2.1.1"},"тариф на энергию","руб./кВт*ч",{"$f":"IF(AP934=0,0,AP932/AP934)","v":{"v":0,"d":"0.00"}},{"$f":"IF(AQ934=0,0,AQ932/AQ934)","v":{"v":0,"d":"0.00"}},{"$f":"IF(AR934=0,0,AR932/AR934)","v":{"v":0,"d":"0.00"}}]
[{"$nulls":31},"ENR",{"$nulls":6},{"$f":"AM932 & \".2\"","v":"4.13.2.1.2"},"объём энергии","тыс.кВтч",{"$f":"SUMIF($AS$9:$AT$9,AP$9,$AS934:$AT934)","v":{"v":0,"d":"0.00"}},{"v":0,"d":"0.00"},{"v":0,"d":"0.00"}]
[{"$nulls":31},"PWR",{"$nulls":6},"4.13.2.2","заявленная мощность по СН 2 (1-20 кВ)","тыс.руб.",{"v":0,"d":"0.00"},{"v":0,"d":"0.00"},{"v":0,"d":"0.00"}]
[{"$nulls":31},"PWR",{"$nulls":6},{"$f":"AM935 & \".1\"","v":"4.13.2.2.1"},"тариф на заявленную мощность","руб./кВт*мес",{"$f":"IF(AP937=0,0,AP935/AP937)","v":{"v":0,"d":"0.00"}},{"$f":"IF(AQ937=0,0,AQ935/AQ937)","v":{"v":0,"d":"0.00"}},{"$f":"IF(AR937=0,0,AR935/AR937)","v":{"v":0,"d":"0.00"}}]
[{"$nulls":31},"PWR",{"$nulls":6},{"$f":"AM935 & \".2\"","v":"4.13.2.2.2"},"годовой объём мощности","МВт",{"$f":"SUMIF($AS$9:$AT$9,AP$9,$AS937:$AT937)","v":{"v":0,"d":"0.00"}},{"v":0,"d":"0.00"},{"v":0,"d":"0.00"}]
[{"$nulls":31},"ENR",{"$nulls":6},"4.13.3.1","энергия СН 1 (35 кВ)","тыс.руб.",{"v":0,"d":"0.00"},{"v":0,"d":"0.00"},{"v":0,"d":"0.00"}]
[{"$nulls":31},"ENR",{"$nulls":6},{"$f":"AM938 & \".1\"","v":"4.13.3.1.1"},"тариф на энергию","руб./кВт*ч",{"$f":"IF(AP940=0,0,AP938/AP940)","v":{"v":0,"d":"0.00"}},{"$f":"IF(AQ940=0,0,AQ938/AQ940)","v":{"v":0,"d":"0.00"}},{"$f":"IF(AR940=0,0,AR938/AR940)","v":{"v":0,"d":"0.00"}}]
[{"$nulls":31},"ENR",{"$nulls":6},{"$f":"AM938 & \".2\"","v":"4.13.3.1.2"},"объём энергии","тыс.кВтч",{"$f":"SUMIF($AS$9:$AT$9,AP$9,$AS940:$AT940)","v":{"v":0,"d":"0.00"}},{"v":0,"d":"0.00"},{"v":0,"d":"0.00"}]
[{"$nulls":31},"PWR",{"$nulls":6},"4.13.3.2","заявленная мощность по СН 1 (35 кВ)","тыс.руб.",{"v":0,"d":"0.00"},{"v":0,"d":"0.00"},{"v":0,"d":"0.00"}]
[{"$nulls":31},"PWR",{"$nulls":6},{"$f":"AM941 & \".1\"","v":"4.13.3.2.1"},"тариф на заявленную мощность","руб./кВт*мес",{"$f":"IF(AP943=0,0,AP941/AP943)","v":{"v":0,"d":"0.00"}},{"$f":"IF(AQ943=0,0,AQ941/AQ943)","v":{"v":0,"d":"0.00"}},{"$f":"IF(AR943=0,0,AR941/AR943)","v":{"v":0,"d":"0.00"}}]
[{"$nulls":31},"PWR",{"$nulls":6},{"$f":"AM941 & \".2\"","v":"4.13.3.2.2"},"годовой объём мощности","МВт",{"$f":"SUMIF($AS$9:$AT$9,AP$9,$AS943:$AT943)","v":{"v":0,"d":"0.00"}},{"v":0,"d":"0.00"},{"v":0,"d":"0.00"}]
[{"$nulls":31},"ENR",{"$nulls":6},"4.13.4.1","энергия ВН (110 кВ и выше)","тыс.руб.",{"v":0,"d":"0.00"},{"v":0,"d":"0.00"},{"v":0,"d":"0.00"}]
[{"$nulls":31},"ENR",{"$nulls":6},{"$f":"AM944 & \".1\"","v":"4.13.4.1.1"},"тариф на энергию","руб./кВт*ч",{"$f":"IF(AP946=0,0,AP944/AP946)","v":{"v":0,"d":"0.00"}},{"$f":"IF(AQ946=0,0,AQ944/AQ946)","v":{"v":0,"d":"0.00"}},{"$f":"IF(AR946=0,0,AR944/AR946)","v":{"v":0,"d":"0.00"}}]
[{"$nulls":31},"ENR",{"$nulls":6},{"$f":"AM944 & \".2\"","v":"4.13.4.1.2"},"объём энергии","тыс.кВтч",{"$f":"SUMIF($AS$9:$AT$9,AP$9,$AS946:$AT946)","v":{"v":0,"d":"0.00"}},{"v":0,"d":"0.00"},{"v":0,"d":"0.00"}]
[{"$nulls":31},"PWR",{"$nulls":6},"4.13.4.2","заявленная мощность по ВН (110 кВ и выше)","тыс.руб.",{"v":0,"d":"0.00"},{"v":0,"d":"0.00"},{"v":0,"d":"0.00"}]
[{"$nulls":31},"PWR",{"$nulls":6},{"$f":"AM947 & \".1\"","v":"4.13.4.2.1"},"тариф на заявленную мощность","руб./кВт*мес",{"$f":"IF(AP949=0,0,AP947/AP949)","v":{"v":0,"d":"0.00"}},{"$f":"IF(AQ949=0,0,AQ947/AQ949)","v":{"v":0,"d":"0.00"}},{"$f":"IF(AR949=0,0,AR947/AR949)","v":{"v":0,"d":"0.00"}}]
[{"$nulls":31},"PWR",{"$nulls":6},{"$f":"AM947 & \".2\"","v":"4.13.4.2.2"},"годовой объём мощности","МВт",{"$f":"SUMIF($AS$9:$AT$9,AP$9,$AS949:$AT949)","v":{"v":0,"d":"0.00"}},{"$f":"SUMIF($AS$9:$AT$9,AQ$9,$AS949:$AT949)","v":{"v":0,"d":"0.00"}},{"$f":"SUMIF($AS$9:$AT$9,AR$9,$AS949:$AT949)","v":{"v":0,"d":"0.00"}}]
[]
[{"$nulls":31},"OTH",{"$nulls":7},"Прочие виды топлива","тыс.руб.",{"$f":"SUMIF($AS$9:$AT$9,AP$9,$AS951:$AT951)","v":{"v":0,"d":"0.00"}},{"v":0,"d":"0.00"},{"v":0,"d":"0.00"}]
[{"$nulls":31},"OTH",{"$nulls":6},"4.14.1","Биогаз","тыс.руб.",{"v":0,"d":"0.00"},{"v":0,"d":"0.00"},{"v":0,"d":"0.00"}]
[{"$nulls":31},"OTH",{"$nulls":6},"4.14.1.1","Цена","руб./тыс.м3",{"$f":"IF(AP954=0,0,AP952/AP954*1000)","v":{"v":0,"d":"0.00"}},{"$f":"IF(AQ954=0,0,AQ952/AQ954*1000)","v":{"v":0,"d":"0.00"}},{"$f":"IF(AR954=0,0,AR952/AR954*1000)","v":{"v":0,"d":"0.00"}}]
[{"$nulls":31},"OTH",{"$nulls":6},"4.14.1.2","Объём","тыс.м3",{"$f":"SUMIF($AS$9:$AT$9,AP$9,$AS954:$AT954)","v":{"v":0,"d":"0.00"}},{"v":0,"d":"0.00"},{"v":0,"d":"0.00"}]
[{"$nulls":31},"OTH",{"$nulls":6},"4.14.2","ТБО","тыс.руб.",{"v":0,"d":"0.00"},{"v":0,"d":"0.00"},{"v":0,"d":"0.00"}]
[{"$nulls":31},"OTH",{"$nulls":6},"4.14.2.1","Цена","руб./тнт",{"$f":"IF(AP957=0,0,AP955/AP957*1000)","v":{"v":0,"d":"0.00"}},{"$f":"IF(AQ957=0,0,AQ955/AQ957*1000)","v":{"v":0,"d":"0.00"}},{"$f":"IF(AR957=0,0,AR955/AR957*1000)","v":{"v":0,"d":"0.00"}}]
[{"$nulls":31},"OTH",{"$nulls":6},"4.14.2.2","Объём","тнт",{"$f":"SUMIF($AS$9:$AT$9,AP$9,$AS957:$AT957)","v":{"v":0,"d":"0.00"}},{"v":0,"d":"0.00"},{"v":0,"d":"0.00"}]
[{"$nulls":31},"OTH",{"$nulls":6},"4.14.3","Иные виды топлива","тыс.руб.",{"v":0,"d":"0.00"},{"v":0,"d":"0.00"},{"v":0,"d":"0.00"}]
[]
[{"$nulls":38},"21","Полезный отпуск продукции всего","Гкал"]

{"sheet":"ХВС.БПр","index":15,"n_rows":132,"n_cols":53,"rows_kept":132,"hidden":true,"merged":[[0,1,27,1],[0,5,1,5],[0,6,1,6],[2,2,14,2],[15,2,27,2],[28,1,55,1],[28,5,29,5],[28,6,29,6],[30,2,42,2],[43,2,55,2],[120,5,122,5],[120,6,122,6],[120,7,122,7],[120,8,122,8],[120,9,122,9],[120,10,120,12],[120,13,120,15],[120,16,122,16],[120,17,122,17],[120,18,120,21],[120,22,122,22],[120,23,122,23],[120,24,120,27],[120,28,120,30],[120,31,120,40],[120,41,122,41],[120,42,122,42],[120,43,122,43],[120,44,122,44],[121,10,122,10],[121,11,122,11],[121,12,122,12],[121,13,122,13],[121,14,122,14],[121,15,122,15],[121,18,122,18],[121,19,122,19],[121,20,122,20],[121,21,122,21],[121,24,122,24],[121,25,122,25],[121,26,122,26],[121,27,122,27],[121,28,122,28],[121,29,122,29],[121,30,122,30],[121,31,122,31],[121,32,121,34],[121,35,121,37],[121,38,121,40],[125,6,126,6],[125,10,126,10],[127,6,128,6],[127,10,128,10]]}
[null,null,{"$f":"F3","v":"0.0"},"-",null,{"$f":"B1","v":0}]
[]
[{"$nulls":5},{"$f":"F1 & \".0\"","v":"0.0"},"год"]
[{"$nulls":5},{"$f":"F1 & \".1\"","v":"0.1"},"январь"]
[{"$nulls":5},{"$f":"F1 & \".2\"","v":"0.2"},"февраль"]
[{"$nulls":5},{"$f":"F1 & \".3\"","v":"0.3"},"март"]
[{"$nulls":5},{"$f":"F1 & \".4\"","v":"0.4"},"апрель"]
[{"$nulls":5},{"$f":"F1 & \".5\"","v":"0.5"},"май"]
[{"$nulls":5},{"$f":"F1 & \".6\"","v":"0.6"},"июнь"]
[{"$nulls":5},{"$f":"F1 & \".7\"","v":"0.7"},"июль"]
[{"$nulls":5},{"$f":"F1 & \".8\"","v":"0.8"},"август"]
[{"$nulls":5},{"$f":"F1 & \".9\"","v":"0.9"},"сентябрь"]
[{"$nulls":5},{"$f":"F1 & \".10\"","v":"0.10"},"октябрь"]
[{"$nulls":5},{"$f":"F1 & \".11\"","v":"0.11"},"ноябрь"]
[{"$nulls":5},{"$f":"F1 & \".12\"","v":"0.12"},"декабрь"]
{"$rows_empty":13}
["TBD",null,{"$f":"F31","v":"0.0"},"-",null,{"$f":"B29","v":0},null,{"$f":"H31","v":{"v":0,"d":"0.00"}},{"$f":"I31","v":{"v":0,"d":"0.00"}},{"$f":"A29","v":"TBD"},{"$f":"K31","v":{"v":0,"d":"0.00"}},{"$f":"L31","v":{"v":0,"d":"0.00"}},{"$f":"M31","v":{"v":0,"d":"0.00"}},{"v":0,"d":"0.00"},{"v":0,"d":"0.00"},{"v":0,"d":"0.00"},{"v":0,"d":"0.00"},{"v":0,"d":"0.00"},{"v":0,"d":"0.00"},{"v":0,"d":"0.00"},{"v":0,"d":"0.00"},{"v":0,"d":"0.00"},{"v":0,"d":"0.00"},{"v":0,"d":"0.00"},{"v":0,"d":"0.00"},{"v":0,"d":"0.00"},{"$f":"AA31","v":{"v":0,"d":"0.00"}},{"v":0,"d":"0.00"},{"v":0,"d":"0.00"},{"$f":"AD31","v":{"v":0,"d":"0.00"}},{"$f":"AE31","v":{"v":0,"d":"0.00"}},{"$f":"AF31","v":{"v":0,"d":"0.00"}},{"$f":"AG31","v":{"v":0,"d":"0.00"}},{"$f":"AH31","v":{"v":0,"d":"0.00"}},{"v":0,"d":"0.00"},{"v":0,"d":"0.00"},{"v":0,"d":"0.00"},{"v":0,"d":"0.00"},{"v":0,"d":"0.00"},{"v":0,"d":"0.00"},{"v":0,"d":"0.00"},{"v":0,"d":"0.00"},{"v":0,"d":"0.00"},{"$f":"AR31","v":{"v":0,"d":"0.00"}},{"$f":"AS31","v":{"v":0,"d":"0.00"}},{"$nulls":7},{"$f":"IF(J29=\"питьевая вода\",\"TOTAL_ORG_PW\",IF(J29=\"техническая вода\",\"TOTAL_ORG_TW\",\"\"))","v":""}]
[]
[{"$nulls":5},{"$f":"F29 & \".0\"","v":"0.0"},"год",{"$f":"SUMIF('Список объектов'!$R$15:$R$32,$F31,'Список объектов'!$S$15:$S$32)","v":{"v":0,"d":"0.00"}},{"$f":"SUMIF('Список объектов'!$R$15:$R$32,$F31,'Список объектов'!$T$15:$T$32)","v":{"v":0,"d":"0.00"}},{"$f":"J29","v":"TBD"},{"$f":"S31+N31-Q31","v":{"v":0,"d":"0.00"}},null,null,{"$f":"SUM(O31:P31)","v":{"v":0,"d":"0.00"}},{"$nulls":4},{"$f":"X31+W31","v":{"v":0,"d":"0.00"}},{"$nulls":4},{"$f":"Y31+AC31+AF31","v":{"v":0,"d":"0.00"}},{"$f":"SUM(Z31:AB31)","v":{"v":0,"d":"0.00"}},{"$f":"SUM(Z32:Z43)","v":{"v":0,"d":"0.00"}},{"v":0,"d":"0.00"},{"v":0,"d":"0.00"},{"v":0,"d":"0.00"},{"v":0,"d":"0.00"},{"v":0,"d":"0.00"},{"v":0,"d":"0.00"},{"v":0,"d":"0.00"},{"$f":"SUM(AH32:AH43)","v":{"v":0,"d":"0.00"}},{"v":0,"d":"0.00"},{"$f":"SUM(AJ32:AJ43)","v":{"v":0,"d":"0.00"}},{"v":0,"d":"0.00"},{"v":0,"d":"0.00"},{"$f":"SUM(AM32:AM43)","v":{"v":0,"d":"0.00"}},{"v":0,"d":"0.00"},{"v":0,"d":"0.00"},{"v":0,"d":"0.00"},{"v":0,"d":"0.00"},{"$f":"SUM(AR32:AR43)","v":{"v":0,"d":"0.00"}},{"$f":"SUM(AS32:AS43)","v":{"v":0,"d":"0.00"}},null,null,{"$f":"IF(K31=0,0,N31/K31*100)","v":0},{"$nulls":4},{"$f":"IF(J31=\"питьевая вода\",\"TOTAL_ORG_YEAR_PW\",IF(J31=\"техническая вода\",\"TOTAL_ORG_YEAR_TW\",\"\"))","v":""}]
[{"$nulls":5},{"$f":"F29 & \".1\"","v":"0.1"},"январь",null,null,{"$f":"IF(OFFSET('Список территорий'!CJ$15,$F29,0)=\"a\",\"Y\",\"N\")","v":"N"},{"$nulls":13},{"v":0,"d":"0.00"},{"v":0,"d":"0.00"},{"$nulls":3},{"$f":"SUM(AD32,AE32)","v":{"v":0,"d":"0.00"}},null,null,{"$f":"SUM(AG32,AJ32,AM32)","v":{"v":0,"d":"0.00"}},{"$f":"SUM(AH32,AI32)","v":{"v":0,"d":"0.00"}},null,null,{"$f":"SUM(AK32,AL32)","v":{"v":0,"d":"0.00"}},null,null,{"$f":"SUM(AN32,AO32)","v":{"v":0,"d":"0.00"}},{"$nulls":13},{"$f":"C29 & \"-I\"","v":"0.0-I"}]
[{"$nulls":5},{"$f":"F29 & \".2\"","v":"0.2"},"февраль",null,null,{"$f":"IF(OFFSET('Список территорий'!CK$15,$F29,0)=\"a\",\"Y\",\"N\")","v":"N"},{"$nulls":13},{"v":0,"d":"0.00"},{"v":0,"d":"0.00"},{"$nulls":3},{"v":0,"d":"0.00"},null,null,{"$f":"SUM(AG33,AJ33,AM33)","v":{"v":0,"d":"0.00"}},{"v":0,"d":"0.00"},null,null,{"v":0,"d":"0.00"},null,null,{"v":0,"d":"0.00"},{"$nulls":13},{"$f":"C29 & \"-I\"","v":"0.0-I"}]
[{"$nulls":5},{"$f":"F29 & \".3\"","v":"0.3"},"март",null,null,{"$f":"IF(OFFSET('Список территорий'!CL$15,$F29,0)=\"a\",\"Y\",\"N\")","v":"N"},{"$nulls":13},{"v":0,"d":"0.00"},{"v":0,"d":"0.00"},{"$nulls":3},{"v":0,"d":"0.00"},null,null,{"v":0,"d":"0.00"},{"v":0,"d":"0.00"},null,null,{"v":0,"d":"0.00"},null,null,{"v":0,"d":"0.00"},{"$nulls":13},{"$f":"C29 & \"-I\"","v":"0.0-I"}]
[{"$nulls":5},{"$f":"F29 & \".4\"","v":"0.4"},"апрель",null,null,{"$f":"IF(OFFSET('Список территорий'!CM$15,$F29,0)=\"a\",\"Y\",\"N\")","v":"N"},{"$nulls":13},{"v":0,"d":"0.00"},{"v":0,"d":"0.00"},{"$nulls":3},{"v":0,"d":"0.00"},null,null,{"v":0,"d":"0.00"},{"v":0,"d":"0.00"},null,null,{"v":0,"d":"0.00"},null,null,{"v":0,"d":"0.00"},{"$nulls":13},{"$f":"C29 & \"-I\"","v":"0.0-I"}]
[{"$nulls":5},{"$f":"F29 & \".5\"","v":"0.5"},"май",null,null,{"$f":"IF(OFFSET('Список территорий'!CN$15,$F29,0)=\"a\",\"Y\",\"N\")","v":"N"},{"$nulls":13},{"v":0,"d":"0.00"},{"v":0,"d":"0.00"},{"$nulls":3},{"v":0,"d":"0.00"},null,null,{"v":0,"d":"0.00"},{"v":0,"d":"0.00"},null,null,{"v":0,"d":"0.00"},null,null,{"v":0,"d":"0.00"},{"$nulls":13},{"$f":"C29 & \"-I\"","v":"0.0-I"}]
[{"$nulls":5},{"$f":"F29 & \".6\"","v":"0.6"},"июнь",null,null,{"$f":"IF(OFFSET('Список территорий'!CO$15,$F29,0)=\"a\",\"Y\",\"N\")","v":"N"},{"$nulls":13},{"v":0,"d":"0.00"},{"v":0,"d":"0.00"},{"$nulls":3},{"v":0,"d":"0.00"},null,null,{"v":0,"d":"0.00"},{"v":0,"d":"0.00"},null,null,{"v":0,"d":"0.00"},null,null,{"v":0,"d":"0.00"},{"$nulls":13},{"$f":"C29 & \"-I\"","v":"0.0-I"}]
[{"$nulls":5},{"$f":"F29 & \".7\"","v":"0.7"},"июль",null,null,{"$f":"IF(OFFSET('Список территорий'!CP$15,$F29,0)=\"a\",\"Y\",\"N\")","v":"N"},{"$nulls":13},{"v":0,"d":"0.00"},{"v":0,"d":"0.00"},{"$nulls":3},{"v":0,"d":"0.00"},null,null,{"v":0,"d":"0.00"},{"v":0,"d":"0.00"},null,null,{"v":0,"d":"0.00"},null,null,{"v":0,"d":"0.00"},{"$nulls":13},{"$f":"C29 & \"-II\"","v":"0.0-II"}]
[{"$nulls":5},{"$f":"F29 & \".8\"","v":"0.8"},"август",null,null,{"$f":"IF(OFFSET('Список территорий'!CQ$15,$F29,0)=\"a\",\"Y\",\"N\")","v":"N"},{"$nulls":13},{"v":0,"d":"0.00"},{"v":0,"d":"0.00"},{"$nulls":3},{"v":0,"d":"0.00"},null,null,{"v":0,"d":"0.00"},{"v":0,"d":"0.00"},null,null,{"v":0,"d":"0.00"},null,null,{"v":0,"d":"0.00"},{"$nulls":13},{"$f":"C29 & \"-II\"","v":"0.0-II"}]
[{"$nulls":5},{"$f":"F29 & \".9\"","v":"0.9"},"сентябрь",null,null,{"$f":"IF(OFFSET('Список территорий'!CR$15,$F29,0)=\"a\",\"Y\",\"N\")","v":"N"},{"$nulls":13},{"v":0,"d":"0.00"},{"v":0,"d":"0.00"},{"$nulls":3},{"v":0,"d":"0.00"},null,null,{"v":0,"d":"0.00"},{"v":0,"d":"0.00"},null,null,{"v":0,"d":"0.00"},null,null,{"v":0,"d":"0.00"},{"$nulls":13},{"$f":"C29 & \"-II\"","v":"0.0-II"}]
[{"$nulls":5},{"$f":"F29 & \".10\"","v":"0.10"},"октябрь",null,null,{"$f":"IF(OFFSET('Список территорий'!CS$15,$F29,0)=\"a\",\"Y\",\"N\")","v":"N"},{"$nulls":13},{"v":0,"d":"0.00"},{"v":0,"d":"0.00"},{"$nulls":3},{"v":0,"d":"0.00"},null,null,{"v":0,"d":"0.00"},{"v":0,"d":"0.00"},null,null,{"v":0,"d":"0.00"},null,null,{"v":0,"d":"0.00"},{"$nulls":13},{"$f":"C29 & \"-II\"","v":"0.0-II"}]
[{"$nulls":5},{"$f":"F29 & \".11\"","v":"0.11"},"ноябрь",null,null,{"$f":"IF(OFFSET('Список территорий'!CT$15,$F29,0)=\"a\",\"Y\",\"N\")","v":"N"},{"$nulls":13},{"v":0,"d":"0.00"},{"v":0,"d":"0.00"},{"$nulls":3},{"v":0,"d":"0.00"},null,null,{"v":0,"d":"0.00"},{"v":0,"d":"0.00"},null,null,{"v":0,"d":"0.00"},null,null,{"v":0,"d":"0.00"},{"$nulls":13},{"$f":"C29 & \"-II\"","v":"0.0-II"}]
[{"$nulls":5},{"$f":"F29 & \".12\"","v":"0.12"},"декабрь",null,null,{"$f":"IF(OFFSET('Список территорий'!CU$15,$F29,0)=\"a\",\"Y\",\"N\")","v":"N"},{"$nulls":13},{"v":0,"d":"0.00"},{"v":0,"d":"0.00"},{"$nulls":3},{"v":0,"d":"0.00"},null,null,{"v":0,"d":"0.00"},{"v":0,"d":"0.00"},null,null,{"v":0,"d":"0.00"},null,null,{"v":0,"d":"0.00"},{"$nulls":13},{"$f":"C29 & \"-II\"","v":"0.0-II"}]
{"$rows_empty":75}
[{"$nulls":5},{"$f":"\"Баланс \" & TEMPLATE_SPHERE & \" (производство)\"","v":"Баланс водоотведения (производство)"}]
[{"$nulls":5},"куб.м"]
[{"$nulls":5},"№ п/п","Субъект баланса","Установленная мощность, куб.м/час","Подключённая (фактическая) нагрузка, куб.м/час","Вид воды","Поднято воды ",null,null,"Расход воды на технологические нужды",null,null,"Получено воды со стороны","Объём воды, прошедшей водоподготовку (справочно)","Объём воды, поданной в сеть",{"$nulls":3},"Потери воды ","Отпущено воды, всего","Расход воды на нужды предприятия",{"$nulls":3},"Отпущено воды другим водопроводам",null,null,"Отпущено воды по категориям потребителей  ",{"$nulls":9},"Объём воды для приготовления горячей воды (справочно)","Объём воды при дифференциации тарифов по объёму (справочно)","Объём реализации воды питьевого качества по приборам учёта","Объём реализации воды питьевого качества по нормативам"]
[{"$nulls":10},"Всего","из поверхностных источников","из подземных источников","Всего","cобственные нужды водоподготовки","на промывку сетей",null,null,"Всего","из собственных источников","от других операторов","получено от других территорий, дифференцированных по тарифу",null,null,"Всего","хозяйственные нужды","на основное производство","прочие","Всего","по приборам учёта","по нормативам","Всего","Финансируемые из бюджетов всех уровней",null,null,"Население",null,null,"Прочие потребители"]
[{"$nulls":32},"Всего","по приборам учёта","по нормативам","Всего","по приборам учёта","по нормативам","Всего","по приборам учёта","по нормативам"]
[{"$nulls":6},"А","IC","CL","Б","1","1.1","1.2","2","2.1","2.2","3","4","5","5.0.1","5.0.2","5.0.3","5.1","5.2","5.2.1","5.2.1.1","5.2.1.2","5.2.1.3","5.2.2","5.2.2.1","5.2.2.2","5.2.3","5.2.3.1","5.2.3.1.1","5.2.3.1.2","5.2.3.2","5.2.3.2.1","5.2.3.2.2","5.2.3.3","5.2.3.3.1","5.2.3.3.2","5.3","5.4","6.1","6.2"]
[]
[{"$nulls":3},"-",null,{"$f":"IF(TEMPLATE_SPHERE_CODE=\"COLDVSNA\",\"0.1.P\",\"0.1\")","v":"0.1"},"Всего по организации",null,null,"питьевая вода",{"$f":"S126+N126-Q126+S127+N127-Q127","v":{"v":0,"d":"0.00"}},{"$f":"SUMIF($BA$131:$BA$132,$BA126,L$131:L$132)","v":{"v":0,"d":"0.00"}},{"v":0,"d":"0.00"},{"v":0,"d":"0.00"},{"v":0,"d":"0.00"},{"v":0,"d":"0.00"},{"v":0,"d":"0.00"},{"v":0,"d":"0.00"},{"v":0,"d":"0.00"},{"v":0,"d":"0.00"},{"v":0,"d":"0.00"},{"v":0,"d":"0.00"},{"v":0,"d":"0.00"},{"v":0,"d":"0.00"},{"v":0,"d":"0.00"},{"v":0,"d":"0.00"},{"v":0,"d":"0.00"},{"v":0,"d":"0.00"},{"v":0,"d":"0.00"},{"v":0,"d":"0.00"},{"v":0,"d":"0.00"},{"v":0,"d":"0.00"},{"v":0,"d":"0.00"},{"v":0,"d":"0.00"},{"v":0,"d":"0.00"},{"v":0,"d":"0.00"},{"v":0,"d":"0.00"},{"v":0,"d":"0.00"},{"v":0,"d":"0.00"},{"v":0,"d":"0.00"},{"v":0,"d":"0.00"},{"v":0,"d":"0.00"},{"v":0,"d":"0.00"},{"v":0,"d":"0.00"},{"v":0,"d":"0.00"},{"$nulls":7},{"$f":"IF(J126=\"питьевая вода\",\"TOTAL_ORG_YEAR_PW\",IF(J126=\"техническая вода\",\"TOTAL_ORG_YEAR_TW\",\"\"))","v":"TOTAL_ORG_YEAR_PW"}]
[{"$nulls":5},{"$f":"IF(TEMPLATE_SPHERE_CODE=\"COLDVSNA\",\"0.1.T\",\"\")","v":""},{"$nulls":3},"техническая вода",null,{"$f":"SUMIF($BA$131:$BA$132,$BA127,L$131:L$132)","v":{"v":0,"d":"0.00"}},{"v":0,"d":"0.00"},{"v":0,"d":"0.00"},{"v":0,"d":"0.00"},{"v":0,"d":"0.00"},{"v":0,"d":"0.00"},{"v":0,"d":"0.00"},{"v":0,"d":"0.00"},{"v":0,"d":"0.00"},{"v":0,"d":"0.00"},{"v":0,"d":"0.00"},{"v":0,"d":"0.00"},{"v":0,"d":"0.00"},{"v":0,"d":"0.00"},{"v":0,"d":"0.00"},{"v":0,"d":"0.00"},{"v":0,"d":"0.00"},{"v":0,"d":"0.00"},{"v":0,"d":"0.00"},{"v":0,"d":"0.00"},{"v":0,"d":"0.00"},{"v":0,"d":"0.00"},{"v":0,"d":"0.00"},{"v":0,"d":"0.00"},{"v":0,"d":"0.00"},{"v":0,"d":"0.00"},{"v":0,"d":"0.00"},{"v":0,"d":"0.00"},{"v":0,"d":"0.00"},{"v":0,"d":"0.00"},{"v":0,"d":"0.00"},{"v":0,"d":"0.00"},{"$nulls":9},{"$f":"IF(J127=\"питьевая вода\",\"TOTAL_ORG_YEAR_PW\",IF(J127=\"техническая вода\",\"TOTAL_ORG_YEAR_TW\",\"\"))","v":"TOTAL_ORG_YEAR_TW"}]
[]
[]
[]
[null,0]
[{"$nulls":6},"Добавить"]

{"sheet":"ХВС.БТр","index":16,"n_rows":132,"n_cols":53,"rows_kept":132,"hidden":true,"merged":[[0,1,27,1],[0,5,1,5],[0,6,1,6],[2,2,14,2],[15,2,27,2],[28,1,55,1],[28,5,29,5],[28,6,29,6],[30,2,42,2],[43,2,55,2],[120,5,122,5],[120,6,122,6],[120,7,122,7],[120,8,122,8],[120,9,122,9],[120,10,120,13],[120,14,122,14],[120,15,120,28],[121,10,122,10],[121,11,122,11],[121,12,122,12],[121,13,122,13],[121,15,122,15],[121,16,122,16],[121,17,121,19],[121,20,121,22],[121,23,121,25],[121,26,121,28],[125,6,126,6],[127,6,128,6]]}
[null,null,{"$f":"F3","v":"0.0"},"-",null,{"$f":"B1","v":0}]
[]
[{"$nulls":5},{"$f":"F1 & \".0\"","v":"0.0"},"год"]
[{"$nulls":5},{"$f":"F1 & \".1\"","v":"0.1"},"январь"]
[{"$nulls":5},{"$f":"F1 & \".2\"","v":"0.2"},"февраль"]
[{"$nulls":5},{"$f":"F1 & \".3\"","v":"0.3"},"март"]
[{"$nulls":5},{"$f":"F1 & \".4\"","v":"0.4"},"апрель"]
[{"$nulls":5},{"$f":"F1 & \".5\"","v":"0.5"},"май"]
[{"$nulls":5},{"$f":"F1 & \".6\"","v":"0.6"},"июнь"]
[{"$nulls":5},{"$f":"F1 & \".7\"","v":"0.7"},"июль"]
[{"$nulls":5},{"$f":"F1 & \".8\"","v":"0.8"},"август"]
[{"$nulls":5},{"$f":"F1 & \".9\"","v":"0.9"},"сентябрь"]
[{"$nulls":5},{"$f":"F1 & \".10\"","v":"0.10"},"октябрь"]
[{"$nulls":5},{"$f":"F1 & \".11\"","v":"0.11"},"ноябрь"]
[{"$nulls":5},{"$f":"F1 & \".12\"","v":"0.12"},"декабрь"]
{"$rows_empty":13}
["TBD",null,{"$f":"F31","v":"0.0"},"-",null,{"$f":"B29","v":0},null,{"$f":"H31","v":{"v":0,"d":"0.00"}},{"$f":"I31","v":{"v":0,"d":"0.00"}},{"$f":"A29","v":"TBD"},{"$f":"K31","v":{"v":0,"d":"0.00"}},{"v":0,"d":"0.00"},{"v":0,"d":"0.00"},{"v":0,"d":"0.00"},{"v":0,"d":"0.00"},{"v":0,"d":"0.00"},{"v":0,"d":"0.00"},{"v":0,"d":"0.00"},{"$f":"S31","v":{"v":0,"d":"0.00"}},{"v":0,"d":"0.00"},{"v":0,"d":"0.00"},{"v":0,"d":"0.00"},{"v":0,"d":"0.00"},{"v":0,"d":"0.00"},{"v":0,"d":"0.00"},{"v":0,"d":"0.00"},{"v":0,"d":"0.00"},{"v":0,"d":"0.00"},{"v":0,"d":"0.00"},{"$nulls":23},{"$f":"IF(J29=\"питьевая вода\",\"TOTAL_ORG_PW\",IF(J29=\"техническая вода\",\"TOTAL_ORG_TW\",\"\"))","v":""}]
[]
[{"$nulls":5},{"$f":"F29 & \".0\"","v":"0.0"},"год",{"$f":"SUMIF('Список объектов'!$R$15:$R$32,$F31,'Список объектов'!$W$15:$W$32)","v":{"v":0,"d":"0.00"}},{"$f":"SUMIF('Список объектов'!$R$15:$R$32,$F31,'Список объектов'!$X$15:$X$32)","v":{"v":0,"d":"0.00"}},{"$f":"J29","v":"TBD"},{"$f":"P31+O31","v":{"v":0,"d":"0.00"}},{"$nulls":4},{"$f":"SUM(P32:P43)","v":{"v":0,"d":"0.00"}},{"$f":"SUM(Q32:Q43)","v":{"v":0,"d":"0.00"}},{"$f":"SUM(R32:R43)","v":{"v":0,"d":"0.00"}},{"$f":"SUM(S32:S43)","v":{"v":0,"d":"0.00"}},{"v":0,"d":"0.00"},{"v":0,"d":"0.00"},{"v":0,"d":"0.00"},{"v":0,"d":"0.00"},{"v":0,"d":"0.00"},{"v":0,"d":"0.00"},{"v":0,"d":"0.00"},{"v":0,"d":"0.00"},{"v":0,"d":"0.00"},{"v":0,"d":"0.00"},{"$nulls":23},{"$f":"IF(J31=\"питьевая вода\",\"TOTAL_ORG_YEAR_PW\",IF(J31=\"техническая вода\",\"TOTAL_ORG_YEAR_TW\",\"\"))","v":""}]
[{"$nulls":5},{"$f":"F29 & \".1\"","v":"0.1"},"январь",null,null,{"$f":"IF(OFFSET('Список территорий'!CJ$15,$F29,0)=\"a\",\"Y\",\"N\")","v":"N"},{"$nulls":5},{"$f":"SUM(Q32,U32,R32,X32,AA32)","v":{"v":0,"d":"0.00"}},null,{"$f":"SUM(S32,T32)","v":{"v":0,"d":"0.00"}},null,null,{"$f":"SUM(V32,W32)","v":{"v":0,"d":"0.00"}},null,null,{"$f":"SUM(Y32,Z32)","v":{"v":0,"d":"0.00"}},null,null,{"$f":"SUM(AB32,AC32)","v":{"v":0,"d":"0.00"}},{"$nulls":25},{"$f":"C29 & \"-I\"","v":"0.0-I"}]
[{"$nulls":5},{"$f":"F29 & \".2\"","v":"0.2"},"февраль",null,null,{"$f":"IF(OFFSET('Список территорий'!CK$15,$F29,0)=\"a\",\"Y\",\"N\")","v":"N"},{"$nulls":5},{"$f":"SUM(Q33,U33,R33,X33,AA33)","v":{"v":0,"d":"0.00"}},null,{"$f":"SUM(S33,T33)","v":{"v":0,"d":"0.00"}},null,null,{"$f":"SUM(V33,W33)","v":{"v":0,"d":"0.00"}},null,null,{"$f":"SUM(Y33,Z33)","v":{"v":0,"d":"0.00"}},null,null,{"$f":"SUM(AB33,AC33)","v":{"v":0,"d":"0.00"}},{"$nulls":25},{"$f":"C29 & \"-I\"","v":"0.0-I"}]
[{"$nulls":5},{"$f":"F29 & \".3\"","v":"0.3"},"март",null,null,{"$f":"IF(OFFSET('Список территорий'!CL$15,$F29,0)=\"a\",\"Y\",\"N\")","v":"N"},{"$nulls":5},{"v":0,"d":"0.00"},null,{"v":0,"d":"0.00"},null,null,{"v":0,"d":"0.00"},null,null,{"v":0,"d":"0.00"},null,null,{"v":0,"d":"0.00"},{"$nulls":25},{"$f":"C29 & \"-I\"","v":"0.0-I"}]
[{"$nulls":5},{"$f":"F29 & \".4\"","v":"0.4"},"апрель",null,null,{"$f":"IF(OFFSET('Список территорий'!CM$15,$F29,0)=\"a\",\"Y\",\"N\")","v":"N"},{"$nulls":5},{"v":0,"d":"0.00"},null,{"v":0,"d":"0.00"},null,null,{"v":0,"d":"0.00"},null,null,{"v":0,"d":"0.00"},null,null,{"v":0,"d":"0.00"},{"$nulls":25},{"$f":"C29 & \"-I\"","v":"0.0-I"}]
[{"$nulls":5},{"$f":"F29 & \".5\"","v":"0.5"},"май",null,null,{"$f":"IF(OFFSET('Список территорий'!CN$15,$F29,0)=\"a\",\"Y\",\"N\")","v":"N"},{"$nulls":5},{"v":0,"d":"0.00"},null,{"v":0,"d":"0.00"},null,null,{"v":0,"d":"0.00"},null,null,{"v":0,"d":"0.00"},null,null,{"v":0,"d":"0.00"},{"$nulls":25},{"$f":"C29 & \"-I\"","v":"0.0-I"}]
[{"$nulls":5},{"$f":"F29 & \".6\"","v":"0.6"},"июнь",null,null,{"$f":"IF(OFFSET('Список территорий'!CO$15,$F29,0)=\"a\",\"Y\",\"N\")","v":"N"},{"$nulls":5},{"v":0,"d":"0.00"},null,{"v":0,"d":"0.00"},null,null,{"v":0,"d":"0.00"},null,null,{"v":0,"d":"0.00"},null,null,{"v":0,"d":"0.00"},{"$nulls":25},{"$f":"C29 & \"-I\"","v":"0.0-I"}]
[{"$nulls":5},{"$f":"F29 & \".7\"","v":"0.7"},"июль",null,null,{"$f":"IF(OFFSET('Список территорий'!CP$15,$F29,0)=\"a\",\"Y\",\"N\")","v":"N"},{"$nulls":5},{"v":0,"d":"0.00"},null,{"v":0,"d":"0.00"},null,null,{"v":0,"d":"0.00"},null,null,{"v":0,"d":"0.00"},null,null,{"v":0,"d":"0.00"},{"$nulls":25},{"$f":"C29 & \"-II\"","v":"0.0-II"}]
[{"$nulls":5},{"$f":"F29 & \".8\"","v":"0.8"},"август",null,null,{"$f":"IF(OFFSET('Список территорий'!CQ$15,$F29,0)=\"a\",\"Y\",\"N\")","v":"N"},{"$nulls":5},{"v":0,"d":"0.00"},null,{"v":0,"d":"0.00"},null,null,{"v":0,"d":"0.00"},null,null,{"v":0,"d":"0.00"},null,null,{"v":0,"d":"0.00"},{"$nulls":25},{"$f":"C29 & \"-II\"","v":"0.0-II"}]
[{"$nulls":5},{"$f":"F29 & \".9\"","v":"0.9"},"сентябрь",null,null,{"$f":"IF(OFFSET('Список территорий'!CR$15,$F29,0)=\"a\",\"Y\",\"N\")","v":"N"},{"$nulls":5},{"v":0,"d":"0.00"},null,{"v":0,"d":"0.00"},null,null,{"v":0,"d":"0.00"},null,null,{"v":0,"d":"0.00"},null,null,{"v":0,"d":"0.00"},{"$nulls":25},{"$f":"C29 & \"-II\"","v":"0.0-II"}]
[{"$nulls":5},{"$f":"F29 & \".10\"","v":"0.10"},"октябрь",null,null,{"$f":"IF(OFFSET('Список территорий'!CS$15,$F29,0)=\"a\",\"Y\",\"N\")","v":"N"},{"$nulls":5},{"v":0,"d":"0.00"},null,{"v":0,"d":"0.00"},null,null,{"v":0,"d":"0.00"},null,null,{"v":0,"d":"0.00"},null,null,{"v":0,"d":"0.00"},{"$nulls":25},{"$f":"C29 & \"-II\"","v":"0.0-II"}]
[{"$nulls":5},{"$f":"F29 & \".11\"","v":"0.11"},"ноябрь",null,null,{"$f":"IF(OFFSET('Список территорий'!CT$15,$F29,0)=\"a\",\"Y\",\"N\")","v":"N"},{"$nulls":5},{"v":0,"d":"0.00"},null,{"v":0,"d":"0.00"},null,null,{"v":0,"d":"0.00"},null,null,{"v":0,"d":"0.00"},null,null,{"v":0,"d":"0.00"},{"$nulls":25},{"$f":"C29 & \"-II\"","v":"0.0-II"}]
[{"$nulls":5},{"$f":"F29 & \".12\"","v":"0.12"},"декабрь",null,null,{"$f":"IF(OFFSET('Список территорий'!CU$15,$F29,0)=\"a\",\"Y\",\"N\")","v":"N"},{"$nulls":5},{"v":0,"d":"0.00"},null,{"v":0,"d":"0.00"},null,null,{"v":0,"d":"0.00"},null,null,{"v":0,"d":"0.00"},null,null,{"v":0,"d":"0.00"},{"$nulls":25},{"$f":"C29 & \"-II\"","v":"0.0-II"}]
{"$rows_empty":75}
[{"$nulls":5},{"$f":"\"Баланс \" & TEMPLATE_SPHERE & \" (транспортировка)\"","v":"Баланс водоотведения (транспортировка)"}]
[{"$nulls":5},"куб.м"]
[{"$nulls":5},"№ п/п","Субъект баланса","Установленная мощность, куб.м/час","Подключённая (фактическая) нагрузка, куб.м/час","Вид воды","Объём воды, поступившей в сеть",{"$nulls":3},"Потери","Отпуск воды"]
[{"$nulls":10},"Всего","из собственных источников","от других операторов","получено от других территорий, дифференцированных по тарифу",null,"Всего","Потребление на нужды организации","Организациям-перепродавцам",null,null,"Бюджетные потребители",null,null,"Население",null,null,"Прочие потребители"]
[{"$nulls":17},"Всего","по приборам учёта","по нормативам","Всего","по приборам учёта","по нормативам","Всего","по приборам учёта","по нормативам","Всего","по приборам учёта","по нормативам"]
[{"$nulls":6},"А","IC","CL","Б",1,"1.1","1.2","1.3",2,3,"3.1","3.2","3.2.1","3.2.2","3.3","3.3.1","3.3.2","3.4","3.4.1","3.4.2","3.5","3.5.1","3.5.2"]
[]
[{"$nulls":3},"-",null,{"$f":"IF(TEMPLATE_SPHERE_CODE=\"COLDVSNA\",\"0.1.P\",\"0.1\")","v":"0.1"},"Всего по организации",null,null,"питьевая вода",{"$f":"SUMIF($BA131:$BA132,$BA126,K131:K132)","v":{"v":0,"d":"0.00"}},{"v":0,"d":"0.00"},{"v":0,"d":"0.00"},{"v":0,"d":"0.00"},{"v":0,"d":"0.00"},{"v":0,"d":"0.00"},{"v":0,"d":"0.00"},{"v":0,"d":"0.00"},{"v":0,"d":"0.00"},{"v":0,"d":"0.00"},{"v":0,"d":"0.00"},{"v":0,"d":"0.00"},{"v":0,"d":"0.00"},{"v":0,"d":"0.00"},{"v":0,"d":"0.00"},{"v":0,"d":"0.00"},{"v":0,"d":"0.00"},{"v":0,"d":"0.00"},{"v":0,"d":"0.00"},{"$nulls":23},{"$f":"IF(J126=\"питьевая вода\",\"TOTAL_ORG_YEAR_PW\",IF(J126=\"техническая вода\",\"TOTAL_ORG_YEAR_TW\",\"\"))","v":"TOTAL_ORG_YEAR_PW"}]
[{"$nulls":5},{"$f":"IF(TEMPLATE_SPHERE_CODE=\"COLDVSNA\",\"0.1.T\",\"\")","v":""},{"$nulls":3},"техническая вода",{"$f":"SUMIF($BA131:$BA132,$BA127,K131:K132)","v":{"v":0,"d":"0.00"}},{"v":0,"d":"0.00"},{"v":0,"d":"0.00"},{"v":0,"d":"0.00"},{"v":0,"d":"0.00"},{"v":0,"d":"0.00"},{"v":0,"d":"0.00"},{"v":0,"d":"0.00"},{"v":0,"d":"0.00"},{"v":0,"d":"0.00"},{"v":0,"d":"0.00"},{"v":0,"d":"0.00"},{"v":0,"d":"0.00"},{"v":0,"d":"0.00"},{"v":0,"d":"0.00"},{"v":0,"d":"0.00"},{"v":0,"d":"0.00"},{"v":0,"d":"0.00"},{"v":0,"d":"0.00"},{"$nulls":23},{"$f":"IF(J127=\"питьевая вода\",\"TOTAL_ORG_YEAR_PW\",IF(J127=\"техническая вода\",\"TOTAL_ORG_YEAR_TW\",\"\"))","v":"TOTAL_ORG_YEAR_TW"}]
[{"$nulls":52},"TOTAL_ORG_DF_PW"]
[{"$nulls":52},"TOTAL_ORG_DF_TW"]
[]
[null,0]
[{"$nulls":6},"Добавить"]

{"sheet":"ХВС.РО","index":17,"n_rows":265,"n_cols":46,"rows_kept":265,"hidden":true,"merged":[[12,38,13,39],[13,41,13,43],[18,38,19,38],[18,39,19,39],[18,40,19,40],[18,41,19,43]]}
[]
[]
[]
[]
[]
[{"$nulls":41},12,6,6]
[]
[]
[{"$nulls":41},"Y","I","II"]
[{"$nulls":44},"START","END"]
[]
[{"$nulls":39},"Необходимо указывать значения по полугодиям (6 и 6 месяцев)"]
["FULL_MODE",{"$nulls":37},"Расходы организации",null,"Период","Год","I полугодие","II полугодие"]
[]
[]
[]
[]
[{"$nulls":45},"Добавить"]
[{"$nulls":38},"№ п/п","Наименование показателя","Единица измерения","Всего по организации",null,null,0]
[]
[{"$nulls":39},"Является ли организация плательщиком НДС"]
[{"$nulls":39},{"$f":"IF(CALC_IDENTIFIER=\"\",\"\",CALC_IDENTIFIER)","v":"Вид стоков"}]
[{"$nulls":38},"1","Производственные расходы","тыс.руб.",{"$f":"SUMIF($AS$9:$AT$9,AP$9,$AS23:$AT23)","v":{"v":0,"d":"0.00"}},{"v":0,"d":"0.00"},{"v":0,"d":"0.00"}]
[{"$nulls":38},"1.1","Расходы на приобретение сырья и материалов и их хранение","тыс.руб.",{"v":0,"d":"0.00"},{"v":0,"d":"0.00"},{"v":0,"d":"0.00"}]
[{"$nulls":38},"1.1.1","Реагенты ","тыс.руб.",{"v":0,"d":"0.00"},{"v":0,"d":"0.00"},{"v":0,"d":"0.00"}]
[{"$nulls":38},"1.1.2","Горюче-смазочные материалы","тыс.руб.",{"v":0,"d":"0.00"},{"v":0,"d":"0.00"},{"v":0,"d":"0.00"}]
[{"$nulls":38},"1.1.3","Материалы и малоценные основные средства","тыс.руб.",{"v":0,"d":"0.00"},{"v":0,"d":"0.00"},{"v":0,"d":"0.00"}]
[{"$nulls":38},"1.2","Расходы на энергетические ресурсы и холодную воду","тыс.руб.",{"v":0,"d":"0.00"},{"v":0,"d":"0.00"},{"v":0,"d":"0.00"}]
[{"$nulls":38},"1.2.1","электроэнергия ","тыс.руб.",{"v":0,"d":"0.00"},{"v":0,"d":"0.00"},{"v":0,"d":"0.00"}]
[{"$nulls":38},"1.2.1.1","Объём покупной энергии"]
[{"$nulls":38},"1.2.1.1.1","Объём покупной энергии по одноставочному тарифу","тыс.кВт*ч",{"$f":"SUMIF($AS$9:$AT$9,AP$9,$AS31:$AT31)","v":{"v":0,"d":"0.00"}},{"v":0,"d":"0.00"},{"v":0,"d":"0.00"}]
[{"$nulls":38},"1.2.1.1.1.1","НН","тыс.кВт*ч",{"v":0,"d":"0.00"},{"v":0,"d":"0.00"},{"v":0,"d":"0.00"}]
[{"$nulls":38},"1.2.1.1.1.2","СН1","тыс.кВт*ч",{"v":0,"d":"0.00"},{"v":0,"d":"0.00"},{"v":0,"d":"0.00"}]
[{"$nulls":38},"1.2.1.1.1.3","СН2","тыс.кВт*ч",{"v":0,"d":"0.00"},{"v":0,"d":"0.00"},{"v":0,"d":"0.00"}]
[{"$nulls":38},"1.2.1.1.1.4","ВН","тыс.кВт*ч",{"v":0,"d":"0.00"},{"v":0,"d":"0.00"},{"v":0,"d":"0.00"}]
[{"$nulls":38},"1.2.1.1.1.5","без разбивки по напряжению","тыс.кВт*ч",{"v":0,"d":"0.00"},{"v":0,"d":"0.00"},{"v":0,"d":"0.00"}]
[{"$nulls":38},"1.2.1.1.2","Объём покупной электроэнергии по двухставочному тарифу"]
[{"$nulls":38},"1.2.1.1.2.1","Мощность","МВт*мес",{"$f":"SUMIF($AS$9:$AT$9,AP$9,$AS38:$AT38)","v":{"v":0,"d":"0.00"}},{"v":0,"d":"0.00"},{"v":0,"d":"0.00"}]
[{"$nulls":38},"1.2.1.1.2.1.1","НН","МВт*мес",{"v":0,"d":"0.00"},{"v":0,"d":"0.00"},{"v":0,"d":"0.00"}]
[{"$nulls":38},"1.2.1.1.2.1.2","СН1","МВт*мес",{"v":0,"d":"0.00"},{"v":0,"d":"0.00"},{"v":0,"d":"0.00"}]
[{"$nulls":38},"1.2.1.1.2.1.3","СН2","МВт*мес",{"v":0,"d":"0.00"},{"v":0,"d":"0.00"},{"v":0,"d":"0.00"}]
[{"$nulls":38},"1.2.1.1.2.1.4","ВН","МВт*мес",{"v":0,"d":"0.00"},{"v":0,"d":"0.00"},{"v":0,"d":"0.00"}]
[{"$nulls":38},"1.2.1.1.2.1.5","ГН","МВт*мес",{"v":0,"d":"0.00"},{"v":0,"d":"0.00"},{"v":0,"d":"0.00"}]
[{"$nulls":38},"1.2.1.1.2.2","Активная электроэнергия","тыс.кВт*ч",{"v":0,"d":"0.00"},{"v":0,"d":"0.00"},{"v":0,"d":"0.00"}]
[{"$nulls":38},"1.2.1.1.2.2.1","НН","тыс.кВт*ч",{"v":0,"d":"0.00"},{"v":0,"d":"0.00"},{"v":0,"d":"0.00"}]
[{"$nulls":38},"1.2.1.1.2.2.2","СН1","тыс.кВт*ч",{"v":0,"d":"0.00"},{"v":0,"d":"0.00"},{"v":0,"d":"0.00"}]
[{"$nulls":38},"1.2.1.1.2.2.3","СН2","тыс.кВт*ч",{"v":0,"d":"0.00"},{"v":0,"d":"0.00"},{"v":0,"d":"0.00"}]
[{"$nulls":38},"1.2.1.1.2.2.4","ВН","тыс.кВт*ч",{"v":0,"d":"0.00"},{"v":0,"d":"0.00"},{"v":0,"d":"0.00"}]
[{"$nulls":38},"1.2.1.1.2.2.5","ГН","тыс.кВт*ч",{"v":0,"d":"0.00"},{"v":0,"d":"0.00"},{"v":0,"d":"0.00"}]
[{"$nulls":38},"1.2.1.2","Тариф на электроэнергию и мощность"]
[{"$nulls":38},"1.2.1.2.1","по одноставочному тарифу"]
[{"$nulls":38},"1.2.1.2.1.1","НН","руб./кВт*ч",{"$f":"IF(AP32=0,0,AP72/AP32)","v":{"v":0,"d":"0.00"}},{"$f":"IF(AQ32=0,0,AQ72/AQ32)","v":{"v":0,"d":"0.00"}},{"$f":"IF(AR32=0,0,AR72/AR32)","v":{"v":0,"d":"0.00"}}]
[{"$nulls":38},"1.2.1.2.1.2","СН1","руб./кВт*ч",{"$f":"IF(AP33=0,0,AP73/AP33)","v":{"v":0,"d":"0.00"}},{"v":0,"d":"0.00"},{"v":0,"d":"0.00"}]
[{"$nulls":38},"1.2.1.2.1.3","СН2","руб./кВт*ч",{"v":0,"d":"0.00"},{"v":0,"d":"0.00"},{"v":0,"d":"0.00"}]
[{"$nulls":38},"1.2.1.2.1.4","ВН","руб./кВт*ч",{"v":0,"d":"0.00"},{"v":0,"d":"0.00"},{"v":0,"d":"0.00"}]
[{"$nulls":38},"1.2.1.2.1.5","без разбивки по напряжению","руб./кВт*ч",{"v":0,"d":"0.00"},{"v":0,"d":"0.00"},{"v":0,"d":"0.00"}]
[{"$nulls":38},"1.2.1.2.1.6","Средний одноставочный тариф на электрическую энергию","руб./кВт*ч",{"$f":"IF(AP31=0,0,AP71/AP31)","v":{"v":0,"d":"0.00"}},{"$f":"IF(AQ31=0,0,AQ71/AQ31)","v":{"v":0,"d":"0.00"}},{"$f":"IF(AR31=0,0,AR71/AR31)","v":{"v":0,"d":"0.00"}}]
[{"$nulls":38},"1.2.1.2.2","по двухставочному тарифу"]
[{"$nulls":38},"1.2.1.2.2.1","ставка за мощность","руб./МВт*мес",{"$f":"IF(AP38=0,0,AP77*1000/AP38)","v":{"v":0,"d":"0.00"}},{"v":0,"d":"0.00"},{"v":0,"d":"0.00"}]
[{"$nulls":38},"1.2.1.2.2.1.1","НН","руб./МВт*мес",{"v":0,"d":"0.00"},{"v":0,"d":"0.00"},{"v":0,"d":"0.00"}]
[{"$nulls":38},"1.2.1.2.2.1.2","СН1","руб./МВт*мес",{"$f":"IF(AP40=0,0,AP79*1000/AP40)","v":{"v":0,"d":"0.00"}},{"v":0,"d":"0.00"},{"v":0,"d":"0.00"}]
[{"$nulls":38},"1.2.1.2.2.1.3","СН2","руб./МВт*мес",{"v":0,"d":"0.00"},{"v":0,"d":"0.00"},{"v":0,"d":"0.00"}]
[{"$nulls":38},"1.2.1.2.2.1.4","ВН","руб./МВт*мес",{"v":0,"d":"0.00"},{"v":0,"d":"0.00"},{"v":0,"d":"0.00"}]
[{"$nulls":38},"1.2.1.2.2.1.5","ГН","руб./МВт*мес",{"v":0,"d":"0.00"},{"v":0,"d":"0.00"},{"v":0,"d":"0.00"}]
[{"$nulls":38},"1.2.1.2.2.2","ставка за электроэнергию","руб./кВт*мес",{"$f":"IF(AP44=0,0,AP83/AP44)","v":{"v":0,"d":"0.00"}},{"$f":"IF(AQ44=0,0,AQ83/AQ44)","v":{"v":0,"d":"0.00"}},{"$f":"IF(AR44=0,0,AR83/AR44)","v":{"v":0,"d":"0.00"}}]
[{"$nulls":38},"1.2.1.2.2.2.1","НН","руб./кВт*мес",{"$f":"IF(AP45=0,0,AP84/AP45)","v":{"v":0,"d":"0.00"}},{"v":0,"d":"0.00"},{"v":0,"d":"0.00"}]
[{"$nulls":38},"1.2.1.2.2.2.2","СН1","руб./кВт*мес",{"v":0,"d":"0.00"},{"v":0,"d":"0.00"},{"v":0,"d":"0.00"}]
[{"$nulls":38},"1.2.1.2.2.2.3","СН2","руб./кВт*мес",{"v":0,"d":"0.00"},{"v":0,"d":"0.00"},{"v":0,"d":"0.00"}]
[{"$nulls":38},"1.2.1.2.2.2.4","ВН","руб./кВт*мес",{"v":0,"d":"0.00"},{"v":0,"d":"0.00"},{"v":0,"d":"0.00"}]
[{"$nulls":38},"1.2.1.2.2.2.5","ГН","руб./кВт*мес",{"v":0,"d":"0.00"},{"v":0,"d":"0.00"},{"v":0,"d":"0.00"}]
[{"$nulls":38},"1.2.1.3","Затраты на покупку энергии по одноставочному тарифу","тыс.руб.",{"$f":"SUMIF($AS$9:$AT$9,AP$9,$AS71:$AT71)","v":{"v":0,"d":"0.00"}},{"v":0,"d":"0.00"},{"v":0,"d":"0.00"}]
[{"$nulls":38},"1.2.1.3.1","НН","тыс.руб.",{"v":0,"d":"0.00"},{"v":0,"d":"0.00"},{"v":0,"d":"0.00"}]
[{"$nulls":38},"1.2.1.3.2","СН1","тыс.руб.",{"v":0,"d":"0.00"},{"v":0,"d":"0.00"},{"v":0,"d":"0.00"}]
[{"$nulls":38},"1.2.1.3.3","СН2","тыс.руб.",{"v":0,"d":"0.00"},{"v":0,"d":"0.00"},{"v":0,"d":"0.00"}]
[{"$nulls":38},"1.2.1.3.4","ВН","тыс.руб.",{"v":0,"d":"0.00"},{"v":0,"d":"0.00"},{"v":0,"d":"0.00"}]
[{"$nulls":38},"1.2.1.3.5","без разбивки по напряжению","тыс.руб.",{"v":0,"d":"0.00"},{"v":0,"d":"0.00"},{"v":0,"d":"0.00"}]
[{"$nulls":38},"1.2.1.4","Затраты на покупку мощности по двухставочному тарифу","тыс.руб.",{"v":0,"d":"0.00"},{"v":0,"d":"0.00"},{"v":0,"d":"0.00"}]
[{"$nulls":38},"1.2.1.4.1","НН","тыс.руб.",{"v":0,"d":"0.00"},{"v":0,"d":"0.00"},{"v":0,"d":"0.00"}]
[{"$nulls":38},"1.2.1.4.2","СН1","тыс.руб.",{"v":0,"d":"0.00"},{"v":0,"d":"0.00"},{"v":0,"d":"0.00"}]
[{"$nulls":38},"1.2.1.4.3","СН2","тыс.руб.",{"v":0,"d":"0.00"},{"v":0,"d":"0.00"},{"v":0,"d":"0.00"}]
[{"$nulls":38},"1.2.1.4.4","ВН","тыс.руб.",{"v":0,"d":"0.00"},{"v":0,"d":"0.00"},{"v":0,"d":"0.00"}]
[{"$nulls":38},"1.2.1.4.5","ГН","тыс.руб.",{"v":0,"d":"0.00"},{"v":0,"d":"0.00"},{"v":0,"d":"0.00"}]
[{"$nulls":38},"1.2.1.5","Затраты на покупку энергии по двухставочному тарифу","тыс.руб.",{"v":0,"d":"0.00"},{"v":0,"d":"0.00"},{"v":0,"d":"0.00"}]
[{"$nulls":38},"1.2.1.5.1","НН","тыс.руб.",{"v":0,"d":"0.00"},{"v":0,"d":"0.00"},{"v":0,"d":"0.00"}]
[{"$nulls":38},"1.2.1.5.2","СН1","тыс.руб.",{"v":0,"d":"0.00"},{"v":0,"d":"0.00"},{"v":0,"d":"0.00"}]
[{"$nulls":38},"1.2.1.5.3","СН2","тыс.руб.",{"v":0,"d":"0.00"},{"v":0,"d":"0.00"},{"v":0,"d":"0.00"}]
[{"$nulls":38},"1.2.1.5.4","ВН","тыс.руб.",{"v":0,"d":"0.00"},{"v":0,"d":"0.00"},{"v":0,"d":"0.00"}]
[{"$nulls":38},"1.2.1.5.5","ГН","тыс.руб.",{"v":0,"d":"0.00"},{"v":0,"d":"0.00"},{"v":0,"d":"0.00"}]
[{"$nulls":38},"1.2.2","теплоэнергия","тыс.руб.",{"v":0,"d":"0.00"},{"v":0,"d":"0.00"},{"v":0,"d":"0.00"}]
[{"$nulls":38},"1.2.3","теплоноситель","тыс.руб.",{"v":0,"d":"0.00"},{"v":0,"d":"0.00"},{"v":0,"d":"0.00"}]
[{"$nulls":38},"1.2.4","топливо","тыс.руб.",{"v":0,"d":"0.00"},{"v":0,"d":"0.00"},{"v":0,"d":"0.00"}]
[]
[]
[]
[]
[{"$nulls":38},"1.2.5","холодная вода","тыс.руб.",{"$f":"SUMIF($AS$9:$AT$9,AP$9,$AS96:$AT96)","v":{"v":0,"d":"0.00"}},{"$f":"SUMIF($AS$9:$AT$9,AQ$9,$AS96:$AT96)","v":{"v":0,"d":"0.00"}},{"$f":"SUMIF($AS$9:$AT$9,AR$9,$AS96:$AT96)","v":{"v":0,"d":"0.00"}}]
[{"$nulls":38},"1.2.5.1","цена","руб./куб.м",{"$f":"IF(AP98=0,0,AP96/AP98)","v":{"v":0,"d":"0.00"}},{"$f":"IF(AQ98=0,0,AQ96/AQ98)","v":{"v":0,"d":"0.00"}},{"$f":"IF(AR98=0,0,AR96/AR98)","v":{"v":0,"d":"0.00"}}]
[{"$nulls":38},"1.2.5.2","объём","тыс.куб.м",{"$f":"SUMIF($AS$9:$AT$9,AP$9,$AS98:$AT98)","v":{"v":0,"d":"0.00"}},{"$f":"SUMIF($AS$9:$AT$9,AQ$9,$AS98:$AT98)","v":{"v":0,"d":"0.00"}},{"$f":"SUMIF($AS$9:$AT$9,AR$9,$AS98:$AT98)","v":{"v":0,"d":"0.00"}}]
{"$rows_empty":7}
[{"$nulls":38},"1.3","Расходы на оплату работ и услуг, выполняемые сторонними организациями и индивидуальными предпринимателями, связанные с эксплуатацией централизованных систем либо объектов в составе таких систем","тыс.руб.",{"$f":"SUMIF($AS$9:$AT$9,AP$9,$AS106:$AT106)","v":{"v":0,"d":"0.00"}},{"v":0,"d":"0.00"},{"v":0,"d":"0.00"}]
[{"$nulls":38},"1.4","Расходы на оплату труда и отчисления на социальные нужды основного производственного персонала, в том числе налоги и сборы ","тыс.руб.",{"v":0,"d":"0.00"},{"v":0,"d":"0.00"},{"v":0,"d":"0.00"}]
[{"$nulls":38},"1.4.1","Расходы на оплату труда производственного персонала","тыс.руб.",{"v":0,"d":"0.00"},{"v":0,"d":"0.00"},{"v":0,"d":"0.00"}]
[{"$nulls":38},"1.4.1.1","Численность (среднесписочная), принятая для расчёта","ед.",{"v":0,"d":"0.00"},{"v":0,"d":"0.00"},{"v":0,"d":"0.00"}]
[{"$nulls":38},"1.4.1.2","Среднемесячная оплата труда основного производственного персонала","руб./мес.",{"$f":"IF(AP109=0,0,AP108/AP109*1000/AP$6)","v":{"v":0,"d":"0.00"}},{"$f":"IF(AQ109=0,0,AQ108/AQ109*1000/AQ$6)","v":{"v":0,"d":"0.00"}},{"$f":"IF(AR109=0,0,AR108/AR109*1000/AR$6)","v":{"v":0,"d":"0.00"}}]
[{"$nulls":38},"1.4.1.3","Фактическая численность основного производственного персонала, относимого на регулируемый вид деятельности","ед.",{"$f":"SUMIF($AS$9:$AT$9,AP$9,$AS111:$AT111)","v":{"v":0,"d":"0.00"}},{"v":0,"d":"0.00"},{"v":0,"d":"0.00"}]
[{"$nulls":38},"1.4.1.4","Справочно: нормативная численность основного производственного персонала, относимого на регулируемый вид деятельности","ед.",{"v":0,"d":"0.00"},{"v":0,"d":"0.00"},{"v":0,"d":"0.00"}]
[{"$nulls":38},"1.4.1.5","Тарифная ставка рабочего 1-го разряда","руб./мес."]
[{"$nulls":38},"1.4.1.6","Индекс роста номинальной заработной платы"]
[{"$nulls":38},"1.4.1.7","Тарифная ставка рабочего 1-го разряда с учётом дефлятора","руб./мес."]
[{"$nulls":38},"1.4.1.8","Средний тарифный коэффициент"]
[{"$nulls":38},"1.4.1.9","Среднемесячная тарифная ставка","руб./мес."]
[{"$nulls":38},"1.4.1.10","Минимальный размер оплаты труда по отраслевому тарифному соглашению","руб./мес."]
[{"$nulls":38},"1.4.2","Отчисления на социальные нужды производственного персонала, в том числе налоги и сборы","тыс.руб.",{"$f":"SUMIF($AS$9:$AT$9,AP$9,$AS119:$AT119)","v":{"v":0,"d":"0.00"}},{"v":0,"d":"0.00"},{"v":0,"d":"0.00"}]
[{"$nulls":38},"1.5","Расходы на уплату процентов по займам и кредитам, не учитываемые при определении налогооблагаемой базы налога на прибыль","тыс.руб.",{"v":0,"d":"0.00"},{"v":0,"d":"0.00"},{"v":0,"d":"0.00"}]
[{"$nulls":38},"1.6","Общехозяйственные расходы","тыс.руб.",{"v":0,"d":"0.00"},{"v":0,"d":"0.00"},{"v":0,"d":"0.00"}]
[{"$nulls":38},"1.7","Прочие производственные расходы","тыс.руб.",{"v":0,"d":"0.00"},{"v":0,"d":"0.00"},{"v":0,"d":"0.00"}]
[{"$nulls":38},"1.7.1","Расходы на амортизацию транспорта","тыс.руб.",{"v":0,"d":"0.00"},{"v":0,"d":"0.00"},{"v":0,"d":"0.00"}]
[{"$nulls":38},{"$f":"IF(TEMPLATE_SPHERE_CODE=\"COLDVSNA\",\"1.7.2\",IF(TEMPLATE_SPHERE_CODE=\"VOTV\",\"1.7.2\",\"\"))","v":"1.7.2"},{"$f":"IF(TEMPLATE_SPHERE_CODE=\"COLDVSNA\",\"Контроль качества воды\",IF(TEMPLATE_SPHERE_CODE=\"VOTV\",\"Контроль сточных вод\",\"\"))","v":"Контроль сточных вод"},"тыс.руб.",{"v":0,"d":"0.00"},{"v":0,"d":"0.00"},{"v":0,"d":"0.00"}]
[{"$nulls":38},"1.7.3","Расходы на аварийно-диспетчерское обслуживание","тыс.руб.",{"v":0,"d":"0.00"},{"v":0,"d":"0.00"},{"v":0,"d":"0.00"}]
[{"$nulls":38},{"$f":"IF(TEMPLATE_SPHERE_CODE=\"COLDVSNA\",\"\",IF(TEMPLATE_SPHERE_CODE=\"VOTV\",\"1.7.4\",\"\"))","v":"1.7.4"},{"$f":"IF(TEMPLATE_SPHERE_CODE=\"COLDVSNA\",\"\",IF(TEMPLATE_SPHERE_CODE=\"VOTV\",\"Услуги по обращению с осадком сточных вод\",\"\"))","v":"Услуги по обращению с осадком сточных вод"},{"$f":"IF(TEMPLATE_SPHERE_CODE=\"COLDVSNA\",\"\",IF(TEMPLATE_SPHERE_CODE=\"VOTV\",\"тыс.руб.\",\"\"))","v":"тыс.руб."},{"$f":"IF(TEMPLATE_SPHERE_CODE=\"COLDVSNA\",\"\",SUMIF($AS$9:$AT$9,AP$9,$AS126:$AT126))","v":{"v":0,"d":"0.00"}},{"$f":"IF(TEMPLATE_SPHERE_CODE=\"COLDVSNA\",\"\",SUMIF($AS$9:$AT$9,AQ$9,$AS126:$AT126))","v":{"v":0,"d":"0.00"}},{"$f":"IF(TEMPLATE_SPHERE_CODE=\"COLDVSNA\",\"\",SUMIF($AS$9:$AT$9,AR$9,$AS126:$AT126))","v":{"v":0,"d":"0.00"}}]
[{"$nulls":38},"1.8","Цеховые расходы","тыс.руб.",{"$f":"SUMIF($AS$9:$AT$9,AP$9,$AS127:$AT127)","v":{"v":0,"d":"0.00"}},{"v":0,"d":"0.00"},{"v":0,"d":"0.00"}]
[{"$nulls":38},"1.8.1","Расходы на оплату труда цехового персонала","тыс.руб.",{"v":0,"d":"0.00"},{"v":0,"d":"0.00"},{"v":0,"d":"0.00"}]
[{"$nulls":38},"1.8.2","Отчисления на социальные нужды цехового персонала, в том числе налоги и сборы","тыс.руб.",{"v":0,"d":"0.00"},{"v":0,"d":"0.00"},{"v":0,"d":"0.00"}]
[{"$nulls":38},"1.8.3","Расходы на охрану труда","тыс.руб.",{"v":0,"d":"0.00"},{"v":0,"d":"0.00"},{"v":0,"d":"0.00"}]
[{"$nulls":38},"1.8.4","Прочие","тыс.руб.",{"v":0,"d":"0.00"},{"v":0,"d":"0.00"},{"v":0,"d":"0.00"}]
[{"$nulls":38},"2","Ремонтные расходы","тыс.руб.",{"v":0,"d":"0.00"},{"v":0,"d":"0.00"},{"v":0,"d":"0.00"}]
[{"$nulls":38},"2.1","Расходы на текущий ремонт централизованных систем водоснабжения и (или) водоотведения либо объектов, входящих в состав таких систем","тыс.руб.",{"v":0,"d":"0.00"},{"v":0,"d":"0.00"},{"v":0,"d":"0.00"}]
[{"$nulls":38},"2.1.1","Справочно: расходы на текущий ремонт, предусмотренные производственной программой регулируемой организации","тыс.руб.",{"v":0,"d":"0.00"},{"v":0,"d":"0.00"},{"v":0,"d":"0.00"}]
[{"$nulls":38},"2.2","Расходы на капитальный ремонт централизованных систем водоснабжения и (или водоотведения) либо объектов, входящих в состав таких систем","тыс.руб.",{"v":0,"d":"0.00"},{"v":0,"d":"0.00"},{"v":0,"d":"0.00"}]
[{"$nulls":38},"2.2.1","Справочно: расходы на капитальный ремонт, предусмотренные производственной программой регулируемой организации","тыс.руб.",{"v":0,"d":"0.00"},{"v":0,"d":"0.00"},{"v":0,"d":"0.00"}]
[{"$nulls":38},"2.3","Расходы на оплату труда и отчисления на социальные нужды ремонтного персонала, в том числе налоги и сборы","тыс.руб.",{"v":0,"d":"0.00"},{"v":0,"d":"0.00"},{"v":0,"d":"0.00"}]
[{"$nulls":38},"2.3.1","Расходы на оплату труда ремонтного персонала","тыс.руб.",{"v":0,"d":"0.00"},{"v":0,"d":"0.00"},{"v":0,"d":"0.00"}]
[{"$nulls":38},"2.3.1.1","Численность (среднесписочная), принятая для расчёта","ед.",{"v":0,"d":"0.00"},{"v":0,"d":"0.00"},{"v":0,"d":"0.00"}]
[{"$nulls":38},"2.3.1.2","Среднемесячная оплата труда ремонтного персонала","руб./мес.",{"$f":"IF(AP139=0,0,AP138/AP139*1000/AP$6)","v":{"v":0,"d":"0.00"}},{"$f":"IF(AQ139=0,0,AQ138/AQ139*1000/AQ$6)","v":{"v":0,"d":"0.00"}},{"$f":"IF(AR139=0,0,AR138/AR139*1000/AR$6)","v":{"v":0,"d":"0.00"}}]
[{"$nulls":38},"2.3.1.3","Фактическая численность ремонтного персонала, относимого на регулируемый вид деятельности","ед.",{"$f":"SUMIF($AS$9:$AT$9,AP$9,$AS141:$AT141)","v":{"v":0,"d":"0.00"}},{"v":0,"d":"0.00"},{"v":0,"d":"0.00"}]
[{"$nulls":38},"2.3.1.4","Справочно: нормативная численность ремонтного персонала, относимого на регулируемый вид деятельности","ед.",{"v":0,"d":"0.00"},{"v":0,"d":"0.00"},{"v":0,"d":"0.00"}]
[{"$nulls":38},"2.3.1.5","Тарифная ставка рабочего 1-го разряда","руб./мес."]
[{"$nulls":38},"2.3.1.6","Индекс роста номинальной заработной платы"]
[{"$nulls":38},"2.3.1.7","Тарифная ставка рабочего 1-го разряда с учётом дефлятора","руб./мес."]
[{"$nulls":38},"2.3.1.8","Средний тарифный коэффициент"]
[{"$nulls":38},"2.3.1.9","Среднемесячная тарифная ставка","руб./мес."]
[{"$nulls":38},"2.3.1.10","Минимальный размер оплаты труда по отраслевому тарифному соглашению","руб./мес."]
[{"$nulls":38},"2.3.2","Отчисления на социальные нужды ремонтного персонала, в том числе налоги и сборы","тыс.руб.",{"$f":"SUMIF($AS$9:$AT$9,AP$9,$AS149:$AT149)","v":{"v":0,"d":"0.00"}},{"v":0,"d":"0.00"},{"v":0,"d":"0.00"}]
[{"$nulls":38},3,"Административные расходы","тыс.руб.",{"v":0,"d":"0.00"},{"v":0,"d":"0.00"},{"v":0,"d":"0.00"}]
[{"$nulls":38},"3.1","Расходы на оплату работ и услуг, выполняемых сторонними организациями","тыс.руб.",{"v":0,"d":"0.00"},{"v":0,"d":"0.00"},{"v":0,"d":"0.00"}]
[{"$nulls":38},"3.1.1","услуги связи и интернет","тыс.руб.",{"v":0,"d":"0.00"},{"v":0,"d":"0.00"},{"v":0,"d":"0.00"}]
[{"$nulls":38},"3.1.2","юридические услуги","тыс.руб.",{"v":0,"d":"0.00"},{"v":0,"d":"0.00"},{"v":0,"d":"0.00"}]
[{"$nulls":38},"3.1.3","аудиторские услуги","тыс.руб.",{"v":0,"d":"0.00"},{"v":0,"d":"0.00"},{"v":0,"d":"0.00"}]
[{"$nulls":38},"3.1.4","консультационные услуги","тыс.руб.",{"v":0,"d":"0.00"},{"v":0,"d":"0.00"},{"v":0,"d":"0.00"}]
[{"$nulls":38},"3.1.5","услуги по вневедомственной охране объектов и территорий","тыс.руб.",{"v":0,"d":"0.00"},{"v":0,"d":"0.00"},{"v":0,"d":"0.00"}]
[{"$nulls":38},"3.1.6","информационные услуги","тыс.руб.",{"v":0,"d":"0.00"},{"v":0,"d":"0.00"},{"v":0,"d":"0.00"}]
[{"$nulls":38},"3.2","Расходы на оплату труда и отчисления на социальные нужды административно-управленческого персонала, в том числе налоги и сборы","тыс.руб.",{"v":0,"d":"0.00"},{"v":0,"d":"0.00"},{"v":0,"d":"0.00"}]
[{"$nulls":38},"3.2.1","Расходы на оплату труда административно-управленческого персонала","тыс.руб.",{"v":0,"d":"0.00"},{"v":0,"d":"0.00"},{"v":0,"d":"0.00"}]
[{"$nulls":38},"3.2.1.1","Численность (среднесписочная), принятая для расчёта","ед.",{"v":0,"d":"0.00"},{"v":0,"d":"0.00"},{"v":0,"d":"0.00"}]
[{"$nulls":38},"3.2.1.2","Среднемесячная оплата труда административно-управленческого персонала","руб./мес.",{"$f":"IF(AP160=0,0,AP159/AP160*1000/AP$6)","v":{"v":0,"d":"0.00"}},{"$f":"IF(AQ160=0,0,AQ159/AQ160*1000/AQ$6)","v":{"v":0,"d":"0.00"}},{"$f":"IF(AR160=0,0,AR159/AR160*1000/AR$6)","v":{"v":0,"d":"0.00"}}]
[{"$nulls":38},"3.2.1.3","Фактическая численность административно-управленческого персонала, относимого на регулируемый вид деятельности","ед.",{"$f":"SUMIF($AS$9:$AT$9,AP$9,$AS162:$AT162)","v":{"v":0,"d":"0.00"}},{"v":0,"d":"0.00"},{"v":0,"d":"0.00"}]
[{"$nulls":38},"3.2.1.4","Справочно: нормативная численность административно-управленческого персонала, относимого на регулируемый вид деятельности","ед.",{"v":0,"d":"0.00"},{"v":0,"d":"0.00"},{"v":0,"d":"0.00"}]
[{"$nulls":38},"3.2.1.5","Тарифная ставка рабочего 1-го разряда","руб./мес."]
[{"$nulls":38},"3.2.1.6","Индекс роста номинальной заработной платы"]
[{"$nulls":38},"3.2.1.7","Тарифная ставка рабочего 1-го разряда с учётом дефлятора","руб./мес."]
[{"$nulls":38},"3.2.1.8","Средний тарифный коэффициент"]
[{"$nulls":38},"3.2.1.9","Среднемесячная тарифная ставка","руб./мес."]
[{"$nulls":38},"3.2.1.10","Минимальный размер оплаты труда по отраслевому тарифному соглашению","руб./мес."]
[{"$nulls":38},"3.2.2","Отчисления на социальные нужды административно-управленческого персонала, в том числе налоги и сборы","тыс.руб.",{"$f":"SUMIF($AS$9:$AT$9,AP$9,$AS170:$AT170)","v":{"v":0,"d":"0.00"}},{"v":0,"d":"0.00"},{"v":0,"d":"0.00"}]
[{"$nulls":38},"3.3","Арендная плата, лизинговые платежи, не связанные с арендой (лизингом) централизованных систем водоснабжения и (или) водоотведения либо объектов, входящих в состав таких систем","тыс.руб.",{"v":0,"d":"0.00"},{"v":0,"d":"0.00"},{"v":0,"d":"0.00"}]
[{"$nulls":38},"3.4","Служебные командировки","тыс.руб.",{"v":0,"d":"0.00"},{"v":0,"d":"0.00"},{"v":0,"d":"0.00"}]
[{"$nulls":38},"3.5","Обучение персонала","тыс.руб.",{"v":0,"d":"0.00"},{"v":0,"d":"0.00"},{"v":0,"d":"0.00"}]
[{"$nulls":38},"3.6","Страхование производственных объектов","тыс.руб.",{"v":0,"d":"0.00"},{"v":0,"d":"0.00"},{"v":0,"d":"0.00"}]
[{"$nulls":38},"3.7","Прочие административные расходы","тыс.руб.",{"v":0,"d":"0.00"},{"v":0,"d":"0.00"},{"v":0,"d":"0.00"}]
[{"$nulls":38},"3.7.1","Расходы на амортизацию непроизводственных активов","тыс.руб.",{"v":0,"d":"0.00"},{"v":0,"d":"0.00"},{"v":0,"d":"0.00"}]
[{"$nulls":38},"3.7.2","Расходы по охране объектов и территорий","тыс.руб.",{"v":0,"d":"0.00"},{"v":0,"d":"0.00"},{"v":0,"d":"0.00"}]
[{"$nulls":38},4,"Сбытовые расходы гарантирующих организаций","тыс.руб.",{"v":0,"d":"0.00"},{"v":0,"d":"0.00"},{"v":0,"d":"0.00"}]
[{"$nulls":38},"4.1","Расходы по сомнительным долгам, в размере не более 2% НВВ","тыс.руб.",{"v":0,"d":"0.00"},{"v":0,"d":"0.00"},{"v":0,"d":"0.00"}]
[{"$nulls":38},5,"Амортизация","тыс.руб.",{"v":0,"d":"0.00"},{"v":0,"d":"0.00"},{"v":0,"d":"0.00"}]
[{"$nulls":38},"5.1","Амортизация основных средств и нематериальных активов, относимых к объектам централизованной системы водоснабжения и водоотведения","тыс.руб.",{"v":0,"d":"0.00"},{"v":0,"d":"0.00"},{"v":0,"d":"0.00"}]
[{"$nulls":38},6,"Расходы на арендную плату, лизинговые платежи, концессионную плату, связанные с арендой (лизингом) централизованных систем водоснабжения и (или) водоотведения либо объектов, входящих в состав таких систем","тыс.руб.",{"v":0,"d":"0.00"},{"v":0,"d":"0.00"},{"v":0,"d":"0.00"}]
[{"$nulls":38},"6.1","Аренда имущества","тыс.руб.",{"v":0,"d":"0.00"},{"v":0,"d":"0.00"},{"v":0,"d":"0.00"}]
[{"$nulls":38},"6.1.1","Аренда объектов в государственной собственности","тыс.руб.",{"v":0,"d":"0.00"},{"v":0,"d":"0.00"},{"v":0,"d":"0.00"}]
[{"$nulls":38},"6.1.2","Аренда объектов в муниципальной собственности","тыс.руб.",{"v":0,"d":"0.00"},{"v":0,"d":"0.00"},{"v":0,"d":"0.00"}]
[{"$nulls":38},"6.1.3","Прочее","тыс.руб.",{"v":0,"d":"0.00"},{"v":0,"d":"0.00"},{"v":0,"d":"0.00"}]
[{"$nulls":38},"6.2","Концессионная плата","тыс.руб.",{"v":0,"d":"0.00"},{"v":0,"d":"0.00"},{"v":0,"d":"0.00"}]
[{"$nulls":38},"6.3","Лизинговые платежи","тыс.руб.",{"v":0,"d":"0.00"},{"v":0,"d":"0.00"},{"v":0,"d":"0.00"}]
[{"$nulls":38},"6.4","Аренда земельных участков","тыс.руб.",{"v":0,"d":"0.00"},{"v":0,"d":"0.00"},{"v":0,"d":"0.00"}]
[{"$nulls":38},"6.5","Иное","тыс.руб.",{"v":0,"d":"0.00"},{"v":0,"d":"0.00"},{"v":0,"d":"0.00"}]
[{"$nulls":38},7,"Расходы, связанные с уплатой налогов и сборов, связанные с арендой (лизингом) централизованных систем водоснабжения и (или) водоотведения либо объектов, входящих в состав таких систем","тыс.руб.",{"v":0,"d":"0.00"},{"v":0,"d":"0.00"},{"v":0,"d":"0.00"}]
[{"$nulls":38},"7.1","Налог на прибыль","тыс.руб.",{"v":0,"d":"0.00"},{"v":0,"d":"0.00"},{"v":0,"d":"0.00"}]
[{"$nulls":38},"7.2","Налог на имущество организаций","тыс.руб.",{"v":0,"d":"0.00"},{"v":0,"d":"0.00"},{"v":0,"d":"0.00"}]
[{"$nulls":38},"7.3","Плата за негативное воздействие на окружающую среду","тыс.руб.",{"v":0,"d":"0.00"},{"v":0,"d":"0.00"},{"v":0,"d":"0.00"}]
[{"$nulls":38},"7.4","Водный налог и плата за пользование водным объектом","тыс.руб.",{"v":0,"d":"0.00"},{"v":0,"d":"0.00"},{"v":0,"d":"0.00"}]
[{"$nulls":38},"7.5","Земельный налог","тыс.руб.",{"v":0,"d":"0.00"},{"v":0,"d":"0.00"},{"v":0,"d":"0.00"}]
[{"$nulls":38},"7.6","Транспортный налог","тыс.руб.",{"v":0,"d":"0.00"},{"v":0,"d":"0.00"},{"v":0,"d":"0.00"}]
[{"$nulls":38},"7.7","Прочие налоги и сборы, за исключением налогов и сборов с фонда оплаты труда, учитываемых в составе производственных, ремонтных и административных расходов","тыс.руб.",{"v":0,"d":"0.00"},{"v":0,"d":"0.00"},{"v":0,"d":"0.00"}]
[{"$nulls":38},"8","Расходы на оплату товаров (услуг, работ), приобретаемых у других организаций, осуществляющих регулируемые виды деятельности","тыс.руб.",{"v":0,"d":"0.00"},{"v":0,"d":"0.00"},{"v":0,"d":"0.00"}]
[{"$nulls":38},"9","Расходы на обслуживание бесхозяйных сетей","тыс.руб.",{"v":0,"d":"0.00"},{"v":0,"d":"0.00"},{"v":0,"d":"0.00"}]
[{"$nulls":38},"10","Прочие неподконтрольные расходы","тыс.руб.",{"v":0,"d":"0.00"},{"v":0,"d":"0.00"},{"v":0,"d":"0.00"}]
[]
[{"$nulls":38},"РО","Итого расходы","тыс.руб.",{"$f":"SUMIF($AS$9:$AT$9,AP$9,$AS203:$AT203)","v":{"v":0,"d":"0.00"}},{"$f":"SUMIF($AS$9:$AT$9,AQ$9,$AS203:$AT203)","v":{"v":0,"d":"0.00"}},{"$f":"SUMIF($AS$9:$AT$9,AR$9,$AS203:$AT203)","v":{"v":0,"d":"0.00"}}]
[]
[{"$nulls":38},"РР","Итого расходы на реализацию","тыс.руб.",{"$f":"SUMIF($AS$9:$AT$9,AP$9,$AS205:$AT205)","v":{"v":0,"d":"0.00"}},{"$f":"SUMIF($AS$9:$AT$9,AQ$9,$AS205:$AT205)","v":{"v":0,"d":"0.00"}},{"$f":"SUMIF($AS$9:$AT$9,AR$9,$AS205:$AT205)","v":{"v":0,"d":"0.00"}}]
[]
[{"$nulls":38},"У","Убыток","тыс.руб.",{"$f":"SUMIF($AS$9:$AT$9,AP$9,$AS207:$AT207)","v":{"v":0,"d":"0.00"}},{"v":0,"d":"0.00"},{"v":0,"d":"0.00"}]
[{"$nulls":38},"П","Прибыль","тыс.руб.",{"v":0,"d":"0.00"},{"v":0,"d":"0.00"},{"v":0,"d":"0.00"}]
[]
[{"$nulls":38},"П.1","Прибыль на развитие производства (капитальные вложения)","тыс.руб.",{"$f":"SUMIF($AS$9:$AT$9,AP$9,$AS210:$AT210)","v":{"v":0,"d":"0.00"}},{"v":0,"d":"0.00"},{"v":0,"d":"0.00"}]
[{"$nulls":38},"П.2","Прибыль на социальное развитие","тыс.руб.",{"v":0,"d":"0.00"},{"v":0,"d":"0.00"},{"v":0,"d":"0.00"}]
[{"$nulls":38},"П.3","Прибыль на поощрение","тыс.руб.",{"v":0,"d":"0.00"},{"v":0,"d":"0.00"},{"v":0,"d":"0.00"}]
[{"$nulls":38},"П.4","Прибыль на прочие цели","тыс.руб.",{"v":0,"d":"0.00"},{"v":0,"d":"0.00"},{"v":0,"d":"0.00"}]
{"$rows_empty":8}
[{"$nulls":38},"РП","Итого расходы с учётом расходов из прибыли","тыс.руб.",{"$f":"SUMIF($AS$9:$AT$9,AP$9,$AS222:$AT222)","v":{"v":0,"d":"0.00"}},{"$f":"SUMIF($AS$9:$AT$9,AQ$9,$AS222:$AT222)","v":{"v":0,"d":"0.00"}},{"$f":"SUMIF($AS$9:$AT$9,AR$9,$AS222:$AT222)","v":{"v":0,"d":"0.00"}}]
{"$rows_empty":17}
[{"$nulls":38},"UI.TOTAL","Полезный отпуск продукции всего:\n[БТр!п.3] - транспортировка\n[БПр!п.5.2] - производство","тыс.куб.м",{"$f":"SUMIF($AS$9:$AT$9,AP$9,$AS240:$AT240)","v":{"v":0,"d":"0.00"}},{"v":0,"d":"0.00"},{"v":0,"d":"0.00"}]
[{"$nulls":38},"UI.EC","Полезный отпуск на реализацию потребителям:\n[БТр!п.3.2:3.5] - транспортировка\n[БПр!п.5.2.2 + БПр!п.5.2.3] - производство","тыс.куб.м",{"v":0,"d":"0.00"},{"v":0,"d":"0.00"},{"v":0,"d":"0.00"}]
[{"$nulls":38},"UI.COEF","Коэффициент (доля) на реализацию потребителям",null,{"$f":"IF(AP240=0,0,AP243/AP240)","v":{"v":0,"d":"0.00"}},{"$f":"IF(AQ240=0,0,AQ243/AQ240)","v":{"v":0,"d":"0.00"}},{"$f":"IF(AR240=0,0,AR243/AR240)","v":{"v":0,"d":"0.00"}}]
[{"$nulls":38},"UI.PURE.EC","Полезный отпуск на реализацию потребителям:\n[БТр!п.3.3:3.5] - транспортировка\n[БПр!п.5.2.3] - производство","тыс.куб.м",{"$f":"SUMIF($AS$9:$AT$9,AP$9,$AS243:$AT243)","v":{"v":0,"d":"0.00"}},{"$f":"SUMIF($AS$9:$AT$9,AQ$9,$AS243:$AT243)","v":{"v":0,"d":"0.00"}},{"$f":"SUMIF($AS$9:$AT$9,AR$9,$AS243:$AT243)","v":{"v":0,"d":"0.00"}}]
[]
[{"$nulls":38},"UI.TTL",{"$f":"IF(TEMPLATE_SPHERE_CODE=\"COLDVSNA\",\"Объём отпуска воды\",IF(TEMPLATE_SPHERE_CODE=\"VOTV\",\"Объём сточных вод\",\"\"))","v":"Объём сточных вод"},"тыс.куб.м",{"$f":"SUMIF($AS$9:$AT$9,AP$9,$AS245:$AT245)","v":{"v":0,"d":"0.00"}},{"$f":"SUMIF($AS$9:$AT$9,AQ$9,$AS245:$AT245)","v":{"v":0,"d":"0.00"}},{"$f":"SUMIF($AS$9:$AT$9,AR$9,$AS245:$AT245)","v":{"v":0,"d":"0.00"}}]
[]
[{"$nulls":38},"PROFITABILITY","Рентабельность","%",{"$f":"IF(AP203=0,0,(AP208-AP207)/AP203*100)","v":{"v":0,"d":"0.00"}},{"$f":"IF(AQ203=0,0,(AQ208-AQ207)/AQ203*100)","v":{"v":0,"d":"0.00"}},{"$f":"IF(AR203=0,0,(AR208-AR207)/AR203*100)","v":{"v":0,"d":"0.00"}}]
[]
[{"$nulls":38},"D","Справочно: результат деятельности в периоде регулирования","тыс.руб.",{"$f":"SUMIF($AS$9:$AT$9,AP$9,$AS249:$AT249)","v":{"v":0,"d":"0.00"}},{"v":0,"d":"0.00"},{"v":0,"d":"0.00"}]
[{"$nulls":38},{"$f":"AM249 & \".0.1\"","v":"D.0.1"},"Общий доход от реализации потребителям без учёта НДС, исходя из утверждённых тарифов","тыс.руб.",{"v":0,"d":"0.00"},{"v":0,"d":"0.00"},{"v":0,"d":"0.00"}]
[{"$nulls":38},{"$f":"AM249 & \".0.2\"","v":"D.0.2"},"Полезный отпуск продукции на реализацию потребителям","тыс.куб.м",{"v":0,"d":"0.00"},{"v":0,"d":"0.00"},{"v":0,"d":"0.00"}]
[{"$nulls":38},{"$f":"AM249 & \".1\"","v":"D.1"},"Организации-перепродавцы","тыс.руб.",{"v":0,"d":"0.00"},{"v":0,"d":"0.00"},{"v":0,"d":"0.00"}]
[{"$nulls":38},{"$f":"AM252 & \".1\"","v":"D.1.1"},"средневзвешенный тариф","руб./куб.м",{"$f":"IF(AP254=0,0,AP252/AP254)","v":{"v":0,"d":"0.00"}},{"$f":"IF(AQ254=0,0,AQ252/AQ254)","v":{"v":0,"d":"0.00"}},{"$f":"IF(AR254=0,0,AR252/AR254)","v":{"v":0,"d":"0.00"}}]
[{"$nulls":38},{"$f":"AM252 & \".2\"","v":"D.1.2"},"объём","тыс.куб.м",{"$f":"SUMIF($AS$9:$AT$9,AP$9,$AS254:$AT254)","v":{"v":0,"d":"0.00"}},{"v":0,"d":"0.00"},{"v":0,"d":"0.00"}]
[{"$nulls":38},{"$f":"AM249 & \".2\"","v":"D.2"},"Бюджетные потребители","тыс.руб.",{"v":0,"d":"0.00"},{"v":0,"d":"0.00"},{"v":0,"d":"0.00"}]
[{"$nulls":38},{"$f":"AM255 & \".1\"","v":"D.2.1"},"средневзвешенный тариф","руб./куб.м",{"$f":"IF(AP257=0,0,AP255/AP257)","v":{"v":0,"d":"0.00"}},{"$f":"IF(AQ257=0,0,AQ255/AQ257)","v":{"v":0,"d":"0.00"}},{"$f":"IF(AR257=0,0,AR255/AR257)","v":{"v":0,"d":"0.00"}}]
[{"$nulls":38},{"$f":"AM255 & \".2\"","v":"D.2.2"},"объём","тыс.куб.м",{"$f":"SUMIF($AS$9:$AT$9,AP$9,$AS257:$AT257)","v":{"v":0,"d":"0.00"}},{"v":0,"d":"0.00"},{"v":0,"d":"0.00"}]
[{"$nulls":38},{"$f":"AM249 & \".3\"","v":"D.3"},"Население","тыс.руб.",{"v":0,"d":"0.00"},{"v":0,"d":"0.00"},{"v":0,"d":"0.00"}]
[{"$nulls":38},{"$f":"AM258 & \".1\"","v":"D.3.1"},"средневзвешенный тариф","руб./куб.м",{"$f":"IF(AP260=0,0,AP258/AP260)","v":{"v":0,"d":"0.00"}},{"$f":"IF(AQ260=0,0,AQ258/AQ260)","v":{"v":0,"d":"0.00"}},{"$f":"IF(AR260=0,0,AR258/AR260)","v":{"v":0,"d":"0.00"}}]
[{"$nulls":38},{"$f":"AM258 & \".2\"","v":"D.3.2"},"объём","тыс.куб.м",{"$f":"SUMIF($AS$9:$AT$9,AP$9,$AS260:$AT260)","v":{"v":0,"d":"0.00"}},{"v":0,"d":"0.00"},{"v":0,"d":"0.00"}]
[{"$nulls":38},{"$f":"AM249 & \".4\"","v":"D.4"},"Прочие","тыс.руб.",{"v":0,"d":"0.00"},{"v":0,"d":"0.00"},{"v":0,"d":"0.00"}]
[{"$nulls":38},{"$f":"AM261 & \".1\"","v":"D.4.1"},"средневзвешенный тариф","руб./куб.м",{"$f":"IF(AP263=0,0,AP261/AP263)","v":{"v":0,"d":"0.00"}},{"$f":"IF(AQ263=0,0,AQ261/AQ263)","v":{"v":0,"d":"0.00"}},{"$f":"IF(AR263=0,0,AR261/AR263)","v":{"v":0,"d":"0.00"}}]
[{"$nulls":38},{"$f":"AM261 & \".2\"","v":"D.4.2"},"объём","тыс.куб.м",{"$f":"SUMIF($AS$9:$AT$9,AP$9,$AS263:$AT263)","v":{"v":0,"d":"0.00"}},{"v":0,"d":"0.00"},{"v":0,"d":"0.00"}]
[{"$nulls":38},{"$f":"AM249 & \".5\"","v":"D.5"},"Объём дотаций из всех уровней бюджета","тыс.руб.",{"v":0,"d":"0.00"},{"v":0,"d":"0.00"},{"v":0,"d":"0.00"}]
[{"$nulls":38},{"$f":"AM249 & \".6\"","v":"D.6"},"Доходы, полученные сверх реализации по утверждённым тарифам","тыс.руб.",{"v":0,"d":"0.00"},{"v":0,"d":"0.00"},{"v":0,"d":"0.00"}]

{"sheet":"ХВС.Р","index":18,"n_rows":303,"n_cols":46,"rows_kept":303,"hidden":true,"merged":[[12,38,13,39],[13,41,13,43],[18,38,19,38],[18,39,19,39],[18,40,19,40],[18,41,19,43]]}
[]
[]
[]
[]
[]
[{"$nulls":41},12,6,6]
[]
[]
[{"$nulls":41},"Y","I","II"]
[{"$nulls":44},"START","END"]
[]
[{"$nulls":39},"Необходимо указывать значения по полугодиям (6 и 6 месяцев)"]
["FULL_MODE",{"$nulls":37},"Реагенты",null,"Период","Год","I полугодие","II полугодие"]
[]
[]
[]
[]
[{"$nulls":45},"Добавить"]
[{"$nulls":38},"№ п/п","Наименование показателя","Единица измерения","Всего по организации",null,null,0]
[]
[{"$nulls":39},"Является ли организация плательщиком НДС"]
[{"$nulls":39},"Выбор используемых реагентов - двойным щелчком мыши в расчётном блоке (в колонке \"Год\") напротив наименования"]
[]
[]
[{"$nulls":38},"1.1.1","Итого","тыс.руб.",{"$f":"SUMIF($AS$9:$AT$9,AP$9,$AS25:$AT25)","v":{"v":0,"d":"0.00"}},{"$f":"SUMIF($AS$9:$AT$9,AQ$9,$AS25:$AT25)","v":{"v":0,"d":"0.00"}},{"$f":"SUMIF($AS$9:$AT$9,AR$9,$AS25:$AT25)","v":{"v":0,"d":"0.00"}}]
[]
[{"$nulls":38},"COAG","Коагулянты","тыс.руб.",{"$f":"SUMIF($AS$9:$AT$9,AP$9,$AS27:$AT27)","v":{"v":0,"d":"0.00"}},{"$f":"SUMIF($AS$9:$AT$9,AQ$9,$AS27:$AT27)","v":{"v":0,"d":"0.00"}},{"$f":"SUMIF($AS$9:$AT$9,AR$9,$AS27:$AT27)","v":{"v":0,"d":"0.00"}}]
[]
[{"$nulls":31},"ADJUSTABLE.C",{"$nulls":6},"HDSFAL","гидроксохлоросульфат алюминия (коагулянт смешанного типа)","тыс.руб.",{"$f":"SUMIF($AS$9:$AT$9,AP$9,$AS29:$AT29)","v":{"v":0,"d":"0.00"}},{"$f":"SUMIF($AS$9:$AT$9,AQ$9,$AS29:$AT29)","v":{"v":0,"d":"0.00"}},{"$f":"SUMIF($AS$9:$AT$9,AR$9,$AS29:$AT29)","v":{"v":0,"d":"0.00"}}]
[{"$nulls":31},"ADJUSTABLE.P",{"$nulls":6},{"$f":"AM29 & \".P\"","v":"HDSFAL.P"},"Цена за единицу","руб./ед.",{"$f":"IF(AP31=0,0,AP29*1000/AP31)","v":{"v":0,"d":"0.00"}},{"$f":"IF(AQ31=0,0,AQ29*1000/AQ31)","v":{"v":0,"d":"0.00"}},{"$f":"IF(AR31=0,0,AR29*1000/AR31)","v":{"v":0,"d":"0.00"}}]
[{"$nulls":31},"ADJUSTABLE.V",{"$nulls":6},{"$f":"AM29 & \".V\"","v":"HDSFAL.V"},"Объём","ед.",{"$f":"SUMIF($AS$9:$AT$9,AP$9,$AS31:$AT31)","v":{"v":0,"d":"0.00"}},{"v":0,"d":"0.00"},{"v":0,"d":"0.00"}]
[{"$nulls":31},"ADJUSTABLE.C",{"$nulls":6},"FES","железный купорос","тыс.руб.",{"v":0,"d":"0.00"},{"v":0,"d":"0.00"},{"v":0,"d":"0.00"}]
[{"$nulls":31},"ADJUSTABLE.P",{"$nulls":6},{"$f":"AM32 & \".P\"","v":"FES.P"},"Цена за единицу","руб./ед.",{"$f":"IF(AP34=0,0,AP32*1000/AP34)","v":{"v":0,"d":"0.00"}},{"$f":"IF(AQ34=0,0,AQ32*1000/AQ34)","v":{"v":0,"d":"0.00"}},{"$f":"IF(AR34=0,0,AR32*1000/AR34)","v":{"v":0,"d":"0.00"}}]
[{"$nulls":31},"ADJUSTABLE.V",{"$nulls":6},{"$f":"AM32 & \".V\"","v":"FES.V"},"Объём","ед.",{"$f":"SUMIF($AS$9:$AT$9,AP$9,$AS34:$AT34)","v":{"v":0,"d":"0.00"}},{"v":0,"d":"0.00"},{"v":0,"d":"0.00"}]
[{"$nulls":31},"ADJUSTABLE.C",{"$nulls":6},"OXCLAL","оксихлорид алюминия","тыс.руб.",{"v":0,"d":"0.00"},{"v":0,"d":"0.00"},{"v":0,"d":"0.00"}]
[{"$nulls":31},"ADJUSTABLE.P",{"$nulls":6},{"$f":"AM35 & \".P\"","v":"OXCLAL.P"},"Цена за единицу","руб./ед.",{"$f":"IF(AP37=0,0,AP35*1000/AP37)","v":{"v":0,"d":"0.00"}},{"$f":"IF(AQ37=0,0,AQ35*1000/AQ37)","v":{"v":0,"d":"0.00"}},{"$f":"IF(AR37=0,0,AR35*1000/AR37)","v":{"v":0,"d":"0.00"}}]
[{"$nulls":31},"ADJUSTABLE.V",{"$nulls":6},{"$f":"AM35 & \".V\"","v":"OXCLAL.V"},"Объём","ед.",{"$f":"SUMIF($AS$9:$AT$9,AP$9,$AS37:$AT37)","v":{"v":0,"d":"0.00"}},{"v":0,"d":"0.00"},{"v":0,"d":"0.00"}]
[{"$nulls":31},"ADJUSTABLE.C",{"$nulls":6},"PLOXCLAL","полиоксихлорид алюминия ","тыс.руб.",{"v":0,"d":"0.00"},{"v":0,"d":"0.00"},{"v":0,"d":"0.00"}]
[{"$nulls":31},"ADJUSTABLE.P",{"$nulls":6},{"$f":"AM38 & \".P\"","v":"PLOXCLAL.P"},"Цена за единицу","руб./ед.",{"$f":"IF(AP40=0,0,AP38*1000/AP40)","v":{"v":0,"d":"0.00"}},{"$f":"IF(AQ40=0,0,AQ38*1000/AQ40)","v":{"v":0,"d":"0.00"}},{"$f":"IF(AR40=0,0,AR38*1000/AR40)","v":{"v":0,"d":"0.00"}}]
[{"$nulls":31},"ADJUSTABLE.V",{"$nulls":6},{"$f":"AM38 & \".V\"","v":"PLOXCLAL.V"},"Объём","ед.",{"$f":"SUMIF($AS$9:$AT$9,AP$9,$AS40:$AT40)","v":{"v":0,"d":"0.00"}},{"v":0,"d":"0.00"},{"v":0,"d":"0.00"}]
[{"$nulls":31},"ADJUSTABLE.C",{"$nulls":6},"SFAL","сульфат алюминия ","тыс.руб.",{"v":0,"d":"0.00"},{"v":0,"d":"0.00"},{"v":0,"d":"0.00"}]
[{"$nulls":31},"ADJUSTABLE.P",{"$nulls":6},{"$f":"AM41 & \".P\"","v":"SFAL.P"},"Цена за единицу","руб./ед.",{"$f":"IF(AP43=0,0,AP41*1000/AP43)","v":{"v":0,"d":"0.00"}},{"$f":"IF(AQ43=0,0,AQ41*1000/AQ43)","v":{"v":0,"d":"0.00"}},{"$f":"IF(AR43=0,0,AR41*1000/AR43)","v":{"v":0,"d":"0.00"}}]
[{"$nulls":31},"ADJUSTABLE.V",{"$nulls":6},{"$f":"AM41 & \".V\"","v":"SFAL.V"},"Объём","ед.",{"$f":"SUMIF($AS$9:$AT$9,AP$9,$AS43:$AT43)","v":{"v":0,"d":"0.00"}},{"v":0,"d":"0.00"},{"v":0,"d":"0.00"}]
[{"$nulls":31},"ADJUSTABLE.OTH",{"$nulls":6},"OTH","прочие","тыс.руб.",{"v":0,"d":"0.00"},{"v":0,"d":"0.00"},{"v":0,"d":"0.00"}]
[]
[{"$nulls":38},"FLOC","Флокулянты","тыс.руб.",{"$f":"SUMIF($AS$9:$AT$9,AP$9,$AS46:$AT46)","v":{"v":0,"d":"0.00"}},{"$f":"SUMIF($AS$9:$AT$9,AQ$9,$AS46:$AT46)","v":{"v":0,"d":"0.00"}},{"$f":"SUMIF($AS$9:$AT$9,AR$9,$AS46:$AT46)","v":{"v":0,"d":"0.00"}}]
[]
[{"$nulls":31},"ADJUSTABLE.C",{"$nulls":6},"MGFLK","Магнафлок","тыс.руб.",{"$f":"SUMIF($AS$9:$AT$9,AP$9,$AS48:$AT48)","v":{"v":0,"d":"0.00"}},{"$f":"SUMIF($AS$9:$AT$9,AQ$9,$AS48:$AT48)","v":{"v":0,"d":"0.00"}},{"$f":"SUMIF($AS$9:$AT$9,AR$9,$AS48:$AT48)","v":{"v":0,"d":"0.00"}}]
[{"$nulls":31},"ADJUSTABLE.P",{"$nulls":6},{"$f":"AM48 & \".P\"","v":"MGFLK.P"},"Цена за единицу","руб./ед.",{"$f":"IF(AP50=0,0,AP48*1000/AP50)","v":{"v":0,"d":"0.00"}},{"$f":"IF(AQ50=0,0,AQ48*1000/AQ50)","v":{"v":0,"d":"0.00"}},{"$f":"IF(AR50=0,0,AR48*1000/AR50)","v":{"v":0,"d":"0.00"}}]
[{"$nulls":31},"ADJUSTABLE.V",{"$nulls":6},{"$f":"AM48 & \".V\"","v":"MGFLK.V"},"Объём","ед.",{"$f":"SUMIF($AS$9:$AT$9,AP$9,$AS50:$AT50)","v":{"v":0,"d":"0.00"}},{"v":0,"d":"0.00"},{"v":0,"d":"0.00"}]
[{"$nulls":31},"ADJUSTABLE.C",{"$nulls":6},"PRSTL","Праестол","тыс.руб.",{"v":0,"d":"0.00"},{"v":0,"d":"0.00"},{"v":0,"d":"0.00"}]
[{"$nulls":31},"ADJUSTABLE.P",{"$nulls":6},{"$f":"AM51 & \".P\"","v":"PRSTL.P"},"Цена за единицу","руб./ед.",{"$f":"IF(AP53=0,0,AP51*1000/AP53)","v":{"v":0,"d":"0.00"}},{"$f":"IF(AQ53=0,0,AQ51*1000/AQ53)","v":{"v":0,"d":"0.00"}},{"$f":"IF(AR53=0,0,AR51*1000/AR53)","v":{"v":0,"d":"0.00"}}]
[{"$nulls":31},"ADJUSTABLE.V",{"$nulls":6},{"$f":"AM51 & \".V\"","v":"PRSTL.V"},"Объём","ед.",{"$f":"SUMIF($AS$9:$AT$9,AP$9,$AS53:$AT53)","v":{"v":0,"d":"0.00"}},{"v":0,"d":"0.00"},{"v":0,"d":"0.00"}]
[{"$nulls":31},"ADJUSTABLE.OTH",{"$nulls":6},"OTH","прочие","тыс.руб.",{"v":0,"d":"0.00"},{"v":0,"d":"0.00"},{"v":0,"d":"0.00"}]
[]
[{"$nulls":38},"REAG","Реагенты","тыс.руб.",{"$f":"SUMIF($AS$9:$AT$9,AP$9,$AS56:$AT56)","v":{"v":0,"d":"0.00"}},{"$f":"SUMIF($AS$9:$AT$9,AQ$9,$AS56:$AT56)","v":{"v":0,"d":"0.00"}},{"$f":"SUMIF($AS$9:$AT$9,AR$9,$AS56:$AT56)","v":{"v":0,"d":"0.00"}}]
[]
[{"$nulls":31},"ADJUSTABLE.C",{"$nulls":6},"AGRP","агар питательный","тыс.руб.",{"$f":"SUMIF($AS$9:$AT$9,AP$9,$AS58:$AT58)","v":{"v":0,"d":"0.00"}},{"$f":"SUMIF($AS$9:$AT$9,AQ$9,$AS58:$AT58)","v":{"v":0,"d":"0.00"}},{"$f":"SUMIF($AS$9:$AT$9,AR$9,$AS58:$AT58)","v":{"v":0,"d":"0.00"}}]
[{"$nulls":31},"ADJUSTABLE.P",{"$nulls":6},{"$f":"AM58 & \".P\"","v":"AGRP.P"},"Цена за единицу","руб./ед.",{"$f":"IF(AP60=0,0,AP58*1000/AP60)","v":{"v":0,"d":"0.00"}},{"$f":"IF(AQ60=0,0,AQ58*1000/AQ60)","v":{"v":0,"d":"0.00"}},{"$f":"IF(AR60=0,0,AR58*1000/AR60)","v":{"v":0,"d":"0.00"}}]
[{"$nulls":31},"ADJUSTABLE.V",{"$nulls":6},{"$f":"AM58 & \".V\"","v":"AGRP.V"},"Объём","ед.",{"$f":"SUMIF($AS$9:$AT$9,AP$9,$AS60:$AT60)","v":{"v":0,"d":"0.00"}},{"v":0,"d":"0.00"},{"v":0,"d":"0.00"}]
[{"$nulls":31},"ADJUSTABLE.C",{"$nulls":6},"AGRE","агар Эндо","тыс.руб.",{"v":0,"d":"0.00"},{"v":0,"d":"0.00"},{"v":0,"d":"0.00"}]
[{"$nulls":31},"ADJUSTABLE.P",{"$nulls":6},{"$f":"AM61 & \".P\"","v":"AGRE.P"},"Цена за единицу","руб./ед.",{"$f":"IF(AP63=0,0,AP61*1000/AP63)","v":{"v":0,"d":"0.00"}},{"$f":"IF(AQ63=0,0,AQ61*1000/AQ63)","v":{"v":0,"d":"0.00"}},{"$f":"IF(AR63=0,0,AR61*1000/AR63)","v":{"v":0,"d":"0.00"}}]
[{"$nulls":31},"ADJUSTABLE.V",{"$nulls":6},{"$f":"AM61 & \".V\"","v":"AGRE.V"},"Объём","ед.",{"$f":"SUMIF($AS$9:$AT$9,AP$9,$AS63:$AT63)","v":{"v":0,"d":"0.00"}},{"v":0,"d":"0.00"},{"v":0,"d":"0.00"}]
[{"$nulls":31},"ADJUSTABLE.C",{"$nulls":6},"ALOX","алюминий окись","тыс.руб.",{"v":0,"d":"0.00"},{"v":0,"d":"0.00"},{"v":0,"d":"0.00"}]
[{"$nulls":31},"ADJUSTABLE.P",{"$nulls":6},{"$f":"AM64 & \".P\"","v":"ALOX.P"},"Цена за единицу","руб./ед.",{"$f":"IF(AP66=0,0,AP64*1000/AP66)","v":{"v":0,"d":"0.00"}},{"$f":"IF(AQ66=0,0,AQ64*1000/AQ66)","v":{"v":0,"d":"0.00"}},{"$f":"IF(AR66=0,0,AR64*1000/AR66)","v":{"v":0,"d":"0.00"}}]
[{"$nulls":31},"ADJUSTABLE.V",{"$nulls":6},{"$f":"AM64 & \".V\"","v":"ALOX.V"},"Объём","ед.",{"$f":"SUMIF($AS$9:$AT$9,AP$9,$AS66:$AT66)","v":{"v":0,"d":"0.00"}},{"v":0,"d":"0.00"},{"v":0,"d":"0.00"}]
[{"$nulls":31},"ADJUSTABLE.C",{"$nulls":6},"ALS","алюминий сернокислый","тыс.руб.",{"v":0,"d":"0.00"},{"v":0,"d":"0.00"},{"v":0,"d":"0.00"}]
[{"$nulls":31},"ADJUSTABLE.P",{"$nulls":6},{"$f":"AM67 & \".P\"","v":"ALS.P"},"Цена за единицу","руб./ед.",{"$f":"IF(AP69=0,0,AP67*1000/AP69)","v":{"v":0,"d":"0.00"}},{"$f":"IF(AQ69=0,0,AQ67*1000/AQ69)","v":{"v":0,"d":"0.00"}},{"$f":"IF(AR69=0,0,AR67*1000/AR69)","v":{"v":0,"d":"0.00"}}]
[{"$nulls":31},"ADJUSTABLE.V",{"$nulls":6},{"$f":"AM67 & \".V\"","v":"ALS.V"},"Объём","ед.",{"$f":"SUMIF($AS$9:$AT$9,AP$9,$AS69:$AT69)","v":{"v":0,"d":"0.00"}},{"v":0,"d":"0.00"},{"v":0,"d":"0.00"}]
[{"$nulls":31},"ADJUSTABLE.C",{"$nulls":6},"AM","аммиак","тыс.руб.",{"v":0,"d":"0.00"},{"v":0,"d":"0.00"},{"v":0,"d":"0.00"}]
[{"$nulls":31},"ADJUSTABLE.P",{"$nulls":6},{"$f":"AM70 & \".P\"","v":"AM.P"},"Цена за единицу","руб./ед.",{"$f":"IF(AP72=0,0,AP70*1000/AP72)","v":{"v":0,"d":"0.00"}},{"$f":"IF(AQ72=0,0,AQ70*1000/AQ72)","v":{"v":0,"d":"0.00"}},{"$f":"IF(AR72=0,0,AR70*1000/AR72)","v":{"v":0,"d":"0.00"}}]
[{"$nulls":31},"ADJUSTABLE.V",{"$nulls":6},{"$f":"AM70 & \".V\"","v":"AM.V"},"Объём","ед.",{"$f":"SUMIF($AS$9:$AT$9,AP$9,$AS72:$AT72)","v":{"v":0,"d":"0.00"}},{"v":0,"d":"0.00"},{"v":0,"d":"0.00"}]
[{"$nulls":31},"ADJUSTABLE.C",{"$nulls":6},"AMW","аммиачная вода","тыс.руб.",{"v":0,"d":"0.00"},{"v":0,"d":"0.00"},{"v":0,"d":"0.00"}]
[{"$nulls":31},"ADJUSTABLE.P",{"$nulls":6},{"$f":"AM73 & \".P\"","v":"AMW.P"},"Цена за единицу","руб./ед.",{"$f":"IF(AP75=0,0,AP73*1000/AP75)","v":{"v":0,"d":"0.00"}},{"$f":"IF(AQ75=0,0,AQ73*1000/AQ75)","v":{"v":0,"d":"0.00"}},{"$f":"IF(AR75=0,0,AR73*1000/AR75)","v":{"v":0,"d":"0.00"}}]
[{"$nulls":31},"ADJUSTABLE.V",{"$nulls":6},{"$f":"AM73 & \".V\"","v":"AMW.V"},"Объём","ед.",{"$f":"SUMIF($AS$9:$AT$9,AP$9,$AS75:$AT75)","v":{"v":0,"d":"0.00"}},{"v":0,"d":"0.00"},{"v":0,"d":"0.00"}]
[{"$nulls":31},"ADJUSTABLE.C",{"$nulls":6},"AMN","аммоний","тыс.руб.",{"v":0,"d":"0.00"},{"v":0,"d":"0.00"},{"v":0,"d":"0.00"}]
[{"$nulls":31},"ADJUSTABLE.P",{"$nulls":6},{"$f":"AM76 & \".P\"","v":"AMN.P"},"Цена за единицу","руб./ед.",{"$f":"IF(AP78=0,0,AP76*1000/AP78)","v":{"v":0,"d":"0.00"}},{"$f":"IF(AQ78=0,0,AQ76*1000/AQ78)","v":{"v":0,"d":"0.00"}},{"$f":"IF(AR78=0,0,AR76*1000/AR78)","v":{"v":0,"d":"0.00"}}]
[{"$nulls":31},"ADJUSTABLE.V",{"$nulls":6},{"$f":"AM76 & \".V\"","v":"AMN.V"},"Объём","ед.",{"$f":"SUMIF($AS$9:$AT$9,AP$9,$AS78:$AT78)","v":{"v":0,"d":"0.00"}},{"v":0,"d":"0.00"},{"v":0,"d":"0.00"}]
[{"$nulls":31},"ADJUSTABLE.C",{"$nulls":6},"AMNCL","аммоний хлористый","тыс.руб.",{"v":0,"d":"0.00"},{"v":0,"d":"0.00"},{"v":0,"d":"0.00"}]
[{"$nulls":31},"ADJUSTABLE.P",{"$nulls":6},{"$f":"AM79 & \".P\"","v":"AMNCL.P"},"Цена за единицу","руб./ед.",{"$f":"IF(AP81=0,0,AP79*1000/AP81)","v":{"v":0,"d":"0.00"}},{"$f":"IF(AQ81=0,0,AQ79*1000/AQ81)","v":{"v":0,"d":"0.00"}},{"$f":"IF(AR81=0,0,AR79*1000/AR81)","v":{"v":0,"d":"0.00"}}]
[{"$nulls":31},"ADJUSTABLE.V",{"$nulls":6},{"$f":"AM79 & \".V\"","v":"AMNCL.V"},"Объём","ед.",{"$f":"SUMIF($AS$9:$AT$9,AP$9,$AS81:$AT81)","v":{"v":0,"d":"0.00"}},{"v":0,"d":"0.00"},{"v":0,"d":"0.00"}]
[{"$nulls":31},"ADJUSTABLE.C",{"$nulls":6},"BACL","барий хлористый","тыс.руб.",{"v":0,"d":"0.00"},{"v":0,"d":"0.00"},{"v":0,"d":"0.00"}]
[{"$nulls":31},"ADJUSTABLE.P",{"$nulls":6},{"$f":"AM82 & \".P\"","v":"BACL.P"},"Цена за единицу","руб./ед.",{"$f":"IF(AP84=0,0,AP82*1000/AP84)","v":{"v":0,"d":"0.00"}},{"$f":"IF(AQ84=0,0,AQ82*1000/AQ84)","v":{"v":0,"d":"0.00"}},{"$f":"IF(AR84=0,0,AR82*1000/AR84)","v":{"v":0,"d":"0.00"}}]
[{"$nulls":31},"ADJUSTABLE.V",{"$nulls":6},{"$f":"AM82 & \".V\"","v":"BACL.V"},"Объём","ед.",{"$f":"SUMIF($AS$9:$AT$9,AP$9,$AS84:$AT84)","v":{"v":0,"d":"0.00"}},{"v":0,"d":"0.00"},{"v":0,"d":"0.00"}]
[{"$nulls":31},"ADJUSTABLE.C",{"$nulls":6},"BIOX","биоксимин","тыс.руб.",{"v":0,"d":"0.00"},{"v":0,"d":"0.00"},{"v":0,"d":"0.00"}]
[{"$nulls":31},"ADJUSTABLE.P",{"$nulls":6},{"$f":"AM85 & \".P\"","v":"BIOX.P"},"Цена за единицу","руб./ед.",{"$f":"IF(AP87=0,0,AP85*1000/AP87)","v":{"v":0,"d":"0.00"}},{"$f":"IF(AQ87=0,0,AQ85*1000/AQ87)","v":{"v":0,"d":"0.00"}},{"$f":"IF(AR87=0,0,AR85*1000/AR87)","v":{"v":0,"d":"0.00"}}]
[{"$nulls":31},"ADJUSTABLE.V",{"$nulls":6},{"$f":"AM85 & \".V\"","v":"BIOX.V"},"Объём","ед.",{"$f":"SUMIF($AS$9:$AT$9,AP$9,$AS87:$AT87)","v":{"v":0,"d":"0.00"}},{"v":0,"d":"0.00"},{"v":0,"d":"0.00"}]
[{"$nulls":31},"ADJUSTABLE.C",{"$nulls":6},"BRFNL","бромфеноловый синий","тыс.руб.",{"v":0,"d":"0.00"},{"v":0,"d":"0.00"},{"v":0,"d":"0.00"}]
[{"$nulls":31},"ADJUSTABLE.P",{"$nulls":6},{"$f":"AM88 & \".P\"","v":"BRFNL.P"},"Цена за единицу","руб./ед.",{"$f":"IF(AP90=0,0,AP88*1000/AP90)","v":{"v":0,"d":"0.00"}},{"$f":"IF(AQ90=0,0,AQ88*1000/AQ90)","v":{"v":0,"d":"0.00"}},{"$f":"IF(AR90=0,0,AR88*1000/AR90)","v":{"v":0,"d":"0.00"}}]
[{"$nulls":31},"ADJUSTABLE.V",{"$nulls":6},{"$f":"AM88 & \".V\"","v":"BRFNL.V"},"Объём","ед.",{"$f":"SUMIF($AS$9:$AT$9,AP$9,$AS90:$AT90)","v":{"v":0,"d":"0.00"}},{"v":0,"d":"0.00"},{"v":0,"d":"0.00"}]
[{"$nulls":31},"ADJUSTABLE.C",{"$nulls":6},"HDOX","водорода перекись","тыс.руб.",{"v":0,"d":"0.00"},{"v":0,"d":"0.00"},{"v":0,"d":"0.00"}]
[{"$nulls":31},"ADJUSTABLE.P",{"$nulls":6},{"$f":"AM91 & \".P\"","v":"HDOX.P"},"Цена за единицу","руб./ед.",{"$f":"IF(AP93=0,0,AP91*1000/AP93)","v":{"v":0,"d":"0.00"}},{"$f":"IF(AQ93=0,0,AQ91*1000/AQ93)","v":{"v":0,"d":"0.00"}},{"$f":"IF(AR93=0,0,AR91*1000/AR93)","v":{"v":0,"d":"0.00"}}]
[{"$nulls":31},"ADJUSTABLE.V",{"$nulls":6},{"$f":"AM91 & \".V\"","v":"HDOX.V"},"Объём","ед.",{"$f":"SUMIF($AS$9:$AT$9,AP$9,$AS93:$AT93)","v":{"v":0,"d":"0.00"}},{"v":0,"d":"0.00"},{"v":0,"d":"0.00"}]
[{"$nulls":31},"ADJUSTABLE.C",{"$nulls":6},"GEXN","гексан","тыс.руб.",{"v":0,"d":"0.00"},{"v":0,"d":"0.00"},{"v":0,"d":"0.00"}]
[{"$nulls":31},"ADJUSTABLE.P",{"$nulls":6},{"$f":"AM94 & \".P\"","v":"GEXN.P"},"Цена за единицу","руб./ед.",{"$f":"IF(AP96=0,0,AP94*1000/AP96)","v":{"v":0,"d":"0.00"}},{"$f":"IF(AQ96=0,0,AQ94*1000/AQ96)","v":{"v":0,"d":"0.00"}},{"$f":"IF(AR96=0,0,AR94*1000/AR96)","v":{"v":0,"d":"0.00"}}]
[{"$nulls":31},"ADJUSTABLE.V",{"$nulls":6},{"$f":"AM94 & \".V\"","v":"GEXN.V"},"Объём","ед.",{"$f":"SUMIF($AS$9:$AT$9,AP$9,$AS96:$AT96)","v":{"v":0,"d":"0.00"}},{"v":0,"d":"0.00"},{"v":0,"d":"0.00"}]
[{"$nulls":31},"ADJUSTABLE.C",{"$nulls":6},"HDOXCL","гидроксиламин солянокислый","тыс.руб.",{"v":0,"d":"0.00"},{"v":0,"d":"0.00"},{"v":0,"d":"0.00"}]
[{"$nulls":31},"ADJUSTABLE.P",{"$nulls":6},{"$f":"AM97 & \".P\"","v":"HDOXCL.P"},"Цена за единицу","руб./ед.",{"$f":"IF(AP99=0,0,AP97*1000/AP99)","v":{"v":0,"d":"0.00"}},{"$f":"IF(AQ99=0,0,AQ97*1000/AQ99)","v":{"v":0,"d":"0.00"}},{"$f":"IF(AR99=0,0,AR97*1000/AR99)","v":{"v":0,"d":"0.00"}}]
[{"$nulls":31},"ADJUSTABLE.V",{"$nulls":6},{"$f":"AM97 & \".V\"","v":"HDOXCL.V"},"Объём","ед.",{"$f":"SUMIF($AS$9:$AT$9,AP$9,$AS99:$AT99)","v":{"v":0,"d":"0.00"}},{"v":0,"d":"0.00"},{"v":0,"d":"0.00"}]
[{"$nulls":31},"ADJUSTABLE.C",{"$nulls":6},"HDCLCA","гидрохлорид кальция","тыс.руб.",{"v":0,"d":"0.00"},{"v":0,"d":"0.00"},{"v":0,"d":"0.00"}]
[{"$nulls":31},"ADJUSTABLE.P",{"$nulls":6},{"$f":"AM100 & \".P\"","v":"HDCLCA.P"},"Цена за единицу","руб./ед.",{"$f":"IF(AP102=0,0,AP100*1000/AP102)","v":{"v":0,"d":"0.00"}},{"$f":"IF(AQ102=0,0,AQ100*1000/AQ102)","v":{"v":0,"d":"0.00"}},{"$f":"IF(AR102=0,0,AR100*1000/AR102)","v":{"v":0,"d":"0.00"}}]
[{"$nulls":31},"ADJUSTABLE.V",{"$nulls":6},{"$f":"AM100 & \".V\"","v":"HDCLCA.V"},"Объём","ед.",{"$f":"SUMIF($AS$9:$AT$9,AP$9,$AS102:$AT102)","v":{"v":0,"d":"0.00"}},{"v":0,"d":"0.00"},{"v":0,"d":"0.00"}]
[{"$nulls":31},"ADJUSTABLE.C",{"$nulls":6},"HPCLCA","гипохлорит кальция","тыс.руб.",{"v":0,"d":"0.00"},{"v":0,"d":"0.00"},{"v":0,"d":"0.00"}]
[{"$nulls":31},"ADJUSTABLE.P",{"$nulls":6},{"$f":"AM103 & \".P\"","v":"HPCLCA.P"},"Цена за единицу","руб./ед.",{"$f":"IF(AP105=0,0,AP103*1000/AP105)","v":{"v":0,"d":"0.00"}},{"$f":"IF(AQ105=0,0,AQ103*1000/AQ105)","v":{"v":0,"d":"0.00"}},{"$f":"IF(AR105=0,0,AR103*1000/AR105)","v":{"v":0,"d":"0.00"}}]
[{"$nulls":31},"ADJUSTABLE.V",{"$nulls":6},{"$f":"AM103 & \".V\"","v":"HPCLCA.V"},"Объём","ед.",{"$f":"SUMIF($AS$9:$AT$9,AP$9,$AS105:$AT105)","v":{"v":0,"d":"0.00"}},{"v":0,"d":"0.00"},{"v":0,"d":"0.00"}]
[{"$nulls":31},"ADJUSTABLE.C",{"$nulls":6},"HPCLNA","гипохлорит натрия","тыс.руб.",{"v":0,"d":"0.00"},{"v":0,"d":"0.00"},{"v":0,"d":"0.00"}]
[{"$nulls":31},"ADJUSTABLE.P",{"$nulls":6},{"$f":"AM106 & \".P\"","v":"HPCLNA.P"},"Цена за единицу","руб./ед.",{"$f":"IF(AP108=0,0,AP106*1000/AP108)","v":{"v":0,"d":"0.00"}},{"$f":"IF(AQ108=0,0,AQ106*1000/AQ108)","v":{"v":0,"d":"0.00"}},{"$f":"IF(AR108=0,0,AR106*1000/AR108)","v":{"v":0,"d":"0.00"}}]
[{"$nulls":31},"ADJUSTABLE.V",{"$nulls":6},{"$f":"AM106 & \".V\"","v":"HPCLNA.V"},"Объём","ед.",{"$f":"SUMIF($AS$9:$AT$9,AP$9,$AS108:$AT108)","v":{"v":0,"d":"0.00"}},{"v":0,"d":"0.00"},{"v":0,"d":"0.00"}]
[{"$nulls":31},"ADJUSTABLE.C",{"$nulls":6},"GLC","глицерин","тыс.руб.",{"v":0,"d":"0.00"},{"v":0,"d":"0.00"},{"v":0,"d":"0.00"}]
[{"$nulls":31},"ADJUSTABLE.P",{"$nulls":6},{"$f":"AM109 & \".P\"","v":"GLC.P"},"Цена за единицу","руб./ед.",{"$f":"IF(AP111=0,0,AP109*1000/AP111)","v":{"v":0,"d":"0.00"}},{"$f":"IF(AQ111=0,0,AQ109*1000/AQ111)","v":{"v":0,"d":"0.00"}},{"$f":"IF(AR111=0,0,AR109*1000/AR111)","v":{"v":0,"d":"0.00"}}]
[{"$nulls":31},"ADJUSTABLE.V",{"$nulls":6},{"$f":"AM109 & \".V\"","v":"GLC.V"},"Объём","ед.",{"$f":"SUMIF($AS$9:$AT$9,AP$9,$AS111:$AT111)","v":{"v":0,"d":"0.00"}},{"v":0,"d":"0.00"},{"v":0,"d":"0.00"}]
[{"$nulls":31},"ADJUSTABLE.C",{"$nulls":6},"DFNLCD","дифенилкарбазид","тыс.руб.",{"v":0,"d":"0.00"},{"v":0,"d":"0.00"},{"v":0,"d":"0.00"}]
[{"$nulls":31},"ADJUSTABLE.P",{"$nulls":6},{"$f":"AM112 & \".P\"","v":"DFNLCD.P"},"Цена за единицу","руб./ед.",{"$f":"IF(AP114=0,0,AP112*1000/AP114)","v":{"v":0,"d":"0.00"}},{"$f":"IF(AQ114=0,0,AQ112*1000/AQ114)","v":{"v":0,"d":"0.00"}},{"$f":"IF(AR114=0,0,AR112*1000/AR114)","v":{"v":0,"d":"0.00"}}]
[{"$nulls":31},"ADJUSTABLE.V",{"$nulls":6},{"$f":"AM112 & \".V\"","v":"DFNLCD.V"},"Объём","ед.",{"$f":"SUMIF($AS$9:$AT$9,AP$9,$AS114:$AT114)","v":{"v":0,"d":"0.00"}},{"v":0,"d":"0.00"},{"v":0,"d":"0.00"}]
[{"$nulls":31},"ADJUSTABLE.C",{"$nulls":6},"DFNLCN","дифенилкарбазон","тыс.руб.",{"v":0,"d":"0.00"},{"v":0,"d":"0.00"},{"v":0,"d":"0.00"}]
[{"$nulls":31},"ADJUSTABLE.P",{"$nulls":6},{"$f":"AM115 & \".P\"","v":"DFNLCN.P"},"Цена за единицу","руб./ед.",{"$f":"IF(AP117=0,0,AP115*1000/AP117)","v":{"v":0,"d":"0.00"}},{"$f":"IF(AQ117=0,0,AQ115*1000/AQ117)","v":{"v":0,"d":"0.00"}},{"$f":"IF(AR117=0,0,AR115*1000/AR117)","v":{"v":0,"d":"0.00"}}]
[{"$nulls":31},"ADJUSTABLE.V",{"$nulls":6},{"$f":"AM115 & \".V\"","v":"DFNLCN.V"},"Объём","ед.",{"$f":"SUMIF($AS$9:$AT$9,AP$9,$AS117:$AT117)","v":{"v":0,"d":"0.00"}},{"v":0,"d":"0.00"},{"v":0,"d":"0.00"}]
[{"$nulls":31},"ADJUSTABLE.C",{"$nulls":6},"FES","железо сернокислое","тыс.руб.",{"v":0,"d":"0.00"},{"v":0,"d":"0.00"},{"v":0,"d":"0.00"}]
[{"$nulls":31},"ADJUSTABLE.P",{"$nulls":6},{"$f":"AM118 & \".P\"","v":"FES.P"},"Цена за единицу","руб./ед.",{"$f":"IF(AP120=0,0,AP118*1000/AP120)","v":{"v":0,"d":"0.00"}},{"$f":"IF(AQ120=0,0,AQ118*1000/AQ120)","v":{"v":0,"d":"0.00"}},{"$f":"IF(AR120=0,0,AR118*1000/AR120)","v":{"v":0,"d":"0.00"}}]
[{"$nulls":31},"ADJUSTABLE.V",{"$nulls":6},{"$f":"AM118 & \".V\"","v":"FES.V"},"Объём","ед.",{"$f":"SUMIF($AS$9:$AT$9,AP$9,$AS120:$AT120)","v":{"v":0,"d":"0.00"}},{"v":0,"d":"0.00"},{"v":0,"d":"0.00"}]
[{"$nulls":31},"ADJUSTABLE.C",{"$nulls":6},"FECL","железо трёххлористое","тыс.руб.",{"v":0,"d":"0.00"},{"v":0,"d":"0.00"},{"v":0,"d":"0.00"}]
[{"$nulls":31},"ADJUSTABLE.P",{"$nulls":6},{"$f":"AM121 & \".P\"","v":"FECL.P"},"Цена за единицу","руб./ед.",{"$f":"IF(AP123=0,0,AP121*1000/AP123)","v":{"v":0,"d":"0.00"}},{"$f":"IF(AQ123=0,0,AQ121*1000/AQ123)","v":{"v":0,"d":"0.00"}},{"$f":"IF(AR123=0,0,AR121*1000/AR123)","v":{"v":0,"d":"0.00"}}]
[{"$nulls":31},"ADJUSTABLE.V",{"$nulls":6},{"$f":"AM121 & \".V\"","v":"FECL.V"},"Объём","ед.",{"$f":"SUMIF($AS$9:$AT$9,AP$9,$AS123:$AT123)","v":{"v":0,"d":"0.00"}},{"v":0,"d":"0.00"},{"v":0,"d":"0.00"}]
[{"$nulls":31},"ADJUSTABLE.C",{"$nulls":6},"LIMENP","известь негашёная (порошок)","тыс.руб.",{"v":0,"d":"0.00"},{"v":0,"d":"0.00"},{"v":0,"d":"0.00"}]
[{"$nulls":31},"ADJUSTABLE.P",{"$nulls":6},{"$f":"AM124 & \".P\"","v":"LIMENP.P"},"Цена за единицу","руб./ед.",{"$f":"IF(AP126=0,0,AP124*1000/AP126)","v":{"v":0,"d":"0.00"}},{"$f":"IF(AQ126=0,0,AQ124*1000/AQ126)","v":{"v":0,"d":"0.00"}},{"$f":"IF(AR126=0,0,AR124*1000/AR126)","v":{"v":0,"d":"0.00"}}]
[{"$nulls":31},"ADJUSTABLE.V",{"$nulls":6},{"$f":"AM124 & \".V\"","v":"LIMENP.V"},"Объём","ед.",{"$f":"SUMIF($AS$9:$AT$9,AP$9,$AS126:$AT126)","v":{"v":0,"d":"0.00"}},{"v":0,"d":"0.00"},{"v":0,"d":"0.00"}]
[{"$nulls":31},"ADJUSTABLE.C",{"$nulls":6},"LIMENH","известь негашёная гидратная","тыс.руб.",{"v":0,"d":"0.00"},{"v":0,"d":"0.00"},{"v":0,"d":"0.00"}]
[{"$nulls":31},"ADJUSTABLE.P",{"$nulls":6},{"$f":"AM127 & \".P\"","v":"LIMENH.P"},"Цена за единицу","руб./ед.",{"$f":"IF(AP129=0,0,AP127*1000/AP129)","v":{"v":0,"d":"0.00"}},{"$f":"IF(AQ129=0,0,AQ127*1000/AQ129)","v":{"v":0,"d":"0.00"}},{"$f":"IF(AR129=0,0,AR127*1000/AR129)","v":{"v":0,"d":"0.00"}}]
[{"$nulls":31},"ADJUSTABLE.V",{"$nulls":6},{"$f":"AM127 & \".V\"","v":"LIMENH.V"},"Объём","ед.",{"$f":"SUMIF($AS$9:$AT$9,AP$9,$AS129:$AT129)","v":{"v":0,"d":"0.00"}},{"v":0,"d":"0.00"},{"v":0,"d":"0.00"}]
[{"$nulls":31},"ADJUSTABLE.C",{"$nulls":6},"LIMECL","известь хлорная","тыс.руб.",{"v":0,"d":"0.00"},{"v":0,"d":"0.00"},{"v":0,"d":"0.00"}]
[{"$nulls":31},"ADJUSTABLE.P",{"$nulls":6},{"$f":"AM130 & \".P\"","v":"LIMECL.P"},"Цена за единицу","руб./ед.",{"$f":"IF(AP132=0,0,AP130*1000/AP132)","v":{"v":0,"d":"0.00"}},{"$f":"IF(AQ132=0,0,AQ130*1000/AQ132)","v":{"v":0,"d":"0.00"}},{"$f":"IF(AR132=0,0,AR130*1000/AR132)","v":{"v":0,"d":"0.00"}}]
[{"$nulls":31},"ADJUSTABLE.V",{"$nulls":6},{"$f":"AM130 & \".V\"","v":"LIMECL.V"},"Объём","ед.",{"$f":"SUMIF($AS$9:$AT$9,AP$9,$AS132:$AT132)","v":{"v":0,"d":"0.00"}},{"v":0,"d":"0.00"},{"v":0,"d":"0.00"}]
[{"$nulls":31},"ADJUSTABLE.C",{"$nulls":6},"KN","калий азотнокислый","тыс.руб.",{"v":0,"d":"0.00"},{"v":0,"d":"0.00"},{"v":0,"d":"0.00"}]
[{"$nulls":31},"ADJUSTABLE.P",{"$nulls":6},{"$f":"AM133 & \".P\"","v":"KN.P"},"Цена за единицу","руб./ед.",{"$f":"IF(AP135=0,0,AP133*1000/AP135)","v":{"v":0,"d":"0.00"}},{"$f":"IF(AQ135=0,0,AQ133*1000/AQ135)","v":{"v":0,"d":"0.00"}},{"$f":"IF(AR135=0,0,AR133*1000/AR135)","v":{"v":0,"d":"0.00"}}]
[{"$nulls":31},"ADJUSTABLE.V",{"$nulls":6},{"$f":"AM133 & \".V\"","v":"KN.V"},"Объём","ед.",{"$f":"SUMIF($AS$9:$AT$9,AP$9,$AS135:$AT135)","v":{"v":0,"d":"0.00"}},{"v":0,"d":"0.00"},{"v":0,"d":"0.00"}]
[{"$nulls":31},"ADJUSTABLE.C",{"$nulls":6},"KCR","калий двухромовокислый","тыс.руб.",{"v":0,"d":"0.00"},{"v":0,"d":"0.00"},{"v":0,"d":"0.00"}]
[{"$nulls":31},"ADJUSTABLE.P",{"$nulls":6},{"$f":"AM136 & \".P\"","v":"KCR.P"},"Цена за единицу","руб./ед.",{"$f":"IF(AP138=0,0,AP136*1000/AP138)","v":{"v":0,"d":"0.00"}},{"$f":"IF(AQ138=0,0,AQ136*1000/AQ138)","v":{"v":0,"d":"0.00"}},{"$f":"IF(AR138=0,0,AR136*1000/AR138)","v":{"v":0,"d":"0.00"}}]
[{"$nulls":31},"ADJUSTABLE.V",{"$nulls":6},{"$f":"AM136 & \".V\"","v":"KCR.V"},"Объём","ед.",{"$f":"SUMIF($AS$9:$AT$9,AP$9,$AS138:$AT138)","v":{"v":0,"d":"0.00"}},{"v":0,"d":"0.00"},{"v":0,"d":"0.00"}]
[{"$nulls":31},"ADJUSTABLE.C",{"$nulls":6},"KI","калий йодистый","тыс.руб.",{"v":0,"d":"0.00"},{"v":0,"d":"0.00"},{"v":0,"d":"0.00"}]
[{"$nulls":31},"ADJUSTABLE.P",{"$nulls":6},{"$f":"AM139 & \".P\"","v":"KI.P"},"Цена за единицу","руб./ед.",{"$f":"IF(AP141=0,0,AP139*1000/AP141)","v":{"v":0,"d":"0.00"}},{"$f":"IF(AQ141=0,0,AQ139*1000/AQ141)","v":{"v":0,"d":"0.00"}},{"$f":"IF(AR141=0,0,AR139*1000/AR141)","v":{"v":0,"d":"0.00"}}]
[{"$nulls":31},"ADJUSTABLE.V",{"$nulls":6},{"$f":"AM139 & \".V\"","v":"KI.V"},"Объём","ед.",{"$f":"SUMIF($AS$9:$AT$9,AP$9,$AS141:$AT141)","v":{"v":0,"d":"0.00"}},{"v":0,"d":"0.00"},{"v":0,"d":"0.00"}]
[{"$nulls":31},"ADJUSTABLE.C",{"$nulls":6},"KMN","калий марганцевокислый","тыс.руб.",{"v":0,"d":"0.00"},{"v":0,"d":"0.00"},{"v":0,"d":"0.00"}]
[{"$nulls":31},"ADJUSTABLE.P",{"$nulls":6},{"$f":"AM142 & \".P\"","v":"KMN.P"},"Цена за единицу","руб./ед.",{"$f":"IF(AP144=0,0,AP142*1000/AP144)","v":{"v":0,"d":"0.00"}},{"$f":"IF(AQ144=0,0,AQ142*1000/AQ144)","v":{"v":0,"d":"0.00"}},{"$f":"IF(AR144=0,0,AR142*1000/AR144)","v":{"v":0,"d":"0.00"}}]
[{"$nulls":31},"ADJUSTABLE.V",{"$nulls":6},{"$f":"AM142 & \".V\"","v":"KMN.V"},"Объём","ед.",{"$f":"SUMIF($AS$9:$AT$9,AP$9,$AS144:$AT144)","v":{"v":0,"d":"0.00"}},{"v":0,"d":"0.00"},{"v":0,"d":"0.00"}]
[{"$nulls":31},"ADJUSTABLE.C",{"$nulls":6},"KP","калий фосфорнокислый","тыс.руб.",{"v":0,"d":"0.00"},{"v":0,"d":"0.00"},{"v":0,"d":"0.00"}]
[{"$nulls":31},"ADJUSTABLE.P",{"$nulls":6},{"$f":"AM145 & \".P\"","v":"KP.P"},"Цена за единицу","руб./ед.",{"$f":"IF(AP147=0,0,AP145*1000/AP147)","v":{"v":0,"d":"0.00"}},{"$f":"IF(AQ147=0,0,AQ145*1000/AQ147)","v":{"v":0,"d":"0.00"}},{"$f":"IF(AR147=0,0,AR145*1000/AR147)","v":{"v":0,"d":"0.00"}}]
[{"$nulls":31},"ADJUSTABLE.V",{"$nulls":6},{"$f":"AM145 & \".V\"","v":"KP.V"},"Объём","ед.",{"$f":"SUMIF($AS$9:$AT$9,AP$9,$AS147:$AT147)","v":{"v":0,"d":"0.00"}},{"v":0,"d":"0.00"},{"v":0,"d":"0.00"}]
[{"$nulls":31},"ADJUSTABLE.C",{"$nulls":6},"HCL","калий хлористый","тыс.руб.",{"v":0,"d":"0.00"},{"v":0,"d":"0.00"},{"v":0,"d":"0.00"}]
[{"$nulls":31},"ADJUSTABLE.P",{"$nulls":6},{"$f":"AM148 & \".P\"","v":"HCL.P"},"Цена за единицу","руб./ед.",{"$f":"IF(AP150=0,0,AP148*1000/AP150)","v":{"v":0,"d":"0.00"}},{"$f":"IF(AQ150=0,0,AQ148*1000/AQ150)","v":{"v":0,"d":"0.00"}},{"$f":"IF(AR150=0,0,AR148*1000/AR150)","v":{"v":0,"d":"0.00"}}]
[{"$nulls":31},"ADJUSTABLE.V",{"$nulls":6},{"$f":"AM148 & \".V\"","v":"HCL.V"},"Объём","ед.",{"$f":"SUMIF($AS$9:$AT$9,AP$9,$AS150:$AT150)","v":{"v":0,"d":"0.00"}},{"v":0,"d":"0.00"},{"v":0,"d":"0.00"}]
[{"$nulls":31},"ADJUSTABLE.C",{"$nulls":6},"KNA","калий-натрий виннокислый","тыс.руб.",{"v":0,"d":"0.00"},{"v":0,"d":"0.00"},{"v":0,"d":"0.00"}]
[{"$nulls":31},"ADJUSTABLE.P",{"$nulls":6},{"$f":"AM151 & \".P\"","v":"KNA.P"},"Цена за единицу","руб./ед.",{"$f":"IF(AP153=0,0,AP151*1000/AP153)","v":{"v":0,"d":"0.00"}},{"$f":"IF(AQ153=0,0,AQ151*1000/AQ153)","v":{"v":0,"d":"0.00"}},{"$f":"IF(AR153=0,0,AR151*1000/AR153)","v":{"v":0,"d":"0.00"}}]
[{"$nulls":31},"ADJUSTABLE.V",{"$nulls":6},{"$f":"AM151 & \".V\"","v":"KNA.V"},"Объём","ед.",{"$f":"SUMIF($AS$9:$AT$9,AP$9,$AS153:$AT153)","v":{"v":0,"d":"0.00"}},{"v":0,"d":"0.00"},{"v":0,"d":"0.00"}]
[{"$nulls":31},"ADJUSTABLE.C",{"$nulls":6},"CAC","кальций углекислый","тыс.руб.",{"v":0,"d":"0.00"},{"v":0,"d":"0.00"},{"v":0,"d":"0.00"}]
[{"$nulls":31},"ADJUSTABLE.P",{"$nulls":6},{"$f":"AM154 & \".P\"","v":"CAC.P"},"Цена за единицу","руб./ед.",{"$f":"IF(AP156=0,0,AP154*1000/AP156)","v":{"v":0,"d":"0.00"}},{"$f":"IF(AQ156=0,0,AQ154*1000/AQ156)","v":{"v":0,"d":"0.00"}},{"$f":"IF(AR156=0,0,AR154*1000/AR156)","v":{"v":0,"d":"0.00"}}]
[{"$nulls":31},"ADJUSTABLE.V",{"$nulls":6},{"$f":"AM154 & \".V\"","v":"CAC.V"},"Объём","ед.",{"$f":"SUMIF($AS$9:$AT$9,AP$9,$AS156:$AT156)","v":{"v":0,"d":"0.00"}},{"v":0,"d":"0.00"},{"v":0,"d":"0.00"}]
[{"$nulls":31},"ADJUSTABLE.C",{"$nulls":6},"CACL","кальций хлористый","тыс.руб.",{"v":0,"d":"0.00"},{"v":0,"d":"0.00"},{"v":0,"d":"0.00"}]
[{"$nulls":31},"ADJUSTABLE.P",{"$nulls":6},{"$f":"AM157 & \".P\"","v":"CACL.P"},"Цена за единицу","руб./ед.",{"$f":"IF(AP159=0,0,AP157*1000/AP159)","v":{"v":0,"d":"0.00"}},{"$f":"IF(AQ159=0,0,AQ157*1000/AQ159)","v":{"v":0,"d":"0.00"}},{"$f":"IF(AR159=0,0,AR157*1000/AR159)","v":{"v":0,"d":"0.00"}}]
[{"$nulls":31},"ADJUSTABLE.V",{"$nulls":6},{"$f":"AM157 & \".V\"","v":"CACL.V"},"Объём","ед.",{"$f":"SUMIF($AS$9:$AT$9,AP$9,$AS159:$AT159)","v":{"v":0,"d":"0.00"}},{"v":0,"d":"0.00"},{"v":0,"d":"0.00"}]
[{"$nulls":31},"ADJUSTABLE.C",{"$nulls":6},"CAHPCL","кальция гипохлорит","тыс.руб.",{"v":0,"d":"0.00"},{"v":0,"d":"0.00"},{"v":0,"d":"0.00"}]
[{"$nulls":31},"ADJUSTABLE.P",{"$nulls":6},{"$f":"AM160 & \".P\"","v":"CAHPCL.P"},"Цена за единицу","руб./ед.",{"$f":"IF(AP162=0,0,AP160*1000/AP162)","v":{"v":0,"d":"0.00"}},{"$f":"IF(AQ162=0,0,AQ160*1000/AQ162)","v":{"v":0,"d":"0.00"}},{"$f":"IF(AR162=0,0,AR160*1000/AR162)","v":{"v":0,"d":"0.00"}}]
[{"$nulls":31},"ADJUSTABLE.V",{"$nulls":6},{"$f":"AM160 & \".V\"","v":"CAHPCL.V"},"Объём","ед.",{"$f":"SUMIF($AS$9:$AT$9,AP$9,$AS162:$AT162)","v":{"v":0,"d":"0.00"}},{"v":0,"d":"0.00"},{"v":0,"d":"0.00"}]
[{"$nulls":31},"ADJUSTABLE.C",{"$nulls":6},"SAND","кварцевый песок","тыс.руб.",{"v":0,"d":"0.00"},{"v":0,"d":"0.00"},{"v":0,"d":"0.00"}]
[{"$nulls":31},"ADJUSTABLE.P",{"$nulls":6},{"$f":"AM163 & \".P\"","v":"SAND.P"},"Цена за единицу","руб./ед.",{"$f":"IF(AP165=0,0,AP163*1000/AP165)","v":{"v":0,"d":"0.00"}},{"$f":"IF(AQ165=0,0,AQ163*1000/AQ165)","v":{"v":0,"d":"0.00"}},{"$f":"IF(AR165=0,0,AR163*1000/AR165)","v":{"v":0,"d":"0.00"}}]
[{"$nulls":31},"ADJUSTABLE.V",{"$nulls":6},{"$f":"AM163 & \".V\"","v":"SAND.V"},"Объём","ед.",{"$f":"SUMIF($AS$9:$AT$9,AP$9,$AS165:$AT165)","v":{"v":0,"d":"0.00"}},{"v":0,"d":"0.00"},{"v":0,"d":"0.00"}]
[{"$nulls":31},"ADJUSTABLE.C",{"$nulls":6},"ACIDN","кислота азотная","тыс.руб.",{"v":0,"d":"0.00"},{"v":0,"d":"0.00"},{"v":0,"d":"0.00"}]
[{"$nulls":31},"ADJUSTABLE.P",{"$nulls":6},{"$f":"AM166 & \".P\"","v":"ACIDN.P"},"Цена за единицу","руб./ед.",{"$f":"IF(AP168=0,0,AP166*1000/AP168)","v":{"v":0,"d":"0.00"}},{"$f":"IF(AQ168=0,0,AQ166*1000/AQ168)","v":{"v":0,"d":"0.00"}},{"$f":"IF(AR168=0,0,AR166*1000/AR168)","v":{"v":0,"d":"0.00"}}]
[{"$nulls":31},"ADJUSTABLE.V",{"$nulls":6},{"$f":"AM166 & \".V\"","v":"ACIDN.V"},"Объём","ед.",{"$f":"SUMIF($AS$9:$AT$9,AP$9,$AS168:$AT168)","v":{"v":0,"d":"0.00"}},{"v":0,"d":"0.00"},{"v":0,"d":"0.00"}]
[{"$nulls":31},"ADJUSTABLE.C",{"$nulls":6},"ACIDA","кислота аскорбиновая","тыс.руб.",{"v":0,"d":"0.00"},{"v":0,"d":"0.00"},{"v":0,"d":"0.00"}]
[{"$nulls":31},"ADJUSTABLE.P",{"$nulls":6},{"$f":"AM169 & \".P\"","v":"ACIDA.P"},"Цена за единицу","руб./ед.",{"$f":"IF(AP171=0,0,AP169*1000/AP171)","v":{"v":0,"d":"0.00"}},{"$f":"IF(AQ171=0,0,AQ169*1000/AQ171)","v":{"v":0,"d":"0.00"}},{"$f":"IF(AR171=0,0,AR169*1000/AR171)","v":{"v":0,"d":"0.00"}}]
[{"$nulls":31},"ADJUSTABLE.V",{"$nulls":6},{"$f":"AM169 & \".V\"","v":"ACIDA.V"},"Объём","ед.",{"$f":"SUMIF($AS$9:$AT$9,AP$9,$AS171:$AT171)","v":{"v":0,"d":"0.00"}},{"v":0,"d":"0.00"},{"v":0,"d":"0.00"}]
[{"$nulls":31},"ADJUSTABLE.C",{"$nulls":6},"ACIDL","кислота лимонная","тыс.руб.",{"v":0,"d":"0.00"},{"v":0,"d":"0.00"},{"v":0,"d":"0.00"}]
[{"$nulls":31},"ADJUSTABLE.P",{"$nulls":6},{"$f":"AM172 & \".P\"","v":"ACIDL.P"},"Цена за единицу","руб./ед.",{"$f":"IF(AP174=0,0,AP172*1000/AP174)","v":{"v":0,"d":"0.00"}},{"$f":"IF(AQ174=0,0,AQ172*1000/AQ174)","v":{"v":0,"d":"0.00"}},{"$f":"IF(AR174=0,0,AR172*1000/AR174)","v":{"v":0,"d":"0.00"}}]
[{"$nulls":31},"ADJUSTABLE.V",{"$nulls":6},{"$f":"AM172 & \".V\"","v":"ACIDL.V"},"Объём","ед.",{"$f":"SUMIF($AS$9:$AT$9,AP$9,$AS174:$AT174)","v":{"v":0,"d":"0.00"}},{"v":0,"d":"0.00"},{"v":0,"d":"0.00"}]
[{"$nulls":31},"ADJUSTABLE.C",{"$nulls":6},"AURIN","кислота розоловая (аурин)","тыс.руб.",{"v":0,"d":"0.00"},{"v":0,"d":"0.00"},{"v":0,"d":"0.00"}]
[{"$nulls":31},"ADJUSTABLE.P",{"$nulls":6},{"$f":"AM175 & \".P\"","v":"AURIN.P"},"Цена за единицу","руб./ед.",{"$f":"IF(AP177=0,0,AP175*1000/AP177)","v":{"v":0,"d":"0.00"}},{"$f":"IF(AQ177=0,0,AQ175*1000/AQ177)","v":{"v":0,"d":"0.00"}},{"$f":"IF(AR177=0,0,AR175*1000/AR177)","v":{"v":0,"d":"0.00"}}]
[{"$nulls":31},"ADJUSTABLE.V",{"$nulls":6},{"$f":"AM175 & \".V\"","v":"AURIN.V"},"Объём","ед.",{"$f":"SUMIF($AS$9:$AT$9,AP$9,$AS177:$AT177)","v":{"v":0,"d":"0.00"}},{"v":0,"d":"0.00"},{"v":0,"d":"0.00"}]
[{"$nulls":31},"ADJUSTABLE.C",{"$nulls":6},"ACIDS","кислота серная","тыс.руб.",{"v":0,"d":"0.00"},{"v":0,"d":"0.00"},{"v":0,"d":"0.00"}]
[{"$nulls":31},"ADJUSTABLE.P",{"$nulls":6},{"$f":"AM178 & \".P\"","v":"ACIDS.P"},"Цена за единицу","руб./ед.",{"$f":"IF(AP180=0,0,AP178*1000/AP180)","v":{"v":0,"d":"0.00"}},{"$f":"IF(AQ180=0,0,AQ178*1000/AQ180)","v":{"v":0,"d":"0.00"}},{"$f":"IF(AR180=0,0,AR178*1000/AR180)","v":{"v":0,"d":"0.00"}}]
[{"$nulls":31},"ADJUSTABLE.V",{"$nulls":6},{"$f":"AM178 & \".V\"","v":"ACIDS.V"},"Объём","ед.",{"$f":"SUMIF($AS$9:$AT$9,AP$9,$AS180:$AT180)","v":{"v":0,"d":"0.00"}},{"v":0,"d":"0.00"},{"v":0,"d":"0.00"}]
[{"$nulls":31},"ADJUSTABLE.C",{"$nulls":6},"ADIDCL","кислота соляная","тыс.руб.",{"v":0,"d":"0.00"},{"v":0,"d":"0.00"},{"v":0,"d":"0.00"}]
[{"$nulls":31},"ADJUSTABLE.P",{"$nulls":6},{"$f":"AM181 & \".P\"","v":"ADIDCL.P"},"Цена за единицу","руб./ед.",{"$f":"IF(AP183=0,0,AP181*1000/AP183)","v":{"v":0,"d":"0.00"}},{"$f":"IF(AQ183=0,0,AQ181*1000/AQ183)","v":{"v":0,"d":"0.00"}},{"$f":"IF(AR183=0,0,AR181*1000/AR183)","v":{"v":0,"d":"0.00"}}]
[{"$nulls":31},"ADJUSTABLE.V",{"$nulls":6},{"$f":"AM181 & \".V\"","v":"ADIDCL.V"},"Объём","ед.",{"$f":"SUMIF($AS$9:$AT$9,AP$9,$AS183:$AT183)","v":{"v":0,"d":"0.00"}},{"v":0,"d":"0.00"},{"v":0,"d":"0.00"}]
[{"$nulls":31},"ADJUSTABLE.C",{"$nulls":6},"ACIDAC","кислота уксусная","тыс.руб.",{"v":0,"d":"0.00"},{"v":0,"d":"0.00"},{"v":0,"d":"0.00"}]
[{"$nulls":31},"ADJUSTABLE.P",{"$nulls":6},{"$f":"AM184 & \".P\"","v":"ACIDAC.P"},"Цена за единицу","руб./ед.",{"$f":"IF(AP186=0,0,AP184*1000/AP186)","v":{"v":0,"d":"0.00"}},{"$f":"IF(AQ186=0,0,AQ184*1000/AQ186)","v":{"v":0,"d":"0.00"}},{"$f":"IF(AR186=0,0,AR184*1000/AR186)","v":{"v":0,"d":"0.00"}}]
[{"$nulls":31},"ADJUSTABLE.V",{"$nulls":6},{"$f":"AM184 & \".V\"","v":"ACIDAC.V"},"Объём","ед.",{"$f":"SUMIF($AS$9:$AT$9,AP$9,$AS186:$AT186)","v":{"v":0,"d":"0.00"}},{"v":0,"d":"0.00"},{"v":0,"d":"0.00"}]
[{"$nulls":31},"ADJUSTABLE.C",{"$nulls":6},"ACIDOX","кислота щавелевая","тыс.руб.",{"v":0,"d":"0.00"},{"v":0,"d":"0.00"},{"v":0,"d":"0.00"}]
[{"$nulls":31},"ADJUSTABLE.P",{"$nulls":6},{"$f":"AM187 & \".P\"","v":"ACIDOX.P"},"Цена за единицу","руб./ед.",{"$f":"IF(AP189=0,0,AP187*1000/AP189)","v":{"v":0,"d":"0.00"}},{"$f":"IF(AQ189=0,0,AQ187*1000/AQ189)","v":{"v":0,"d":"0.00"}},{"$f":"IF(AR189=0,0,AR187*1000/AR189)","v":{"v":0,"d":"0.00"}}]
[{"$nulls":31},"ADJUSTABLE.V",{"$nulls":6},{"$f":"AM187 & \".V\"","v":"ACIDOX.V"},"Объём","ед.",{"$f":"SUMIF($AS$9:$AT$9,AP$9,$AS189:$AT189)","v":{"v":0,"d":"0.00"}},{"v":0,"d":"0.00"},{"v":0,"d":"0.00"}]
[{"$nulls":31},"ADJUSTABLE.C",{"$nulls":6},"STARCH","крахмал","тыс.руб.",{"v":0,"d":"0.00"},{"v":0,"d":"0.00"},{"v":0,"d":"0.00"}]
[{"$nulls":31},"ADJUSTABLE.P",{"$nulls":6},{"$f":"AM190 & \".P\"","v":"STARCH.P"},"Цена за единицу","руб./ед.",{"$f":"IF(AP192=0,0,AP190*1000/AP192)","v":{"v":0,"d":"0.00"}},{"$f":"IF(AQ192=0,0,AQ190*1000/AQ192)","v":{"v":0,"d":"0.00"}},{"$f":"IF(AR192=0,0,AR190*1000/AR192)","v":{"v":0,"d":"0.00"}}]
[{"$nulls":31},"ADJUSTABLE.V",{"$nulls":6},{"$f":"AM190 & \".V\"","v":"STARCH.V"},"Объём","ед.",{"$f":"SUMIF($AS$9:$AT$9,AP$9,$AS192:$AT192)","v":{"v":0,"d":"0.00"}},{"v":0,"d":"0.00"},{"v":0,"d":"0.00"}]
[{"$nulls":31},"ADJUSTABLE.C",{"$nulls":6},"LANTN","лантан азотнокислый","тыс.руб.",{"v":0,"d":"0.00"},{"v":0,"d":"0.00"},{"v":0,"d":"0.00"}]
[{"$nulls":31},"ADJUSTABLE.P",{"$nulls":6},{"$f":"AM193 & \".P\"","v":"LANTN.P"},"Цена за единицу","руб./ед.",{"$f":"IF(AP195=0,0,AP193*1000/AP195)","v":{"v":0,"d":"0.00"}},{"$f":"IF(AQ195=0,0,AQ193*1000/AQ195)","v":{"v":0,"d":"0.00"}},{"$f":"IF(AR195=0,0,AR193*1000/AR195)","v":{"v":0,"d":"0.00"}}]
[{"$nulls":31},"ADJUSTABLE.V",{"$nulls":6},{"$f":"AM193 & \".V\"","v":"LANTN.V"},"Объём","ед.",{"$f":"SUMIF($AS$9:$AT$9,AP$9,$AS195:$AT195)","v":{"v":0,"d":"0.00"}},{"v":0,"d":"0.00"},{"v":0,"d":"0.00"}]
[{"$nulls":31},"ADJUSTABLE.C",{"$nulls":6},"MGS","магний сернокислый","тыс.руб.",{"v":0,"d":"0.00"},{"v":0,"d":"0.00"},{"v":0,"d":"0.00"}]
[{"$nulls":31},"ADJUSTABLE.P",{"$nulls":6},{"$f":"AM196 & \".P\"","v":"MGS.P"},"Цена за единицу","руб./ед.",{"$f":"IF(AP198=0,0,AP196*1000/AP198)","v":{"v":0,"d":"0.00"}},{"$f":"IF(AQ198=0,0,AQ196*1000/AQ198)","v":{"v":0,"d":"0.00"}},{"$f":"IF(AR198=0,0,AR196*1000/AR198)","v":{"v":0,"d":"0.00"}}]
[{"$nulls":31},"ADJUSTABLE.V",{"$nulls":6},{"$f":"AM196 & \".V\"","v":"MGS.V"},"Объём","ед.",{"$f":"SUMIF($AS$9:$AT$9,AP$9,$AS198:$AT198)","v":{"v":0,"d":"0.00"}},{"v":0,"d":"0.00"},{"v":0,"d":"0.00"}]
[{"$nulls":31},"ADJUSTABLE.C",{"$nulls":6},"NATR","натр едкий","тыс.руб.",{"v":0,"d":"0.00"},{"v":0,"d":"0.00"},{"v":0,"d":"0.00"}]
[{"$nulls":31},"ADJUSTABLE.P",{"$nulls":6},{"$f":"AM199 & \".P\"","v":"NATR.P"},"Цена за единицу","руб./ед.",{"$f":"IF(AP201=0,0,AP199*1000/AP201)","v":{"v":0,"d":"0.00"}},{"$f":"IF(AQ201=0,0,AQ199*1000/AQ201)","v":{"v":0,"d":"0.00"}},{"$f":"IF(AR201=0,0,AR199*1000/AR201)","v":{"v":0,"d":"0.00"}}]
[{"$nulls":31},"ADJUSTABLE.V",{"$nulls":6},{"$f":"AM199 & \".V\"","v":"NATR.V"},"Объём","ед.",{"$f":"SUMIF($AS$9:$AT$9,AP$9,$AS201:$AT201)","v":{"v":0,"d":"0.00"}},{"v":0,"d":"0.00"},{"v":0,"d":"0.00"}]
[{"$nulls":31},"ADJUSTABLE.C",{"$nulls":6},"NAHDOX","натрий гидроокись","тыс.руб.",{"v":0,"d":"0.00"},{"v":0,"d":"0.00"},{"v":0,"d":"0.00"}]
[{"$nulls":31},"ADJUSTABLE.P",{"$nulls":6},{"$f":"AM202 & \".P\"","v":"NAHDOX.P"},"Цена за единицу","руб./ед.",{"$f":"IF(AP204=0,0,AP202*1000/AP204)","v":{"v":0,"d":"0.00"}},{"$f":"IF(AQ204=0,0,AQ202*1000/AQ204)","v":{"v":0,"d":"0.00"}},{"$f":"IF(AR204=0,0,AR202*1000/AR204)","v":{"v":0,"d":"0.00"}}]
[{"$nulls":31},"ADJUSTABLE.V",{"$nulls":6},{"$f":"AM202 & \".V\"","v":"NAHDOX.V"},"Объём","ед.",{"$f":"SUMIF($AS$9:$AT$9,AP$9,$AS204:$AT204)","v":{"v":0,"d":"0.00"}},{"v":0,"d":"0.00"},{"v":0,"d":"0.00"}]
[{"$nulls":31},"ADJUSTABLE.C",{"$nulls":6},"NASLC","натрий салициловокислый","тыс.руб.",{"v":0,"d":"0.00"},{"v":0,"d":"0.00"},{"v":0,"d":"0.00"}]
[{"$nulls":31},"ADJUSTABLE.P",{"$nulls":6},{"$f":"AM205 & \".P\"","v":"NASLC.P"},"Цена за единицу","руб./ед.",{"$f":"IF(AP207=0,0,AP205*1000/AP207)","v":{"v":0,"d":"0.00"}},{"$f":"IF(AQ207=0,0,AQ205*1000/AQ207)","v":{"v":0,"d":"0.00"}},{"$f":"IF(AR207=0,0,AR205*1000/AR207)","v":{"v":0,"d":"0.00"}}]
[{"$nulls":31},"ADJUSTABLE.V",{"$nulls":6},{"$f":"AM205 & \".V\"","v":"NASLC.V"},"Объём","ед.",{"$f":"SUMIF($AS$9:$AT$9,AP$9,$AS207:$AT207)","v":{"v":0,"d":"0.00"}},{"v":0,"d":"0.00"},{"v":0,"d":"0.00"}]
[{"$nulls":31},"ADJUSTABLE.C",{"$nulls":6},"NAS","натрий сернокислый","тыс.руб.",{"v":0,"d":"0.00"},{"v":0,"d":"0.00"},{"v":0,"d":"0.00"}]
[{"$nulls":31},"ADJUSTABLE.P",{"$nulls":6},{"$f":"AM208 & \".P\"","v":"NAS.P"},"Цена за единицу","руб./ед.",{"$f":"IF(AP210=0,0,AP208*1000/AP210)","v":{"v":0,"d":"0.00"}},{"$f":"IF(AQ210=0,0,AQ208*1000/AQ210)","v":{"v":0,"d":"0.00"}},{"$f":"IF(AR210=0,0,AR208*1000/AR210)","v":{"v":0,"d":"0.00"}}]
[{"$nulls":31},"ADJUSTABLE.V",{"$nulls":6},{"$f":"AM208 & \".V\"","v":"NAS.V"},"Объём","ед.",{"$f":"SUMIF($AS$9:$AT$9,AP$9,$AS210:$AT210)","v":{"v":0,"d":"0.00"}},{"v":0,"d":"0.00"},{"v":0,"d":"0.00"}]
[{"$nulls":31},"ADJUSTABLE.C",{"$nulls":6},"NAC","натрий углекислый","тыс.руб.",{"v":0,"d":"0.00"},{"v":0,"d":"0.00"},{"v":0,"d":"0.00"}]
[{"$nulls":31},"ADJUSTABLE.P",{"$nulls":6},{"$f":"AM211 & \".P\"","v":"NAC.P"},"Цена за единицу","руб./ед.",{"$f":"IF(AP213=0,0,AP211*1000/AP213)","v":{"v":0,"d":"0.00"}},{"$f":"IF(AQ213=0,0,AQ211*1000/AQ213)","v":{"v":0,"d":"0.00"}},{"$f":"IF(AR213=0,0,AR211*1000/AR213)","v":{"v":0,"d":"0.00"}}]
[{"$nulls":31},"ADJUSTABLE.V",{"$nulls":6},{"$f":"AM211 & \".V\"","v":"NAC.V"},"Объём","ед.",{"$f":"SUMIF($AS$9:$AT$9,AP$9,$AS213:$AT213)","v":{"v":0,"d":"0.00"}},{"v":0,"d":"0.00"},{"v":0,"d":"0.00"}]
[{"$nulls":31},"ADJUSTABLE.C",{"$nulls":6},"NAAC","натрий уксуснокислый","тыс.руб.",{"v":0,"d":"0.00"},{"v":0,"d":"0.00"},{"v":0,"d":"0.00"}]
[{"$nulls":31},"ADJUSTABLE.P",{"$nulls":6},{"$f":"AM214 & \".P\"","v":"NAAC.P"},"Цена за единицу","руб./ед.",{"$f":"IF(AP216=0,0,AP214*1000/AP216)","v":{"v":0,"d":"0.00"}},{"$f":"IF(AQ216=0,0,AQ214*1000/AQ216)","v":{"v":0,"d":"0.00"}},{"$f":"IF(AR216=0,0,AR214*1000/AR216)","v":{"v":0,"d":"0.00"}}]
[{"$nulls":31},"ADJUSTABLE.V",{"$nulls":6},{"$f":"AM214 & \".V\"","v":"NAAC.V"},"Объём","ед.",{"$f":"SUMIF($AS$9:$AT$9,AP$9,$AS216:$AT216)","v":{"v":0,"d":"0.00"}},{"v":0,"d":"0.00"},{"v":0,"d":"0.00"}]
[{"$nulls":31},"ADJUSTABLE.C",{"$nulls":6},"NACL","натрий хлористый","тыс.руб.",{"v":0,"d":"0.00"},{"v":0,"d":"0.00"},{"v":0,"d":"0.00"}]
[{"$nulls":31},"ADJUSTABLE.P",{"$nulls":6},{"$f":"AM217 & \".P\"","v":"NACL.P"},"Цена за единицу","руб./ед.",{"$f":"IF(AP219=0,0,AP217*1000/AP219)","v":{"v":0,"d":"0.00"}},{"$f":"IF(AQ219=0,0,AQ217*1000/AQ219)","v":{"v":0,"d":"0.00"}},{"$f":"IF(AR219=0,0,AR217*1000/AR219)","v":{"v":0,"d":"0.00"}}]
[{"$nulls":31},"ADJUSTABLE.V",{"$nulls":6},{"$f":"AM217 & \".V\"","v":"NACL.V"},"Объём","ед.",{"$f":"SUMIF($AS$9:$AT$9,AP$9,$AS219:$AT219)","v":{"v":0,"d":"0.00"}},{"v":0,"d":"0.00"},{"v":0,"d":"0.00"}]
[{"$nulls":31},"ADJUSTABLE.C",{"$nulls":6},"RGRS","реактив Грисса","тыс.руб.",{"v":0,"d":"0.00"},{"v":0,"d":"0.00"},{"v":0,"d":"0.00"}]
[{"$nulls":31},"ADJUSTABLE.P",{"$nulls":6},{"$f":"AM220 & \".P\"","v":"RGRS.P"},"Цена за единицу","руб./ед.",{"$f":"IF(AP222=0,0,AP220*1000/AP222)","v":{"v":0,"d":"0.00"}},{"$f":"IF(AQ222=0,0,AQ220*1000/AQ222)","v":{"v":0,"d":"0.00"}},{"$f":"IF(AR222=0,0,AR220*1000/AR222)","v":{"v":0,"d":"0.00"}}]
[{"$nulls":31},"ADJUSTABLE.V",{"$nulls":6},{"$f":"AM220 & \".V\"","v":"RGRS.V"},"Объём","ед.",{"$f":"SUMIF($AS$9:$AT$9,AP$9,$AS222:$AT222)","v":{"v":0,"d":"0.00"}},{"v":0,"d":"0.00"},{"v":0,"d":"0.00"}]
[{"$nulls":31},"ADJUSTABLE.C",{"$nulls":6},"RNSL","реактив Несслера","тыс.руб.",{"v":0,"d":"0.00"},{"v":0,"d":"0.00"},{"v":0,"d":"0.00"}]
[{"$nulls":31},"ADJUSTABLE.P",{"$nulls":6},{"$f":"AM223 & \".P\"","v":"RNSL.P"},"Цена за единицу","руб./ед.",{"$f":"IF(AP225=0,0,AP223*1000/AP225)","v":{"v":0,"d":"0.00"}},{"$f":"IF(AQ225=0,0,AQ223*1000/AQ225)","v":{"v":0,"d":"0.00"}},{"$f":"IF(AR225=0,0,AR223*1000/AR225)","v":{"v":0,"d":"0.00"}}]
[{"$nulls":31},"ADJUSTABLE.V",{"$nulls":6},{"$f":"AM223 & \".V\"","v":"RNSL.V"},"Объём","ед.",{"$f":"SUMIF($AS$9:$AT$9,AP$9,$AS225:$AT225)","v":{"v":0,"d":"0.00"}},{"v":0,"d":"0.00"},{"v":0,"d":"0.00"}]
[{"$nulls":31},"ADJUSTABLE.C",{"$nulls":6},"PBAC","свинец уксуснокислый","тыс.руб.",{"v":0,"d":"0.00"},{"v":0,"d":"0.00"},{"v":0,"d":"0.00"}]
[{"$nulls":31},"ADJUSTABLE.P",{"$nulls":6},{"$f":"AM226 & \".P\"","v":"PBAC.P"},"Цена за единицу","руб./ед.",{"$f":"IF(AP228=0,0,AP226*1000/AP228)","v":{"v":0,"d":"0.00"}},{"$f":"IF(AQ228=0,0,AQ226*1000/AQ228)","v":{"v":0,"d":"0.00"}},{"$f":"IF(AR228=0,0,AR226*1000/AR228)","v":{"v":0,"d":"0.00"}}]
[{"$nulls":31},"ADJUSTABLE.V",{"$nulls":6},{"$f":"AM226 & \".V\"","v":"PBAC.V"},"Объём","ед.",{"$f":"SUMIF($AS$9:$AT$9,AP$9,$AS228:$AT228)","v":{"v":0,"d":"0.00"}},{"v":0,"d":"0.00"},{"v":0,"d":"0.00"}]
[{"$nulls":31},"ADJUSTABLE.C",{"$nulls":6},"AGN","серебро азотнокислое","тыс.руб.",{"v":0,"d":"0.00"},{"v":0,"d":"0.00"},{"v":0,"d":"0.00"}]
[{"$nulls":31},"ADJUSTABLE.P",{"$nulls":6},{"$f":"AM229 & \".P\"","v":"AGN.P"},"Цена за единицу","руб./ед.",{"$f":"IF(AP231=0,0,AP229*1000/AP231)","v":{"v":0,"d":"0.00"}},{"$f":"IF(AQ231=0,0,AQ229*1000/AQ231)","v":{"v":0,"d":"0.00"}},{"$f":"IF(AR231=0,0,AR229*1000/AR231)","v":{"v":0,"d":"0.00"}}]
[{"$nulls":31},"ADJUSTABLE.V",{"$nulls":6},{"$f":"AM229 & \".V\"","v":"AGN.V"},"Объём","ед.",{"$f":"SUMIF($AS$9:$AT$9,AP$9,$AS231:$AT231)","v":{"v":0,"d":"0.00"}},{"v":0,"d":"0.00"},{"v":0,"d":"0.00"}]
[{"$nulls":31},"ADJUSTABLE.C",{"$nulls":6},"AGS","серебро сернокислое","тыс.руб.",{"v":0,"d":"0.00"},{"v":0,"d":"0.00"},{"v":0,"d":"0.00"}]
[{"$nulls":31},"ADJUSTABLE.P",{"$nulls":6},{"$f":"AM232 & \".P\"","v":"AGS.P"},"Цена за единицу","руб./ед.",{"$f":"IF(AP234=0,0,AP232*1000/AP234)","v":{"v":0,"d":"0.00"}},{"$f":"IF(AQ234=0,0,AQ232*1000/AQ234)","v":{"v":0,"d":"0.00"}},{"$f":"IF(AR234=0,0,AR232*1000/AR234)","v":{"v":0,"d":"0.00"}}]
[{"$nulls":31},"ADJUSTABLE.V",{"$nulls":6},{"$f":"AM232 & \".V\"","v":"AGS.V"},"Объём","ед.",{"$f":"SUMIF($AS$9:$AT$9,AP$9,$AS234:$AT234)","v":{"v":0,"d":"0.00"}},{"v":0,"d":"0.00"},{"v":0,"d":"0.00"}]
[{"$nulls":31},"ADJUSTABLE.C",{"$nulls":6},"SODACA","сода кальцинированная","тыс.руб.",{"v":0,"d":"0.00"},{"v":0,"d":"0.00"},{"v":0,"d":"0.00"}]
[{"$nulls":31},"ADJUSTABLE.P",{"$nulls":6},{"$f":"AM235 & \".P\"","v":"SODACA.P"},"Цена за единицу","руб./ед.",{"$f":"IF(AP237=0,0,AP235*1000/AP237)","v":{"v":0,"d":"0.00"}},{"$f":"IF(AQ237=0,0,AQ235*1000/AQ237)","v":{"v":0,"d":"0.00"}},{"$f":"IF(AR237=0,0,AR235*1000/AR237)","v":{"v":0,"d":"0.00"}}]
[{"$nulls":31},"ADJUSTABLE.V",{"$nulls":6},{"$f":"AM235 & \".V\"","v":"SODACA.V"},"Объём","ед.",{"$f":"SUMIF($AS$9:$AT$9,AP$9,$AS237:$AT237)","v":{"v":0,"d":"0.00"}},{"v":0,"d":"0.00"},{"v":0,"d":"0.00"}]
[{"$nulls":31},"ADJUSTABLE.C",{"$nulls":6},"SODACS","сода каустическая","тыс.руб.",{"v":0,"d":"0.00"},{"v":0,"d":"0.00"},{"v":0,"d":"0.00"}]
[{"$nulls":31},"ADJUSTABLE.P",{"$nulls":6},{"$f":"AM238 & \".P\"","v":"SODACS.P"},"Цена за единицу","руб./ед.",{"$f":"IF(AP240=0,0,AP238*1000/AP240)","v":{"v":0,"d":"0.00"}},{"$f":"IF(AQ240=0,0,AQ238*1000/AQ240)","v":{"v":0,"d":"0.00"}},{"$f":"IF(AR240=0,0,AR238*1000/AR240)","v":{"v":0,"d":"0.00"}}]
[{"$nulls":31},"ADJUSTABLE.V",{"$nulls":6},{"$f":"AM238 & \".V\"","v":"SODACS.V"},"Объём","ед.",{"$f":"SUMIF($AS$9:$AT$9,AP$9,$AS240:$AT240)","v":{"v":0,"d":"0.00"}},{"v":0,"d":"0.00"},{"v":0,"d":"0.00"}]
[{"$nulls":31},"ADJUSTABLE.C",{"$nulls":6},"SALT1G","соль 1 сорт","тыс.руб.",{"v":0,"d":"0.00"},{"v":0,"d":"0.00"},{"v":0,"d":"0.00"}]
[{"$nulls":31},"ADJUSTABLE.P",{"$nulls":6},{"$f":"AM241 & \".P\"","v":"SALT1G.P"},"Цена за единицу","руб./ед.",{"$f":"IF(AP243=0,0,AP241*1000/AP243)","v":{"v":0,"d":"0.00"}},{"$f":"IF(AQ243=0,0,AQ241*1000/AQ243)","v":{"v":0,"d":"0.00"}},{"$f":"IF(AR243=0,0,AR241*1000/AR243)","v":{"v":0,"d":"0.00"}}]
[{"$nulls":31},"ADJUSTABLE.V",{"$nulls":6},{"$f":"AM241 & \".V\"","v":"SALT1G.V"},"Объём","ед.",{"$f":"SUMIF($AS$9:$AT$9,AP$9,$AS243:$AT243)","v":{"v":0,"d":"0.00"}},{"v":0,"d":"0.00"},{"v":0,"d":"0.00"}]
[{"$nulls":31},"ADJUSTABLE.C",{"$nulls":6},"SALT","соль пищевая поваренная","тыс.руб.",{"v":0,"d":"0.00"},{"v":0,"d":"0.00"},{"v":0,"d":"0.00"}]
[{"$nulls":31},"ADJUSTABLE.P",{"$nulls":6},{"$f":"AM244 & \".P\"","v":"SALT.P"},"Цена за единицу","руб./ед.",{"$f":"IF(AP246=0,0,AP244*1000/AP246)","v":{"v":0,"d":"0.00"}},{"$f":"IF(AQ246=0,0,AQ244*1000/AQ246)","v":{"v":0,"d":"0.00"}},{"$f":"IF(AR246=0,0,AR244*1000/AR246)","v":{"v":0,"d":"0.00"}}]
[{"$nulls":31},"ADJUSTABLE.V",{"$nulls":6},{"$f":"AM244 & \".V\"","v":"SALT.V"},"Объём","ед.",{"$f":"SUMIF($AS$9:$AT$9,AP$9,$AS246:$AT246)","v":{"v":0,"d":"0.00"}},{"v":0,"d":"0.00"},{"v":0,"d":"0.00"}]
[{"$nulls":31},"ADJUSTABLE.C",{"$nulls":6},"SALTPL","соль таблетированная","тыс.руб.",{"v":0,"d":"0.00"},{"v":0,"d":"0.00"},{"v":0,"d":"0.00"}]
[{"$nulls":31},"ADJUSTABLE.P",{"$nulls":6},{"$f":"AM247 & \".P\"","v":"SALTPL.P"},"Цена за единицу","руб./ед.",{"$f":"IF(AP249=0,0,AP247*1000/AP249)","v":{"v":0,"d":"0.00"}},{"$f":"IF(AQ249=0,0,AQ247*1000/AQ249)","v":{"v":0,"d":"0.00"}},{"$f":"IF(AR249=0,0,AR247*1000/AR249)","v":{"v":0,"d":"0.00"}}]
[{"$nulls":31},"ADJUSTABLE.V",{"$nulls":6},{"$f":"AM247 & \".V\"","v":"SALTPL.V"},"Объём","ед.",{"$f":"SUMIF($AS$9:$AT$9,AP$9,$AS249:$AT249)","v":{"v":0,"d":"0.00"}},{"v":0,"d":"0.00"},{"v":0,"d":"0.00"}]
[{"$nulls":31},"ADJUSTABLE.C",{"$nulls":6},"SALTTH","соль техническая","тыс.руб.",{"v":0,"d":"0.00"},{"v":0,"d":"0.00"},{"v":0,"d":"0.00"}]
[{"$nulls":31},"ADJUSTABLE.P",{"$nulls":6},{"$f":"AM250 & \".P\"","v":"SALTTH.P"},"Цена за единицу","руб./ед.",{"$f":"IF(AP252=0,0,AP250*1000/AP252)","v":{"v":0,"d":"0.00"}},{"$f":"IF(AQ252=0,0,AQ250*1000/AQ252)","v":{"v":0,"d":"0.00"}},{"$f":"IF(AR252=0,0,AR250*1000/AR252)","v":{"v":0,"d":"0.00"}}]
[{"$nulls":31},"ADJUSTABLE.V",{"$nulls":6},{"$f":"AM250 & \".V\"","v":"SALTTH.V"},"Объём","ед.",{"$f":"SUMIF($AS$9:$AT$9,AP$9,$AS252:$AT252)","v":{"v":0,"d":"0.00"}},{"v":0,"d":"0.00"},{"v":0,"d":"0.00"}]
[{"$nulls":31},"ADJUSTABLE.C",{"$nulls":6},"SALTEX","соль экстра","тыс.руб.",{"v":0,"d":"0.00"},{"v":0,"d":"0.00"},{"v":0,"d":"0.00"}]
[{"$nulls":31},"ADJUSTABLE.P",{"$nulls":6},{"$f":"AM253 & \".P\"","v":"SALTEX.P"},"Цена за единицу","руб./ед.",{"$f":"IF(AP255=0,0,AP253*1000/AP255)","v":{"v":0,"d":"0.00"}},{"$f":"IF(AQ255=0,0,AQ253*1000/AQ255)","v":{"v":0,"d":"0.00"}},{"$f":"IF(AR255=0,0,AR253*1000/AR255)","v":{"v":0,"d":"0.00"}}]
[{"$nulls":31},"ADJUSTABLE.V",{"$nulls":6},{"$f":"AM253 & \".V\"","v":"SALTEX.V"},"Объём","ед.",{"$f":"SUMIF($AS$9:$AT$9,AP$9,$AS255:$AT255)","v":{"v":0,"d":"0.00"}},{"v":0,"d":"0.00"},{"v":0,"d":"0.00"}]
[{"$nulls":31},"ADJUSTABLE.C",{"$nulls":6},"C2H5OH","спирт","тыс.руб.",{"v":0,"d":"0.00"},{"v":0,"d":"0.00"},{"v":0,"d":"0.00"}]
[{"$nulls":31},"ADJUSTABLE.P",{"$nulls":6},{"$f":"AM256 & \".P\"","v":"C2H5OH.P"},"Цена за единицу","руб./ед.",{"$f":"IF(AP258=0,0,AP256*1000/AP258)","v":{"v":0,"d":"0.00"}},{"$f":"IF(AQ258=0,0,AQ256*1000/AQ258)","v":{"v":0,"d":"0.00"}},{"$f":"IF(AR258=0,0,AR256*1000/AR258)","v":{"v":0,"d":"0.00"}}]
[{"$nulls":31},"ADJUSTABLE.V",{"$nulls":6},{"$f":"AM256 & \".V\"","v":"C2H5OH.V"},"Объём","ед.",{"$f":"SUMIF($AS$9:$AT$9,AP$9,$AS258:$AT258)","v":{"v":0,"d":"0.00"}},{"v":0,"d":"0.00"},{"v":0,"d":"0.00"}]
[{"$nulls":31},"ADJUSTABLE.C",{"$nulls":6},"SFAL1G","сульфат алюминия 1 сорт","тыс.руб.",{"v":0,"d":"0.00"},{"v":0,"d":"0.00"},{"v":0,"d":"0.00"}]
[{"$nulls":31},"ADJUSTABLE.P",{"$nulls":6},{"$f":"AM259 & \".P\"","v":"SFAL1G.P"},"Цена за единицу","руб./ед.",{"$f":"IF(AP261=0,0,AP259*1000/AP261)","v":{"v":0,"d":"0.00"}},{"$f":"IF(AQ261=0,0,AQ259*1000/AQ261)","v":{"v":0,"d":"0.00"}},{"$f":"IF(AR261=0,0,AR259*1000/AR261)","v":{"v":0,"d":"0.00"}}]
[{"$nulls":31},"ADJUSTABLE.V",{"$nulls":6},{"$f":"AM259 & \".V\"","v":"SFAL1G.V"},"Объём","ед.",{"$f":"SUMIF($AS$9:$AT$9,AP$9,$AS261:$AT261)","v":{"v":0,"d":"0.00"}},{"v":0,"d":"0.00"},{"v":0,"d":"0.00"}]
[{"$nulls":31},"ADJUSTABLE.C",{"$nulls":6},"SFALLQD","сульфат алюминия жидкий","тыс.руб.",{"v":0,"d":"0.00"},{"v":0,"d":"0.00"},{"v":0,"d":"0.00"}]
[{"$nulls":31},"ADJUSTABLE.P",{"$nulls":6},{"$f":"AM262 & \".P\"","v":"SFALLQD.P"},"Цена за единицу","руб./ед.",{"$f":"IF(AP264=0,0,AP262*1000/AP264)","v":{"v":0,"d":"0.00"}},{"$f":"IF(AQ264=0,0,AQ262*1000/AQ264)","v":{"v":0,"d":"0.00"}},{"$f":"IF(AR264=0,0,AR262*1000/AR264)","v":{"v":0,"d":"0.00"}}]
[{"$nulls":31},"ADJUSTABLE.V",{"$nulls":6},{"$f":"AM262 & \".V\"","v":"SFALLQD.V"},"Объём","ед.",{"$f":"SUMIF($AS$9:$AT$9,AP$9,$AS264:$AT264)","v":{"v":0,"d":"0.00"}},{"v":0,"d":"0.00"},{"v":0,"d":"0.00"}]
[{"$nulls":31},"ADJUSTABLE.C",{"$nulls":6},"SFALT","сульфат алюминия технический","тыс.руб.",{"v":0,"d":"0.00"},{"v":0,"d":"0.00"},{"v":0,"d":"0.00"}]
[{"$nulls":31},"ADJUSTABLE.P",{"$nulls":6},{"$f":"AM265 & \".P\"","v":"SFALT.P"},"Цена за единицу","руб./ед.",{"$f":"IF(AP267=0,0,AP265*1000/AP267)","v":{"v":0,"d":"0.00"}},{"$f":"IF(AQ267=0,0,AQ265*1000/AQ267)","v":{"v":0,"d":"0.00"}},{"$f":"IF(AR267=0,0,AR265*1000/AR267)","v":{"v":0,"d":"0.00"}}]
[{"$nulls":31},"ADJUSTABLE.V",{"$nulls":6},{"$f":"AM265 & \".V\"","v":"SFALT.V"},"Объём","ед.",{"$f":"SUMIF($AS$9:$AT$9,AP$9,$AS267:$AT267)","v":{"v":0,"d":"0.00"}},{"v":0,"d":"0.00"},{"v":0,"d":"0.00"}]
[{"$nulls":31},"ADJUSTABLE.C",{"$nulls":6},"SFAMN","сульфат аммония","тыс.руб.",{"v":0,"d":"0.00"},{"v":0,"d":"0.00"},{"v":0,"d":"0.00"}]
[{"$nulls":31},"ADJUSTABLE.P",{"$nulls":6},{"$f":"AM268 & \".P\"","v":"SFAMN.P"},"Цена за единицу","руб./ед.",{"$f":"IF(AP270=0,0,AP268*1000/AP270)","v":{"v":0,"d":"0.00"}},{"$f":"IF(AQ270=0,0,AQ268*1000/AQ270)","v":{"v":0,"d":"0.00"}},{"$f":"IF(AR270=0,0,AR268*1000/AR270)","v":{"v":0,"d":"0.00"}}]
[{"$nulls":31},"ADJUSTABLE.V",{"$nulls":6},{"$f":"AM268 & \".V\"","v":"SFAMN.V"},"Объём","ед.",{"$f":"SUMIF($AS$9:$AT$9,AP$9,$AS270:$AT270)","v":{"v":0,"d":"0.00"}},{"v":0,"d":"0.00"},{"v":0,"d":"0.00"}]
[{"$nulls":31},"ADJUSTABLE.C",{"$nulls":6},"TM","тиомочевина","тыс.руб.",{"v":0,"d":"0.00"},{"v":0,"d":"0.00"},{"v":0,"d":"0.00"}]
[{"$nulls":31},"ADJUSTABLE.P",{"$nulls":6},{"$f":"AM271 & \".P\"","v":"TM.P"},"Цена за единицу","руб./ед.",{"$f":"IF(AP273=0,0,AP271*1000/AP273)","v":{"v":0,"d":"0.00"}},{"$f":"IF(AQ273=0,0,AQ271*1000/AQ273)","v":{"v":0,"d":"0.00"}},{"$f":"IF(AR273=0,0,AR271*1000/AR273)","v":{"v":0,"d":"0.00"}}]
[{"$nulls":31},"ADJUSTABLE.V",{"$nulls":6},{"$f":"AM271 & \".V\"","v":"TM.V"},"Объём","ед.",{"$f":"SUMIF($AS$9:$AT$9,AP$9,$AS273:$AT273)","v":{"v":0,"d":"0.00"}},{"v":0,"d":"0.00"},{"v":0,"d":"0.00"}]
[{"$nulls":31},"ADJUSTABLE.C",{"$nulls":6},"TSFNA","тиосульфат натрия","тыс.руб.",{"v":0,"d":"0.00"},{"v":0,"d":"0.00"},{"v":0,"d":"0.00"}]
[{"$nulls":31},"ADJUSTABLE.P",{"$nulls":6},{"$f":"AM274 & \".P\"","v":"TSFNA.P"},"Цена за единицу","руб./ед.",{"$f":"IF(AP276=0,0,AP274*1000/AP276)","v":{"v":0,"d":"0.00"}},{"$f":"IF(AQ276=0,0,AQ274*1000/AQ276)","v":{"v":0,"d":"0.00"}},{"$f":"IF(AR276=0,0,AR274*1000/AR276)","v":{"v":0,"d":"0.00"}}]
[{"$nulls":31},"ADJUSTABLE.V",{"$nulls":6},{"$f":"AM274 & \".V\"","v":"TSFNA.V"},"Объём","ед.",{"$f":"SUMIF($AS$9:$AT$9,AP$9,$AS276:$AT276)","v":{"v":0,"d":"0.00"}},{"v":0,"d":"0.00"},{"v":0,"d":"0.00"}]
[{"$nulls":31},"ADJUSTABLE.C",{"$nulls":6},"CCL4","углерод четырёххлористый","тыс.руб.",{"v":0,"d":"0.00"},{"v":0,"d":"0.00"},{"v":0,"d":"0.00"}]
[{"$nulls":31},"ADJUSTABLE.P",{"$nulls":6},{"$f":"AM277 & \".P\"","v":"CCL4.P"},"Цена за единицу","руб./ед.",{"$f":"IF(AP279=0,0,AP277*1000/AP279)","v":{"v":0,"d":"0.00"}},{"$f":"IF(AQ279=0,0,AQ277*1000/AQ279)","v":{"v":0,"d":"0.00"}},{"$f":"IF(AR279=0,0,AR277*1000/AR279)","v":{"v":0,"d":"0.00"}}]
[{"$nulls":31},"ADJUSTABLE.V",{"$nulls":6},{"$f":"AM277 & \".V\"","v":"CCL4.V"},"Объём","ед.",{"$f":"SUMIF($AS$9:$AT$9,AP$9,$AS279:$AT279)","v":{"v":0,"d":"0.00"}},{"v":0,"d":"0.00"},{"v":0,"d":"0.00"}]
[{"$nulls":31},"ADJUSTABLE.C",{"$nulls":6},"FFTLN","фенолфталеин","тыс.руб.",{"v":0,"d":"0.00"},{"v":0,"d":"0.00"},{"v":0,"d":"0.00"}]
[{"$nulls":31},"ADJUSTABLE.P",{"$nulls":6},{"$f":"AM280 & \".P\"","v":"FFTLN.P"},"Цена за единицу","руб./ед.",{"$f":"IF(AP282=0,0,AP280*1000/AP282)","v":{"v":0,"d":"0.00"}},{"$f":"IF(AQ282=0,0,AQ280*1000/AQ282)","v":{"v":0,"d":"0.00"}},{"$f":"IF(AR282=0,0,AR280*1000/AR282)","v":{"v":0,"d":"0.00"}}]
[{"$nulls":31},"ADJUSTABLE.V",{"$nulls":6},{"$f":"AM280 & \".V\"","v":"FFTLN.V"},"Объём","ед.",{"$f":"SUMIF($AS$9:$AT$9,AP$9,$AS282:$AT282)","v":{"v":0,"d":"0.00"}},{"v":0,"d":"0.00"},{"v":0,"d":"0.00"}]
[{"$nulls":31},"ADJUSTABLE.C",{"$nulls":6},"CL","хлор","тыс.руб.",{"v":0,"d":"0.00"},{"v":0,"d":"0.00"},{"v":0,"d":"0.00"}]
[{"$nulls":31},"ADJUSTABLE.P",{"$nulls":6},{"$f":"AM283 & \".P\"","v":"CL.P"},"Цена за единицу","руб./ед.",{"$f":"IF(AP285=0,0,AP283*1000/AP285)","v":{"v":0,"d":"0.00"}},{"$f":"IF(AQ285=0,0,AQ283*1000/AQ285)","v":{"v":0,"d":"0.00"}},{"$f":"IF(AR285=0,0,AR283*1000/AR285)","v":{"v":0,"d":"0.00"}}]
[{"$nulls":31},"ADJUSTABLE.V",{"$nulls":6},{"$f":"AM283 & \".V\"","v":"CL.V"},"Объём","ед.",{"$f":"SUMIF($AS$9:$AT$9,AP$9,$AS285:$AT285)","v":{"v":0,"d":"0.00"}},{"v":0,"d":"0.00"},{"v":0,"d":"0.00"}]
[{"$nulls":31},"ADJUSTABLE.C",{"$nulls":6},"CLLIQ","хлор жидкий","тыс.руб.",{"v":0,"d":"0.00"},{"v":0,"d":"0.00"},{"v":0,"d":"0.00"}]
[{"$nulls":31},"ADJUSTABLE.P",{"$nulls":6},{"$f":"AM286 & \".P\"","v":"CLLIQ.P"},"Цена за единицу","руб./ед.",{"$f":"IF(AP288=0,0,AP286*1000/AP288)","v":{"v":0,"d":"0.00"}},{"$f":"IF(AQ288=0,0,AQ286*1000/AQ288)","v":{"v":0,"d":"0.00"}},{"$f":"IF(AR288=0,0,AR286*1000/AR288)","v":{"v":0,"d":"0.00"}}]
[{"$nulls":31},"ADJUSTABLE.V",{"$nulls":6},{"$f":"AM286 & \".V\"","v":"CLLIQ.V"},"Объём","ед.",{"$f":"SUMIF($AS$9:$AT$9,AP$9,$AS288:$AT288)","v":{"v":0,"d":"0.00"}},{"v":0,"d":"0.00"},{"v":0,"d":"0.00"}]
[{"$nulls":31},"ADJUSTABLE.C",{"$nulls":6},"CLAMN","хлорамин","тыс.руб.",{"v":0,"d":"0.00"},{"v":0,"d":"0.00"},{"v":0,"d":"0.00"}]
[{"$nulls":31},"ADJUSTABLE.P",{"$nulls":6},{"$f":"AM289 & \".P\"","v":"CLAMN.P"},"Цена за единицу","руб./ед.",{"$f":"IF(AP291=0,0,AP289*1000/AP291)","v":{"v":0,"d":"0.00"}},{"$f":"IF(AQ291=0,0,AQ289*1000/AQ291)","v":{"v":0,"d":"0.00"}},{"$f":"IF(AR291=0,0,AR289*1000/AR291)","v":{"v":0,"d":"0.00"}}]
[{"$nulls":31},"ADJUSTABLE.V",{"$nulls":6},{"$f":"AM289 & \".V\"","v":"CLAMN.V"},"Объём","ед.",{"$f":"SUMIF($AS$9:$AT$9,AP$9,$AS291:$AT291)","v":{"v":0,"d":"0.00"}},{"v":0,"d":"0.00"},{"v":0,"d":"0.00"}]
[{"$nulls":31},"ADJUSTABLE.C",{"$nulls":6},"CLFRM","хлороформ","тыс.руб.",{"v":0,"d":"0.00"},{"v":0,"d":"0.00"},{"v":0,"d":"0.00"}]
[{"$nulls":31},"ADJUSTABLE.P",{"$nulls":6},{"$f":"AM292 & \".P\"","v":"CLFRM.P"},"Цена за единицу","руб./ед.",{"$f":"IF(AP294=0,0,AP292*1000/AP294)","v":{"v":0,"d":"0.00"}},{"$f":"IF(AQ294=0,0,AQ292*1000/AQ294)","v":{"v":0,"d":"0.00"}},{"$f":"IF(AR294=0,0,AR292*1000/AR294)","v":{"v":0,"d":"0.00"}}]
[{"$nulls":31},"ADJUSTABLE.V",{"$nulls":6},{"$f":"AM292 & \".V\"","v":"CLFRM.V"},"Объём","ед.",{"$f":"SUMIF($AS$9:$AT$9,AP$9,$AS294:$AT294)","v":{"v":0,"d":"0.00"}},{"v":0,"d":"0.00"},{"v":0,"d":"0.00"}]
[{"$nulls":31},"ADJUSTABLE.C",{"$nulls":6},"ETHL","этиленгликоль","тыс.руб.",{"v":0,"d":"0.00"},{"v":0,"d":"0.00"},{"v":0,"d":"0.00"}]
[{"$nulls":31},"ADJUSTABLE.P",{"$nulls":6},{"$f":"AM295 & \".P\"","v":"ETHL.P"},"Цена за единицу","руб./ед.",{"$f":"IF(AP297=0,0,AP295*1000/AP297)","v":{"v":0,"d":"0.00"}},{"$f":"IF(AQ297=0,0,AQ295*1000/AQ297)","v":{"v":0,"d":"0.00"}},{"$f":"IF(AR297=0,0,AR295*1000/AR297)","v":{"v":0,"d":"0.00"}}]
[{"$nulls":31},"ADJUSTABLE.V",{"$nulls":6},{"$f":"AM295 & \".V\"","v":"ETHL.V"},"Объём","ед.",{"$f":"SUMIF($AS$9:$AT$9,AP$9,$AS297:$AT297)","v":{"v":0,"d":"0.00"}},{"v":0,"d":"0.00"},{"v":0,"d":"0.00"}]
[{"$nulls":31},"ADJUSTABLE.OTH",{"$nulls":6},"OTH","прочие","тыс.руб.",{"v":0,"d":"0.00"},{"v":0,"d":"0.00"},{"v":0,"d":"0.00"}]
[]
[]
[{"$nulls":31},"ADJUSTABLE.OTH",{"$nulls":6},"OTH","Прочие","тыс.руб.",{"$f":"SUMIF($AS$9:$AT$9,AP$9,$AS301:$AT301)","v":{"v":0,"d":"0.00"}},{"$f":"SUMIF($AS$9:$AT$9,AQ$9,$AS301:$AT301)","v":{"v":0,"d":"0.00"}},{"$f":"SUMIF($AS$9:$AT$9,AR$9,$AS301:$AT301)","v":{"v":0,"d":"0.00"}}]
[]
[{"$nulls":38},"21","Полезный отпуск продукции всего","тыс.куб.м"]

{"sheet":"БПр","index":19,"n_rows":160,"n_cols":53,"rows_kept":160,"merged":[[0,1,27,1],[0,5,1,5],[0,6,1,6],[2,2,14,2],[15,2,27,2],[28,1,55,1],[28,5,29,5],[28,6,29,6],[30,2,42,2],[43,2,55,2],[120,5,122,5],[120,6,122,6],[120,7,122,7],[120,8,122,8],[120,9,122,9],[120,10,122,10],[120,11,122,11],[120,12,120,21],[120,22,120,24],[120,25,122,25],[120,26,122,26],[120,27,122,27],[120,28,120,30],[120,31,122,31],[121,12,122,12],[121,13,121,15],[121,16,121,18],[121,19,121,21],[121,22,122,22],[121,23,122,23],[121,24,122,24],[121,28,122,28],[121,29,122,29],[121,30,122,30],[125,6,126,6],[127,6,128,6],[131,1,158,1],[131,5,132,5],[131,6,132,6],[133,2,145,2],[146,2,158,2]]}
[null,null,{"$f":"F3","v":"0.0"},"-",null,{"$f":"B1","v":0},{"$nulls":46},"TOTAL_ORG"]
[]
[{"$nulls":5},{"$f":"F1 & \".0\"","v":"0.0"},"год",{"$nulls":45},"TOTAL_ORG_YEAR"]
[{"$nulls":5},{"$f":"F1 & \".1\"","v":"0.1"},"январь",{"$nulls":45},{"$f":"C1 & \"-I\"","v":"0.0-I"}]
[{"$nulls":5},{"$f":"F1 & \".2\"","v":"0.2"},"февраль",{"$nulls":45},{"$f":"C1 & \"-I\"","v":"0.0-I"}]
[{"$nulls":5},{"$f":"F1 & \".3\"","v":"0.3"},"март",{"$nulls":45},{"$f":"C1 & \"-I\"","v":"0.0-I"}]
[{"$nulls":5},{"$f":"F1 & \".4\"","v":"0.4"},"апрель",{"$nulls":45},{"$f":"C1 & \"-I\"","v":"0.0-I"}]
[{"$nulls":5},{"$f":"F1 & \".5\"","v":"0.5"},"май",{"$nulls":45},{"$f":"C1 & \"-I\"","v":"0.0-I"}]
[{"$nulls":5},{"$f":"F1 & \".6\"","v":"0.6"},"июнь",{"$nulls":45},{"$f":"C1 & \"-I\"","v":"0.0-I"}]
[{"$nulls":5},{"$f":"F1 & \".7\"","v":"0.7"},"июль",{"$nulls":45},{"$f":"C1 & \"-II\"","v":"0.0-II"}]
[{"$nulls":5},{"$f":"F1 & \".8\"","v":"0.8"},"август",{"$nulls":45},{"$f":"C1 & \"-II\"","v":"0.0-II"}]
[{"$nulls":5},{"$f":"F1 & \".9\"","v":"0.9"},"сентябрь",{"$nulls":45},{"$f":"C1 & \"-II\"","v":"0.0-II"}]
[{"$nulls":5},{"$f":"F1 & \".10\"","v":"0.10"},"октябрь",{"$nulls":45},{"$f":"C1 & \"-II\"","v":"0.0-II"}]
[{"$nulls":5},{"$f":"F1 & \".11\"","v":"0.11"},"ноябрь",{"$nulls":45},{"$f":"C1 & \"-II\"","v":"0.0-II"}]
[{"$nulls":5},{"$f":"F1 & \".12\"","v":"0.12"},"декабрь",{"$nulls":45},{"$f":"C1 & \"-II\"","v":"0.0-II"}]
{"$rows_empty":13}
["TBD",null,{"$f":"F31","v":"0.0"},"-",null,{"$f":"B29","v":0},null,{"$f":"H31","v":{"v":0,"d":"0.00"}},{"$f":"I31","v":{"v":0,"d":"0.00"}},{"$f":"A29","v":"TBD"},{"$f":"K31","v":{"v":0,"d":"0.00"}},{"$f":"L31","v":{"v":0,"d":"0.00"}},{"$f":"M31","v":{"v":0,"d":"0.00"}},{"$f":"N31","v":{"v":0,"d":"0.00"}},{"$f":"O31","v":{"v":0,"d":"0.00"}},{"v":0,"d":"0.00"},{"v":0,"d":"0.00"},{"v":0,"d":"0.00"},{"v":0,"d":"0.00"},{"v":0,"d":"0.00"},{"v":0,"d":"0.00"},{"v":0,"d":"0.00"},{"$f":"W31","v":{"v":0,"d":"0.00"}},{"$f":"X31","v":{"v":0,"d":"0.00"}},{"v":0,"d":"0.00"},{"v":0,"d":"0.00"},{"v":0,"d":"0.00"},{"v":0,"d":"0.00"},{"v":0,"d":"0.00"},{"v":0,"d":"0.00"},{"v":0,"d":"0.00"},{"v":0,"d":"0.00"},{"$nulls":20},"TOTAL_ORG"]
[]
[{"$nulls":5},{"$f":"F29 & \".0\"","v":"0.0"},"год",{"$f":"SUMIF('Список объектов'!$R$15:$R$32,$F31,'Список объектов'!$S$15:$S$32)","v":{"v":0,"d":"0.00"}},{"$f":"SUMIF('Список объектов'!$R$15:$R$32,$F31,'Список объектов'!$T$15:$T$32)","v":{"v":0,"d":"0.00"}},{"$f":"J29","v":"TBD"},{"$f":"L31+M31","v":{"v":0,"d":"0.00"}},{"$f":"SUM(L32:L43)","v":{"v":0,"d":"0.00"}},{"$f":"SUM(M32:M43)","v":{"v":0,"d":"0.00"}},{"$f":"SUM(N32:N43)","v":{"v":0,"d":"0.00"}},{"$f":"SUM(O32:O43)","v":{"v":0,"d":"0.00"}},{"v":0,"d":"0.00"},{"v":0,"d":"0.00"},{"v":0,"d":"0.00"},{"v":0,"d":"0.00"},{"v":0,"d":"0.00"},{"v":0,"d":"0.00"},{"v":0,"d":"0.00"},{"$f":"SUM(W32:W43)","v":{"v":0,"d":"0.00"}},{"$f":"SUM(X32:X43)","v":{"v":0,"d":"0.00"}},{"$f":"SUM(Y32:Y43)","v":{"v":0,"d":"0.00"}},{"$nulls":3},{"$f":"AD31+AE31","v":{"v":0,"d":"0.00"}},{"$nulls":18},{"$f":"IF(K31=0,0,L31/K31*100)","v":0},{"$nulls":4},"TOTAL_ORG_YEAR"]
[{"$nulls":5},{"$f":"F29 & \".1\"","v":"0.1"},"январь",null,null,{"$f":"IF(OFFSET('Список территорий'!CJ$15,$F29,0)=\"a\",\"Y\",\"N\")","v":"N"},{"$f":"L32+M32","v":{"v":0,"d":"0.00"}},null,{"$f":"SUM(N32,Q32,T32,W32)","v":{"v":0,"d":"0.00"}},{"$f":"SUM(O32,P32,)","v":{"v":0,"d":"0.00"}},null,null,{"$f":"SUM(R32,S32,)","v":{"v":0,"d":"0.00"}},null,null,{"$f":"SUM(U32,V32,)","v":{"v":0,"d":"0.00"}},null,null,{"$f":"SUM(X32,Y32,)","v":{"v":0,"d":"0.00"}},{"$nulls":29},{"$f":"C29 & \"-I\"","v":"0.0-I"}]
[{"$nulls":5},{"$f":"F29 & \".2\"","v":"0.2"},"февраль",null,null,{"$f":"IF(OFFSET('Список территорий'!CK$15,$F29,0)=\"a\",\"Y\",\"N\")","v":"N"},{"v":0,"d":"0.00"},null,{"$f":"SUM(N33,Q33,T33,W33)","v":{"v":0,"d":"0.00"}},{"$f":"SUM(O33,P33,)","v":{"v":0,"d":"0.00"}},null,null,{"$f":"SUM(R33,S33,)","v":{"v":0,"d":"0.00"}},null,null,{"$f":"SUM(U33,V33,)","v":{"v":0,"d":"0.00"}},null,null,{"$f":"SUM(X33,Y33,)","v":{"v":0,"d":"0.00"}},{"$nulls":29},{"$f":"C29 & \"-I\"","v":"0.0-I"}]
[{"$nulls":5},{"$f":"F29 & \".3\"","v":"0.3"},"март",null,null,{"$f":"IF(OFFSET('Список территорий'!CL$15,$F29,0)=\"a\",\"Y\",\"N\")","v":"N"},{"v":0,"d":"0.00"},null,{"v":0,"d":"0.00"},{"v":0,"d":"0.00"},null,null,{"v":0,"d":"0.00"},null,null,{"v":0,"d":"0.00"},null,null,{"v":0,"d":"0.00"},{"$nulls":29},{"$f":"C29 & \"-I\"","v":"0.0-I"}]
[{"$nulls":5},{"$f":"F29 & \".4\"","v":"0.4"},"апрель",null,null,{"$f":"IF(OFFSET('Список территорий'!CM$15,$F29,0)=\"a\",\"Y\",\"N\")","v":"N"},{"v":0,"d":"0.00"},null,{"v":0,"d":"0.00"},{"v":0,"d":"0.00"},null,null,{"v":0,"d":"0.00"},null,null,{"v":0,"d":"0.00"},null,null,{"v":0,"d":"0.00"},{"$nulls":29},{"$f":"C29 & \"-I\"","v":"0.0-I"}]
[{"$nulls":5},{"$f":"F29 & \".5\"","v":"0.5"},"май",null,null,{"$f":"IF(OFFSET('Список территорий'!CN$15,$F29,0)=\"a\",\"Y\",\"N\")","v":"N"},{"v":0,"d":"0.00"},null,{"v":0,"d":"0.00"},{"v":0,"d":"0.00"},null,null,{"v":0,"d":"0.00"},null,null,{"v":0,"d":"0.00"},null,null,{"v":0,"d":"0.00"},{"$nulls":29},{"$f":"C29 & \"-I\"","v":"0.0-I"}]
[{"$nulls":5},{"$f":"F29 & \".6\"","v":"0.6"},"июнь",null,null,{"$f":"IF(OFFSET('Список территорий'!CO$15,$F29,0)=\"a\",\"Y\",\"N\")","v":"N"},{"v":0,"d":"0.00"},null,{"v":0,"d":"0.00"},{"v":0,"d":"0.00"},null,null,{"v":0,"d":"0.00"},null,null,{"v":0,"d":"0.00"},null,null,{"v":0,"d":"0.00"},{"$nulls":29},{"$f":"C29 & \"-I\"","v":"0.0-I"}]
[{"$nulls":5},{"$f":"F29 & \".7\"","v":"0.7"},"июль",null,null,{"$f":"IF(OFFSET('Список территорий'!CP$15,$F29,0)=\"a\",\"Y\",\"N\")","v":"N"},{"v":0,"d":"0.00"},null,{"v":0,"d":"0.00"},{"v":0,"d":"0.00"},null,null,{"v":0,"d":"0.00"},null,null,{"v":0,"d":"0.00"},null,null,{"v":0,"d":"0.00"},{"$nulls":29},{"$f":"C29 & \"-II\"","v":"0.0-II"}]
[{"$nulls":5},{"$f":"F29 & \".8\"","v":"0.8"},"август",null,null,{"$f":"IF(OFFSET('Список территорий'!CQ$15,$F29,0)=\"a\",\"Y\",\"N\")","v":"N"},{"v":0,"d":"0.00"},null,{"v":0,"d":"0.00"},{"v":0,"d":"0.00"},null,null,{"v":0,"d":"0.00"},null,null,{"v":0,"d":"0.00"},null,null,{"v":0,"d":"0.00"},{"$nulls":29},{"$f":"C29 & \"-II\"","v":"0.0-II"}]
[{"$nulls":5},{"$f":"F29 & \".9\"","v":"0.9"},"сентябрь",null,null,{"$f":"IF(OFFSET('Список территорий'!CR$15,$F29,0)=\"a\",\"Y\",\"N\")","v":"N"},{"v":0,"d":"0.00"},null,{"v":0,"d":"0.00"},{"v":0,"d":"0.00"},null,null,{"v":0,"d":"0.00"},null,null,{"v":0,"d":"0.00"},null,null,{"v":0,"d":"0.00"},{"$nulls":29},{"$f":"C29 & \"-II\"","v":"0.0-II"}]
[{"$nulls":5},{"$f":"F29 & \".10\"","v":"0.10"},"октябрь",null,null,{"$f":"IF(OFFSET('Список территорий'!CS$15,$F29,0)=\"a\",\"Y\",\"N\")","v":"N"},{"v":0,"d":"0.00"},null,{"v":0,"d":"0.00"},{"v":0,"d":"0.00"},null,null,{"v":0,"d":"0.00"},null,null,{"v":0,"d":"0.00"},null,null,{"v":0,"d":"0.00"},{"$nulls":29},{"$f":"C29 & \"-II\"","v":"0.0-II"}]
[{"$nulls":5},{"$f":"F29 & \".11\"","v":"0.11"},"ноябрь",null,null,{"$f":"IF(OFFSET('Список территорий'!CT$15,$F29,0)=\"a\",\"Y\",\"N\")","v":"N"},{"v":0,"d":"0.00"},null,{"v":0,"d":"0.00"},{"v":0,"d":"0.00"},null,null,{"v":0,"d":"0.00"},null,null,{"v":0,"d":"0.00"},null,null,{"v":0,"d":"0.00"},{"$nulls":29},{"$f":"C29 & \"-II\"","v":"0.0-II"}]
[{"$nulls":5},{"$f":"F29 & \".12\"","v":"0.12"},"декабрь",null,null,{"$f":"IF(OFFSET('Список территорий'!CU$15,$F29,0)=\"a\",\"Y\",\"N\")","v":"N"},{"v":0,"d":"0.00"},null,{"v":0,"d":"0.00"},{"v":0,"d":"0.00"},null,null,{"v":0,"d":"0.00"},null,null,{"v":0,"d":"0.00"},null,null,{"v":0,"d":"0.00"},{"$nulls":29},{"$f":"C29 & \"-II\"","v":"0.0-II"}]
{"$rows_empty":75}
[{"$nulls":5},{"$f":"\"Баланс \" & TEMPLATE_SPHERE & \" (производство)\"","v":"Баланс водоотведения (производство)"}]
[{"$nulls":5},"куб.м"]
[{"$nulls":5},"№ п/п","Субъект баланса","Установленная мощность, куб.м/час","Подключённая (фактическая) нагрузка, куб.м/час","Вид стоков","Принято сточных вод, всего","Хозяйственные нужды предприятия","Принято по категориям потребителей",{"$nulls":9},"Принято сточных вод от других канализационных сетей",null,null,"Неучтённый приток сточных вод (справочно)","Объём сточных вод, прошедших очистку (справочно)","Пропущено через cобственные очистные сооружения","Передано сточных вод другим канализациям",null,null,"Сброшенные воды без очистки"]
[{"$nulls":12},"Всего","Финансируемые из бюджетов всех уровней",null,null,"Население",null,null,"Прочие",null,null,"Всего","по приборам учёта","по нормативам",{"$nulls":3},"Всего","На очистные сооружения","В канализационную сеть"]
[{"$nulls":13},"Всего","по приборам учёта","по нормативам","Всего","по приборам учёта","по нормативам","Всего","по приборам учёта","по нормативам"]
[{"$nulls":6},"А","IC","CL","Б","1","1.1","1.2","1.2.1","1.2.1.1","1.2.1.2","1.2.2","1.2.2.1","1.2.2.2","1.2.3","1.2.3.1","1.2.3.2","1.2.4","1.2.4.1","1.2.4.2","1.3","1.4","2","3","3.1","3.2","4"]
[]
[{"$nulls":3},"-",null,{"$f":"IF(TEMPLATE_SPHERE_CODE=\"COLDVSNA\",\"0.1.P\",\"0.1\")","v":"0.1"},"Всего по организации",{"$nulls":3},{"$f":"SUMIF($BA131:$BA160,$BA126,K131:K160)","v":{"v":16745303.086,"d":"16,745,303.09"}},{"v":0,"d":"0.00"},{"v":16745303.086,"d":"16,745,303.09"},{"v":1007663.0700000001,"d":"1,007,663.07"},{"v":1007663.0700000001,"d":"1,007,663.07"},{"v":0,"d":"0.00"},{"v":12559592.707,"d":"12,559,592.71"},{"v":12539085,"d":"12,539,085.00"},{"v":20507.707000000002,"d":"20,507.71"},{"v":3178047.309,"d":"3,178,047.31"},{"v":3173056.309,"d":"3,173,056.31"},{"v":4991,"d":"4,991.00"},{"v":0,"d":"0.00"},{"v":0,"d":"0.00"},{"v":0,"d":"0.00"},{"v":0,"d":"0.00"},{"v":21372739,"d":"21,372,739.00"},{"v":8725876,"d":"8,725,876.00"},{"v":12646863,"d":"12,646,863.00"},{"v":12646863,"d":"12,646,863.00"},{"v":0,"d":"0.00"},{"v":0,"d":"0.00"},{"$nulls":20},"TOTAL_ORG_YEAR"]
[{"$nulls":5},{"$f":"IF(TEMPLATE_SPHERE_CODE=\"COLDVSNA\",\"0.1.T\",\"\")","v":""}]
[]
[]
[]
[null,0]
[{"$f":"IF('Список территорий'!$AQ$16=\"\",\"Не определено\",'Список территорий'!$AQ$16)","v":"Без дифференциации"},"1",{"$f":"F134","v":"1.0"},"-","Удалить",{"$f":"B132","v":"1"},{"$f":"IF('Список территорий'!$I$16=\"\",\"Не определено\",'Список территорий'!$G$16 & \" / \" & 'Список территорий'!$H$16 & \" / \" & 'Список территорий'!$I$16)","v":"Город Стерлитамак / Город Стерлитамак / 80745000"},{"$f":"H134","v":{"v":16732,"d":"16,732.00"}},{"$f":"I134","v":{"v":1490,"d":"1,490.00"}},{"$f":"A132","v":"Без дифференциации"},{"$f":"K134","v":{"v":16745303.086,"d":"16,745,303.09"}},{"$f":"L134","v":{"v":0,"d":"0.00"}},{"$f":"M134","v":{"v":16745303.086,"d":"16,745,303.09"}},{"$f":"N134","v":{"v":1007663.0700000001,"d":"1,007,663.07"}},{"$f":"O134","v":{"v":1007663.0700000001,"d":"1,007,663.07"}},{"v":0,"d":"0.00"},{"v":12559592.707,"d":"12,559,592.71"},{"v":12539085,"d":"12,539,085.00"},{"v":20507.707000000002,"d":"20,507.71"},{"v":3178047.309,"d":"3,178,047.31"},{"v":3173056.309,"d":"3,173,056.31"},{"v":4991,"d":"4,991.00"},{"$f":"W134","v":{"v":0,"d":"0.00"}},{"$f":"X134","v":{"v":0,"d":"0.00"}},{"v":0,"d":"0.00"},{"v":0,"d":"0.00"},{"v":21372739,"d":"21,372,739.00"},{"v":8725876,"d":"8,725,876.00"},{"v":12646863,"d":"12,646,863.00"},{"v":12646863,"d":"12,646,863.00"},{"v":0,"d":"0.00"},{"v":0,"d":"0.00"},{"$nulls":20},"TOTAL_ORG"]
[]
[{"$nulls":5},{"$f":"F132 & \".0\"","v":"1.0"},"год",{"$f":"SUMIF('Список объектов'!$R$15:$R$32,$F134,'Список объектов'!$S$15:$S$32)","v":{"v":16732,"d":"16,732.00"}},{"$f":"SUMIF('Список объектов'!$R$15:$R$32,$F134,'Список объектов'!$T$15:$T$32)","v":{"v":1490,"d":"1,490.00"}},{"$f":"J132","v":"Без дифференциации"},{"$f":"L134+M134","v":{"v":16745303.086,"d":"16,745,303.09"}},{"$f":"SUM(L135:L146)","v":{"v":0,"d":"0.00"}},{"$f":"SUM(M135:M146)","v":{"v":16745303.086,"d":"16,745,303.09"}},{"$f":"SUM(N135:N146)","v":{"v":1007663.0700000001,"d":"1,007,663.07"}},{"$f":"SUM(O135:O146)","v":{"v":1007663.0700000001,"d":"1,007,663.07"}},{"v":0,"d":"0.00"},{"v":12559592.707,"d":"12,559,592.71"},{"v":12539085,"d":"12,539,085.00"},{"v":20507.707000000002,"d":"20,507.71"},{"v":3178047.309,"d":"3,178,047.31"},{"v":3173056.309,"d":"3,173,056.31"},{"v":4991,"d":"4,991.00"},{"$f":"SUM(W135:W146)","v":{"v":0,"d":"0.00"}},{"$f":"SUM(X135:X146)","v":{"v":0,"d":"0.00"}},{"$f":"SUM(Y135:Y146)","v":{"v":0,"d":"0.00"}},null,{"$f":"AB134+AD134","v":{"v":21372739,"d":"21,372,739.00"}},{"v":8725876,"d":"8,725,876.00"},{"$f":"AD134+AE134","v":{"v":12646863,"d":"12,646,863.00"}},{"v":12646863,"d":"12,646,863.00"},{"$nulls":17},{"$f":"IF(K134=0,0,L134/K134*100)","v":0},{"$nulls":4},"TOTAL_ORG_YEAR"]
[{"$nulls":5},{"$f":"F132 & \".1\"","v":"1.1"},"январь",null,null,{"$f":"IF(OFFSET('Список территорий'!CJ$15,$F132,0)=\"a\",\"Y\",\"N\")","v":"Y"},{"$f":"L135+M135","v":{"v":1553601.228,"d":"1,553,601.23"}},null,{"$f":"SUM(N135,Q135,T135,W135)","v":{"v":1553601.228,"d":"1,553,601.23"}},{"$f":"SUM(O135,P135,)","v":{"v":80119,"d":"80,119.00"}},{"v":80119,"d":"80,119.00"},{"v":0,"d":"0.00"},{"$f":"SUM(R135,S135,)","v":{"v":1217180.228,"d":"1,217,180.23"}},{"v":1215700,"d":"1,215,700.00"},{"v":1480.228,"d":"1,480.23"},{"$f":"SUM(U135,V135,)","v":{"v":256302,"d":"256,302.00"}},{"v":255878,"d":"255,878.00"},{"v":424,"d":"424.00"},{"$f":"SUM(X135,Y135,)","v":{"v":0,"d":"0.00"}},{"$nulls":29},{"$f":"C132 & \"-I\"","v":"1.0-I"}]
[{"$nulls":5},{"$f":"F132 & \".2\"","v":"1.2"},"февраль",null,null,{"$f":"IF(OFFSET('Список территорий'!CK$15,$F132,0)=\"a\",\"Y\",\"N\")","v":"Y"},{"v":1472112.072,"d":"1,472,112.07"},null,{"$f":"SUM(N136,Q136,T136,W136)","v":{"v":1472112.072,"d":"1,472,112.07"}},{"$f":"SUM(O136,P136,)","v":{"v":86161,"d":"86,161.00"}},{"v":86161,"d":"86,161.00"},{"v":0,"d":"0.00"},{"$f":"SUM(R136,S136,)","v":{"v":1145661.072,"d":"1,145,661.07"}},{"v":1144319,"d":"1,144,319.00"},{"v":1342.072,"d":"1,342.07"},{"$f":"SUM(U136,V136,)","v":{"v":240290,"d":"240,290.00"}},{"v":239907,"d":"239,907.00"},{"v":383,"d":"383.00"},{"$f":"SUM(X136,Y136,)","v":{"v":0,"d":"0.00"}},{"$nulls":29},{"$f":"C132 & \"-I\"","v":"1.0-I"}]
[{"$nulls":5},{"$f":"F132 & \".3\"","v":"1.3"},"март",null,null,{"$f":"IF(OFFSET('Список территорий'!CL$15,$F132,0)=\"a\",\"Y\",\"N\")","v":"Y"},{"v":1364708.895,"d":"1,364,708.90"},null,{"v":1364708.895,"d":"1,364,708.90"},{"v":83989,"d":"83,989.00"},{"v":83989,"d":"83,989.00"},{"v":0,"d":"0.00"},{"v":1019289.757,"d":"1,019,289.76"},{"v":1017636,"d":"1,017,636.00"},{"v":1653.757,"d":"1,653.76"},{"v":261430.138,"d":"261,430.14"},{"v":261006.138,"d":"261,006.14"},{"v":424,"d":"424.00"},{"v":0,"d":"0.00"},{"$nulls":29},{"$f":"C132 & \"-I\"","v":"1.0-I"}]
[{"$nulls":5},{"$f":"F132 & \".4\"","v":"1.4"},"апрель",null,null,{"$f":"IF(OFFSET('Список территорий'!CM$15,$F132,0)=\"a\",\"Y\",\"N\")","v":"Y"},{"v":1477853.486,"d":"1,477,853.49"},null,{"v":1477853.486,"d":"1,477,853.49"},{"v":92883.3,"d":"92,883.30"},{"v":92883.3,"d":"92,883.30"},{"v":0,"d":"0.00"},{"v":1099440.186,"d":"1,099,440.19"},{"v":1097764,"d":"1,097,764.00"},{"v":1676.186,"d":"1,676.19"},{"v":285530,"d":"285,530.00"},{"v":285120,"d":"285,120.00"},{"v":410,"d":"410.00"},{"v":0,"d":"0.00"},{"$nulls":29},{"$f":"C132 & \"-I\"","v":"1.0-I"}]
[{"$nulls":5},{"$f":"F132 & \".5\"","v":"1.5"},"май",null,null,{"$f":"IF(OFFSET('Список территорий'!CN$15,$F132,0)=\"a\",\"Y\",\"N\")","v":"Y"},{"v":1469027.253,"d":"1,469,027.25"},null,{"v":1469027.253,"d":"1,469,027.25"},{"v":87634,"d":"87,634.00"},{"v":87634,"d":"87,634.00"},{"v":0,"d":"0.00"},{"v":1103105.253,"d":"1,103,105.25"},{"v":1100990,"d":"1,100,990.00"},{"v":2115.253,"d":"2,115.25"},{"v":278288,"d":"278,288.00"},{"v":277864,"d":"277,864.00"},{"v":424,"d":"424.00"},{"v":0,"d":"0.00"},{"$nulls":29},{"$f":"C132 & \"-I\"","v":"1.0-I"}]
[{"$nulls":5},{"$f":"F132 & \".6\"","v":"1.6"},"июнь",null,null,{"$f":"IF(OFFSET('Список территорий'!CO$15,$F132,0)=\"a\",\"Y\",\"N\")","v":"Y"},{"v":1450514.1209999998,"d":"1,450,514.12"},null,{"v":1450514.1209999998,"d":"1,450,514.12"},{"v":84922,"d":"84,922.00"},{"v":84922,"d":"84,922.00"},{"v":0,"d":"0.00"},{"v":1091817.873,"d":"1,091,817.87"},{"v":1089810,"d":"1,089,810.00"},{"v":2007.873,"d":"2,007.87"},{"v":273774.248,"d":"273,774.25"},{"v":273364.248,"d":"273,364.25"},{"v":410,"d":"410.00"},{"v":0,"d":"0.00"},{"$nulls":29},{"$f":"C132 & \"-I\"","v":"1.0-I"}]
[{"$nulls":5},{"$f":"F132 & \".7\"","v":"1.7"},"июль",null,null,{"$f":"IF(OFFSET('Список территорий'!CP$15,$F132,0)=\"a\",\"Y\",\"N\")","v":"Y"},{"v":1432047.169,"d":"1,432,047.17"},null,{"v":1432047.169,"d":"1,432,047.17"},{"v":76086,"d":"76,086.00"},{"v":76086,"d":"76,086.00"},{"v":0,"d":"0.00"},{"v":1087942.169,"d":"1,087,942.17"},{"v":1085986,"d":"1,085,986.00"},{"v":1956.169,"d":"1,956.17"},{"v":268019,"d":"268,019.00"},{"v":267595,"d":"267,595.00"},{"v":424,"d":"424.00"},{"v":0,"d":"0.00"},{"$nulls":29},{"$f":"C132 & \"-II\"","v":"1.0-II"}]
[{"$nulls":5},{"$f":"F132 & \".8\"","v":"1.8"},"август",null,null,{"$f":"IF(OFFSET('Список территорий'!CQ$15,$F132,0)=\"a\",\"Y\",\"N\")","v":"Y"},{"v":1465959.955,"d":"1,465,959.96"},null,{"v":1465959.955,"d":"1,465,959.96"},{"v":78298,"d":"78,298.00"},{"v":78298,"d":"78,298.00"},{"v":0,"d":"0.00"},{"v":1125924.955,"d":"1,125,924.96"},{"v":1124079,"d":"1,124,079.00"},{"v":1845.955,"d":"1,845.96"},{"v":261737,"d":"261,737.00"},{"v":261313,"d":"261,313.00"},{"v":424,"d":"424.00"},{"v":0,"d":"0.00"},{"$nulls":29},{"$f":"C132 & \"-II\"","v":"1.0-II"}]
[{"$nulls":5},{"$f":"F132 & \".9\"","v":"1.9"},"сентябрь",null,null,{"$f":"IF(OFFSET('Список территорий'!CR$15,$F132,0)=\"a\",\"Y\",\"N\")","v":"Y"},{"v":1457767.307,"d":"1,457,767.31"},null,{"v":1457767.307,"d":"1,457,767.31"},{"v":81246,"d":"81,246.00"},{"v":81246,"d":"81,246.00"},{"v":0,"d":"0.00"},{"v":1116183.307,"d":"1,116,183.31"},{"v":1114435,"d":"1,114,435.00"},{"v":1748.307,"d":"1,748.31"},{"v":260338,"d":"260,338.00"},{"v":259928,"d":"259,928.00"},{"v":410,"d":"410.00"},{"v":0,"d":"0.00"},{"$nulls":29},{"$f":"C132 & \"-II\"","v":"1.0-II"}]
[{"$nulls":5},{"$f":"F132 & \".10\"","v":"1.10"},"октябрь",null,null,{"$f":"IF(OFFSET('Список территорий'!CS$15,$F132,0)=\"a\",\"Y\",\"N\")","v":"Y"},{"v":1187863.829,"d":"1,187,863.83"},null,{"v":1187863.829,"d":"1,187,863.83"},{"v":81864,"d":"81,864.00"},{"v":81864,"d":"81,864.00"},{"v":0,"d":"0.00"},{"v":860716.829,"d":"860,716.83"},{"v":859074,"d":"859,074.00"},{"v":1642.829,"d":"1,642.83"},{"v":245283,"d":"245,283.00"},{"v":244859,"d":"244,859.00"},{"v":424,"d":"424.00"},{"v":0,"d":"0.00"},{"$nulls":29},{"$f":"C132 & \"-II\"","v":"1.0-II"}]
[{"$nulls":5},{"$f":"F132 & \".11\"","v":"1.11"},"ноябрь",null,null,{"$f":"IF(OFFSET('Список территорий'!CT$15,$F132,0)=\"a\",\"Y\",\"N\")","v":"Y"},{"v":1514035.218,"d":"1,514,035.22"},null,{"v":1514035.218,"d":"1,514,035.22"},{"v":86522.361,"d":"86,522.36"},{"v":86522.361,"d":"86,522.36"},{"v":0,"d":"0.00"},{"v":1144335.857,"d":"1,144,335.86"},{"v":1142743,"d":"1,142,743.00"},{"v":1592.857,"d":"1,592.86"},{"v":283177,"d":"283,177.00"},{"v":282767,"d":"282,767.00"},{"v":410,"d":"410.00"},{"v":0,"d":"0.00"},{"$nulls":29},{"$f":"C132 & \"-II\"","v":"1.0-II"}]
[{"$nulls":5},{"$f":"F132 & \".12\"","v":"1.12"},"декабрь",null,null,{"$f":"IF(OFFSET('Список территорий'!CU$15,$F132,0)=\"a\",\"Y\",\"N\")","v":"Y"},{"v":899812.5530000001,"d":"899,812.55"},null,{"v":899812.5530000001,"d":"899,812.55"},{"v":87938.409,"d":"87,938.41"},{"v":87938.409,"d":"87,938.41"},{"v":0,"d":"0.00"},{"v":547995.221,"d":"547,995.22"},{"v":546549,"d":"546,549.00"},{"v":1446.221,"d":"1,446.22"},{"v":263878.923,"d":"263,878.92"},{"v":263454.923,"d":"263,454.92"},{"v":424,"d":"424.00"},{"v":0,"d":"0.00"},{"$nulls":29},{"$f":"C132 & \"-II\"","v":"1.0-II"}]
{"$rows_empty":13}
[{"$nulls":6},"Добавить"]

{"sheet":"БТр","index":20,"n_rows":160,"n_cols":53,"rows_kept":160,"merged":[[0,1,27,1],[0,5,1,5],[0,6,1,6],[2,2,14,2],[15,2,27,2],[28,1,55,1],[28,5,29,5],[28,6,29,6],[30,2,42,2],[43,2,55,2],[120,5,122,5],[120,6,122,6],[120,7,122,7],[120,8,122,8],[120,9,122,9],[120,10,122,10],[120,11,122,11],[120,12,122,12],[120,13,122,13],[120,14,120,27],[121,14,122,14],[121,15,122,15],[121,16,121,18],[121,19,121,21],[121,22,121,24],[121,25,121,27],[125,6,126,6],[127,6,128,6],[131,1,158,1],[131,5,132,5],[131,6,132,6],[133,2,145,2],[146,2,158,2]]}
[null,null,{"$f":"F3","v":"0.0"},"-",null,{"$f":"B1","v":0},{"$nulls":46},"TOTAL_ORG"]
[]
[{"$nulls":5},{"$f":"F1 & \".0\"","v":"0.0"},"год",{"$nulls":45},"TOTAL_ORG_YEAR"]
[{"$nulls":5},{"$f":"F1 & \".1\"","v":"0.1"},"январь",{"$nulls":45},{"$f":"C1 & \"-I\"","v":"0.0-I"}]
[{"$nulls":5},{"$f":"F1 & \".2\"","v":"0.2"},"февраль",{"$nulls":45},{"$f":"C1 & \"-I\"","v":"0.0-I"}]
[{"$nulls":5},{"$f":"F1 & \".3\"","v":"0.3"},"март",{"$nulls":45},{"$f":"C1 & \"-I\"","v":"0.0-I"}]
[{"$nulls":5},{"$f":"F1 & \".4\"","v":"0.4"},"апрель",{"$nulls":45},{"$f":"C1 & \"-I\"","v":"0.0-I"}]
[{"$nulls":5},{"$f":"F1 & \".5\"","v":"0.5"},"май",{"$nulls":45},{"$f":"C1 & \"-I\"","v":"0.0-I"}]
[{"$nulls":5},{"$f":"F1 & \".6\"","v":"0.6"},"июнь",{"$nulls":45},{"$f":"C1 & \"-I\"","v":"0.0-I"}]
[{"$nulls":5},{"$f":"F1 & \".7\"","v":"0.7"},"июль",{"$nulls":45},{"$f":"C1 & \"-II\"","v":"0.0-II"}]
[{"$nulls":5},{"$f":"F1 & \".8\"","v":"0.8"},"август",{"$nulls":45},{"$f":"C1 & \"-II\"","v":"0.0-II"}]
[{"$nulls":5},{"$f":"F1 & \".9\"","v":"0.9"},"сентябрь",{"$nulls":45},{"$f":"C1 & \"-II\"","v":"0.0-II"}]
[{"$nulls":5},{"$f":"F1 & \".10\"","v":"0.10"},"октябрь",{"$nulls":45},{"$f":"C1 & \"-II\"","v":"0.0-II"}]
[{"$nulls":5},{"$f":"F1 & \".11\"","v":"0.11"},"ноябрь",{"$nulls":45},{"$f":"C1 & \"-II\"","v":"0.0-II"}]
[{"$nulls":5},{"$f":"F1 & \".12\"","v":"0.12"},"декабрь",{"$nulls":45},{"$f":"C1 & \"-II\"","v":"0.0-II"}]
{"$rows_empty":13}
["TBD",null,{"$f":"F31","v":"0.0"},"-",null,{"$f":"B29","v":0},null,{"$f":"H31","v":{"v":0,"d":"0.00"}},{"$f":"I31","v":{"v":0,"d":"0.00"}},{"$f":"A29","v":"TBD"},{"$f":"K31","v":{"v":0,"d":"0.00"}},{"v":0,"d":"0.00"},{"v":0,"d":"0.00"},{"v":0,"d":"0.00"},{"v":0,"d":"0.00"},{"v":0,"d":"0.00"},{"v":0,"d":"0.00"},{"v":0,"d":"0.00"},{"v":0,"d":"0.00"},{"v":0,"d":"0.00"},{"$f":"U31","v":{"v":0,"d":"0.00"}},{"v":0,"d":"0.00"},{"v":0,"d":"0.00"},{"v":0,"d":"0.00"},{"v":0,"d":"0.00"},{"v":0,"d":"0.00"},{"v":0,"d":"0.00"},{"$f":"AB31","v":{"v":0,"d":"0.00"}},{"$nulls":24},"TOTAL_ORG"]
[]
[{"$nulls":5},{"$f":"F29 & \".0\"","v":"0.0"},"год",{"$f":"SUMIF('Список объектов'!$R$15:$R$32,$F31,'Список объектов'!$W$15:$W$32)","v":{"v":0,"d":"0.00"}},{"$f":"SUMIF('Список объектов'!$R$15:$R$32,$F31,'Список объектов'!$X$15:$X$32)","v":{"v":0,"d":"0.00"}},{"$f":"J29","v":"TBD"},{"$f":"N31+O31","v":{"v":0,"d":"0.00"}},{"$nulls":3},{"$f":"SUM(O32:O43)","v":{"v":0,"d":"0.00"}},{"v":0,"d":"0.00"},{"v":0,"d":"0.00"},{"v":0,"d":"0.00"},{"v":0,"d":"0.00"},{"v":0,"d":"0.00"},{"$f":"SUM(U32:U43)","v":{"v":0,"d":"0.00"}},{"v":0,"d":"0.00"},{"$f":"SUM(W32:W43)","v":{"v":0,"d":"0.00"}},{"v":0,"d":"0.00"},{"v":0,"d":"0.00"},{"$f":"SUM(Z32:Z43)","v":{"v":0,"d":"0.00"}},{"v":0,"d":"0.00"},{"$f":"SUM(AB32:AB43)","v":{"v":0,"d":"0.00"}},{"$nulls":24},"TOTAL_ORG_YEAR"]
[{"$nulls":5},{"$f":"F29 & \".1\"","v":"0.1"},"январь",null,null,{"$f":"IF(OFFSET('Список территорий'!CJ$15,$F29,0)=\"a\",\"Y\",\"N\")","v":"N"},{"$nulls":4},{"$f":"SUM(P32,Q32,T32,W32,Z32)","v":{"v":0,"d":"0.00"}},null,{"$f":"SUM(R32,S32)","v":{"v":0,"d":"0.00"}},null,null,{"$f":"SUM(U32,V32)","v":{"v":0,"d":"0.00"}},null,null,{"$f":"SUM(X32,Y32)","v":{"v":0,"d":"0.00"}},null,null,{"$f":"SUM(AA32,AB32)","v":{"v":0,"d":"0.00"}},{"$nulls":26},{"$f":"C29 & \"-I\"","v":"0.0-I"}]
[{"$nulls":5},{"$f":"F29 & \".2\"","v":"0.2"},"февраль",null,null,{"$f":"IF(OFFSET('Список территорий'!CK$15,$F29,0)=\"a\",\"Y\",\"N\")","v":"N"},{"$nulls":4},{"$f":"SUM(P33,Q33,T33,W33,Z33)","v":{"v":0,"d":"0.00"}},null,{"$f":"SUM(R33,S33)","v":{"v":0,"d":"0.00"}},null,null,{"$f":"SUM(U33,V33)","v":{"v":0,"d":"0.00"}},null,null,{"$f":"SUM(X33,Y33)","v":{"v":0,"d":"0.00"}},null,null,{"$f":"SUM(AA33,AB33)","v":{"v":0,"d":"0.00"}},{"$nulls":26},{"$f":"C29 & \"-I\"","v":"0.0-I"}]
[{"$nulls":5},{"$f":"F29 & \".3\"","v":"0.3"},"март",null,null,{"$f":"IF(OFFSET('Список территорий'!CL$15,$F29,0)=\"a\",\"Y\",\"N\")","v":"N"},{"$nulls":4},{"v":0,"d":"0.00"},null,{"v":0,"d":"0.00"},null,null,{"v":0,"d":"0.00"},null,null,{"v":0,"d":"0.00"},null,null,{"v":0,"d":"0.00"},{"$nulls":26},{"$f":"C29 & \"-I\"","v":"0.0-I"}]
[{"$nulls":5},{"$f":"F29 & \".4\"","v":"0.4"},"апрель",null,null,{"$f":"IF(OFFSET('Список территорий'!CM$15,$F29,0)=\"a\",\"Y\",\"N\")","v":"N"},{"$nulls":4},{"v":0,"d":"0.00"},null,{"v":0,"d":"0.00"},null,null,{"v":0,"d":"0.00"},null,null,{"v":0,"d":"0.00"},null,null,{"v":0,"d":"0.00"},{"$nulls":26},{"$f":"C29 & \"-I\"","v":"0.0-I"}]
[{"$nulls":5},{"$f":"F29 & \".5\"","v":"0.5"},"май",null,null,{"$f":"IF(OFFSET('Список территорий'!CN$15,$F29,0)=\"a\",\"Y\",\"N\")","v":"N"},{"$nulls":4},{"v":0,"d":"0.00"},null,{"v":0,"d":"0.00"},null,null,{"v":0,"d":"0.00"},null,null,{"v":0,"d":"0.00"},null,null,{"v":0,"d":"0.00"},{"$nulls":26},{"$f":"C29 & \"-I\"","v":"0.0-I"}]
[{"$nulls":5},{"$f":"F29 & \".6\"","v":"0.6"},"июнь",null,null,{"$f":"IF(OFFSET('Список территорий'!CO$15,$F29,0)=\"a\",\"Y\",\"N\")","v":"N"},{"$nulls":4},{"v":0,"d":"0.00"},null,{"v":0,"d":"0.00"},null,null,{"v":0,"d":"0.00"},null,null,{"v":0,"d":"0.00"},null,null,{"v":0,"d":"0.00"},{"$nulls":26},{"$f":"C29 & \"-I\"","v":"0.0-I"}]
[{"$nulls":5},{"$f":"F29 & \".7\"","v":"0.7"},"июль",null,null,{"$f":"IF(OFFSET('Список территорий'!CP$15,$F29,0)=\"a\",\"Y\",\"N\")","v":"N"},{"$nulls":4},{"v":0,"d":"0.00"},null,{"v":0,"d":"0.00"},null,null,{"v":0,"d":"0.00"},null,null,{"v":0,"d":"0.00"},null,null,{"v":0,"d":"0.00"},{"$nulls":26},{"$f":"C29 & \"-II\"","v":"0.0-II"}]
[{"$nulls":5},{"$f":"F29 & \".8\"","v":"0.8"},"август",null,null,{"$f":"IF(OFFSET('Список территорий'!CQ$15,$F29,0)=\"a\",\"Y\",\"N\")","v":"N"},{"$nulls":4},{"v":0,"d":"0.00"},null,{"v":0,"d":"0.00"},null,null,{"v":0,"d":"0.00"},null,null,{"v":0,"d":"0.00"},null,null,{"v":0,"d":"0.00"},{"$nulls":26},{"$f":"C29 & \"-II\"","v":"0.0-II"}]
[{"$nulls":5},{"$f":"F29 & \".9\"","v":"0.9"},"сентябрь",null,null,{"$f":"IF(OFFSET('Список территорий'!CR$15,$F29,0)=\"a\",\"Y\",\"N\")","v":"N"},{"$nulls":4},{"v":0,"d":"0.00"},null,{"v":0,"d":"0.00"},null,null,{"v":0,"d":"0.00"},null,null,{"v":0,"d":"0.00"},null,null,{"v":0,"d":"0.00"},{"$nulls":26},{"$f":"C29 & \"-II\"","v":"0.0-II"}]
[{"$nulls":5},{"$f":"F29 & \".10\"","v":"0.10"},"октябрь",null,null,{"$f":"IF(OFFSET('Список территорий'!CS$15,$F29,0)=\"a\",\"Y\",\"N\")","v":"N"},{"$nulls":4},{"v":0,"d":"0.00"},null,{"v":0,"d":"0.00"},null,null,{"v":0,"d":"0.00"},null,null,{"v":0,"d":"0.00"},null,null,{"v":0,"d":"0.00"},{"$nulls":26},{"$f":"C29 & \"-II\"","v":"0.0-II"}]
[{"$nulls":5},{"$f":"F29 & \".11\"","v":"0.11"},"ноябрь",null,null,{"$f":"IF(OFFSET('Список территорий'!CT$15,$F29,0)=\"a\",\"Y\",\"N\")","v":"N"},{"$nulls":4},{"v":0,"d":"0.00"},null,{"v":0,"d":"0.00"},null,null,{"v":0,"d":"0.00"},null,null,{"v":0,"d":"0.00"},null,null,{"v":0,"d":"0.00"},{"$nulls":26},{"$f":"C29 & \"-II\"","v":"0.0-II"}]
[{"$nulls":5},{"$f":"F29 & \".12\"","v":"0.12"},"декабрь",null,null,{"$f":"IF(OFFSET('Список территорий'!CU$15,$F29,0)=\"a\",\"Y\",\"N\")","v":"N"},{"$nulls":4},{"v":0,"d":"0.00"},null,{"v":0,"d":"0.00"},null,null,{"v":0,"d":"0.00"},null,null,{"v":0,"d":"0.00"},null,null,{"v":0,"d":"0.00"},{"$nulls":26},{"$f":"C29 & \"-II\"","v":"0.0-II"}]
{"$rows_empty":75}
[{"$nulls":5},{"$f":"\"Баланс \" & TEMPLATE_SPHERE & \" (транспортировка)\"","v":"Баланс водоотведения (транспортировка)"}]
[{"$nulls":5},"куб.м"]
[{"$nulls":5},"№ п/п","Субъект баланса","Установленная мощность, куб.м/час","Подключённая (фактическая) нагрузка, куб.м/час","Вид стоков","Объём транспортируемых сточных вод","в том числе на собственные очистные сооружения","в том числе другим организациям","Потери","Приём сточных вод, поступающих на очистные сооружения"]
[{"$nulls":14},"Всего","от собственных нужд","от других канализаций или отдельных канализационных сетей",null,null,"от бюджетных потребителей",null,null,"от населения",null,null,"от прочих потребителей"]
[{"$nulls":16},"Всего","по приборам учёта","по нормативам","Всего","по приборам учёта","по нормативам","Всего","по приборам учёта","по нормативам","Всего","по приборам учёта","по нормативам"]
[{"$nulls":6},"А","IC","CL","Б",1,"1.1","1.2",2,3,"3.1","3.2","3.2.1","3.2.2","3.3","3.3.1","3.3.2","3.4","3.4.1","3.4.2","3.5","3.5.1","3.5.2"]
[]
[{"$nulls":3},"-",null,{"$f":"IF(TEMPLATE_SPHERE_CODE=\"COLDVSNA\",\"0.1.P\",\"0.1\")","v":"0.1"},"Всего по организации",{"$nulls":3},{"$f":"SUMIF($BA131:$BA160,$BA126,K131:K160)","v":{"v":0,"d":"0.00"}},{"v":0,"d":"0.00"},{"v":0,"d":"0.00"},{"v":0,"d":"0.00"},{"v":0,"d":"0.00"},{"v":0,"d":"0.00"},{"v":0,"d":"0.00"},{"v":0,"d":"0.00"},{"v":0,"d":"0.00"},{"v":0,"d":"0.00"},{"v":0,"d":"0.00"},{"v":0,"d":"0.00"},{"v":0,"d":"0.00"},{"v":0,"d":"0.00"},{"v":0,"d":"0.00"},{"v":0,"d":"0.00"},{"v":0,"d":"0.00"},{"v":0,"d":"0.00"},{"$nulls":24},"TOTAL_ORG_YEAR"]
[{"$nulls":5},{"$f":"IF(TEMPLATE_SPHERE_CODE=\"COLDVSNA\",\"0.1.T\",\"\")","v":""}]
[]
[]
[]
[null,0]
[{"$f":"IF('Список территорий'!$AQ$16=\"\",\"Не определено\",'Список территорий'!$AQ$16)","v":"Без дифференциации"},"1",{"$f":"F134","v":"1.0"},"-","Удалить",{"$f":"B132","v":"1"},{"$f":"IF('Список территорий'!$I$16=\"\",\"Не определено\",'Список территорий'!$G$16 & \" / \" & 'Список территорий'!$H$16 & \" / \" & 'Список территорий'!$I$16)","v":"Город Стерлитамак / Город Стерлитамак / 80745000"},{"$nulls":45},"TOTAL_ORG"]
[]
[{"$nulls":5},{"$f":"F132 & \".0\"","v":"1.0"},"год",{"$nulls":45},"TOTAL_ORG_YEAR"]
[{"$nulls":5},{"$f":"F132 & \".1\"","v":"1.1"},"январь",{"$nulls":45},{"$f":"C132 & \"-I\"","v":"1.0-I"}]
[{"$nulls":5},{"$f":"F132 & \".2\"","v":"1.2"},"февраль",{"$nulls":45},{"$f":"C132 & \"-I\"","v":"1.0-I"}]
[{"$nulls":5},{"$f":"F132 & \".3\"","v":"1.3"},"март",{"$nulls":45},{"$f":"C132 & \"-I\"","v":"1.0-I"}]
[{"$nulls":5},{"$f":"F132 & \".4\"","v":"1.4"},"апрель",{"$nulls":45},{"$f":"C132 & \"-I\"","v":"1.0-I"}]
[{"$nulls":5},{"$f":"F132 & \".5\"","v":"1.5"},"май",{"$nulls":45},{"$f":"C132 & \"-I\"","v":"1.0-I"}]
[{"$nulls":5},{"$f":"F132 & \".6\"","v":"1.6"},"июнь",{"$nulls":45},{"$f":"C132 & \"-I\"","v":"1.0-I"}]
[{"$nulls":5},{"$f":"F132 & \".7\"","v":"1.7"},"июль",{"$nulls":45},{"$f":"C132 & \"-II\"","v":"1.0-II"}]
[{"$nulls":5},{"$f":"F132 & \".8\"","v":"1.8"},"август",{"$nulls":45},{"$f":"C132 & \"-II\"","v":"1.0-II"}]
[{"$nulls":5},{"$f":"F132 & \".9\"","v":"1.9"},"сентябрь",{"$nulls":45},{"$f":"C132 & \"-II\"","v":"1.0-II"}]
[{"$nulls":5},{"$f":"F132 & \".10\"","v":"1.10"},"октябрь",{"$nulls":45},{"$f":"C132 & \"-II\"","v":"1.0-II"}]
[{"$nulls":5},{"$f":"F132 & \".11\"","v":"1.11"},"ноябрь",{"$nulls":45},{"$f":"C132 & \"-II\"","v":"1.0-II"}]
[{"$nulls":5},{"$f":"F132 & \".12\"","v":"1.12"},"декабрь",{"$nulls":45},{"$f":"C132 & \"-II\"","v":"1.0-II"}]
{"$rows_empty":13}
[{"$nulls":6},"Добавить"]

{"sheet":"РО","index":21,"n_rows":265,"n_cols":49,"rows_kept":265,"merged":[[12,38,13,39],[13,41,13,43],[13,45,13,47],[17,45,17,47],[18,38,19,38],[18,39,19,39],[18,40,19,40],[18,41,19,43],[18,45,18,47],[19,45,19,47],[20,45,20,47],[21,45,21,47]]}
[]
[]
[]
[]
[]
[{"$nulls":41},12,6,6,null,12,6,6]
[]
[]
[{"$nulls":41},"Y","I","II",null,"Y","I","II"]
[{"$nulls":44},"START",{"$nulls":3},"END"]
[]
[{"$nulls":39},"Необходимо указывать значения по полугодиям (6 и 6 месяцев)"]
["FULL_MODE",{"$nulls":37},"Расходы организации",null,"Период","Год","I полугодие","II полугодие",null,"Год","I полугодие","II полугодие"]
[]
[{"$nulls":45},{"$f":"AT17 & \"_\" & AT9","v":"1_Y"},{"$f":"AU17 & \"_\" & AU9","v":"1_I"},{"$f":"AV17 & \"_\" & AV9","v":"1_II"}]
[]
[{"$nulls":45},{"$f":"AT19","v":1},{"$f":"AT19","v":1},{"$f":"AT19","v":1}]
[{"$nulls":45},"Удалить",null,null,"Добавить"]
[{"$nulls":38},"№ п/п","Наименование показателя","Единица измерения","Всего по организации",null,null,0,1]
[{"$nulls":45},{"$f":"IF('Список территорий'!$I$16=\"\",\"Не определено\",'Список территорий'!$G$16 & \" / \" & 'Список территорий'!$H$16 & \" / \" & 'Список территорий'!$I$16)","v":"Город Стерлитамак / Город Стерлитамак / 80745000"}]
[{"$nulls":39},"Является ли организация плательщиком НДС",{"$nulls":5},{"$f":"IF('Список территорий'!$M$16=\"\",\"Не определено\",'Список территорий'!$M$16)","v":"да"}]
[{"$nulls":39},{"$f":"IF(CALC_IDENTIFIER=\"\",\"\",CALC_IDENTIFIER)","v":"Вид стоков"},{"$nulls":5},{"$f":"IF('Список территорий'!$AQ$16=\"\",\"Не определено\",'Список территорий'!$AQ$16)","v":"Без дифференциации"}]
[{"$nulls":38},"1","Производственные расходы","тыс.руб.",{"$f":"SUMIF($AS$9:$AW$9,AP$9,$AS23:$AW23)","v":{"v":71528.703639332,"d":"71,528.70"}},{"v":37290.494450549995,"d":"37,290.49"},{"v":34238.209188782006,"d":"34,238.21"},null,{"$f":"AU23+AV23","v":{"v":71528.703639332,"d":"71,528.70"}},{"$f":"SUM(AU24,AU28,AU106,AU107,AU120,AU121,AU122,AU127)","v":{"v":37290.494450549995,"d":"37,290.49"}},{"$f":"SUM(AV24,AV28,AV106,AV107,AV120,AV121,AV122,AV127)","v":{"v":34238.209188782006,"d":"34,238.21"}}]
[{"$nulls":38},"1.1","Расходы на приобретение сырья и материалов и их хранение","тыс.руб.",{"v":6.51408,"d":"6.51"},{"v":3.26716,"d":"3.27"},{"v":3.2469200000000003,"d":"3.25"},null,{"v":6.51408,"d":"6.51"},{"$f":"SUM(AU25,AU26,AU27)","v":{"v":3.26716,"d":"3.27"}},{"$f":"SUM(AV25,AV26,AV27)","v":{"v":3.2469200000000003,"d":"3.25"}}]
[{"$nulls":38},"1.1.1","Реагенты ","тыс.руб.",{"v":0,"d":"0.00"},{"v":0,"d":"0.00"},{"v":0,"d":"0.00"},null,{"v":0,"d":"0.00"},{"$f":"Р!AU$25","v":{"v":0,"d":"0.00"}},{"$f":"Р!AV$25","v":{"v":0,"d":"0.00"}}]
[{"$nulls":38},"1.1.2","Горюче-смазочные материалы","тыс.руб.",{"v":0,"d":"0.00"},{"v":0,"d":"0.00"},{"v":0,"d":"0.00"},null,{"v":0,"d":"0.00"}]
[{"$nulls":38},"1.1.3","Материалы и малоценные основные средства","тыс.руб.",{"v":6.51408,"d":"6.51"},{"v":3.26716,"d":"3.27"},{"v":3.2469200000000003,"d":"3.25"},null,{"v":6.51408,"d":"6.51"},{"v":3.26716,"d":"3.27"},{"v":3.2469200000000003,"d":"3.25"}]
[{"$nulls":38},"1.2","Расходы на энергетические ресурсы и холодную воду","тыс.руб.",{"v":25167.148459332002,"d":"25,167.15"},{"v":12424.69182055,"d":"12,424.69"},{"v":12742.456638782001,"d":"12,742.46"},null,{"v":25167.148459332002,"d":"25,167.15"},{"$f":"SUM(AU29,AU89,AU90,AU91,AU96)","v":{"v":12424.69182055,"d":"12,424.69"}},{"$f":"SUM(AV29,AV89,AV90,AV91,AV96)","v":{"v":12742.456638782001,"d":"12,742.46"}}]
[{"$nulls":38},"1.2.1","электроэнергия ","тыс.руб.",{"v":24911.158029332,"d":"24,911.16"},{"v":12261.46817055,"d":"12,261.47"},{"v":12649.689858782001,"d":"12,649.69"},null,{"v":24911.158029332,"d":"24,911.16"},{"$f":"SUM(AU71,AU83,AU77)","v":{"v":12261.46817055,"d":"12,261.47"}},{"$f":"SUM(AV71,AV83,AV77)","v":{"v":12649.689858782001,"d":"12,649.69"}}]
[{"$nulls":38},"1.2.1.1","Объём покупной энергии"]
[{"$nulls":38},"1.2.1.1.1","Объём покупной энергии по одноставочному тарифу","тыс.кВт*ч",{"$f":"SUMIF($AS$9:$AW$9,AP$9,$AS31:$AW31)","v":{"v":6186.228,"d":"6,186.23"}},{"v":3367.884,"d":"3,367.88"},{"v":2818.344,"d":"2,818.34"},null,{"$f":"SUM(AT32:AT36)","v":{"v":6186.228,"d":"6,186.23"}},{"$f":"SUM(AU32:AU36)","v":{"v":3367.884,"d":"3,367.88"}},{"$f":"SUM(AV32:AV36)","v":{"v":2818.344,"d":"2,818.34"}}]
[{"$nulls":38},"1.2.1.1.1.1","НН","тыс.кВт*ч",{"v":212.985,"d":"212.99"},{"v":131.823,"d":"131.82"},{"v":81.162,"d":"81.16"},null,{"$f":"AU32+AV32","v":{"v":212.985,"d":"212.99"}},{"$f":"131823*0.001","v":{"v":131.823,"d":"131.82"}},{"$f":"81162*0.001","v":{"v":81.162,"d":"81.16"}}]
[{"$nulls":38},"1.2.1.1.1.2","СН1","тыс.кВт*ч",{"v":0,"d":"0.00"},{"v":0,"d":"0.00"},{"v":0,"d":"0.00"},null,{"$f":"AU33+AV33","v":{"v":0,"d":"0.00"}}]
[{"$nulls":38},"1.2.1.1.1.3","СН2","тыс.кВт*ч",{"v":5964.055,"d":"5,964.06"},{"v":3236.061,"d":"3,236.06"},{"v":2727.994,"d":"2,727.99"},null,{"$f":"AU34+AV34","v":{"v":5964.055,"d":"5,964.06"}},{"$f":"3236061*0.001","v":{"v":3236.061,"d":"3,236.06"}},{"$f":"2727994*0.001","v":{"v":2727.994,"d":"2,727.99"}}]
[{"$nulls":38},"1.2.1.1.1.4","ВН","тыс.кВт*ч",{"v":9.188,"d":"9.19"},{"v":0,"d":"0.00"},{"v":9.188,"d":"9.19"},null,{"$f":"AU35+AV35","v":{"v":9.188,"d":"9.19"}},null,{"$f":"9188*0.001","v":{"v":9.188,"d":"9.19"}}]
[{"$nulls":38},"1.2.1.1.1.5","без разбивки по напряжению","тыс.кВт*ч",{"v":0,"d":"0.00"},{"v":0,"d":"0.00"},{"v":0,"d":"0.00"},null,{"$f":"AU36+AV36","v":{"v":0,"d":"0.00"}}]
[{"$nulls":38},"1.2.1.1.2","Объём покупной электроэнергии по двухставочному тарифу"]
[{"$nulls":38},"1.2.1.1.2.1","Мощность","МВт*мес",{"$f":"SUMIF($AS$9:$AW$9,AP$9,$AS38:$AW38)","v":{"v":1125,"d":"1,125.00"}},{"v":0,"d":"0.00"},{"v":1125,"d":"1,125.00"},null,{"$f":"SUM(AT39:AT43)","v":{"v":1125,"d":"1,125.00"}},{"$f":"SUM(AU39:AU43)","v":{"v":0,"d":"0.00"}},{"$f":"SUM(AV39:AV43)","v":{"v":1125,"d":"1,125.00"}}]
[{"$nulls":38},"1.2.1.1.2.1.1","НН","МВт*мес",{"v":0,"d":"0.00"},{"v":0,"d":"0.00"},{"v":0,"d":"0.00"},null,{"$f":"AU39+AV39","v":{"v":0,"d":"0.00"}}]
[{"$nulls":38},"1.2.1.1.2.1.2","СН1","МВт*мес",{"v":0,"d":"0.00"},{"v":0,"d":"0.00"},{"v":0,"d":"0.00"},null,{"$f":"AU40+AV40","v":{"v":0,"d":"0.00"}}]
[{"$nulls":38},"1.2.1.1.2.1.3","СН2","МВт*мес",{"v":573,"d":"573.00"},{"v":0,"d":"0.00"},{"v":573,"d":"573.00"},null,{"$f":"AU41+AV41","v":{"v":573,"d":"573.00"}},null,{"$f":"573","v":{"v":573,"d":"573.00"}}]
[{"$nulls":38},"1.2.1.1.2.1.4","ВН","МВт*мес",{"v":0,"d":"0.00"},{"v":0,"d":"0.00"},{"v":0,"d":"0.00"},null,{"$f":"AU42+AV42","v":{"v":0,"d":"0.00"}}]
[{"$nulls":38},"1.2.1.1.2.1.5","ГН","МВт*мес",{"v":552,"d":"552.00"},{"v":0,"d":"0.00"},{"v":552,"d":"552.00"},null,{"$f":"AU43+AV43","v":{"v":552,"d":"552.00"}},null,{"v":552,"d":"552.00"}]
[{"$nulls":38},"1.2.1.1.2.2","Активная электроэнергия","тыс.кВт*ч",407.82,{"v":0,"d":"0.00"},407.82,null,{"$f":"SUM(AT45:AT49)","v":407.82},{"$f":"SUM(AU45:AU49)","v":{"v":0,"d":"0.00"}},{"$f":"SUM(AV45:AV49)","v":407.82}]
[{"$nulls":38},"1.2.1.1.2.2.1","НН","тыс.кВт*ч",{"v":0,"d":"0.00"},{"v":0,"d":"0.00"},{"v":0,"d":"0.00"},null,{"$f":"AU45+AV45","v":{"v":0,"d":"0.00"}}]
[{"$nulls":38},"1.2.1.1.2.2.2","СН1","тыс.кВт*ч",{"v":0,"d":"0.00"},{"v":0,"d":"0.00"},{"v":0,"d":"0.00"},null,{"$f":"AU46+AV46","v":{"v":0,"d":"0.00"}}]
[{"$nulls":38},"1.2.1.1.2.2.3","СН2","тыс.кВт*ч",407.82,{"v":0,"d":"0.00"},407.82,null,{"$f":"AU47+AV47","v":407.82},null,{"$f":"407820*0.001","v":407.82}]
[{"$nulls":38},"1.2.1.1.2.2.4","ВН","тыс.кВт*ч",{"v":0,"d":"0.00"},{"v":0,"d":"0.00"},{"v":0,"d":"0.00"},null,{"$f":"AU48+AV48","v":{"v":0,"d":"0.00"}}]
[{"$nulls":38},"1.2.1.1.2.2.5","ГН","тыс.кВт*ч",{"v":0,"d":"0.00"},{"v":0,"d":"0.00"},{"v":0,"d":"0.00"},null,{"$f":"AU49+AV49","v":{"v":0,"d":"0.00"}}]
[{"$nulls":38},"1.2.1.2","Тариф на электроэнергию и мощность"]
[{"$nulls":38},"1.2.1.2.1","по одноставочному тарифу"]
[{"$nulls":38},"1.2.1.2.1.1","НН","руб./кВт*ч",{"$f":"IF(AP32=0,0,AP72/AP32)","v":{"v":4.245043036974434,"d":"4.25"}},{"$f":"IF(AQ32=0,0,AQ72/AQ32)","v":{"v":4.07187,"d":"4.07"}},{"$f":"IF(AR32=0,0,AR72/AR32)","v":{"v":4.52631,"d":"4.53"}},null,{"$f":"IF(AT32=0,0,AT72/AT32)","v":{"v":4.245043036974434,"d":"4.25"}},{"v":4.07187,"d":"4.07"},{"v":4.52631,"d":"4.53"}]
[{"$nulls":38},"1.2.1.2.1.2","СН1","руб./кВт*ч",{"$f":"IF(AP33=0,0,AP73/AP33)","v":{"v":0,"d":"0.00"}},{"v":0,"d":"0.00"},{"v":0,"d":"0.00"},null,{"$f":"IF(AT33=0,0,AT73/AT33)","v":{"v":0,"d":"0.00"}}]
[{"$nulls":38},"1.2.1.2.1.3","СН2","руб./кВт*ч",{"v":3.785737737802888,"d":"3.79"},{"v":3.62314,"d":"3.62"},{"v":3.978618,"d":"3.98"},null,{"$f":"IF(AT34=0,0,AT74/AT34)","v":{"v":3.785737737802888,"d":"3.79"}},{"v":3.62314,"d":"3.62"},{"v":3.978618,"d":"3.98"}]
[{"$nulls":38},"1.2.1.2.1.4","ВН","руб./кВт*ч",{"v":3.5017600000000004,"d":"3.50"},{"v":0,"d":"0.00"},{"v":3.5017600000000004,"d":"3.50"},null,{"$f":"IF(AT35=0,0,AT75/AT35)","v":{"v":3.5017600000000004,"d":"3.50"}},null,{"v":3.50176,"d":"3.50"}]
[{"$nulls":38},"1.2.1.2.1.5","без разбивки по напряжению","руб./кВт*ч",{"v":0,"d":"0.00"},{"v":0,"d":"0.00"},{"v":0,"d":"0.00"},null,{"$f":"IF(AT36=0,0,AT76/AT36)","v":{"v":0,"d":"0.00"}}]
[{"$nulls":38},"1.2.1.2.1.6","Средний одноставочный тариф на электрическую энергию","руб./кВт*ч",{"$f":"IF(AP31=0,0,AP71/AP31)","v":{"v":3.801129338579503,"d":"3.80"}},{"$f":"IF(AQ31=0,0,AQ71/AQ31)","v":{"v":3.640703827848584,"d":"3.64"}},{"$f":"IF(AR31=0,0,AR71/AR31)","v":{"v":3.9928357132386965,"d":"3.99"}},null,{"$f":"IF(AT31=0,0,AT71/AT31)","v":{"v":3.801129338579503,"d":"3.80"}},{"$f":"IF(AU31=0,0,AU71/AU31)","v":{"v":3.640703827848584,"d":"3.64"}},{"$f":"IF(AV31=0,0,AV71/AV31)","v":{"v":3.9928357132386965,"d":"3.99"}}]
[{"$nulls":38},"1.2.1.2.2","по двухставочному тарифу"]
[{"$nulls":38},"1.2.1.2.2.1","ставка за мощность","руб./МВт*мес",{"$f":"IF(AP38=0,0,AP77*1000/AP38)","v":{"v":674.0295966133333,"d":"674.03"}},{"v":0,"d":"0.00"},{"v":674.0295966133333,"d":"674.03"},null,{"$f":"IF(AT38=0,0,(AT60*AT39+AT61*AT40+AT62*AT41+AT63*AT42+AT64*AT43)/AT38)","v":{"v":674.0295966133333,"d":"674.03"}},{"$f":"IF(AU38=0,0,(AU60*AU39+AU61*AU40+AU62*AU41+AU63*AU42+AU64*AU43)/AU38)","v":{"v":0,"d":"0.00"}},{"$f":"IF(AV38=0,0,(AV60*AV39+AV61*AV40+AV62*AV41+AV63*AV42+AV64*AV43)/AV38)","v":{"v":674.0295966133333,"d":"674.03"}}]
[{"$nulls":38},"1.2.1.2.2.1.1","НН","руб./МВт*мес",{"v":0,"d":"0.00"},{"v":0,"d":"0.00"},{"v":0,"d":"0.00"},null,{"$f":"IF(AT39=0,0,AT78*1000/AT39)","v":{"v":0,"d":"0.00"}}]
[{"$nulls":38},"1.2.1.2.2.1.2","СН1","руб./МВт*мес",{"v":0,"d":"0.00"},{"v":0,"d":"0.00"},{"v":0,"d":"0.00"},null,{"$f":"IF(AT40=0,0,AT79*1000/AT40)","v":{"v":0,"d":"0.00"}}]
[{"$nulls":38},"1.2.1.2.2.1.3","СН2","руб./МВт*мес",{"v":690.81863,"d":"690.82"},{"v":0,"d":"0.00"},{"v":690.81863,"d":"690.82"},null,{"$f":"IF(AT41=0,0,AT80*1000/AT41)","v":{"v":690.81863,"d":"690.82"}},null,{"v":690.81863,"d":"690.82"}]
[{"$nulls":38},"1.2.1.2.2.1.4","ВН","руб./МВт*мес",{"v":0,"d":"0.00"},{"v":0,"d":"0.00"},{"v":0,"d":"0.00"},null,{"$f":"IF(AT42=0,0,AT81*1000/AT42)","v":{"v":0,"d":"0.00"}}]
[{"$nulls":38},"1.2.1.2.2.1.5","ГН","руб./МВт*мес",{"v":656.60185,"d":"656.60"},{"v":0,"d":"0.00"},{"v":656.60185,"d":"656.60"},null,{"$f":"IF(AT43=0,0,AT82*1000/AT43)","v":{"v":656.60185,"d":"656.60"}},null,{"v":656.60185,"d":"656.60"}]
[{"$nulls":38},"1.2.1.2.2.2","ставка за электроэнергию","руб./кВт*мес",{"$f":"IF(AP44=0,0,AP83/AP44)","v":{"v":1.56496,"d":"1.56"}},{"$f":"IF(AQ44=0,0,AQ83/AQ44)","v":{"v":0,"d":"0.00"}},{"$f":"IF(AR44=0,0,AR83/AR44)","v":{"v":1.56496,"d":"1.56"}},null,{"$f":"IF(AT44=0,0,(AT66*AT45+AT67*AT46+AT68*AT47+AT69*AT48+AT70*AT49)/AT44)","v":{"v":1.56496,"d":"1.56"}},{"$f":"IF(AU44=0,0,(AU66*AU45+AU67*AU46+AU68*AU47+AU69*AU48+AU70*AU49)/AU44)","v":{"v":0,"d":"0.00"}},{"$f":"IF(AV44=0,0,(AV66*AV45+AV67*AV46+AV68*AV47+AV69*AV48+AV70*AV49)/AV44)","v":{"v":1.56496,"d":"1.56"}}]
[{"$nulls":38},"1.2.1.2.2.2.1","НН","руб./кВт*мес",{"$f":"IF(AP45=0,0,AP84/AP45)","v":{"v":0,"d":"0.00"}},{"v":0,"d":"0.00"},{"v":0,"d":"0.00"},null,{"$f":"IF(AT45=0,0,AT84/AT45)","v":{"v":0,"d":"0.00"}}]
[{"$nulls":38},"1.2.1.2.2.2.2","СН1","руб./кВт*мес",{"v":0,"d":"0.00"},{"v":0,"d":"0.00"},{"v":0,"d":"0.00"},null,{"$f":"IF(AT46=0,0,AT85/AT46)","v":{"v":0,"d":"0.00"}}]
[{"$nulls":38},"1.2.1.2.2.2.3","СН2","руб./кВт*мес",{"v":1.56496,"d":"1.56"},{"v":0,"d":"0.00"},{"v":1.56496,"d":"1.56"},null,{"$f":"IF(AT47=0,0,AT86/AT47)","v":{"v":1.56496,"d":"1.56"}},null,{"v":1.56496,"d":"1.56"}]
[{"$nulls":38},"1.2.1.2.2.2.4","ВН","руб./кВт*мес",{"v":0,"d":"0.00"},{"v":0,"d":"0.00"},{"v":0,"d":"0.00"},null,{"$f":"IF(AT48=0,0,AT87/AT48)","v":{"v":0,"d":"0.00"}}]
[{"$nulls":38},"1.2.1.2.2.2.5","ГН","руб./кВт*мес",{"v":0,"d":"0.00"},{"v":0,"d":"0.00"},{"v":0,"d":"0.00"},null,{"$f":"IF(AT49=0,0,AT88/AT49)","v":{"v":0,"d":"0.00"}}]
[{"$nulls":38},"1.2.1.3","Затраты на покупку энергии по одноставочному тарифу","тыс.руб.",{"$f":"SUMIF($AS$9:$AW$9,AP$9,$AS71:$AW71)","v":{"v":23514.652745942003,"d":"23,514.65"}},{"v":12261.46817055,"d":"12,261.47"},{"v":11253.184575392,"d":"11,253.18"},null,{"$f":"AU71+AV71","v":{"v":23514.652745942003,"d":"23,514.65"}},{"$f":"SUM(AU72:AU76)","v":{"v":12261.46817055,"d":"12,261.47"}},{"$f":"SUM(AV72:AV76)","v":{"v":11253.184575392,"d":"11,253.18"}}]
[{"$nulls":38},"1.2.1.3.1","НН","тыс.руб.",{"v":904.13049123,"d":"904.13"},{"v":536.76611901,"d":"536.77"},{"v":367.36437222,"d":"367.36"},null,{"v":904.13049123,"d":"904.13"},{"$f":"AU32*AU52","v":{"v":536.76611901,"d":"536.77"}},{"$f":"AV32*AV52","v":{"v":367.36437222,"d":"367.36"}}]
[{"$nulls":38},"1.2.1.3.2","СН1","тыс.руб.",{"v":0,"d":"0.00"},{"v":0,"d":"0.00"},{"v":0,"d":"0.00"},null,{"v":0,"d":"0.00"},{"$f":"AU33*AU53","v":{"v":0,"d":"0.00"}},{"v":0,"d":"0.00"}]
[{"$nulls":38},"1.2.1.3.3","СН2","тыс.руб.",{"v":22578.348083832003,"d":"22,578.35"},{"v":11724.70205154,"d":"11,724.70"},{"v":10853.646032292001,"d":"10,853.65"},null,{"v":22578.348083832003,"d":"22,578.35"},{"v":11724.70205154,"d":"11,724.70"},{"v":10853.646032292001,"d":"10,853.65"}]
[{"$nulls":38},"1.2.1.3.4","ВН","тыс.руб.",{"v":32.174170880000005,"d":"32.17"},{"v":0,"d":"0.00"},{"v":32.174170880000005,"d":"32.17"},null,{"v":32.174170880000005,"d":"32.17"},{"v":0,"d":"0.00"},{"v":32.174170880000005,"d":"32.17"}]
[{"$nulls":38},"1.2.1.3.5","без разбивки по напряжению","тыс.руб.",{"v":0,"d":"0.00"},{"v":0,"d":"0.00"},{"v":0,"d":"0.00"},null,{"v":0,"d":"0.00"},{"v":0,"d":"0.00"},{"v":0,"d":"0.00"}]
[{"$nulls":38},"1.2.1.4","Затраты на покупку мощности по двухставочному тарифу","тыс.руб.",{"v":758.28329619,"d":"758.28"},{"v":0,"d":"0.00"},{"v":758.28329619,"d":"758.28"},null,{"v":758.28329619,"d":"758.28"},{"$f":"SUM(AU78:AU82)","v":{"v":0,"d":"0.00"}},{"$f":"SUM(AV78:AV82)","v":{"v":758.28329619,"d":"758.28"}}]
[{"$nulls":38},"1.2.1.4.1","НН","тыс.руб.",{"v":0,"d":"0.00"},{"v":0,"d":"0.00"},{"v":0,"d":"0.00"},null,{"v":0,"d":"0.00"},{"$f":"AU39*AU60/1000","v":{"v":0,"d":"0.00"}},{"$f":"AV39*AV60/1000","v":{"v":0,"d":"0.00"}}]
[{"$nulls":38},"1.2.1.4.2","СН1","тыс.руб.",{"v":0,"d":"0.00"},{"v":0,"d":"0.00"},{"v":0,"d":"0.00"},null,{"v":0,"d":"0.00"},{"$f":"AU40*AU61/1000","v":{"v":0,"d":"0.00"}},{"v":0,"d":"0.00"}]
[{"$nulls":38},"1.2.1.4.3","СН2","тыс.руб.",{"v":395.83907499,"d":"395.84"},{"v":0,"d":"0.00"},{"v":395.83907499,"d":"395.84"},null,{"v":395.83907499,"d":"395.84"},{"v":0,"d":"0.00"},{"v":395.83907499,"d":"395.84"}]
[{"$nulls":38},"1.2.1.4.4","ВН","тыс.руб.",{"v":0,"d":"0.00"},{"v":0,"d":"0.00"},{"v":0,"d":"0.00"},null,{"v":0,"d":"0.00"},{"v":0,"d":"0.00"},{"v":0,"d":"0.00"}]
[{"$nulls":38},"1.2.1.4.5","ГН","тыс.руб.",{"v":362.4442212,"d":"362.44"},{"v":0,"d":"0.00"},{"v":362.4442212,"d":"362.44"},null,{"v":362.4442212,"d":"362.44"},{"v":0,"d":"0.00"},{"v":362.4442212,"d":"362.44"}]
[{"$nulls":38},"1.2.1.5","Затраты на покупку энергии по двухставочному тарифу","тыс.руб.",{"v":638.2219872,"d":"638.22"},{"v":0,"d":"0.00"},{"v":638.2219872,"d":"638.22"},null,{"v":638.2219872,"d":"638.22"},{"$f":"SUM(AU84:AU88)","v":{"v":0,"d":"0.00"}},{"$f":"SUM(AV84:AV88)","v":{"v":638.2219872,"d":"638.22"}}]
[{"$nulls":38},"1.2.1.5.1","НН","тыс.руб.",{"v":0,"d":"0.00"},{"v":0,"d":"0.00"},{"v":0,"d":"0.00"},null,{"v":0,"d":"0.00"},{"$f":"AU45*AU66","v":{"v":0,"d":"0.00"}},{"v":0,"d":"0.00"}]
[{"$nulls":38},"1.2.1.5.2","СН1","тыс.руб.",{"v":0,"d":"0.00"},{"v":0,"d":"0.00"},{"v":0,"d":"0.00"},null,{"v":0,"d":"0.00"},{"v":0,"d":"0.00"},{"v":0,"d":"0.00"}]
[{"$nulls":38},"1.2.1.5.3","СН2","тыс.руб.",{"v":638.2219872,"d":"638.22"},{"v":0,"d":"0.00"},{"v":638.2219872,"d":"638.22"},null,{"v":638.2219872,"d":"638.22"},{"v":0,"d":"0.00"},{"v":638.2219872,"d":"638.22"}]
[{"$nulls":38},"1.2.1.5.4","ВН","тыс.руб.",{"v":0,"d":"0.00"},{"v":0,"d":"0.00"},{"v":0,"d":"0.00"},null,{"v":0,"d":"0.00"},{"v":0,"d":"0.00"},{"v":0,"d":"0.00"}]
[{"$nulls":38},"1.2.1.5.5","ГН","тыс.руб.",{"v":0,"d":"0.00"},{"v":0,"d":"0.00"},{"v":0,"d":"0.00"},null,{"v":0,"d":"0.00"},{"v":0,"d":"0.00"},{"v":0,"d":"0.00"}]
[{"$nulls":38},"1.2.2","теплоэнергия","тыс.руб.",{"v":255.99043,"d":"255.99"},{"v":163.22365,"d":"163.22"},{"v":92.76678,"d":"92.77"},null,{"v":255.99043,"d":"255.99"},{"v":163.22365,"d":"163.22"},{"v":92.76678,"d":"92.77"}]
[{"$nulls":38},"1.2.3","теплоноситель","тыс.руб.",{"v":0,"d":"0.00"},{"v":0,"d":"0.00"},{"v":0,"d":"0.00"},null,{"v":0,"d":"0.00"}]
[{"$nulls":38},"1.2.4","топливо","тыс.руб.",{"v":0,"d":"0.00"},{"v":0,"d":"0.00"},{"v":0,"d":"0.00"},null,{"v":0,"d":"0.00"}]
[]
[]
[]
[]
[{"$nulls":38},"1.2.5","холодная вода","тыс.руб.",{"$f":"SUMIF($AS$9:$AW$9,AP$9,$AS96:$AW96)","v":{"v":0,"d":"0.00"}},{"$f":"SUMIF($AS$9:$AW$9,AQ$9,$AS96:$AW96)","v":{"v":0,"d":"0.00"}},{"$f":"SUMIF($AS$9:$AW$9,AR$9,$AS96:$AW96)","v":{"v":0,"d":"0.00"}},null,{"$f":"AU96+AV96","v":{"v":0,"d":"0.00"}},{"$f":"AU97*AU98","v":{"v":0,"d":"0.00"}},{"$f":"AV97*AV98","v":{"v":0,"d":"0.00"}}]
[{"$nulls":38},"1.2.5.1","цена","руб./куб.м",{"$f":"IF(AP98=0,0,AP96/AP98)","v":{"v":0,"d":"0.00"}},{"$f":"IF(AQ98=0,0,AQ96/AQ98)","v":{"v":0,"d":"0.00"}},{"$f":"IF(AR98=0,0,AR96/AR98)","v":{"v":0,"d":"0.00"}},null,{"$f":"IF(AT98=0,0,AT96/AT98)","v":{"v":0,"d":"0.00"}}]
[{"$nulls":38},"1.2.5.2","объём","тыс.куб.м",{"$f":"SUMIF($AS$9:$AW$9,AP$9,$AS98:$AW98)","v":{"v":0,"d":"0.00"}},{"$f":"SUMIF($AS$9:$AW$9,AQ$9,$AS98:$AW98)","v":{"v":0,"d":"0.00"}},{"$f":"SUMIF($AS$9:$AW$9,AR$9,$AS98:$AW98)","v":{"v":0,"d":"0.00"}},null,{"$f":"AU98+AV98","v":{"v":0,"d":"0.00"}}]
{"$rows_empty":7}
[{"$nulls":38},"1.3","Расходы на оплату работ и услуг, выполняемые сторонними организациями и индивидуальными предпринимателями, связанные с эксплуатацией централизованных систем либо объектов в составе таких систем","тыс.руб.",{"$f":"SUMIF($AS$9:$AW$9,AP$9,$AS106:$AW106)","v":{"v":40736.45276,"d":"40,736.45"}},{"v":22325.542479999996,"d":"22,325.54"},{"v":18410.91028,"d":"18,410.91"},null,{"$f":"AU106+AV106","v":{"v":40736.45276,"d":"40,736.45"}},{"v":22325.542479999996,"d":"22,325.54"},{"v":18410.91028,"d":"18,410.91"}]
[{"$nulls":38},"1.4","Расходы на оплату труда и отчисления на социальные нужды основного производственного персонала, в том числе налоги и сборы ","тыс.руб.",{"v":3472.3759299999997,"d":"3,472.38"},{"v":1507.84783,"d":"1,507.85"},{"v":1964.5280999999998,"d":"1,964.53"},null,{"$f":"AU107+AV107","v":{"v":3472.3759299999997,"d":"3,472.38"}},{"$f":"SUM(AU108,AU119)","v":{"v":1507.84783,"d":"1,507.85"}},{"$f":"SUM(AV108,AV119)","v":{"v":1964.5280999999998,"d":"1,964.53"}}]
[{"$nulls":38},"1.4.1","Расходы на оплату труда производственного персонала","тыс.руб.",{"v":2677.0414,"d":"2,677.04"},{"v":1163.32997,"d":"1,163.33"},{"v":1513.7114299999998,"d":"1,513.71"},null,{"$f":"AU108+AV108","v":{"v":2677.0414,"d":"2,677.04"}},{"v":1163.32997,"d":"1,163.33"},{"v":1513.7114299999998,"d":"1,513.71"}]
[{"$nulls":38},"1.4.1.1","Численность (среднесписочная), принятая для расчёта","ед.",{"v":9.188643595149578,"d":"9.19"},{"v":8.95354878969145,"d":"8.95"},{"v":9.423738400607709,"d":"9.42"},null,{"v":9.188643595149578,"d":"9.19"},{"v":8.95354878969145,"d":"8.95"},{"v":9.423738400607709,"d":"9.42"}]
[{"$nulls":38},"1.4.1.2","Среднемесячная оплата труда основного производственного персонала","руб./мес.",{"$f":"IF(AP109=0,0,AP108/AP109*1000/AP$6)","v":{"v":24278.532628155746,"d":"24,278.53"}},{"$f":"IF(AQ109=0,0,AQ108/AQ109*1000/AQ$6)","v":{"v":21654.91392156863,"d":"21,654.91"}},{"$f":"IF(AR109=0,0,AR108/AR109*1000/AR$6)","v":{"v":26771.248055555552,"d":"26,771.25"}},null,{"$f":"IF(AT109=0,0,AT108/AT109*1000/AT$6)","v":{"v":24278.532628155746,"d":"24,278.53"}},{"$f":"IF(AU109=0,0,AU108/AU109*1000/AU$6)","v":{"v":21654.91392156863,"d":"21,654.91"}},{"$f":"IF(AV109=0,0,AV108/AV109*1000/AV$6)","v":{"v":26771.248055555552,"d":"26,771.25"}}]
[{"$nulls":38},"1.4.1.3","Фактическая численность основного производственного персонала, относимого на регулируемый вид деятельности","ед.",{"$f":"SUMIF($AS$9:$AW$9,AP$9,$AS111:$AW111)","v":{"v":9,"d":"9.00"}},{"v":9,"d":"9.00"},{"v":9,"d":"9.00"},null,{"v":9,"d":"9.00"},{"v":9,"d":"9.00"},{"v":9,"d":"9.00"}]
[{"$nulls":38},"1.4.1.4","Справочно: нормативная численность основного производственного персонала, относимого на регулируемый вид деятельности","ед.",{"v":0,"d":"0.00"},{"v":0,"d":"0.00"},{"v":0,"d":"0.00"}]
[{"$nulls":38},"1.4.1.5","Тарифная ставка рабочего 1-го разряда","руб./мес.",{"$nulls":5},{"v":5440,"d":"5,440.00"},{"v":6310,"d":"6,310.00"}]
[{"$nulls":38},"1.4.1.6","Индекс роста номинальной заработной платы",{"$nulls":6},{"v":1.1599264705882353,"d":"1.16"},{"v":1.0602218700475436,"d":"1.06"}]
[{"$nulls":38},"1.4.1.7","Тарифная ставка рабочего 1-го разряда с учётом дефлятора","руб./мес.",{"$nulls":5},{"v":6310,"d":"6,310.00"},{"v":6690,"d":"6,690.00"}]
[{"$nulls":38},"1.4.1.8","Средний тарифный коэффициент",{"$nulls":6},1.69,1.69]
[{"$nulls":38},"1.4.1.9","Среднемесячная тарифная ставка","руб./мес.",{"$nulls":5},{"v":10663.9,"d":"10,663.90"},{"v":11306.1,"d":"11,306.10"}]
[{"$nulls":38},"1.4.1.10","Минимальный размер оплаты труда по отраслевому тарифному соглашению","руб./мес.",{"$nulls":5},{"v":11748,"d":"11,748.00"},{"v":11748,"d":"11,748.00"}]
[{"$nulls":38},"1.4.2","Отчисления на социальные нужды производственного персонала, в том числе налоги и сборы","тыс.руб.",{"$f":"SUMIF($AS$9:$AW$9,AP$9,$AS119:$AW119)","v":{"v":795.33453,"d":"795.33"}},{"v":344.51786,"d":"344.52"},{"v":450.81667,"d":"450.82"},null,{"$f":"AU119+AV119","v":{"v":795.33453,"d":"795.33"}},{"v":344.51786,"d":"344.52"},{"v":450.81667,"d":"450.82"}]
[{"$nulls":38},"1.5","Расходы на уплату процентов по займам и кредитам, не учитываемые при определении налогооблагаемой базы налога на прибыль","тыс.руб.",{"v":0,"d":"0.00"},{"v":0,"d":"0.00"},{"v":0,"d":"0.00"},null,{"v":0,"d":"0.00"}]
[{"$nulls":38},"1.6","Общехозяйственные расходы","тыс.руб.",{"v":2031.95399,"d":"2,031.95"},{"v":985.1311599999999,"d":"985.13"},{"v":1046.82283,"d":"1,046.82"},null,{"v":2031.95399,"d":"2,031.95"},{"v":985.1311599999999,"d":"985.13"},{"v":1046.82283,"d":"1,046.82"}]
[{"$nulls":38},"1.7","Прочие производственные расходы","тыс.руб.",{"v":114.25842,"d":"114.26"},{"v":44.014,"d":"44.01"},{"v":70.24442,"d":"70.24"},null,{"v":114.25842,"d":"114.26"},{"$f":"SUM(AU123:AU126)","v":{"v":44.014,"d":"44.01"}},{"$f":"SUM(AV123:AV126)","v":{"v":70.24442,"d":"70.24"}}]
[{"$nulls":38},"1.7.1","Расходы на амортизацию транспорта","тыс.руб.",{"v":0,"d":"0.00"},{"v":0,"d":"0.00"},{"v":0,"d":"0.00"},null,{"v":0,"d":"0.00"}]
[{"$nulls":38},{"$f":"IF(TEMPLATE_SPHERE_CODE=\"COLDVSNA\",\"1.7.2\",IF(TEMPLATE_SPHERE_CODE=\"VOTV\",\"1.7.2\",\"\"))","v":"1.7.2"},{"$f":"IF(TEMPLATE_SPHERE_CODE=\"COLDVSNA\",\"Контроль качества воды\",IF(TEMPLATE_SPHERE_CODE=\"VOTV\",\"Контроль сточных вод\",\"\"))","v":"Контроль сточных вод"},"тыс.руб.",{"v":114.25842,"d":"114.26"},{"v":44.014,"d":"44.01"},{"v":70.24442,"d":"70.24"},null,{"v":114.25842,"d":"114.26"},{"v":44.014,"d":"44.01"},{"v":70.24442,"d":"70.24"}]
[{"$nulls":38},"1.7.3","Расходы на аварийно-диспетчерское обслуживание","тыс.руб.",{"v":0,"d":"0.00"},{"v":0,"d":"0.00"},{"v":0,"d":"0.00"},null,{"v":0,"d":"0.00"}]
[{"$nulls":38},{"$f":"IF(TEMPLATE_SPHERE_CODE=\"COLDVSNA\",\"\",IF(TEMPLATE_SPHERE_CODE=\"VOTV\",\"1.7.4\",\"\"))","v":"1.7.4"},{"$f":"IF(TEMPLATE_SPHERE_CODE=\"COLDVSNA\",\"\",IF(TEMPLATE_SPHERE_CODE=\"VOTV\",\"Услуги по обращению с осадком сточных вод\",\"\"))","v":"Услуги по обращению с осадком сточных вод"},{"$f":"IF(TEMPLATE_SPHERE_CODE=\"COLDVSNA\",\"\",IF(TEMPLATE_SPHERE_CODE=\"VOTV\",\"тыс.руб.\",\"\"))","v":"тыс.руб."},{"$f":"IF(TEMPLATE_SPHERE_CODE=\"COLDVSNA\",\"\",SUMIF($AS$9:$AW$9,AP$9,$AS126:$AW126))","v":{"v":0,"d":"0.00"}},{"$f":"IF(TEMPLATE_SPHERE_CODE=\"COLDVSNA\",\"\",SUMIF($AS$9:$AW$9,AQ$9,$AS126:$AW126))","v":{"v":0,"d":"0.00"}},{"$f":"IF(TEMPLATE_SPHERE_CODE=\"COLDVSNA\",\"\",SUMIF($AS$9:$AW$9,AR$9,$AS126:$AW126))","v":{"v":0,"d":"0.00"}}]
[{"$nulls":38},"1.8","Цеховые расходы","тыс.руб.",{"$f":"SUMIF($AS$9:$AW$9,AP$9,$AS127:$AW127)","v":{"v":0,"d":"0.00"}},{"v":0,"d":"0.00"},{"v":0,"d":"0.00"},null,{"$f":"AU127+AV127","v":{"v":0,"d":"0.00"}},{"$f":"SUM(AU128:AU131)","v":{"v":0,"d":"0.00"}},{"$f":"SUM(AV128:AV131)","v":{"v":0,"d":"0.00"}}]
[{"$nulls":38},"1.8.1","Расходы на оплату труда цехового персонала","тыс.руб.",{"v":0,"d":"0.00"},{"v":0,"d":"0.00"},{"v":0,"d":"0.00"},null,{"v":0,"d":"0.00"}]
[{"$nulls":38},"1.8.2","Отчисления на социальные нужды цехового персонала, в том числе налоги и сборы","тыс.руб.",{"v":0,"d":"0.00"},{"v":0,"d":"0.00"},{"v":0,"d":"0.00"},null,{"v":0,"d":"0.00"}]
[{"$nulls":38},"1.8.3","Расходы на охрану труда","тыс.руб.",{"v":0,"d":"0.00"},{"v":0,"d":"0.00"},{"v":0,"d":"0.00"},null,{"v":0,"d":"0.00"}]
[{"$nulls":38},"1.8.4","Прочие","тыс.руб.",{"v":0,"d":"0.00"},{"v":0,"d":"0.00"},{"v":0,"d":"0.00"},null,{"v":0,"d":"0.00"}]
[{"$nulls":38},"2","Ремонтные расходы","тыс.руб.",{"v":27875.91223,"d":"27,875.91"},{"v":7280.63256,"d":"7,280.63"},{"v":20595.279670000004,"d":"20,595.28"},null,{"v":27875.91223,"d":"27,875.91"},{"$f":"SUM(AU133,AU135,AU137)","v":{"v":7280.63256,"d":"7,280.63"}},{"$f":"SUM(AV133,AV135,AV137)","v":{"v":20595.279670000004,"d":"20,595.28"}}]
[{"$nulls":38},"2.1","Расходы на текущий ремонт централизованных систем водоснабжения и (или) водоотведения либо объектов, входящих в состав таких систем","тыс.руб.",{"v":93.30712,"d":"93.31"},{"v":26.56216,"d":"26.56"},{"v":66.74496,"d":"66.74"},null,{"v":93.30712,"d":"93.31"},{"v":26.56216,"d":"26.56"},{"v":66.74496,"d":"66.74"}]
[{"$nulls":38},"2.1.1","Справочно: расходы на текущий ремонт, предусмотренные производственной программой регулируемой организации","тыс.руб.",{"v":0,"d":"0.00"},{"v":0,"d":"0.00"},{"v":0,"d":"0.00"},null,{"v":0,"d":"0.00"}]
[{"$nulls":38},"2.2","Расходы на капитальный ремонт централизованных систем водоснабжения и (или водоотведения) либо объектов, входящих в состав таких систем","тыс.руб.",{"v":27782.605110000004,"d":"27,782.61"},{"v":7254.0704,"d":"7,254.07"},{"v":20528.534710000004,"d":"20,528.53"},null,{"v":27782.605110000004,"d":"27,782.61"},{"v":7254.0704,"d":"7,254.07"},{"v":20528.534710000004,"d":"20,528.53"}]
[{"$nulls":38},"2.2.1","Справочно: расходы на капитальный ремонт, предусмотренные производственной программой регулируемой организации","тыс.руб.",{"v":33513.422999999995,"d":"33,513.42"},{"v":16004.5,"d":"16,004.50"},{"v":17508.922999999995,"d":"17,508.92"},null,{"v":33513.422999999995,"d":"33,513.42"},{"v":16004.5,"d":"16,004.50"},{"v":17508.922999999995,"d":"17,508.92"}]
[{"$nulls":38},"2.3","Расходы на оплату труда и отчисления на социальные нужды ремонтного персонала, в том числе налоги и сборы","тыс.руб.",{"v":0,"d":"0.00"},{"v":0,"d":"0.00"},{"v":0,"d":"0.00"},null,{"v":0,"d":"0.00"},{"$f":"SUM(AU138,AU149)","v":{"v":0,"d":"0.00"}},{"$f":"SUM(AV138,AV149)","v":{"v":0,"d":"0.00"}}]
[{"$nulls":38},"2.3.1","Расходы на оплату труда ремонтного персонала","тыс.руб.",{"v":0,"d":"0.00"},{"v":0,"d":"0.00"},{"v":0,"d":"0.00"},null,{"v":0,"d":"0.00"}]
[{"$nulls":38},"2.3.1.1","Численность (среднесписочная), принятая для расчёта","ед.",{"v":0,"d":"0.00"},{"v":0,"d":"0.00"},{"v":0,"d":"0.00"}]
[{"$nulls":38},"2.3.1.2","Среднемесячная оплата труда ремонтного персонала","руб./мес.",{"$f":"IF(AP139=0,0,AP138/AP139*1000/AP$6)","v":{"v":0,"d":"0.00"}},{"$f":"IF(AQ139=0,0,AQ138/AQ139*1000/AQ$6)","v":{"v":0,"d":"0.00"}},{"$f":"IF(AR139=0,0,AR138/AR139*1000/AR$6)","v":{"v":0,"d":"0.00"}},null,{"$f":"IF(AT139=0,0,AT138/AT139*1000/AT$6)","v":{"v":0,"d":"0.00"}},{"$f":"IF(AU139=0,0,AU138/AU139*1000/AU$6)","v":{"v":0,"d":"0.00"}},{"$f":"IF(AV139=0,0,AV138/AV139*1000/AV$6)","v":{"v":0,"d":"0.00"}}]
[{"$nulls":38},"2.3.1.3","Фактическая численность ремонтного персонала, относимого на регулируемый вид деятельности","ед.",{"$f":"SUMIF($AS$9:$AW$9,AP$9,$AS141:$AW141)","v":{"v":0,"d":"0.00"}},{"v":0,"d":"0.00"},{"v":0,"d":"0.00"}]
[{"$nulls":38},"2.3.1.4","Справочно: нормативная численность ремонтного персонала, относимого на регулируемый вид деятельности","ед.",{"v":0,"d":"0.00"},{"v":0,"d":"0.00"},{"v":0,"d":"0.00"}]
[{"$nulls":38},"2.3.1.5","Тарифная ставка рабочего 1-го разряда","руб./мес."]
[{"$nulls":38},"2.3.1.6","Индекс роста номинальной заработной платы"]
[{"$nulls":38},"2.3.1.7","Тарифная ставка рабочего 1-го разряда с учётом дефлятора","руб./мес."]
[{"$nulls":38},"2.3.1.8","Средний тарифный коэффициент"]
[{"$nulls":38},"2.3.1.9","Среднемесячная тарифная ставка","руб./мес."]
[{"$nulls":38},"2.3.1.10","Минимальный размер оплаты труда по отраслевому тарифному соглашению","руб./мес."]
[{"$nulls":38},"2.3.2","Отчисления на социальные нужды ремонтного персонала, в том числе налоги и сборы","тыс.руб.",{"$f":"SUMIF($AS$9:$AW$9,AP$9,$AS149:$AW149)","v":{"v":0,"d":"0.00"}},{"v":0,"d":"0.00"},{"v":0,"d":"0.00"},null,{"$f":"AU149+AV149","v":{"v":0,"d":"0.00"}}]
[{"$nulls":38},3,"Административные расходы","тыс.руб.",{"v":5734.97321,"d":"5,734.97"},{"v":2578.8057799999997,"d":"2,578.81"},{"v":3156.1674300000004,"d":"3,156.17"},null,{"v":5734.97321,"d":"5,734.97"},{"$f":"SUM(AU151,AU158,AU171,AU172,AU173,AU174,AU175)","v":{"v":2578.8057799999997,"d":"2,578.81"}},{"$f":"SUM(AV151,AV158,AV171,AV172,AV173,AV174,AV175)","v":{"v":3156.1674300000004,"d":"3,156.17"}}]
[{"$nulls":38},"3.1","Расходы на оплату работ и услуг, выполняемых сторонними организациями","тыс.руб.",{"v":283.23768,"d":"283.24"},{"v":134.9071,"d":"134.91"},{"v":148.33058,"d":"148.33"},null,{"v":283.23768,"d":"283.24"},{"$f":"SUM(AU152:AU157)","v":{"v":134.9071,"d":"134.91"}},{"$f":"SUM(AV152:AV157)","v":{"v":148.33058,"d":"148.33"}}]
[{"$nulls":38},"3.1.1","услуги связи и интернет","тыс.руб.",{"v":87.85616999999999,"d":"87.86"},{"v":42.850809999999996,"d":"42.85"},{"v":45.00536,"d":"45.01"},null,{"v":87.85616999999999,"d":"87.86"},{"v":42.850809999999996,"d":"42.85"},{"v":45.00536,"d":"45.01"}]
[{"$nulls":38},"3.1.2","юридические услуги","тыс.руб.",{"v":62.06747,"d":"62.07"},{"v":43.90197,"d":"43.90"},{"v":18.1655,"d":"18.17"},null,{"v":62.06747,"d":"62.07"},{"v":43.90197,"d":"43.90"},{"v":18.1655,"d":"18.17"}]
[{"$nulls":38},"3.1.3","аудиторские услуги","тыс.руб.",{"v":21.76679,"d":"21.77"},{"v":21.76679,"d":"21.77"},{"v":0,"d":"0.00"},null,{"v":21.76679,"d":"21.77"},{"v":21.76679,"d":"21.77"}]
[{"$nulls":38},"3.1.4","консультационные услуги","тыс.руб.",{"v":0,"d":"0.00"},{"v":0,"d":"0.00"},{"v":0,"d":"0.00"},null,{"v":0,"d":"0.00"}]
[{"$nulls":38},"3.1.5","услуги по вневедомственной охране объектов и территорий","тыс.руб.",{"v":0,"d":"0.00"},{"v":0,"d":"0.00"},{"v":0,"d":"0.00"},null,{"v":0,"d":"0.00"}]
[{"$nulls":38},"3.1.6","информационные услуги","тыс.руб.",{"v":111.54725,"d":"111.55"},{"v":26.387529999999998,"d":"26.39"},{"v":85.15972000000001,"d":"85.16"},null,{"v":111.54725,"d":"111.55"},{"v":26.387529999999998,"d":"26.39"},{"v":85.15972000000001,"d":"85.16"}]
[{"$nulls":38},"3.2","Расходы на оплату труда и отчисления на социальные нужды административно-управленческого персонала, в том числе налоги и сборы","тыс.руб.",{"v":4561.83661,"d":"4,561.84"},{"v":2010.36729,"d":"2,010.37"},{"v":2551.46932,"d":"2,551.47"},null,{"v":4561.83661,"d":"4,561.84"},{"$f":"SUM(AU159,AU170)","v":{"v":2010.36729,"d":"2,010.37"}},{"$f":"SUM(AV159,AV170)","v":{"v":2551.46932,"d":"2,551.47"}}]
[{"$nulls":38},"3.2.1","Расходы на оплату труда административно-управленческого персонала","тыс.руб.",{"v":3570.44879,"d":"3,570.45"},{"v":1543.2203,"d":"1,543.22"},{"v":2027.22849,"d":"2,027.23"},null,{"v":3570.44879,"d":"3,570.45"},{"v":1543.2203,"d":"1,543.22"},{"v":2027.22849,"d":"2,027.23"}]
[{"$nulls":38},"3.2.1.1","Численность (среднесписочная), принятая для расчёта","ед.",{"v":6.5657595818195045,"d":"6.57"},{"v":6.846741431164939,"d":"6.85"},{"v":6.284777732474069,"d":"6.28"},null,{"v":6.5657595818195045,"d":"6.57"},{"v":6.846741431164939,"d":"6.85"},{"v":6.284777732474069,"d":"6.28"}]
[{"$nulls":38},"3.2.1.2","Среднемесячная оплата труда административно-управленческого персонала","руб./мес.",{"$f":"IF(AP160=0,0,AP159/AP160*1000/AP$6)","v":{"v":45316.5236190712,"d":"45,316.52"}},{"$f":"IF(AQ160=0,0,AQ159/AQ160*1000/AQ$6)","v":{"v":37565.80935897435,"d":"37,565.81"}},{"$f":"IF(AR160=0,0,AR159/AR160*1000/AR$6)","v":{"v":53760.28069444444,"d":"53,760.28"}},null,{"$f":"IF(AT160=0,0,AT159/AT160*1000/AT$6)","v":{"v":45316.5236190712,"d":"45,316.52"}},{"$f":"IF(AU160=0,0,AU159/AU160*1000/AU$6)","v":{"v":37565.80935897435,"d":"37,565.81"}},{"$f":"IF(AV160=0,0,AV159/AV160*1000/AV$6)","v":{"v":53760.28069444444,"d":"53,760.28"}}]
[{"$nulls":38},"3.2.1.3","Фактическая численность административно-управленческого персонала, относимого на регулируемый вид деятельности","ед.",{"$f":"SUMIF($AS$9:$AW$9,AP$9,$AS162:$AW162)","v":{"v":6.5,"d":"6.50"}},{"v":7,"d":"7.00"},{"v":6,"d":"6.00"},null,{"v":6.5,"d":"6.50"},{"v":7,"d":"7.00"},{"v":6,"d":"6.00"}]
[{"$nulls":38},"3.2.1.4","Справочно: нормативная численность административно-управленческого персонала, относимого на регулируемый вид деятельности","ед.",{"v":0,"d":"0.00"},{"v":0,"d":"0.00"},{"v":0,"d":"0.00"}]
[{"$nulls":38},"3.2.1.5","Тарифная ставка рабочего 1-го разряда","руб./мес.",{"$nulls":5},{"v":5440,"d":"5,440.00"},{"v":6310,"d":"6,310.00"}]
[{"$nulls":38},"3.2.1.6","Индекс роста номинальной заработной платы",{"$nulls":6},{"v":1.1599264705882353,"d":"1.16"},{"v":1.0602218700475436,"d":"1.06"}]
[{"$nulls":38},"3.2.1.7","Тарифная ставка рабочего 1-го разряда с учётом дефлятора","руб./мес.",{"$nulls":5},{"v":6310,"d":"6,310.00"},{"v":6690,"d":"6,690.00"}]
[{"$nulls":38},"3.2.1.8","Средний тарифный коэффициент",{"$nulls":6},3.12,3.12]
[{"$nulls":38},"3.2.1.9","Среднемесячная тарифная ставка","руб./мес.",{"$nulls":5},{"v":19687.2,"d":"19,687.20"},{"v":20872.8,"d":"20,872.80"}]
[{"$nulls":38},"3.2.1.10","Минимальный размер оплаты труда по отраслевому тарифному соглашению","руб./мес.",{"$nulls":5},{"v":11748,"d":"11,748.00"},{"v":11748,"d":"11,748.00"}]
[{"$nulls":38},"3.2.2","Отчисления на социальные нужды административно-управленческого персонала, в том числе налоги и сборы","тыс.руб.",{"$f":"SUMIF($AS$9:$AW$9,AP$9,$AS170:$AW170)","v":{"v":991.3878199999999,"d":"991.39"}},{"v":467.14699,"d":"467.15"},{"v":524.24083,"d":"524.24"},null,{"$f":"AU170+AV170","v":{"v":991.3878199999999,"d":"991.39"}},{"v":467.14699,"d":"467.15"},{"v":524.24083,"d":"524.24"}]
[{"$nulls":38},"3.3","Арендная плата, лизинговые платежи, не связанные с арендой (лизингом) централизованных систем водоснабжения и (или) водоотведения либо объектов, входящих в состав таких систем","тыс.руб.",{"v":170.63141000000002,"d":"170.63"},{"v":81.05122,"d":"81.05"},{"v":89.58019,"d":"89.58"},null,{"v":170.63141000000002,"d":"170.63"},{"v":81.05122,"d":"81.05"},{"v":89.58019,"d":"89.58"}]
[{"$nulls":38},"3.4","Служебные командировки","тыс.руб.",{"v":72.12286,"d":"72.12"},{"v":38.754129999999996,"d":"38.75"},{"v":33.368730000000006,"d":"33.37"},null,{"v":72.12286,"d":"72.12"},{"v":38.754129999999996,"d":"38.75"},{"v":33.368730000000006,"d":"33.37"}]
[{"$nulls":38},"3.5","Обучение персонала","тыс.руб.",{"v":21.26488,"d":"21.26"},{"v":0.8164199999999999,"d":"0.82"},{"v":20.44846,"d":"20.45"},null,{"v":21.26488,"d":"21.26"},{"v":0.8164199999999999,"d":"0.82"},{"v":20.44846,"d":"20.45"}]
[{"$nulls":38},"3.6","Страхование производственных объектов","тыс.руб.",{"v":0,"d":"0.00"},{"v":0,"d":"0.00"},{"v":0,"d":"0.00"},null,{"v":0,"d":"0.00"}]
[{"$nulls":38},"3.7","Прочие административные расходы","тыс.руб.",{"v":625.87977,"d":"625.88"},{"v":312.90962,"d":"312.91"},{"v":312.97015000000005,"d":"312.97"},null,{"v":625.87977,"d":"625.88"},{"v":312.90962,"d":"312.91"},{"v":312.97015000000005,"d":"312.97"}]
[{"$nulls":38},"3.7.1","Расходы на амортизацию непроизводственных активов","тыс.руб.",{"v":2.3669700000000002,"d":"2.37"},{"v":0.5952200000000001,"d":"0.60"},{"v":1.77175,"d":"1.77"},null,{"v":2.3669700000000002,"d":"2.37"},{"v":0.5952200000000001,"d":"0.60"},{"v":1.77175,"d":"1.77"}]
[{"$nulls":38},"3.7.2","Расходы по охране объектов и территорий","тыс.руб.",{"v":623.5128000000001,"d":"623.51"},{"v":312.31440000000003,"d":"312.31"},{"v":311.19840000000005,"d":"311.20"},null,{"v":623.5128000000001,"d":"623.51"},{"v":312.31440000000003,"d":"312.31"},{"v":311.19840000000005,"d":"311.20"}]
[{"$nulls":38},4,"Сбытовые расходы гарантирующих организаций","тыс.руб.",{"v":3727.8697341039997,"d":"3,727.87"},{"v":1884.106711214,"d":"1,884.11"},{"v":1843.7630228899998,"d":"1,843.76"},null,{"v":3727.8697341039997,"d":"3,727.87"},{"v":1884.106711214,"d":"1,884.11"},{"v":1843.7630228899998,"d":"1,843.76"}]
[{"$nulls":38},"4.1","Расходы по сомнительным долгам, в размере не более 2% НВВ","тыс.руб.",{"v":3727.8697341039997,"d":"3,727.87"},{"v":1884.106711214,"d":"1,884.11"},{"v":1843.7630228899998,"d":"1,843.76"},null,{"v":3727.8697341039997,"d":"3,727.87"},{"v":1884.106711214,"d":"1,884.11"},{"v":1843.7630228899998,"d":"1,843.76"}]
[{"$nulls":38},5,"Амортизация","тыс.руб.",{"v":0,"d":"0.00"},{"v":0,"d":"0.00"},{"v":0,"d":"0.00"},null,{"v":0,"d":"0.00"}]
[{"$nulls":38},"5.1","Амортизация основных средств и нематериальных активов, относимых к объектам централизованной системы водоснабжения и водоотведения","тыс.руб.",{"v":0,"d":"0.00"},{"v":0,"d":"0.00"},{"v":0,"d":"0.00"},null,{"v":0,"d":"0.00"}]
[{"$nulls":38},6,"Расходы на арендную плату, лизинговые платежи, концессионную плату, связанные с арендой (лизингом) централизованных систем водоснабжения и (или) водоотведения либо объектов, входящих в состав таких систем","тыс.руб.",{"v":15854.94955,"d":"15,854.95"},{"v":8246.88474,"d":"8,246.88"},{"v":7608.06481,"d":"7,608.06"},null,{"v":15854.94955,"d":"15,854.95"},{"$f":"SUM(AU183,AU187:AU190)","v":{"v":8246.88474,"d":"8,246.88"}},{"$f":"SUM(AV183,AV187:AV190)","v":{"v":7608.06481,"d":"7,608.06"}}]
[{"$nulls":38},"6.1","Аренда имущества","тыс.руб.",{"v":15854.94955,"d":"15,854.95"},{"v":8246.88474,"d":"8,246.88"},{"v":7608.06481,"d":"7,608.06"},null,{"v":15854.94955,"d":"15,854.95"},{"$f":"SUM(AU184:AU186)","v":{"v":8246.88474,"d":"8,246.88"}},{"$f":"SUM(AV184:AV186)","v":{"v":7608.06481,"d":"7,608.06"}}]
[{"$nulls":38},"6.1.1","Аренда объектов в государственной собственности","тыс.руб.",{"v":0,"d":"0.00"},{"v":0,"d":"0.00"},{"v":0,"d":"0.00"},null,{"v":0,"d":"0.00"}]
[{"$nulls":38},"6.1.2","Аренда объектов в муниципальной собственности","тыс.руб.",{"v":0,"d":"0.00"},{"v":0,"d":"0.00"},{"v":0,"d":"0.00"},null,{"v":0,"d":"0.00"}]
[{"$nulls":38},"6.1.3","Прочее","тыс.руб.",{"v":15854.94955,"d":"15,854.95"},{"v":8246.88474,"d":"8,246.88"},{"v":7608.06481,"d":"7,608.06"},null,{"v":15854.94955,"d":"15,854.95"},{"v":8246.88474,"d":"8,246.88"},{"v":7608.06481,"d":"7,608.06"}]
[{"$nulls":38},"6.2","Концессионная плата","тыс.руб.",{"v":0,"d":"0.00"},{"v":0,"d":"0.00"},{"v":0,"d":"0.00"},null,{"v":0,"d":"0.00"}]
[{"$nulls":38},"6.3","Лизинговые платежи","тыс.руб.",{"v":0,"d":"0.00"},{"v":0,"d":"0.00"},{"v":0,"d":"0.00"},null,{"v":0,"d":"0.00"}]
[{"$nulls":38},"6.4","Аренда земельных участков","тыс.руб.",{"v":0,"d":"0.00"},{"v":0,"d":"0.00"},{"v":0,"d":"0.00"},null,{"v":0,"d":"0.00"}]
[{"$nulls":38},"6.5","Иное","тыс.руб.",{"v":0,"d":"0.00"},{"v":0,"d":"0.00"},{"v":0,"d":"0.00"},null,{"v":0,"d":"0.00"}]
[{"$nulls":38},7,"Расходы, связанные с уплатой налогов и сборов, связанные с арендой (лизингом) централизованных систем водоснабжения и (или) водоотведения либо объектов, входящих в состав таких систем","тыс.руб.",{"v":3973.195164,"d":"3,973.20"},{"v":1724.7219260000002,"d":"1,724.72"},{"v":2248.473238,"d":"2,248.47"},null,{"v":3973.195164,"d":"3,973.20"},{"$f":"SUM(AU192:AU198)","v":{"v":1724.7219260000002,"d":"1,724.72"}},{"$f":"SUM(AV192:AV198)","v":{"v":2248.473238,"d":"2,248.47"}}]
[{"$nulls":38},"7.1","Налог на прибыль","тыс.руб.",{"v":3943.5577240000002,"d":"3,943.56"},{"v":1724.7219260000002,"d":"1,724.72"},{"v":2218.835798,"d":"2,218.84"},null,{"v":3943.5577240000002,"d":"3,943.56"},{"v":1724.7219260000002,"d":"1,724.72"},{"v":2218.835798,"d":"2,218.84"}]
[{"$nulls":38},"7.2","Налог на имущество организаций","тыс.руб.",{"v":0,"d":"0.00"},{"v":0,"d":"0.00"},{"v":0,"d":"0.00"},null,{"v":0,"d":"0.00"}]
[{"$nulls":38},"7.3","Плата за негативное воздействие на окружающую среду","тыс.руб.",{"v":29.637439999999998,"d":"29.64"},{"v":0,"d":"0.00"},{"v":29.637439999999998,"d":"29.64"},null,{"v":29.637439999999998,"d":"29.64"},null,{"v":29.637439999999998,"d":"29.64"}]
[{"$nulls":38},"7.4","Водный налог и плата за пользование водным объектом","тыс.руб.",{"v":0,"d":"0.00"},{"v":0,"d":"0.00"},{"v":0,"d":"0.00"},null,{"v":0,"d":"0.00"}]
[{"$nulls":38},"7.5","Земельный налог","тыс.руб.",{"v":0,"d":"0.00"},{"v":0,"d":"0.00"},{"v":0,"d":"0.00"},null,{"v":0,"d":"0.00"}]
[{"$nulls":38},"7.6","Транспортный налог","тыс.руб.",{"v":0,"d":"0.00"},{"v":0,"d":"0.00"},{"v":0,"d":"0.00"},null,{"v":0,"d":"0.00"}]
[{"$nulls":38},"7.7","Прочие налоги и сборы, за исключением налогов и сборов с фонда оплаты труда, учитываемых в составе производственных, ремонтных и административных расходов","тыс.руб.",{"v":0,"d":"0.00"},{"v":0,"d":"0.00"},{"v":0,"d":"0.00"},null,{"v":0,"d":"0.00"}]
[{"$nulls":38},"8","Расходы на оплату товаров (услуг, работ), приобретаемых у других организаций, осуществляющих регулируемые виды деятельности","тыс.руб.",{"v":121968.60977000001,"d":"121,968.61"},{"v":60896.019340000006,"d":"60,896.02"},{"v":61072.59043,"d":"61,072.59"},null,{"v":121968.60977000001,"d":"121,968.61"},{"v":60896.019340000006,"d":"60,896.02"},{"v":61072.59043,"d":"61,072.59"}]
[{"$nulls":38},"9","Расходы на обслуживание бесхозяйных сетей","тыс.руб.",{"v":0,"d":"0.00"},{"v":0,"d":"0.00"},{"v":0,"d":"0.00"},null,{"v":0,"d":"0.00"}]
[{"$nulls":38},"10","Прочие неподконтрольные расходы","тыс.руб.",{"v":0,"d":"0.00"},{"v":0,"d":"0.00"},{"v":0,"d":"0.00"},null,{"v":0,"d":"0.00"}]
[]
[{"$nulls":38},"РО","Итого расходы","тыс.руб.",{"$f":"SUMIF($AS$9:$AW$9,AP$9,$AS203:$AW203)","v":{"v":250664.213297436,"d":"250,664.21"}},{"$f":"SUMIF($AS$9:$AW$9,AQ$9,$AS203:$AW203)","v":{"v":119901.665507764,"d":"119,901.67"}},{"$f":"SUMIF($AS$9:$AW$9,AR$9,$AS203:$AW203)","v":{"v":130762.54778967201,"d":"130,762.55"}},null,{"$f":"SUM(AT23,AT132,AT150,AT178,AT180,AT182,AT191,AT199,AT200,AT201)","v":{"v":250664.213297436,"d":"250,664.21"}},{"$f":"SUM(AU23,AU132,AU150,AU178,AU180,AU182,AU191,AU199,AU200,AU201)","v":{"v":119901.665507764,"d":"119,901.67"}},{"$f":"SUM(AV23,AV132,AV150,AV178,AV180,AV182,AV191,AV199,AV200,AV201)","v":{"v":130762.54778967201,"d":"130,762.55"}}]
[]
[{"$nulls":38},"РР","Итого расходы на реализацию","тыс.руб.",{"$f":"SUMIF($AS$9:$AW$9,AP$9,$AS205:$AW205)","v":{"v":250664.213297436,"d":"250,664.21"}},{"$f":"SUMIF($AS$9:$AW$9,AQ$9,$AS205:$AW205)","v":{"v":119901.665507764,"d":"119,901.67"}},{"$f":"SUMIF($AS$9:$AW$9,AR$9,$AS205:$AW205)","v":{"v":130762.54778967201,"d":"130,762.55"}},null,{"$f":"AU205+AV205","v":{"v":250664.213297436,"d":"250,664.21"}},{"$f":"AU203*AU$242","v":{"v":119901.665507764,"d":"119,901.67"}},{"$f":"AV203*AV$242","v":{"v":130762.54778967201,"d":"130,762.55"}}]
[]
[{"$nulls":38},"У","Убыток","тыс.руб.",{"$f":"SUMIF($AS$9:$AW$9,AP$9,$AS207:$AW207)","v":{"v":15327.639067386015,"d":"15,327.64"}},{"v":0,"d":"0.00"},{"v":15327.639067386015,"d":"15,327.64"},null,{"$f":"AU207+AV207","v":{"v":15327.639067386015,"d":"15,327.64"}},null,{"v":15327.639067386015,"d":"15,327.64"}]
[{"$nulls":38},"П","Прибыль","тыс.руб.",{"v":13353.330733349994,"d":"13,353.33"},{"v":4094.4332088359947,"d":"4,094.43"},{"v":9258.897524513999,"d":"9,258.90"},null,{"$f":"AU208+AV208","v":{"v":13353.330733349994,"d":"13,353.33"}},{"$f":"SUM(AU210:AU213)","v":{"v":4094.4332088359947,"d":"4,094.43"}},{"$f":"SUM(AV210:AV213)","v":{"v":9258.897524513999,"d":"9,258.90"}}]
[]
[{"$nulls":38},"П.1","Прибыль на развитие производства (капитальные вложения)","тыс.руб.",{"$f":"SUMIF($AS$9:$AW$9,AP$9,$AS210:$AW210)","v":{"v":9259.932221768,"d":"9,259.93"}},{"v":35.657590000000006,"d":"35.66"},{"v":9224.274631768,"d":"9,224.27"},null,{"$f":"AU210+AV210","v":{"v":9259.932221768,"d":"9,259.93"}},{"v":35.657590000000006,"d":"35.66"},{"v":9224.274631768,"d":"9,224.27"}]
[{"$nulls":38},"П.2","Прибыль на социальное развитие","тыс.руб.",{"v":34.45053102,"d":"34.45"},{"v":22.60780745,"d":"22.61"},{"v":11.84272357,"d":"11.84"},null,{"$f":"AU211+AV211","v":{"v":34.45053102,"d":"34.45"}},{"v":22.60780745,"d":"22.61"},{"v":11.84272357,"d":"11.84"}]
[{"$nulls":38},"П.3","Прибыль на поощрение","тыс.руб.",{"v":42.530155096,"d":"42.53"},{"v":19.74998592,"d":"19.75"},{"v":22.780169176,"d":"22.78"},null,{"$f":"AU212+AV212","v":{"v":42.530155096,"d":"42.53"}},{"v":19.74998592,"d":"19.75"},{"v":22.780169176,"d":"22.78"}]
[{"$nulls":38},"П.4","Прибыль на прочие цели","тыс.руб.",{"v":4016.4178254659946,"d":"4,016.42"},{"v":4016.4178254659946,"d":"4,016.42"},{"v":0,"d":"0.00"},null,{"$f":"AU213+AV213","v":{"v":4016.4178254659946,"d":"4,016.42"}},{"v":4016.4178254659946,"d":"4,016.42"}]
{"$rows_empty":8}
[{"$nulls":38},"РП","Итого расходы с учётом расходов из прибыли","тыс.руб.",{"$f":"SUMIF($AS$9:$AW$9,AP$9,$AS222:$AW222)","v":{"v":264017.544030786,"d":"264,017.54"}},{"$f":"SUMIF($AS$9:$AW$9,AQ$9,$AS222:$AW222)","v":{"v":123996.0987166,"d":"123,996.10"}},{"$f":"SUMIF($AS$9:$AW$9,AR$9,$AS222:$AW222)","v":{"v":140021.445314186,"d":"140,021.45"}},null,{"$f":"AU222+AV222","v":{"v":264017.544030786,"d":"264,017.54"}},{"$f":"AU203+AU208","v":{"v":123996.0987166,"d":"123,996.10"}},{"$f":"AV203+AV208","v":{"v":140021.445314186,"d":"140,021.45"}}]
{"$rows_empty":17}
[{"$nulls":38},"UI.TOTAL","Полезный отпуск продукции всего:\n[БТр!п.3] - транспортировка\n[БПр!п.5.2] - производство","тыс.куб.м",{"$f":"SUMIF($AS$9:$AW$9,AP$9,$AS240:$AW240)","v":{"v":16745.303086,"d":"16,745.30"}},{"v":8787.817055,"d":"8,787.82"},{"v":7957.486031,"d":"7,957.49"},null,{"$f":"AU240+AV240","v":{"v":16745.303086,"d":"16,745.30"}},{"$f":"SUMIF(БПр!$BA$131:$BA$160,AU$17 & \".0-\" & AU$9,БПр!$K$131:$K$160)/1000+SUMIF(БТр!$BA$131:$BA$160,AU$17 & \".0-\" & AU$9,БТр!$O$131:$O$160)/1000","v":{"v":8787.817055,"d":"8,787.82"}},{"$f":"SUMIF(БПр!$BA$131:$BA$160,AV$17 & \".0-\" & AV$9,БПр!$K$131:$K$160)/1000+SUMIF(БТр!$BA$131:$BA$160,AV$17 & \".0-\" & AV$9,БТр!$O$131:$O$160)/1000","v":{"v":7957.486031,"d":"7,957.49"}}]
[{"$nulls":38},"UI.EC","Полезный отпуск на реализацию потребителям:\n[БТр!п.3.2:3.5] - транспортировка\n[БПр!п.5.2.2 + БПр!п.5.2.3] - производство","тыс.куб.м",{"v":16745.303086,"d":"16,745.30"},{"v":8787.817055,"d":"8,787.82"},{"v":7957.486031,"d":"7,957.49"},null,{"$f":"AU241+AV241","v":{"v":16745.303086,"d":"16,745.30"}},{"$f":"SUMIF(БПр!$BA$131:$BA$160,AU$17 & \".0-\" & AU$9,БПр!$M$131:$M$160)/1000+SUMIF(БТр!$BA$131:$BA$160,AU$17 & \".0-\" & AU$9,БТр!$Q$131:$Q$160)/1000+SUMIF(БТр!$BA$131:$BA$160,AU$17 & \".0-\" & AU$9,БТр!$T$131:$T$160)/1000+SUMIF(БТр!$BA$131:$BA$160,AU$17 & \".0-\" & AU$9,БТр!$W$131:$W$160)/1000+SUMIF(БТр!$BA$131:$BA$160,AU$17 & \".0-\" & AU$9,БТр!$Z$131:$Z$160)/1000","v":{"v":8787.817055,"d":"8,787.82"}},{"$f":"SUMIF(БПр!$BA$131:$BA$160,AV$17 & \".0-\" & AV$9,БПр!$M$131:$M$160)/1000+SUMIF(БТр!$BA$131:$BA$160,AV$17 & \".0-\" & AV$9,БТр!$Q$131:$Q$160)/1000+SUMIF(БТр!$BA$131:$BA$160,AV$17 & \".0-\" & AV$9,БТр!$T$131:$T$160)/1000+SUMIF(БТр!$BA$131:$BA$160,AV$17 & \".0-\" & AV$9,БТр!$W$131:$W$160)/1000+SUMIF(БТр!$BA$131:$BA$160,AV$17 & \".0-\" & AV$9,БТр!$Z$131:$Z$160)/1000","v":{"v":7957.486031,"d":"7,957.49"}}]
[{"$nulls":38},"UI.COEF","Коэффициент (доля) на реализацию потребителям",null,{"$f":"IF(AP240=0,0,AP241/AP240)","v":{"v":1,"d":"1.00"}},{"$f":"IF(AQ240=0,0,AQ241/AQ240)","v":{"v":1,"d":"1.00"}},{"$f":"IF(AR240=0,0,AR241/AR240)","v":{"v":1,"d":"1.00"}},null,{"$f":"IF(AT240=0,0,AT241/AT240)","v":{"v":1,"d":"1.00"}},{"$f":"IF(AU240=0,0,AU241/AU240)","v":{"v":1,"d":"1.00"}},{"$f":"IF(AV240=0,0,AV241/AV240)","v":{"v":1,"d":"1.00"}}]
[{"$nulls":38},"UI.PURE.EC","Полезный отпуск на реализацию потребителям:\n[БТр!п.3.3:3.5] - транспортировка\n[БПр!п.5.2.3] - производство","тыс.куб.м",{"$f":"SUMIF($AS$9:$AW$9,AP$9,$AS243:$AW243)","v":{"v":16745.303086,"d":"16,745.30"}},{"$f":"SUMIF($AS$9:$AW$9,AQ$9,$AS243:$AW243)","v":{"v":8787.817055,"d":"8,787.82"}},{"$f":"SUMIF($AS$9:$AW$9,AR$9,$AS243:$AW243)","v":{"v":7957.486031,"d":"7,957.49"}},null,{"$f":"AU243+AV243","v":{"v":16745.303086,"d":"16,745.30"}},{"$f":"SUMIF(БПр!$BA$131:$BA$160,AU$17 & \".0-\" & AU$9,БПр!$N$131:$N$160)/1000+SUMIF(БПр!$BA$131:$BA$160,AU$17 & \".0-\" & AU$9,БПр!$Q$131:$Q$160)/1000+SUMIF(БПр!$BA$131:$BA$160,AU$17 & \".0-\" & AU$9,БПр!$T$131:$T$160)/1000+SUMIF(БТр!$BA$131:$BA$160,AU$17 & \".0-\" & AU$9,БТр!$T$131:$T$160)/1000+SUMIF(БТр!$BA$131:$BA$160,AU$17 & \".0-\" & AU$9,БТр!$W$131:$W$160)/1000+SUMIF(БТр!$BA$131:$BA$160,AU$17 & \".0-\" & AU$9,БТр!$Z$131:$Z$160)/1000","v":{"v":8787.817055,"d":"8,787.82"}},{"$f":"SUMIF(БПр!$BA$131:$BA$160,AV$17 & \".0-\" & AV$9,БПр!$N$131:$N$160)/1000+SUMIF(БПр!$BA$131:$BA$160,AV$17 & \".0-\" & AV$9,БПр!$Q$131:$Q$160)/1000+SUMIF(БПр!$BA$131:$BA$160,AV$17 & \".0-\" & AV$9,БПр!$T$131:$T$160)/1000+SUMIF(БТр!$BA$131:$BA$160,AV$17 & \".0-\" & AV$9,БТр!$T$131:$T$160)/1000+SUMIF(БТр!$BA$131:$BA$160,AV$17 & \".0-\" & AV$9,БТр!$W$131:$W$160)/1000+SUMIF(БТр!$BA$131:$BA$160,AV$17 & \".0-\" & AV$9,БТр!$Z$131:$Z$160)/1000","v":{"v":7957.486031,"d":"7,957.49"}}]
[]
[{"$nulls":38},"UI.TTL",{"$f":"IF(TEMPLATE_SPHERE_CODE=\"COLDVSNA\",\"Объём отпуска воды\",IF(TEMPLATE_SPHERE_CODE=\"VOTV\",\"Объём сточных вод\",\"\"))","v":"Объём сточных вод"},"тыс.куб.м",{"$f":"SUMIF($AS$9:$AW$9,AP$9,$AS245:$AW245)","v":{"v":0,"d":"0.00"}},{"$f":"SUMIF($AS$9:$AW$9,AQ$9,$AS245:$AW245)","v":{"v":8787.817055,"d":"8,787.82"}},{"$f":"SUMIF($AS$9:$AW$9,AR$9,$AS245:$AW245)","v":{"v":7957.486031,"d":"7,957.49"}},null,null,{"$f":"AU240","v":{"v":8787.817055,"d":"8,787.82"}},{"$f":"AV240","v":{"v":7957.486031,"d":"7,957.49"}}]
[]
[{"$nulls":38},"PROFITABILITY","Рентабельность","%",{"$f":"IF(AP203=0,0,AP218/AP203*100)","v":{"v":0,"d":"0.00"}},{"$f":"IF(AQ203=0,0,AQ218/AQ203*100)","v":{"v":0,"d":"0.00"}},{"$f":"IF(AR203=0,0,AR218/AR203*100)","v":{"v":0,"d":"0.00"}},null,{"$f":"IF(AT203=0,0,(AT208-AT207)/AT203*100)","v":{"v":-0.7876307144384121,"d":"-0.79"}},{"$f":"IF(AU203=0,0,(AU208-AU207)/AU203*100)","v":{"v":3.414825967176301,"d":"3.41"}},{"$f":"IF(AV203=0,0,(AV208-AV207)/AV203*100)","v":{"v":-4.641039537278993,"d":"-4.64"}}]
[]
[{"$nulls":38},"D","Справочно: результат деятельности в периоде регулирования","тыс.руб.",{"$f":"SUMIF($AS$9:$AW$9,AP$9,$AS249:$AW249)","v":{"v":-2.1158001618459821E-4,"d":"-0.00"}},{"v":-7.0550013333559036E-5,"d":"-0.00"},{"v":-1.4103000285103917E-4,"d":"-0.00"},null,{"$f":"AU249+AV249","v":{"v":-2.1158001618459821E-4,"d":"-0.00"}},{"$f":"AU250-(AU205+AU208-AU207)","v":{"v":-7.0550013333559036E-5,"d":"-0.00"}},{"$f":"AV250-(AV205+AV208-AV207)","v":{"v":-1.4103000285103917E-4,"d":"-0.00"}}]
[{"$nulls":38},{"$f":"AM249 & \".0.1\"","v":"D.0.1"},"Общий доход от реализации потребителям без учёта НДС, исходя из утверждённых тарифов","тыс.руб.",{"v":248689.90475181997,"d":"248,689.90"},{"v":123996.09864604998,"d":"123,996.10"},{"v":124693.80610577,"d":"124,693.81"},null,{"$f":"AU250+AV250","v":{"v":248689.90475181997,"d":"248,689.90"}},{"$f":"AU252+AU255+AU258+AU261+AU264+AU265","v":{"v":123996.09864604998,"d":"123,996.10"}},{"$f":"AV252+AV255+AV258+AV261+AV264+AV265","v":{"v":124693.80610577,"d":"124,693.81"}}]
[{"$nulls":38},{"$f":"AM249 & \".0.2\"","v":"D.0.2"},"Полезный отпуск продукции на реализацию потребителям","тыс.куб.м",{"v":16745.303086,"d":"16,745.30"},{"v":8787.817055,"d":"8,787.82"},{"v":7957.486031,"d":"7,957.49"},null,{"$f":"AU251+AV251","v":{"v":16745.303086,"d":"16,745.30"}},{"$f":"AU254+AU257+AU260+AU263","v":{"v":8787.817055,"d":"8,787.82"}},{"$f":"AV254+AV257+AV260+AV263","v":{"v":7957.486031,"d":"7,957.49"}}]
[{"$nulls":38},{"$f":"AM249 & \".1\"","v":"D.1"},"Организации-перепродавцы","тыс.руб.",{"v":0,"d":"0.00"},{"v":0,"d":"0.00"},{"v":0,"d":"0.00"},null,{"$f":"AU252+AV252","v":{"v":0,"d":"0.00"}},{"$f":"AU253*AU254","v":{"v":0,"d":"0.00"}},{"$f":"AV253*AV254","v":{"v":0,"d":"0.00"}}]
[{"$nulls":38},{"$f":"AM252 & \".1\"","v":"D.1.1"},"средневзвешенный тариф","руб./куб.м",{"$f":"IF(AP254=0,0,AP252/AP254)","v":{"v":0,"d":"0.00"}},{"$f":"IF(AQ254=0,0,AQ252/AQ254)","v":{"v":0,"d":"0.00"}},{"$f":"IF(AR254=0,0,AR252/AR254)","v":{"v":0,"d":"0.00"}},null,{"$f":"IF(AT254=0,0,AT252/AT254)","v":{"v":0,"d":"0.00"}}]
[{"$nulls":38},{"$f":"AM252 & \".2\"","v":"D.1.2"},"объём","тыс.куб.м",{"$f":"SUMIF($AS$9:$AW$9,AP$9,$AS254:$AW254)","v":{"v":0,"d":"0.00"}},{"v":0,"d":"0.00"},{"v":0,"d":"0.00"},null,{"$f":"AU254+AV254","v":{"v":0,"d":"0.00"}},{"$f":"SUMIF(БПр!$BA$131:$BA$160,AU$17 & \".0-\" & AU$9,БПр!$W$131:$W$160)/1000+SUMIF(БТр!$BA$131:$BA$160,AU$17 & \".0-\" & AU$9,БТр!$Q$131:$Q$160)/1000","v":{"v":0,"d":"0.00"}},{"$f":"SUMIF(БПр!$BA$131:$BA$160,AV$17 & \".0-\" & AV$9,БПр!$W$131:$W$160)/1000+SUMIF(БТр!$BA$131:$BA$160,AV$17 & \".0-\" & AV$9,БТр!$Q$131:$Q$160)/1000","v":{"v":0,"d":"0.00"}}]
[{"$nulls":38},{"$f":"AM249 & \".2\"","v":"D.2"},"Бюджетные потребители","тыс.руб.",{"v":14985.5753589,"d":"14,985.58"},{"v":7276.644112999999,"d":"7,276.64"},{"v":7708.9312459,"d":"7,708.93"},null,{"$f":"AU255+AV255","v":{"v":14985.5753589,"d":"14,985.58"}},{"$f":"AU256*AU257","v":{"v":7276.644112999999,"d":"7,276.64"}},{"$f":"AV256*AV257","v":{"v":7708.9312459,"d":"7,708.93"}}]
[{"$nulls":38},{"$f":"AM255 & \".1\"","v":"D.2.1"},"средневзвешенный тариф","руб./куб.м",{"$f":"IF(AP257=0,0,AP255/AP257)","v":{"v":14.871613146346624,"d":"14.87"}},{"$f":"IF(AQ257=0,0,AQ255/AQ257)","v":14.11},{"$f":"IF(AR257=0,0,AR255/AR257)","v":15.67},null,{"$f":"IF(AT257=0,0,AT255/AT257)","v":{"v":14.871613146346624,"d":"14.87"}},14.11,15.67]
[{"$nulls":38},{"$f":"AM255 & \".2\"","v":"D.2.2"},"объём","тыс.куб.м",{"$f":"SUMIF($AS$9:$AW$9,AP$9,$AS257:$AW257)","v":{"v":1007.6630700000001,"d":"1,007.66"}},{"v":515.7083,"d":"515.71"},{"v":491.95477,"d":"491.95"},null,{"$f":"AU257+AV257","v":{"v":1007.6630700000001,"d":"1,007.66"}},{"$f":"SUMIF(БПр!$BA$131:$BA$160,AU$17 & \".0-\" & AU$9,БПр!$N$131:$N$160)/1000+SUMIF(БТр!$BA$131:$BA$160,AU$17 & \".0-\" & AU$9,БТр!$T$131:$T$160)/1000","v":{"v":515.7083,"d":"515.71"}},{"$f":"SUMIF(БПр!$BA$131:$BA$160,AV$17 & \".0-\" & AV$9,БПр!$N$131:$N$160)/1000+SUMIF(БТр!$BA$131:$BA$160,AV$17 & \".0-\" & AV$9,БТр!$T$131:$T$160)/1000","v":{"v":491.95477,"d":"491.95"}}]
[{"$nulls":38},{"$f":"AM249 & \".3\"","v":"D.3"},"Население","тыс.руб.",{"v":186393.48650304996,"d":"186,393.49"},{"v":94205.33554658998,"d":"94,205.34"},{"v":92188.15095646,"d":"92,188.15"},null,{"$f":"AU258+AV258","v":{"v":186393.48650304996,"d":"186,393.49"}},{"$f":"AU259*AU260","v":{"v":94205.33554658998,"d":"94,205.34"}},{"$f":"AV259*AV260","v":{"v":92188.15095646,"d":"92,188.15"}}]
[{"$nulls":38},{"$f":"AM258 & \".1\"","v":"D.3.1"},"средневзвешенный тариф","руб./куб.м",{"$f":"IF(AP260=0,0,AP258/AP260)","v":{"v":14.840726992616956,"d":"14.84"}},{"$f":"IF(AQ260=0,0,AQ258/AQ260)","v":14.11},{"$f":"IF(AR260=0,0,AR258/AR260)","v":15.67},null,{"$f":"IF(AT260=0,0,AT258/AT260)","v":{"v":14.840726992616956,"d":"14.84"}},14.11,15.67]
[{"$nulls":38},{"$f":"AM258 & \".2\"","v":"D.3.2"},"объём","тыс.куб.м",{"$f":"SUMIF($AS$9:$AW$9,AP$9,$AS260:$AW260)","v":{"v":12559.592707,"d":"12,559.59"}},{"v":6676.494368999999,"d":"6,676.49"},{"v":5883.098338,"d":"5,883.10"},null,{"$f":"AU260+AV260","v":{"v":12559.592707,"d":"12,559.59"}},{"$f":"SUMIF(БПр!$BA$131:$BA$160,AU$17 & \".0-\" & AU$9,БПр!$Q$131:$Q$160)/1000+SUMIF(БТр!$BA$131:$BA$160,AU$17 & \".0-\" & AU$9,БТр!$W$131:$W$160)/1000","v":{"v":6676.494368999999,"d":"6,676.49"}},{"$f":"SUMIF(БПр!$BA$131:$BA$160,AV$17 & \".0-\" & AV$9,БПр!$Q$131:$Q$160)/1000+SUMIF(БТр!$BA$131:$BA$160,AV$17 & \".0-\" & AV$9,БТр!$W$131:$W$160)/1000","v":{"v":5883.098338,"d":"5,883.10"}}]
[{"$nulls":38},{"$f":"AM249 & \".4\"","v":"D.4"},"Прочие","тыс.руб.",{"v":47310.84288986999,"d":"47,310.84"},{"v":22514.11898646,"d":"22,514.12"},{"v":24796.72390341,"d":"24,796.72"},null,{"$f":"AU261+AV261","v":{"v":47310.84288986999,"d":"47,310.84"}},{"$f":"AU262*AU263","v":{"v":22514.11898646,"d":"22,514.12"}},{"$f":"AV262*AV263","v":{"v":24796.72390341,"d":"24,796.72"}}]
[{"$nulls":38},{"$f":"AM261 & \".1\"","v":"D.4.1"},"средневзвешенный тариф","руб./куб.м",{"$f":"IF(AP263=0,0,AP261/AP263)","v":{"v":14.886764824390474,"d":"14.89"}},{"$f":"IF(AQ263=0,0,AQ261/AQ263)","v":14.11},{"$f":"IF(AR263=0,0,AR261/AR263)","v":15.67},null,{"$f":"IF(AT263=0,0,AT261/AT263)","v":{"v":14.886764824390474,"d":"14.89"}},14.11,15.67]
[{"$nulls":38},{"$f":"AM261 & \".2\"","v":"D.4.2"},"объём","тыс.куб.м",{"$f":"SUMIF($AS$9:$AW$9,AP$9,$AS263:$AW263)","v":{"v":3178.0473089999996,"d":"3,178.05"}},{"v":1595.614386,"d":"1,595.61"},{"v":1582.4329229999998,"d":"1,582.43"},null,{"$f":"AU263+AV263","v":{"v":3178.0473089999996,"d":"3,178.05"}},{"$f":"SUMIF(БПр!$BA$131:$BA$160,AU$17 & \".0-\" & AU$9,БПр!$T$131:$T$160)/1000+SUMIF(БТр!$BA$131:$BA$160,AU$17 & \".0-\" & AU$9,БТр!$Z$131:$Z$160)/1000","v":{"v":1595.614386,"d":"1,595.61"}},{"$f":"SUMIF(БПр!$BA$131:$BA$160,AV$17 & \".0-\" & AV$9,БПр!$T$131:$T$160)/1000+SUMIF(БТр!$BA$131:$BA$160,AV$17 & \".0-\" & AV$9,БТр!$Z$131:$Z$160)/1000","v":{"v":1582.4329229999998,"d":"1,582.43"}}]
[{"$nulls":38},{"$f":"AM249 & \".5\"","v":"D.5"},"Объём дотаций из всех уровней бюджета","тыс.руб.",{"v":0,"d":"0.00"},{"v":0,"d":"0.00"},{"v":0,"d":"0.00"},null,{"$f":"AU264+AV264","v":{"v":0,"d":"0.00"}}]
[{"$nulls":38},{"$f":"AM249 & \".6\"","v":"D.6"},"Доходы, полученные сверх реализации по утверждённым тарифам","тыс.руб.",{"v":0,"d":"0.00"},{"v":0,"d":"0.00"},{"v":0,"d":"0.00"},null,{"$f":"AU265+AV265","v":{"v":0,"d":"0.00"}}]

{"sheet":"Р","index":22,"n_rows":303,"n_cols":49,"rows_kept":303,"merged":[[12,38,13,39],[13,41,13,43],[13,45,13,47],[17,45,17,47],[18,38,19,38],[18,39,19,39],[18,40,19,40],[18,41,19,43],[18,45,18,47],[19,45,19,47],[20,45,20,47],[21,45,21,47]]}
[]
[]
[]
[]
[]
[{"$nulls":41},12,6,6,null,12,6,6]
[]
[]
[{"$nulls":41},"Y","I","II",null,"Y","I","II"]
[{"$nulls":44},"START",{"$nulls":3},"END"]
[]
[{"$nulls":39},"Необходимо указывать значения по полугодиям (6 и 6 месяцев)"]
["FULL_MODE",{"$nulls":37},"Реагенты",null,"Период","Год","I полугодие","II полугодие",null,"Год","I полугодие","II полугодие"]
[]
[{"$nulls":45},{"$f":"AT17 & \"_\" & AT9","v":"1_Y"},{"$f":"AU17 & \"_\" & AU9","v":"1_I"},{"$f":"AV17 & \"_\" & AV9","v":"1_II"}]
[]
[{"$nulls":45},{"$f":"AT19","v":1},{"$f":"AT19","v":1},{"$f":"AT19","v":1}]
[{"$nulls":45},"Удалить",null,null,"Добавить"]
[{"$nulls":38},"№ п/п","Наименование показателя","Единица измерения","Всего по организации",null,null,0,1]
[{"$nulls":45},{"$f":"IF('Список территорий'!$I$16=\"\",\"Не определено\",'Список территорий'!$G$16 & \" / \" & 'Список территорий'!$H$16 & \" / \" & 'Список территорий'!$I$16)","v":"Город Стерлитамак / Город Стерлитамак / 80745000"}]
[{"$nulls":39},"Является ли организация плательщиком НДС",{"$nulls":5},{"$f":"IF('Список территорий'!$M$16=\"\",\"Не определено\",'Список территорий'!$M$16)","v":"да"}]
[{"$nulls":39},"Выбор используемых реагентов - двойным щелчком мыши в расчётном блоке (в колонке \"Год\") напротив наименования"]
[]
[]
[{"$nulls":38},"1.1.1","Итого","тыс.руб.",{"$f":"SUMIF($AS$9:$AW$9,AP$9,$AS25:$AW25)","v":{"v":0,"d":"0.00"}},{"$f":"SUMIF($AS$9:$AW$9,AQ$9,$AS25:$AW25)","v":{"v":0,"d":"0.00"}},{"$f":"SUMIF($AS$9:$AW$9,AR$9,$AS25:$AW25)","v":{"v":0,"d":"0.00"}},null,{"$f":"AU25+AV25","v":{"v":0,"d":"0.00"}},{"$f":"SUM(AU27,AU46,AU56,AU301)","v":{"v":0,"d":"0.00"}},{"$f":"SUM(AV27,AV46,AV56,AV301)","v":{"v":0,"d":"0.00"}}]
[]
[{"$nulls":38},"COAG","Коагулянты","тыс.руб.",{"$f":"SUMIF($AS$9:$AW$9,AP$9,$AS27:$AW27)","v":{"v":0,"d":"0.00"}},{"$f":"SUMIF($AS$9:$AW$9,AQ$9,$AS27:$AW27)","v":{"v":0,"d":"0.00"}},{"$f":"SUMIF($AS$9:$AW$9,AR$9,$AS27:$AW27)","v":{"v":0,"d":"0.00"}},null,{"$f":"AU27+AV27","v":{"v":0,"d":"0.00"}},{"$f":"SUM(AU29,AU32,AU35,AU38,AU41,AU44)","v":{"v":0,"d":"0.00"}},{"$f":"SUM(AV29,AV32,AV35,AV38,AV41,AV44)","v":{"v":0,"d":"0.00"}}]
[]
[{"$nulls":31},"ADJUSTABLE.C",{"$nulls":6},"HDSFAL","гидроксохлоросульфат алюминия (коагулянт смешанного типа)","тыс.руб.",{"$f":"SUMIF($AS$9:$AW$9,AP$9,$AS29:$AW29)","v":{"v":0,"d":"0.00"}},{"$f":"SUMIF($AS$9:$AW$9,AQ$9,$AS29:$AW29)","v":{"v":0,"d":"0.00"}},{"$f":"SUMIF($AS$9:$AW$9,AR$9,$AS29:$AW29)","v":{"v":0,"d":"0.00"}}]
[{"$nulls":31},"ADJUSTABLE.P",{"$nulls":6},{"$f":"AM29 & \".P\"","v":"HDSFAL.P"},"Цена за единицу","руб./ед.",{"$f":"IF(AP31=0,0,AP29*1000/AP31)","v":{"v":0,"d":"0.00"}},{"$f":"IF(AQ31=0,0,AQ29*1000/AQ31)","v":{"v":0,"d":"0.00"}},{"$f":"IF(AR31=0,0,AR29*1000/AR31)","v":{"v":0,"d":"0.00"}}]
[{"$nulls":31},"ADJUSTABLE.V",{"$nulls":6},{"$f":"AM29 & \".V\"","v":"HDSFAL.V"},"Объём","ед.",{"$f":"SUMIF($AS$9:$AW$9,AP$9,$AS31:$AW31)","v":{"v":0,"d":"0.00"}},{"v":0,"d":"0.00"},{"v":0,"d":"0.00"}]
[{"$nulls":31},"ADJUSTABLE.C",{"$nulls":6},"FES","железный купорос","тыс.руб.",{"v":0,"d":"0.00"},{"v":0,"d":"0.00"},{"v":0,"d":"0.00"}]
[{"$nulls":31},"ADJUSTABLE.P",{"$nulls":6},{"$f":"AM32 & \".P\"","v":"FES.P"},"Цена за единицу","руб./ед.",{"$f":"IF(AP34=0,0,AP32*1000/AP34)","v":{"v":0,"d":"0.00"}},{"$f":"IF(AQ34=0,0,AQ32*1000/AQ34)","v":{"v":0,"d":"0.00"}},{"$f":"IF(AR34=0,0,AR32*1000/AR34)","v":{"v":0,"d":"0.00"}}]
[{"$nulls":31},"ADJUSTABLE.V",{"$nulls":6},{"$f":"AM32 & \".V\"","v":"FES.V"},"Объём","ед.",{"$f":"SUMIF($AS$9:$AW$9,AP$9,$AS34:$AW34)","v":{"v":0,"d":"0.00"}},{"v":0,"d":"0.00"},{"v":0,"d":"0.00"}]
[{"$nulls":31},"ADJUSTABLE.C",{"$nulls":6},"OXCLAL","оксихлорид алюминия","тыс.руб.",{"v":0,"d":"0.00"},{"v":0,"d":"0.00"},{"v":0,"d":"0.00"}]
[{"$nulls":31},"ADJUSTABLE.P",{"$nulls":6},{"$f":"AM35 & \".P\"","v":"OXCLAL.P"},"Цена за единицу","руб./ед.",{"$f":"IF(AP37=0,0,AP35*1000/AP37)","v":{"v":0,"d":"0.00"}},{"$f":"IF(AQ37=0,0,AQ35*1000/AQ37)","v":{"v":0,"d":"0.00"}},{"$f":"IF(AR37=0,0,AR35*1000/AR37)","v":{"v":0,"d":"0.00"}}]
[{"$nulls":31},"ADJUSTABLE.V",{"$nulls":6},{"$f":"AM35 & \".V\"","v":"OXCLAL.V"},"Объём","ед.",{"$f":"SUMIF($AS$9:$AW$9,AP$9,$AS37:$AW37)","v":{"v":0,"d":"0.00"}},{"v":0,"d":"0.00"},{"v":0,"d":"0.00"}]
[{"$nulls":31},"ADJUSTABLE.C",{"$nulls":6},"PLOXCLAL","полиоксихлорид алюминия ","тыс.руб.",{"v":0,"d":"0.00"},{"v":0,"d":"0.00"},{"v":0,"d":"0.00"}]
[{"$nulls":31},"ADJUSTABLE.P",{"$nulls":6},{"$f":"AM38 & \".P\"","v":"PLOXCLAL.P"},"Цена за единицу","руб./ед.",{"$f":"IF(AP40=0,0,AP38*1000/AP40)","v":{"v":0,"d":"0.00"}},{"$f":"IF(AQ40=0,0,AQ38*1000/AQ40)","v":{"v":0,"d":"0.00"}},{"$f":"IF(AR40=0,0,AR38*1000/AR40)","v":{"v":0,"d":"0.00"}}]
[{"$nulls":31},"ADJUSTABLE.V",{"$nulls":6},{"$f":"AM38 & \".V\"","v":"PLOXCLAL.V"},"Объём","ед.",{"$f":"SUMIF($AS$9:$AW$9,AP$9,$AS40:$AW40)","v":{"v":0,"d":"0.00"}},{"v":0,"d":"0.00"},{"v":0,"d":"0.00"}]
[{"$nulls":31},"ADJUSTABLE.C",{"$nulls":6},"SFAL","сульфат алюминия ","тыс.руб.",{"v":0,"d":"0.00"},{"v":0,"d":"0.00"},{"v":0,"d":"0.00"}]
[{"$nulls":31},"ADJUSTABLE.P",{"$nulls":6},{"$f":"AM41 & \".P\"","v":"SFAL.P"},"Цена за единицу","руб./ед.",{"$f":"IF(AP43=0,0,AP41*1000/AP43)","v":{"v":0,"d":"0.00"}},{"$f":"IF(AQ43=0,0,AQ41*1000/AQ43)","v":{"v":0,"d":"0.00"}},{"$f":"IF(AR43=0,0,AR41*1000/AR43)","v":{"v":0,"d":"0.00"}}]
[{"$nulls":31},"ADJUSTABLE.V",{"$nulls":6},{"$f":"AM41 & \".V\"","v":"SFAL.V"},"Объём","ед.",{"$f":"SUMIF($AS$9:$AW$9,AP$9,$AS43:$AW43)","v":{"v":0,"d":"0.00"}},{"v":0,"d":"0.00"},{"v":0,"d":"0.00"}]
[{"$nulls":31},"ADJUSTABLE.OTH",{"$nulls":6},"OTH","прочие","тыс.руб.",{"v":0,"d":"0.00"},{"v":0,"d":"0.00"},{"v":0,"d":"0.00"}]
[]
[{"$nulls":38},"FLOC","Флокулянты","тыс.руб.",{"$f":"SUMIF($AS$9:$AW$9,AP$9,$AS46:$AW46)","v":{"v":0,"d":"0.00"}},{"$f":"SUMIF($AS$9:$AW$9,AQ$9,$AS46:$AW46)","v":{"v":0,"d":"0.00"}},{"$f":"SUMIF($AS$9:$AW$9,AR$9,$AS46:$AW46)","v":{"v":0,"d":"0.00"}},null,{"$f":"AU46+AV46","v":{"v":0,"d":"0.00"}},{"$f":"SUM(AU48,AU51,AU54)","v":{"v":0,"d":"0.00"}},{"$f":"SUM(AV48,AV51,AV54)","v":{"v":0,"d":"0.00"}}]
[]
[{"$nulls":31},"ADJUSTABLE.C",{"$nulls":6},"MGFLK","Магнафлок","тыс.руб.",{"$f":"SUMIF($AS$9:$AW$9,AP$9,$AS48:$AW48)","v":{"v":0,"d":"0.00"}},{"$f":"SUMIF($AS$9:$AW$9,AQ$9,$AS48:$AW48)","v":{"v":0,"d":"0.00"}},{"$f":"SUMIF($AS$9:$AW$9,AR$9,$AS48:$AW48)","v":{"v":0,"d":"0.00"}}]
[{"$nulls":31},"ADJUSTABLE.P",{"$nulls":6},{"$f":"AM48 & \".P\"","v":"MGFLK.P"},"Цена за единицу","руб./ед.",{"$f":"IF(AP50=0,0,AP48*1000/AP50)","v":{"v":0,"d":"0.00"}},{"$f":"IF(AQ50=0,0,AQ48*1000/AQ50)","v":{"v":0,"d":"0.00"}},{"$f":"IF(AR50=0,0,AR48*1000/AR50)","v":{"v":0,"d":"0.00"}}]
[{"$nulls":31},"ADJUSTABLE.V",{"$nulls":6},{"$f":"AM48 & \".V\"","v":"MGFLK.V"},"Объём","ед.",{"$f":"SUMIF($AS$9:$AW$9,AP$9,$AS50:$AW50)","v":{"v":0,"d":"0.00"}},{"v":0,"d":"0.00"},{"v":0,"d":"0.00"}]
[{"$nulls":31},"ADJUSTABLE.C",{"$nulls":6},"PRSTL","Праестол","тыс.руб.",{"v":0,"d":"0.00"},{"v":0,"d":"0.00"},{"v":0,"d":"0.00"}]
[{"$nulls":31},"ADJUSTABLE.P",{"$nulls":6},{"$f":"AM51 & \".P\"","v":"PRSTL.P"},"Цена за единицу","руб./ед.",{"$f":"IF(AP53=0,0,AP51*1000/AP53)","v":{"v":0,"d":"0.00"}},{"$f":"IF(AQ53=0,0,AQ51*1000/AQ53)","v":{"v":0,"d":"0.00"}},{"$f":"IF(AR53=0,0,AR51*1000/AR53)","v":{"v":0,"d":"0.00"}}]
[{"$nulls":31},"ADJUSTABLE.V",{"$nulls":6},{"$f":"AM51 & \".V\"","v":"PRSTL.V"},"Объём","ед.",{"$f":"SUMIF($AS$9:$AW$9,AP$9,$AS53:$AW53)","v":{"v":0,"d":"0.00"}},{"v":0,"d":"0.00"},{"v":0,"d":"0.00"}]
[{"$nulls":31},"ADJUSTABLE.OTH",{"$nulls":6},"OTH","прочие","тыс.руб.",{"v":0,"d":"0.00"},{"v":0,"d":"0.00"},{"v":0,"d":"0.00"}]
[]
[{"$nulls":38},"REAG","Реагенты","тыс.руб.",{"$f":"SUMIF($AS$9:$AW$9,AP$9,$AS56:$AW56)","v":{"v":0,"d":"0.00"}},{"$f":"SUMIF($AS$9:$AW$9,AQ$9,$AS56:$AW56)","v":{"v":0,"d":"0.00"}},{"$f":"SUMIF($AS$9:$AW$9,AR$9,$AS56:$AW56)","v":{"v":0,"d":"0.00"}},null,{"$f":"AU56+AV56","v":{"v":0,"d":"0.00"}},{"$f":"SUMIF(Р!$AO$57:$AO$299,Р!$AO$56,Р!AU$57:AU$299)","v":{"v":0,"d":"0.00"}},{"$f":"SUMIF(Р!$AO$57:$AO$299,Р!$AO$56,Р!AV$57:AV$299)","v":{"v":0,"d":"0.00"}}]
[]
[{"$nulls":31},"ADJUSTABLE.C",{"$nulls":6},"AGRP","агар питательный","тыс.руб.",{"$f":"SUMIF($AS$9:$AW$9,AP$9,$AS58:$AW58)","v":{"v":0,"d":"0.00"}},{"$f":"SUMIF($AS$9:$AW$9,AQ$9,$AS58:$AW58)","v":{"v":0,"d":"0.00"}},{"$f":"SUMIF($AS$9:$AW$9,AR$9,$AS58:$AW58)","v":{"v":0,"d":"0.00"}}]
[{"$nulls":31},"ADJUSTABLE.P",{"$nulls":6},{"$f":"AM58 & \".P\"","v":"AGRP.P"},"Цена за единицу","руб./ед.",{"$f":"IF(AP60=0,0,AP58*1000/AP60)","v":{"v":0,"d":"0.00"}},{"$f":"IF(AQ60=0,0,AQ58*1000/AQ60)","v":{"v":0,"d":"0.00"}},{"$f":"IF(AR60=0,0,AR58*1000/AR60)","v":{"v":0,"d":"0.00"}}]
[{"$nulls":31},"ADJUSTABLE.V",{"$nulls":6},{"$f":"AM58 & \".V\"","v":"AGRP.V"},"Объём","ед.",{"$f":"SUMIF($AS$9:$AW$9,AP$9,$AS60:$AW60)","v":{"v":0,"d":"0.00"}},{"v":0,"d":"0.00"},{"v":0,"d":"0.00"}]
[{"$nulls":31},"ADJUSTABLE.C",{"$nulls":6},"AGRE","агар Эндо","тыс.руб.",{"v":0,"d":"0.00"},{"v":0,"d":"0.00"},{"v":0,"d":"0.00"}]
[{"$nulls":31},"ADJUSTABLE.P",{"$nulls":6},{"$f":"AM61 & \".P\"","v":"AGRE.P"},"Цена за единицу","руб./ед.",{"$f":"IF(AP63=0,0,AP61*1000/AP63)","v":{"v":0,"d":"0.00"}},{"$f":"IF(AQ63=0,0,AQ61*1000/AQ63)","v":{"v":0,"d":"0.00"}},{"$f":"IF(AR63=0,0,AR61*1000/AR63)","v":{"v":0,"d":"0.00"}}]
[{"$nulls":31},"ADJUSTABLE.V",{"$nulls":6},{"$f":"AM61 & \".V\"","v":"AGRE.V"},"Объём","ед.",{"$f":"SUMIF($AS$9:$AW$9,AP$9,$AS63:$AW63)","v":{"v":0,"d":"0.00"}},{"v":0,"d":"0.00"},{"v":0,"d":"0.00"}]
[{"$nulls":31},"ADJUSTABLE.C",{"$nulls":6},"ALOX","алюминий окись","тыс.руб.",{"v":0,"d":"0.00"},{"v":0,"d":"0.00"},{"v":0,"d":"0.00"}]
[{"$nulls":31},"ADJUSTABLE.P",{"$nulls":6},{"$f":"AM64 & \".P\"","v":"ALOX.P"},"Цена за единицу","руб./ед.",{"$f":"IF(AP66=0,0,AP64*1000/AP66)","v":{"v":0,"d":"0.00"}},{"$f":"IF(AQ66=0,0,AQ64*1000/AQ66)","v":{"v":0,"d":"0.00"}},{"$f":"IF(AR66=0,0,AR64*1000/AR66)","v":{"v":0,"d":"0.00"}}]
[{"$nulls":31},"ADJUSTABLE.V",{"$nulls":6},{"$f":"AM64 & \".V\"","v":"ALOX.V"},"Объём","ед.",{"$f":"SUMIF($AS$9:$AW$9,AP$9,$AS66:$AW66)","v":{"v":0,"d":"0.00"}},{"v":0,"d":"0.00"},{"v":0,"d":"0.00"}]
[{"$nulls":31},"ADJUSTABLE.C",{"$nulls":6},"ALS","алюминий сернокислый","тыс.руб.",{"v":0,"d":"0.00"},{"v":0,"d":"0.00"},{"v":0,"d":"0.00"}]
[{"$nulls":31},"ADJUSTABLE.P",{"$nulls":6},{"$f":"AM67 & \".P\"","v":"ALS.P"},"Цена за единицу","руб./ед.",{"$f":"IF(AP69=0,0,AP67*1000/AP69)","v":{"v":0,"d":"0.00"}},{"$f":"IF(AQ69=0,0,AQ67*1000/AQ69)","v":{"v":0,"d":"0.00"}},{"$f":"IF(AR69=0,0,AR67*1000/AR69)","v":{"v":0,"d":"0.00"}}]
[{"$nulls":31},"ADJUSTABLE.V",{"$nulls":6},{"$f":"AM67 & \".V\"","v":"ALS.V"},"Объём","ед.",{"$f":"SUMIF($AS$9:$AW$9,AP$9,$AS69:$AW69)","v":{"v":0,"d":"0.00"}},{"v":0,"d":"0.00"},{"v":0,"d":"0.00"}]
[{"$nulls":31},"ADJUSTABLE.C",{"$nulls":6},"AM","аммиак","тыс.руб.",{"v":0,"d":"0.00"},{"v":0,"d":"0.00"},{"v":0,"d":"0.00"}]
[{"$nulls":31},"ADJUSTABLE.P",{"$nulls":6},{"$f":"AM70 & \".P\"","v":"AM.P"},"Цена за единицу","руб./ед.",{"$f":"IF(AP72=0,0,AP70*1000/AP72)","v":{"v":0,"d":"0.00"}},{"$f":"IF(AQ72=0,0,AQ70*1000/AQ72)","v":{"v":0,"d":"0.00"}},{"$f":"IF(AR72=0,0,AR70*1000/AR72)","v":{"v":0,"d":"0.00"}}]
[{"$nulls":31},"ADJUSTABLE.V",{"$nulls":6},{"$f":"AM70 & \".V\"","v":"AM.V"},"Объём","ед.",{"$f":"SUMIF($AS$9:$AW$9,AP$9,$AS72:$AW72)","v":{"v":0,"d":"0.00"}},{"v":0,"d":"0.00"},{"v":0,"d":"0.00"}]
[{"$nulls":31},"ADJUSTABLE.C",{"$nulls":6},"AMW","аммиачная вода","тыс.руб.",{"v":0,"d":"0.00"},{"v":0,"d":"0.00"},{"v":0,"d":"0.00"}]
[{"$nulls":31},"ADJUSTABLE.P",{"$nulls":6},{"$f":"AM73 & \".P\"","v":"AMW.P"},"Цена за единицу","руб./ед.",{"$f":"IF(AP75=0,0,AP73*1000/AP75)","v":{"v":0,"d":"0.00"}},{"$f":"IF(AQ75=0,0,AQ73*1000/AQ75)","v":{"v":0,"d":"0.00"}},{"$f":"IF(AR75=0,0,AR73*1000/AR75)","v":{"v":0,"d":"0.00"}}]
[{"$nulls":31},"ADJUSTABLE.V",{"$nulls":6},{"$f":"AM73 & \".V\"","v":"AMW.V"},"Объём","ед.",{"$f":"SUMIF($AS$9:$AW$9,AP$9,$AS75:$AW75)","v":{"v":0,"d":"0.00"}},{"v":0,"d":"0.00"},{"v":0,"d":"0.00"}]
[{"$nulls":31},"ADJUSTABLE.C",{"$nulls":6},"AMN","аммоний","тыс.руб.",{"v":0,"d":"0.00"},{"v":0,"d":"0.00"},{"v":0,"d":"0.00"}]
[{"$nulls":31},"ADJUSTABLE.P",{"$nulls":6},{"$f":"AM76 & \".P\"","v":"AMN.P"},"Цена за единицу","руб./ед.",{"$f":"IF(AP78=0,0,AP76*1000/AP78)","v":{"v":0,"d":"0.00"}},{"$f":"IF(AQ78=0,0,AQ76*1000/AQ78)","v":{"v":0,"d":"0.00"}},{"$f":"IF(AR78=0,0,AR76*1000/AR78)","v":{"v":0,"d":"0.00"}}]
[{"$nulls":31},"ADJUSTABLE.V",{"$nulls":6},{"$f":"AM76 & \".V\"","v":"AMN.V"},"Объём","ед.",{"$f":"SUMIF($AS$9:$AW$9,AP$9,$AS78:$AW78)","v":{"v":0,"d":"0.00"}},{"v":0,"d":"0.00"},{"v":0,"d":"0.00"}]
[{"$nulls":31},"ADJUSTABLE.C",{"$nulls":6},"AMNCL","аммоний хлористый","тыс.руб.",{"v":0,"d":"0.00"},{"v":0,"d":"0.00"},{"v":0,"d":"0.00"}]
[{"$nulls":31},"ADJUSTABLE.P",{"$nulls":6},{"$f":"AM79 & \".P\"","v":"AMNCL.P"},"Цена за единицу","руб./ед.",{"$f":"IF(AP81=0,0,AP79*1000/AP81)","v":{"v":0,"d":"0.00"}},{"$f":"IF(AQ81=0,0,AQ79*1000/AQ81)","v":{"v":0,"d":"0.00"}},{"$f":"IF(AR81=0,0,AR79*1000/AR81)","v":{"v":0,"d":"0.00"}}]
[{"$nulls":31},"ADJUSTABLE.V",{"$nulls":6},{"$f":"AM79 & \".V\"","v":"AMNCL.V"},"Объём","ед.",{"$f":"SUMIF($AS$9:$AW$9,AP$9,$AS81:$AW81)","v":{"v":0,"d":"0.00"}},{"v":0,"d":"0.00"},{"v":0,"d":"0.00"}]
[{"$nulls":31},"ADJUSTABLE.C",{"$nulls":6},"BACL","барий хлористый","тыс.руб.",{"v":0,"d":"0.00"},{"v":0,"d":"0.00"},{"v":0,"d":"0.00"}]
[{"$nulls":31},"ADJUSTABLE.P",{"$nulls":6},{"$f":"AM82 & \".P\"","v":"BACL.P"},"Цена за единицу","руб./ед.",{"$f":"IF(AP84=0,0,AP82*1000/AP84)","v":{"v":0,"d":"0.00"}},{"$f":"IF(AQ84=0,0,AQ82*1000/AQ84)","v":{"v":0,"d":"0.00"}},{"$f":"IF(AR84=0,0,AR82*1000/AR84)","v":{"v":0,"d":"0.00"}}]
[{"$nulls":31},"ADJUSTABLE.V",{"$nulls":6},{"$f":"AM82 & \".V\"","v":"BACL.V"},"Объём","ед.",{"$f":"SUMIF($AS$9:$AW$9,AP$9,$AS84:$AW84)","v":{"v":0,"d":"0.00"}},{"v":0,"d":"0.00"},{"v":0,"d":"0.00"}]
[{"$nulls":31},"ADJUSTABLE.C",{"$nulls":6},"BIOX","биоксимин","тыс.руб.",{"v":0,"d":"0.00"},{"v":0,"d":"0.00"},{"v":0,"d":"0.00"}]
[{"$nulls":31},"ADJUSTABLE.P",{"$nulls":6},{"$f":"AM85 & \".P\"","v":"BIOX.P"},"Цена за единицу","руб./ед.",{"$f":"IF(AP87=0,0,AP85*1000/AP87)","v":{"v":0,"d":"0.00"}},{"$f":"IF(AQ87=0,0,AQ85*1000/AQ87)","v":{"v":0,"d":"0.00"}},{"$f":"IF(AR87=0,0,AR85*1000/AR87)","v":{"v":0,"d":"0.00"}}]
[{"$nulls":31},"ADJUSTABLE.V",{"$nulls":6},{"$f":"AM85 & \".V\"","v":"BIOX.V"},"Объём","ед.",{"$f":"SUMIF($AS$9:$AW$9,AP$9,$AS87:$AW87)","v":{"v":0,"d":"0.00"}},{"v":0,"d":"0.00"},{"v":0,"d":"0.00"}]
[{"$nulls":31},"ADJUSTABLE.C",{"$nulls":6},"BRFNL","бромфеноловый синий","тыс.руб.",{"v":0,"d":"0.00"},{"v":0,"d":"0.00"},{"v":0,"d":"0.00"}]
[{"$nulls":31},"ADJUSTABLE.P",{"$nulls":6},{"$f":"AM88 & \".P\"","v":"BRFNL.P"},"Цена за единицу","руб./ед.",{"$f":"IF(AP90=0,0,AP88*1000/AP90)","v":{"v":0,"d":"0.00"}},{"$f":"IF(AQ90=0,0,AQ88*1000/AQ90)","v":{"v":0,"d":"0.00"}},{"$f":"IF(AR90=0,0,AR88*1000/AR90)","v":{"v":0,"d":"0.00"}}]
[{"$nulls":31},"ADJUSTABLE.V",{"$nulls":6},{"$f":"AM88 & \".V\"","v":"BRFNL.V"},"Объём","ед.",{"$f":"SUMIF($AS$9:$AW$9,AP$9,$AS90:$AW90)","v":{"v":0,"d":"0.00"}},{"v":0,"d":"0.00"},{"v":0,"d":"0.00"}]
[{"$nulls":31},"ADJUSTABLE.C",{"$nulls":6},"HDOX","водорода перекись","тыс.руб.",{"v":0,"d":"0.00"},{"v":0,"d":"0.00"},{"v":0,"d":"0.00"}]
[{"$nulls":31},"ADJUSTABLE.P",{"$nulls":6},{"$f":"AM91 & \".P\"","v":"HDOX.P"},"Цена за единицу","руб./ед.",{"$f":"IF(AP93=0,0,AP91*1000/AP93)","v":{"v":0,"d":"0.00"}},{"$f":"IF(AQ93=0,0,AQ91*1000/AQ93)","v":{"v":0,"d":"0.00"}},{"$f":"IF(AR93=0,0,AR91*1000/AR93)","v":{"v":0,"d":"0.00"}}]
[{"$nulls":31},"ADJUSTABLE.V",{"$nulls":6},{"$f":"AM91 & \".V\"","v":"HDOX.V"},"Объём","ед.",{"$f":"SUMIF($AS$9:$AW$9,AP$9,$AS93:$AW93)","v":{"v":0,"d":"0.00"}},{"v":0,"d":"0.00"},{"v":0,"d":"0.00"}]
[{"$nulls":31},"ADJUSTABLE.C",{"$nulls":6},"GEXN","гексан","тыс.руб.",{"v":0,"d":"0.00"},{"v":0,"d":"0.00"},{"v":0,"d":"0.00"}]
[{"$nulls":31},"ADJUSTABLE.P",{"$nulls":6},{"$f":"AM94 & \".P\"","v":"GEXN.P"},"Цена за единицу","руб./ед.",{"$f":"IF(AP96=0,0,AP94*1000/AP96)","v":{"v":0,"d":"0.00"}},{"$f":"IF(AQ96=0,0,AQ94*1000/AQ96)","v":{"v":0,"d":"0.00"}},{"$f":"IF(AR96=0,0,AR94*1000/AR96)","v":{"v":0,"d":"0.00"}}]
[{"$nulls":31},"ADJUSTABLE.V",{"$nulls":6},{"$f":"AM94 & \".V\"","v":"GEXN.V"},"Объём","ед.",{"$f":"SUMIF($AS$9:$AW$9,AP$9,$AS96:$AW96)","v":{"v":0,"d":"0.00"}},{"v":0,"d":"0.00"},{"v":0,"d":"0.00"}]
[{"$nulls":31},"ADJUSTABLE.C",{"$nulls":6},"HDOXCL","гидроксиламин солянокислый","тыс.руб.",{"v":0,"d":"0.00"},{"v":0,"d":"0.00"},{"v":0,"d":"0.00"}]
[{"$nulls":31},"ADJUSTABLE.P",{"$nulls":6},{"$f":"AM97 & \".P\"","v":"HDOXCL.P"},"Цена за единицу","руб./ед.",{"$f":"IF(AP99=0,0,AP97*1000/AP99)","v":{"v":0,"d":"0.00"}},{"$f":"IF(AQ99=0,0,AQ97*1000/AQ99)","v":{"v":0,"d":"0.00"}},{"$f":"IF(AR99=0,0,AR97*1000/AR99)","v":{"v":0,"d":"0.00"}}]
[{"$nulls":31},"ADJUSTABLE.V",{"$nulls":6},{"$f":"AM97 & \".V\"","v":"HDOXCL.V"},"Объём","ед.",{"$f":"SUMIF($AS$9:$AW$9,AP$9,$AS99:$AW99)","v":{"v":0,"d":"0.00"}},{"v":0,"d":"0.00"},{"v":0,"d":"0.00"}]
[{"$nulls":31},"ADJUSTABLE.C",{"$nulls":6},"HDCLCA","гидрохлорид кальция","тыс.руб.",{"v":0,"d":"0.00"},{"v":0,"d":"0.00"},{"v":0,"d":"0.00"}]
[{"$nulls":31},"ADJUSTABLE.P",{"$nulls":6},{"$f":"AM100 & \".P\"","v":"HDCLCA.P"},"Цена за единицу","руб./ед.",{"$f":"IF(AP102=0,0,AP100*1000/AP102)","v":{"v":0,"d":"0.00"}},{"$f":"IF(AQ102=0,0,AQ100*1000/AQ102)","v":{"v":0,"d":"0.00"}},{"$f":"IF(AR102=0,0,AR100*1000/AR102)","v":{"v":0,"d":"0.00"}}]
[{"$nulls":31},"ADJUSTABLE.V",{"$nulls":6},{"$f":"AM100 & \".V\"","v":"HDCLCA.V"},"Объём","ед.",{"$f":"SUMIF($AS$9:$AW$9,AP$9,$AS102:$AW102)","v":{"v":0,"d":"0.00"}},{"v":0,"d":"0.00"},{"v":0,"d":"0.00"}]
[{"$nulls":31},"ADJUSTABLE.C",{"$nulls":6},"HPCLCA","гипохлорит кальция","тыс.руб.",{"v":0,"d":"0.00"},{"v":0,"d":"0.00"},{"v":0,"d":"0.00"}]
[{"$nulls":31},"ADJUSTABLE.P",{"$nulls":6},{"$f":"AM103 & \".P\"","v":"HPCLCA.P"},"Цена за единицу","руб./ед.",{"$f":"IF(AP105=0,0,AP103*1000/AP105)","v":{"v":0,"d":"0.00"}},{"$f":"IF(AQ105=0,0,AQ103*1000/AQ105)","v":{"v":0,"d":"0.00"}},{"$f":"IF(AR105=0,0,AR103*1000/AR105)","v":{"v":0,"d":"0.00"}}]
[{"$nulls":31},"ADJUSTABLE.V",{"$nulls":6},{"$f":"AM103 & \".V\"","v":"HPCLCA.V"},"Объём","ед.",{"$f":"SUMIF($AS$9:$AW$9,AP$9,$AS105:$AW105)","v":{"v":0,"d":"0.00"}},{"v":0,"d":"0.00"},{"v":0,"d":"0.00"}]
[{"$nulls":31},"ADJUSTABLE.C",{"$nulls":6},"HPCLNA","гипохлорит натрия","тыс.руб.",{"v":0,"d":"0.00"},{"v":0,"d":"0.00"},{"v":0,"d":"0.00"}]
[{"$nulls":31},"ADJUSTABLE.P",{"$nulls":6},{"$f":"AM106 & \".P\"","v":"HPCLNA.P"},"Цена за единицу","руб./ед.",{"$f":"IF(AP108=0,0,AP106*1000/AP108)","v":{"v":0,"d":"0.00"}},{"$f":"IF(AQ108=0,0,AQ106*1000/AQ108)","v":{"v":0,"d":"0.00"}},{"$f":"IF(AR108=0,0,AR106*1000/AR108)","v":{"v":0,"d":"0.00"}}]
[{"$nulls":31},"ADJUSTABLE.V",{"$nulls":6},{"$f":"AM106 & \".V\"","v":"HPCLNA.V"},"Объём","ед.",{"$f":"SUMIF($AS$9:$AW$9,AP$9,$AS108:$AW108)","v":{"v":0,"d":"0.00"}},{"v":0,"d":"0.00"},{"v":0,"d":"0.00"}]
[{"$nulls":31},"ADJUSTABLE.C",{"$nulls":6},"GLC","глицерин","тыс.руб.",{"v":0,"d":"0.00"},{"v":0,"d":"0.00"},{"v":0,"d":"0.00"}]
[{"$nulls":31},"ADJUSTABLE.P",{"$nulls":6},{"$f":"AM109 & \".P\"","v":"GLC.P"},"Цена за единицу","руб./ед.",{"$f":"IF(AP111=0,0,AP109*1000/AP111)","v":{"v":0,"d":"0.00"}},{"$f":"IF(AQ111=0,0,AQ109*1000/AQ111)","v":{"v":0,"d":"0.00"}},{"$f":"IF(AR111=0,0,AR109*1000/AR111)","v":{"v":0,"d":"0.00"}}]
[{"$nulls":31},"ADJUSTABLE.V",{"$nulls":6},{"$f":"AM109 & \".V\"","v":"GLC.V"},"Объём","ед.",{"$f":"SUMIF($AS$9:$AW$9,AP$9,$AS111:$AW111)","v":{"v":0,"d":"0.00"}},{"v":0,"d":"0.00"},{"v":0,"d":"0.00"}]
[{"$nulls":31},"ADJUSTABLE.C",{"$nulls":6},"DFNLCD","дифенилкарбазид","тыс.руб.",{"v":0,"d":"0.00"},{"v":0,"d":"0.00"},{"v":0,"d":"0.00"}]
[{"$nulls":31},"ADJUSTABLE.P",{"$nulls":6},{"$f":"AM112 & \".P\"","v":"DFNLCD.P"},"Цена за единицу","руб./ед.",{"$f":"IF(AP114=0,0,AP112*1000/AP114)","v":{"v":0,"d":"0.00"}},{"$f":"IF(AQ114=0,0,AQ112*1000/AQ114)","v":{"v":0,"d":"0.00"}},{"$f":"IF(AR114=0,0,AR112*1000/AR114)","v":{"v":0,"d":"0.00"}}]
[{"$nulls":31},"ADJUSTABLE.V",{"$nulls":6},{"$f":"AM112 & \".V\"","v":"DFNLCD.V"},"Объём","ед.",{"$f":"SUMIF($AS$9:$AW$9,AP$9,$AS114:$AW114)","v":{"v":0,"d":"0.00"}},{"v":0,"d":"0.00"},{"v":0,"d":"0.00"}]
[{"$nulls":31},"ADJUSTABLE.C",{"$nulls":6},"DFNLCN","дифенилкарбазон","тыс.руб.",{"v":0,"d":"0.00"},{"v":0,"d":"0.00"},{"v":0,"d":"0.00"}]
[{"$nulls":31},"ADJUSTABLE.P",{"$nulls":6},{"$f":"AM115 & \".P\"","v":"DFNLCN.P"},"Цена за единицу","руб./ед.",{"$f":"IF(AP117=0,0,AP115*1000/AP117)","v":{"v":0,"d":"0.00"}},{"$f":"IF(AQ117=0,0,AQ115*1000/AQ117)","v":{"v":0,"d":"0.00"}},{"$f":"IF(AR117=0,0,AR115*1000/AR117)","v":{"v":0,"d":"0.00"}}]
[{"$nulls":31},"ADJUSTABLE.V",{"$nulls":6},{"$f":"AM115 & \".V\"","v":"DFNLCN.V"},"Объём","ед.",{"$f":"SUMIF($AS$9:$AW$9,AP$9,$AS117:$AW117)","v":{"v":0,"d":"0.00"}},{"v":0,"d":"0.00"},{"v":0,"d":"0.00"}]
[{"$nulls":31},"ADJUSTABLE.C",{"$nulls":6},"FES","железо сернокислое","тыс.руб.",{"v":0,"d":"0.00"},{"v":0,"d":"0.00"},{"v":0,"d":"0.00"}]
[{"$nulls":31},"ADJUSTABLE.P",{"$nulls":6},{"$f":"AM118 & \".P\"","v":"FES.P"},"Цена за единицу","руб./ед.",{"$f":"IF(AP120=0,0,AP118*1000/AP120)","v":{"v":0,"d":"0.00"}},{"$f":"IF(AQ120=0,0,AQ118*1000/AQ120)","v":{"v":0,"d":"0.00"}},{"$f":"IF(AR120=0,0,AR118*1000/AR120)","v":{"v":0,"d":"0.00"}}]
[{"$nulls":31},"ADJUSTABLE.V",{"$nulls":6},{"$f":"AM118 & \".V\"","v":"FES.V"},"Объём","ед.",{"$f":"SUMIF($AS$9:$AW$9,AP$9,$AS120:$AW120)","v":{"v":0,"d":"0.00"}},{"v":0,"d":"0.00"},{"v":0,"d":"0.00"}]
[{"$nulls":31},"ADJUSTABLE.C",{"$nulls":6},"FECL","железо трёххлористое","тыс.руб.",{"v":0,"d":"0.00"},{"v":0,"d":"0.00"},{"v":0,"d":"0.00"}]
[{"$nulls":31},"ADJUSTABLE.P",{"$nulls":6},{"$f":"AM121 & \".P\"","v":"FECL.P"},"Цена за единицу","руб./ед.",{"$f":"IF(AP123=0,0,AP121*1000/AP123)","v":{"v":0,"d":"0.00"}},{"$f":"IF(AQ123=0,0,AQ121*1000/AQ123)","v":{"v":0,"d":"0.00"}},{"$f":"IF(AR123=0,0,AR121*1000/AR123)","v":{"v":0,"d":"0.00"}}]
[{"$nulls":31},"ADJUSTABLE.V",{"$nulls":6},{"$f":"AM121 & \".V\"","v":"FECL.V"},"Объём","ед.",{"$f":"SUMIF($AS$9:$AW$9,AP$9,$AS123:$AW123)","v":{"v":0,"d":"0.00"}},{"v":0,"d":"0.00"},{"v":0,"d":"0.00"}]
[{"$nulls":31},"ADJUSTABLE.C",{"$nulls":6},"LIMENP","известь негашёная (порошок)","тыс.руб.",{"v":0,"d":"0.00"},{"v":0,"d":"0.00"},{"v":0,"d":"0.00"}]
[{"$nulls":31},"ADJUSTABLE.P",{"$nulls":6},{"$f":"AM124 & \".P\"","v":"LIMENP.P"},"Цена за единицу","руб./ед.",{"$f":"IF(AP126=0,0,AP124*1000/AP126)","v":{"v":0,"d":"0.00"}},{"$f":"IF(AQ126=0,0,AQ124*1000/AQ126)","v":{"v":0,"d":"0.00"}},{"$f":"IF(AR126=0,0,AR124*1000/AR126)","v":{"v":0,"d":"0.00"}}]
[{"$nulls":31},"ADJUSTABLE.V",{"$nulls":6},{"$f":"AM124 & \".V\"","v":"LIMENP.V"},"Объём","ед.",{"$f":"SUMIF($AS$9:$AW$9,AP$9,$AS126:$AW126)","v":{"v":0,"d":"0.00"}},{"v":0,"d":"0.00"},{"v":0,"d":"0.00"}]
[{"$nulls":31},"ADJUSTABLE.C",{"$nulls":6},"LIMENH","известь негашёная гидратная","тыс.руб.",{"v":0,"d":"0.00"},{"v":0,"d":"0.00"},{"v":0,"d":"0.00"}]
[{"$nulls":31},"ADJUSTABLE.P",{"$nulls":6},{"$f":"AM127 & \".P\"","v":"LIMENH.P"},"Цена за единицу","руб./ед.",{"$f":"IF(AP129=0,0,AP127*1000/AP129)","v":{"v":0,"d":"0.00"}},{"$f":"IF(AQ129=0,0,AQ127*1000/AQ129)","v":{"v":0,"d":"0.00"}},{"$f":"IF(AR129=0,0,AR127*1000/AR129)","v":{"v":0,"d":"0.00"}}]
[{"$nulls":31},"ADJUSTABLE.V",{"$nulls":6},{"$f":"AM127 & \".V\"","v":"LIMENH.V"},"Объём","ед.",{"$f":"SUMIF($AS$9:$AW$9,AP$9,$AS129:$AW129)","v":{"v":0,"d":"0.00"}},{"v":0,"d":"0.00"},{"v":0,"d":"0.00"}]
[{"$nulls":31},"ADJUSTABLE.C",{"$nulls":6},"LIMECL","известь хлорная","тыс.руб.",{"v":0,"d":"0.00"},{"v":0,"d":"0.00"},{"v":0,"d":"0.00"}]
[{"$nulls":31},"ADJUSTABLE.P",{"$nulls":6},{"$f":"AM130 & \".P\"","v":"LIMECL.P"},"Цена за единицу","руб./ед.",{"$f":"IF(AP132=0,0,AP130*1000/AP132)","v":{"v":0,"d":"0.00"}},{"$f":"IF(AQ132=0,0,AQ130*1000/AQ132)","v":{"v":0,"d":"0.00"}},{"$f":"IF(AR132=0,0,AR130*1000/AR132)","v":{"v":0,"d":"0.00"}}]
[{"$nulls":31},"ADJUSTABLE.V",{"$nulls":6},{"$f":"AM130 & \".V\"","v":"LIMECL.V"},"Объём","ед.",{"$f":"SUMIF($AS$9:$AW$9,AP$9,$AS132:$AW132)","v":{"v":0,"d":"0.00"}},{"v":0,"d":"0.00"},{"v":0,"d":"0.00"}]
[{"$nulls":31},"ADJUSTABLE.C",{"$nulls":6},"KN","калий азотнокислый","тыс.руб.",{"v":0,"d":"0.00"},{"v":0,"d":"0.00"},{"v":0,"d":"0.00"}]
[{"$nulls":31},"ADJUSTABLE.P",{"$nulls":6},{"$f":"AM133 & \".P\"","v":"KN.P"},"Цена за единицу","руб./ед.",{"$f":"IF(AP135=0,0,AP133*1000/AP135)","v":{"v":0,"d":"0.00"}},{"$f":"IF(AQ135=0,0,AQ133*1000/AQ135)","v":{"v":0,"d":"0.00"}},{"$f":"IF(AR135=0,0,AR133*1000/AR135)","v":{"v":0,"d":"0.00"}}]
[{"$nulls":31},"ADJUSTABLE.V",{"$nulls":6},{"$f":"AM133 & \".V\"","v":"KN.V"},"Объём","ед.",{"$f":"SUMIF($AS$9:$AW$9,AP$9,$AS135:$AW135)","v":{"v":0,"d":"0.00"}},{"v":0,"d":"0.00"},{"v":0,"d":"0.00"}]
[{"$nulls":31},"ADJUSTABLE.C",{"$nulls":6},"KCR","калий двухромовокислый","тыс.руб.",{"v":0,"d":"0.00"},{"v":0,"d":"0.00"},{"v":0,"d":"0.00"}]
[{"$nulls":31},"ADJUSTABLE.P",{"$nulls":6},{"$f":"AM136 & \".P\"","v":"KCR.P"},"Цена за единицу","руб./ед.",{"$f":"IF(AP138=0,0,AP136*1000/AP138)","v":{"v":0,"d":"0.00"}},{"$f":"IF(AQ138=0,0,AQ136*1000/AQ138)","v":{"v":0,"d":"0.00"}},{"$f":"IF(AR138=0,0,AR136*1000/AR138)","v":{"v":0,"d":"0.00"}}]
[{"$nulls":31},"ADJUSTABLE.V",{"$nulls":6},{"$f":"AM136 & \".V\"","v":"KCR.V"},"Объём","ед.",{"$f":"SUMIF($AS$9:$AW$9,AP$9,$AS138:$AW138)","v":{"v":0,"d":"0.00"}},{"v":0,"d":"0.00"},{"v":0,"d":"0.00"}]
[{"$nulls":31},"ADJUSTABLE.C",{"$nulls":6},"KI","калий йодистый","тыс.руб.",{"v":0,"d":"0.00"},{"v":0,"d":"0.00"},{"v":0,"d":"0.00"}]
[{"$nulls":31},"ADJUSTABLE.P",{"$nulls":6},{"$f":"AM139 & \".P\"","v":"KI.P"},"Цена за единицу","руб./ед.",{"$f":"IF(AP141=0,0,AP139*1000/AP141)","v":{"v":0,"d":"0.00"}},{"$f":"IF(AQ141=0,0,AQ139*1000/AQ141)","v":{"v":0,"d":"0.00"}},{"$f":"IF(AR141=0,0,AR139*1000/AR141)","v":{"v":0,"d":"0.00"}}]
[{"$nulls":31},"ADJUSTABLE.V",{"$nulls":6},{"$f":"AM139 & \".V\"","v":"KI.V"},"Объём","ед.",{"$f":"SUMIF($AS$9:$AW$9,AP$9,$AS141:$AW141)","v":{"v":0,"d":"0.00"}},{"v":0,"d":"0.00"},{"v":0,"d":"0.00"}]
[{"$nulls":31},"ADJUSTABLE.C",{"$nulls":6},"KMN","калий марганцевокислый","тыс.руб.",{"v":0,"d":"0.00"},{"v":0,"d":"0.00"},{"v":0,"d":"0.00"}]
[{"$nulls":31},"ADJUSTABLE.P",{"$nulls":6},{"$f":"AM142 & \".P\"","v":"KMN.P"},"Цена за единицу","руб./ед.",{"$f":"IF(AP144=0,0,AP142*1000/AP144)","v":{"v":0,"d":"0.00"}},{"$f":"IF(AQ144=0,0,AQ142*1000/AQ144)","v":{"v":0,"d":"0.00"}},{"$f":"IF(AR144=0,0,AR142*1000/AR144)","v":{"v":0,"d":"0.00"}}]
[{"$nulls":31},"ADJUSTABLE.V",{"$nulls":6},{"$f":"AM142 & \".V\"","v":"KMN.V"},"Объём","ед.",{"$f":"SUMIF($AS$9:$AW$9,AP$9,$AS144:$AW144)","v":{"v":0,"d":"0.00"}},{"v":0,"d":"0.00"},{"v":0,"d":"0.00"}]
[{"$nulls":31},"ADJUSTABLE.C",{"$nulls":6},"KP","калий фосфорнокислый","тыс.руб.",{"v":0,"d":"0.00"},{"v":0,"d":"0.00"},{"v":0,"d":"0.00"}]
[{"$nulls":31},"ADJUSTABLE.P",{"$nulls":6},{"$f":"AM145 & \".P\"","v":"KP.P"},"Цена за единицу","руб./ед.",{"$f":"IF(AP147=0,0,AP145*1000/AP147)","v":{"v":0,"d":"0.00"}},{"$f":"IF(AQ147=0,0,AQ145*1000/AQ147)","v":{"v":0,"d":"0.00"}},{"$f":"IF(AR147=0,0,AR145*1000/AR147)","v":{"v":0,"d":"0.00"}}]
[{"$nulls":31},"ADJUSTABLE.V",{"$nulls":6},{"$f":"AM145 & \".V\"","v":"KP.V"},"Объём","ед.",{"$f":"SUMIF($AS$9:$AW$9,AP$9,$AS147:$AW147)","v":{"v":0,"d":"0.00"}},{"v":0,"d":"0.00"},{"v":0,"d":"0.00"}]
[{"$nulls":31},"ADJUSTABLE.C",{"$nulls":6},"HCL","калий хлористый","тыс.руб.",{"v":0,"d":"0.00"},{"v":0,"d":"0.00"},{"v":0,"d":"0.00"}]
[{"$nulls":31},"ADJUSTABLE.P",{"$nulls":6},{"$f":"AM148 & \".P\"","v":"HCL.P"},"Цена за единицу","руб./ед.",{"$f":"IF(AP150=0,0,AP148*1000/AP150)","v":{"v":0,"d":"0.00"}},{"$f":"IF(AQ150=0,0,AQ148*1000/AQ150)","v":{"v":0,"d":"0.00"}},{"$f":"IF(AR150=0,0,AR148*1000/AR150)","v":{"v":0,"d":"0.00"}}]
[{"$nulls":31},"ADJUSTABLE.V",{"$nulls":6},{"$f":"AM148 & \".V\"","v":"HCL.V"},"Объём","ед.",{"$f":"SUMIF($AS$9:$AW$9,AP$9,$AS150:$AW150)","v":{"v":0,"d":"0.00"}},{"v":0,"d":"0.00"},{"v":0,"d":"0.00"}]
[{"$nulls":31},"ADJUSTABLE.C",{"$nulls":6},"KNA","калий-натрий виннокислый","тыс.руб.",{"v":0,"d":"0.00"},{"v":0,"d":"0.00"},{"v":0,"d":"0.00"}]
[{"$nulls":31},"ADJUSTABLE.P",{"$nulls":6},{"$f":"AM151 & \".P\"","v":"KNA.P"},"Цена за единицу","руб./ед.",{"$f":"IF(AP153=0,0,AP151*1000/AP153)","v":{"v":0,"d":"0.00"}},{"$f":"IF(AQ153=0,0,AQ151*1000/AQ153)","v":{"v":0,"d":"0.00"}},{"$f":"IF(AR153=0,0,AR151*1000/AR153)","v":{"v":0,"d":"0.00"}}]
[{"$nulls":31},"ADJUSTABLE.V",{"$nulls":6},{"$f":"AM151 & \".V\"","v":"KNA.V"},"Объём","ед.",{"$f":"SUMIF($AS$9:$AW$9,AP$9,$AS153:$AW153)","v":{"v":0,"d":"0.00"}},{"v":0,"d":"0.00"},{"v":0,"d":"0.00"}]
[{"$nulls":31},"ADJUSTABLE.C",{"$nulls":6},"CAC","кальций углекислый","тыс.руб.",{"v":0,"d":"0.00"},{"v":0,"d":"0.00"},{"v":0,"d":"0.00"}]
[{"$nulls":31},"ADJUSTABLE.P",{"$nulls":6},{"$f":"AM154 & \".P\"","v":"CAC.P"},"Цена за единицу","руб./ед.",{"$f":"IF(AP156=0,0,AP154*1000/AP156)","v":{"v":0,"d":"0.00"}},{"$f":"IF(AQ156=0,0,AQ154*1000/AQ156)","v":{"v":0,"d":"0.00"}},{"$f":"IF(AR156=0,0,AR154*1000/AR156)","v":{"v":0,"d":"0.00"}}]
[{"$nulls":31},"ADJUSTABLE.V",{"$nulls":6},{"$f":"AM154 & \".V\"","v":"CAC.V"},"Объём","ед.",{"$f":"SUMIF($AS$9:$AW$9,AP$9,$AS156:$AW156)","v":{"v":0,"d":"0.00"}},{"v":0,"d":"0.00"},{"v":0,"d":"0.00"}]
[{"$nulls":31},"ADJUSTABLE.C",{"$nulls":6},"CACL","кальций хлористый","тыс.руб.",{"v":0,"d":"0.00"},{"v":0,"d":"0.00"},{"v":0,"d":"0.00"}]
[{"$nulls":31},"ADJUSTABLE.P",{"$nulls":6},{"$f":"AM157 & \".P\"","v":"CACL.P"},"Цена за единицу","руб./ед.",{"$f":"IF(AP159=0,0,AP157*1000/AP159)","v":{"v":0,"d":"0.00"}},{"$f":"IF(AQ159=0,0,AQ157*1000/AQ159)","v":{"v":0,"d":"0.00"}},{"$f":"IF(AR159=0,0,AR157*1000/AR159)","v":{"v":0,"d":"0.00"}}]
[{"$nulls":31},"ADJUSTABLE.V",{"$nulls":6},{"$f":"AM157 & \".V\"","v":"CACL.V"},"Объём","ед.",{"$f":"SUMIF($AS$9:$AW$9,AP$9,$AS159:$AW159)","v":{"v":0,"d":"0.00"}},{"v":0,"d":"0.00"},{"v":0,"d":"0.00"}]
[{"$nulls":31},"ADJUSTABLE.C",{"$nulls":6},"CAHPCL","кальция гипохлорит","тыс.руб.",{"v":0,"d":"0.00"},{"v":0,"d":"0.00"},{"v":0,"d":"0.00"}]
[{"$nulls":31},"ADJUSTABLE.P",{"$nulls":6},{"$f":"AM160 & \".P\"","v":"CAHPCL.P"},"Цена за единицу","руб./ед.",{"$f":"IF(AP162=0,0,AP160*1000/AP162)","v":{"v":0,"d":"0.00"}},{"$f":"IF(AQ162=0,0,AQ160*1000/AQ162)","v":{"v":0,"d":"0.00"}},{"$f":"IF(AR162=0,0,AR160*1000/AR162)","v":{"v":0,"d":"0.00"}}]
[{"$nulls":31},"ADJUSTABLE.V",{"$nulls":6},{"$f":"AM160 & \".V\"","v":"CAHPCL.V"},"Объём","ед.",{"$f":"SUMIF($AS$9:$AW$9,AP$9,$AS162:$AW162)","v":{"v":0,"d":"0.00"}},{"v":0,"d":"0.00"},{"v":0,"d":"0.00"}]
[{"$nulls":31},"ADJUSTABLE.C",{"$nulls":6},"SAND","кварцевый песок","тыс.руб.",{"v":0,"d":"0.00"},{"v":0,"d":"0.00"},{"v":0,"d":"0.00"}]
[{"$nulls":31},"ADJUSTABLE.P",{"$nulls":6},{"$f":"AM163 & \".P\"","v":"SAND.P"},"Цена за единицу","руб./ед.",{"$f":"IF(AP165=0,0,AP163*1000/AP165)","v":{"v":0,"d":"0.00"}},{"$f":"IF(AQ165=0,0,AQ163*1000/AQ165)","v":{"v":0,"d":"0.00"}},{"$f":"IF(AR165=0,0,AR163*1000/AR165)","v":{"v":0,"d":"0.00"}}]
[{"$nulls":31},"ADJUSTABLE.V",{"$nulls":6},{"$f":"AM163 & \".V\"","v":"SAND.V"},"Объём","ед.",{"$f":"SUMIF($AS$9:$AW$9,AP$9,$AS165:$AW165)","v":{"v":0,"d":"0.00"}},{"v":0,"d":"0.00"},{"v":0,"d":"0.00"}]
[{"$nulls":31},"ADJUSTABLE.C",{"$nulls":6},"ACIDN","кислота азотная","тыс.руб.",{"v":0,"d":"0.00"},{"v":0,"d":"0.00"},{"v":0,"d":"0.00"}]
[{"$nulls":31},"ADJUSTABLE.P",{"$nulls":6},{"$f":"AM166 & \".P\"","v":"ACIDN.P"},"Цена за единицу","руб./ед.",{"$f":"IF(AP168=0,0,AP166*1000/AP168)","v":{"v":0,"d":"0.00"}},{"$f":"IF(AQ168=0,0,AQ166*1000/AQ168)","v":{"v":0,"d":"0.00"}},{"$f":"IF(AR168=0,0,AR166*1000/AR168)","v":{"v":0,"d":"0.00"}}]
[{"$nulls":31},"ADJUSTABLE.V",{"$nulls":6},{"$f":"AM166 & \".V\"","v":"ACIDN.V"},"Объём","ед.",{"$f":"SUMIF($AS$9:$AW$9,AP$9,$AS168:$AW168)","v":{"v":0,"d":"0.00"}},{"v":0,"d":"0.00"},{"v":0,"d":"0.00"}]
[{"$nulls":31},"ADJUSTABLE.C",{"$nulls":6},"ACIDA","кислота аскорбиновая","тыс.руб.",{"v":0,"d":"0.00"},{"v":0,"d":"0.00"},{"v":0,"d":"0.00"}]
[{"$nulls":31},"ADJUSTABLE.P",{"$nulls":6},{"$f":"AM169 & \".P\"","v":"ACIDA.P"},"Цена за единицу","руб./ед.",{"$f":"IF(AP171=0,0,AP169*1000/AP171)","v":{"v":0,"d":"0.00"}},{"$f":"IF(AQ171=0,0,AQ169*1000/AQ171)","v":{"v":0,"d":"0.00"}},{"$f":"IF(AR171=0,0,AR169*1000/AR171)","v":{"v":0,"d":"0.00"}}]
[{"$nulls":31},"ADJUSTABLE.V",{"$nulls":6},{"$f":"AM169 & \".V\"","v":"ACIDA.V"},"Объём","ед.",{"$f":"SUMIF($AS$9:$AW$9,AP$9,$AS171:$AW171)","v":{"v":0,"d":"0.00"}},{"v":0,"d":"0.00"},{"v":0,"d":"0.00"}]
[{"$nulls":31},"ADJUSTABLE.C",{"$nulls":6},"ACIDL","кислота лимонная","тыс.руб.",{"v":0,"d":"0.00"},{"v":0,"d":"0.00"},{"v":0,"d":"0.00"}]
[{"$nulls":31},"ADJUSTABLE.P",{"$nulls":6},{"$f":"AM172 & \".P\"","v":"ACIDL.P"},"Цена за единицу","руб./ед.",{"$f":"IF(AP174=0,0,AP172*1000/AP174)","v":{"v":0,"d":"0.00"}},{"$f":"IF(AQ174=0,0,AQ172*1000/AQ174)","v":{"v":0,"d":"0.00"}},{"$f":"IF(AR174=0,0,AR172*1000/AR174)","v":{"v":0,"d":"0.00"}}]
[{"$nulls":31},"ADJUSTABLE.V",{"$nulls":6},{"$f":"AM172 & \".V\"","v":"ACIDL.V"},"Объём","ед.",{"$f":"SUMIF($AS$9:$AW$9,AP$9,$AS174:$AW174)","v":{"v":0,"d":"0.00"}},{"v":0,"d":"0.00"},{"v":0,"d":"0.00"}]
[{"$nulls":31},"ADJUSTABLE.C",{"$nulls":6},"AURIN","кислота розоловая (аурин)","тыс.руб.",{"v":0,"d":"0.00"},{"v":0,"d":"0.00"},{"v":0,"d":"0.00"}]
[{"$nulls":31},"ADJUSTABLE.P",{"$nulls":6},{"$f":"AM175 & \".P\"","v":"AURIN.P"},"Цена за единицу","руб./ед.",{"$f":"IF(AP177=0,0,AP175*1000/AP177)","v":{"v":0,"d":"0.00"}},{"$f":"IF(AQ177=0,0,AQ175*1000/AQ177)","v":{"v":0,"d":"0.00"}},{"$f":"IF(AR177=0,0,AR175*1000/AR177)","v":{"v":0,"d":"0.00"}}]
[{"$nulls":31},"ADJUSTABLE.V",{"$nulls":6},{"$f":"AM175 & \".V\"","v":"AURIN.V"},"Объём","ед.",{"$f":"SUMIF($AS$9:$AW$9,AP$9,$AS177:$AW177)","v":{"v":0,"d":"0.00"}},{"v":0,"d":"0.00"},{"v":0,"d":"0.00"}]
[{"$nulls":31},"ADJUSTABLE.C",{"$nulls":6},"ACIDS","кислота серная","тыс.руб.",{"v":0,"d":"0.00"},{"v":0,"d":"0.00"},{"v":0,"d":"0.00"}]
[{"$nulls":31},"ADJUSTABLE.P",{"$nulls":6},{"$f":"AM178 & \".P\"","v":"ACIDS.P"},"Цена за единицу","руб./ед.",{"$f":"IF(AP180=0,0,AP178*1000/AP180)","v":{"v":0,"d":"0.00"}},{"$f":"IF(AQ180=0,0,AQ178*1000/AQ180)","v":{"v":0,"d":"0.00"}},{"$f":"IF(AR180=0,0,AR178*1000/AR180)","v":{"v":0,"d":"0.00"}}]
[{"$nulls":31},"ADJUSTABLE.V",{"$nulls":6},{"$f":"AM178 & \".V\"","v":"ACIDS.V"},"Объём","ед.",{"$f":"SUMIF($AS$9:$AW$9,AP$9,$AS180:$AW180)","v":{"v":0,"d":"0.00"}},{"v":0,"d":"0.00"},{"v":0,"d":"0.00"}]
[{"$nulls":31},"ADJUSTABLE.C",{"$nulls":6},"ADIDCL","кислота соляная","тыс.руб.",{"v":0,"d":"0.00"},{"v":0,"d":"0.00"},{"v":0,"d":"0.00"}]
[{"$nulls":31},"ADJUSTABLE.P",{"$nulls":6},{"$f":"AM181 & \".P\"","v":"ADIDCL.P"},"Цена за единицу","руб./ед.",{"$f":"IF(AP183=0,0,AP181*1000/AP183)","v":{"v":0,"d":"0.00"}},{"$f":"IF(AQ183=0,0,AQ181*1000/AQ183)","v":{"v":0,"d":"0.00"}},{"$f":"IF(AR183=0,0,AR181*1000/AR183)","v":{"v":0,"d":"0.00"}}]
[{"$nulls":31},"ADJUSTABLE.V",{"$nulls":6},{"$f":"AM181 & \".V\"","v":"ADIDCL.V"},"Объём","ед.",{"$f":"SUMIF($AS$9:$AW$9,AP$9,$AS183:$AW183)","v":{"v":0,"d":"0.00"}},{"v":0,"d":"0.00"},{"v":0,"d":"0.00"}]
[{"$nulls":31},"ADJUSTABLE.C",{"$nulls":6},"ACIDAC","кислота уксусная","тыс.руб.",{"v":0,"d":"0.00"},{"v":0,"d":"0.00"},{"v":0,"d":"0.00"}]
[{"$nulls":31},"ADJUSTABLE.P",{"$nulls":6},{"$f":"AM184 & \".P\"","v":"ACIDAC.P"},"Цена за единицу","руб./ед.",{"$f":"IF(AP186=0,0,AP184*1000/AP186)","v":{"v":0,"d":"0.00"}},{"$f":"IF(AQ186=0,0,AQ184*1000/AQ186)","v":{"v":0,"d":"0.00"}},{"$f":"IF(AR186=0,0,AR184*1000/AR186)","v":{"v":0,"d":"0.00"}}]
[{"$nulls":31},"ADJUSTABLE.V",{"$nulls":6},{"$f":"AM184 & \".V\"","v":"ACIDAC.V"},"Объём","ед.",{"$f":"SUMIF($AS$9:$AW$9,AP$9,$AS186:$AW186)","v":{"v":0,"d":"0.00"}},{"v":0,"d":"0.00"},{"v":0,"d":"0.00"}]
[{"$nulls":31},"ADJUSTABLE.C",{"$nulls":6},"ACIDOX","кислота щавелевая","тыс.руб.",{"v":0,"d":"0.00"},{"v":0,"d":"0.00"},{"v":0,"d":"0.00"}]
[{"$nulls":31},"ADJUSTABLE.P",{"$nulls":6},{"$f":"AM187 & \".P\"","v":"ACIDOX.P"},"Цена за единицу","руб./ед.",{"$f":"IF(AP189=0,0,AP187*1000/AP189)","v":{"v":0,"d":"0.00"}},{"$f":"IF(AQ189=0,0,AQ187*1000/AQ189)","v":{"v":0,"d":"0.00"}},{"$f":"IF(AR189=0,0,AR187*1000/AR189)","v":{"v":0,"d":"0.00"}}]
[{"$nulls":31},"ADJUSTABLE.V",{"$nulls":6},{"$f":"AM187 & \".V\"","v":"ACIDOX.V"},"Объём","ед.",{"$f":"SUMIF($AS$9:$AW$9,AP$9,$AS189:$AW189)","v":{"v":0,"d":"0.00"}},{"v":0,"d":"0.00"},{"v":0,"d":"0.00"}]
[{"$nulls":31},"ADJUSTABLE.C",{"$nulls":6},"STARCH","крахмал","тыс.руб.",{"v":0,"d":"0.00"},{"v":0,"d":"0.00"},{"v":0,"d":"0.00"}]
[{"$nulls":31},"ADJUSTABLE.P",{"$nulls":6},{"$f":"AM190 & \".P\"","v":"STARCH.P"},"Цена за единицу","руб./ед.",{"$f":"IF(AP192=0,0,AP190*1000/AP192)","v":{"v":0,"d":"0.00"}},{"$f":"IF(AQ192=0,0,AQ190*1000/AQ192)","v":{"v":0,"d":"0.00"}},{"$f":"IF(AR192=0,0,AR190*1000/AR192)","v":{"v":0,"d":"0.00"}}]
[{"$nulls":31},"ADJUSTABLE.V",{"$nulls":6},{"$f":"AM190 & \".V\"","v":"STARCH.V"},"Объём","ед.",{"$f":"SUMIF($AS$9:$AW$9,AP$9,$AS192:$AW192)","v":{"v":0,"d":"0.00"}},{"v":0,"d":"0.00"},{"v":0,"d":"0.00"}]
[{"$nulls":31},"ADJUSTABLE.C",{"$nulls":6},"LANTN","лантан азотнокислый","тыс.руб.",{"v":0,"d":"0.00"},{"v":0,"d":"0.00"},{"v":0,"d":"0.00"}]
[{"$nulls":31},"ADJUSTABLE.P",{"$nulls":6},{"$f":"AM193 & \".P\"","v":"LANTN.P"},"Цена за единицу","руб./ед.",{"$f":"IF(AP195=0,0,AP193*1000/AP195)","v":{"v":0,"d":"0.00"}},{"$f":"IF(AQ195=0,0,AQ193*1000/AQ195)","v":{"v":0,"d":"0.00"}},{"$f":"IF(AR195=0,0,AR193*1000/AR195)","v":{"v":0,"d":"0.00"}}]
[{"$nulls":31},"ADJUSTABLE.V",{"$nulls":6},{"$f":"AM193 & \".V\"","v":"LANTN.V"},"Объём","ед.",{"$f":"SUMIF($AS$9:$AW$9,AP$9,$AS195:$AW195)","v":{"v":0,"d":"0.00"}},{"v":0,"d":"0.00"},{"v":0,"d":"0.00"}]
[{"$nulls":31},"ADJUSTABLE.C",{"$nulls":6},"MGS","магний сернокислый","тыс.руб.",{"v":0,"d":"0.00"},{"v":0,"d":"0.00"},{"v":0,"d":"0.00"}]
[{"$nulls":31},"ADJUSTABLE.P",{"$nulls":6},{"$f":"AM196 & \".P\"","v":"MGS.P"},"Цена за единицу","руб./ед.",{"$f":"IF(AP198=0,0,AP196*1000/AP198)","v":{"v":0,"d":"0.00"}},{"$f":"IF(AQ198=0,0,AQ196*1000/AQ198)","v":{"v":0,"d":"0.00"}},{"$f":"IF(AR198=0,0,AR196*1000/AR198)","v":{"v":0,"d":"0.00"}}]
[{"$nulls":31},"ADJUSTABLE.V",{"$nulls":6},{"$f":"AM196 & \".V\"","v":"MGS.V"},"Объём","ед.",{"$f":"SUMIF($AS$9:$AW$9,AP$9,$AS198:$AW198)","v":{"v":0,"d":"0.00"}},{"v":0,"d":"0.00"},{"v":0,"d":"0.00"}]
[{"$nulls":31},"ADJUSTABLE.C",{"$nulls":6},"NATR","натр едкий","тыс.руб.",{"v":0,"d":"0.00"},{"v":0,"d":"0.00"},{"v":0,"d":"0.00"}]
[{"$nulls":31},"ADJUSTABLE.P",{"$nulls":6},{"$f":"AM199 & \".P\"","v":"NATR.P"},"Цена за единицу","руб./ед.",{"$f":"IF(AP201=0,0,AP199*1000/AP201)","v":{"v":0,"d":"0.00"}},{"$f":"IF(AQ201=0,0,AQ199*1000/AQ201)","v":{"v":0,"d":"0.00"}},{"$f":"IF(AR201=0,0,AR199*1000/AR201)","v":{"v":0,"d":"0.00"}}]
[{"$nulls":31},"ADJUSTABLE.V",{"$nulls":6},{"$f":"AM199 & \".V\"","v":"NATR.V"},"Объём","ед.",{"$f":"SUMIF($AS$9:$AW$9,AP$9,$AS201:$AW201)","v":{"v":0,"d":"0.00"}},{"v":0,"d":"0.00"},{"v":0,"d":"0.00"}]
[{"$nulls":31},"ADJUSTABLE.C",{"$nulls":6},"NAHDOX","натрий гидроокись","тыс.руб.",{"v":0,"d":"0.00"},{"v":0,"d":"0.00"},{"v":0,"d":"0.00"}]
[{"$nulls":31},"ADJUSTABLE.P",{"$nulls":6},{"$f":"AM202 & \".P\"","v":"NAHDOX.P"},"Цена за единицу","руб./ед.",{"$f":"IF(AP204=0,0,AP202*1000/AP204)","v":{"v":0,"d":"0.00"}},{"$f":"IF(AQ204=0,0,AQ202*1000/AQ204)","v":{"v":0,"d":"0.00"}},{"$f":"IF(AR204=0,0,AR202*1000/AR204)","v":{"v":0,"d":"0.00"}}]
[{"$nulls":31},"ADJUSTABLE.V",{"$nulls":6},{"$f":"AM202 & \".V\"","v":"NAHDOX.V"},"Объём","ед.",{"$f":"SUMIF($AS$9:$AW$9,AP$9,$AS204:$AW204)","v":{"v":0,"d":"0.00"}},{"v":0,"d":"0.00"},{"v":0,"d":"0.00"}]
[{"$nulls":31},"ADJUSTABLE.C",{"$nulls":6},"NASLC","натрий салициловокислый","тыс.руб.",{"v":0,"d":"0.00"},{"v":0,"d":"0.00"},{"v":0,"d":"0.00"}]
[{"$nulls":31},"ADJUSTABLE.P",{"$nulls":6},{"$f":"AM205 & \".P\"","v":"NASLC.P"},"Цена за единицу","руб./ед.",{"$f":"IF(AP207=0,0,AP205*1000/AP207)","v":{"v":0,"d":"0.00"}},{"$f":"IF(AQ207=0,0,AQ205*1000/AQ207)","v":{"v":0,"d":"0.00"}},{"$f":"IF(AR207=0,0,AR205*1000/AR207)","v":{"v":0,"d":"0.00"}}]
[{"$nulls":31},"ADJUSTABLE.V",{"$nulls":6},{"$f":"AM205 & \".V\"","v":"NASLC.V"},"Объём","ед.",{"$f":"SUMIF($AS$9:$AW$9,AP$9,$AS207:$AW207)","v":{"v":0,"d":"0.00"}},{"v":0,"d":"0.00"},{"v":0,"d":"0.00"}]
[{"$nulls":31},"ADJUSTABLE.C",{"$nulls":6},"NAS","натрий сернокислый","тыс.руб.",{"v":0,"d":"0.00"},{"v":0,"d":"0.00"},{"v":0,"d":"0.00"}]
[{"$nulls":31},"ADJUSTABLE.P",{"$nulls":6},{"$f":"AM208 & \".P\"","v":"NAS.P"},"Цена за единицу","руб./ед.",{"$f":"IF(AP210=0,0,AP208*1000/AP210)","v":{"v":0,"d":"0.00"}},{"$f":"IF(AQ210=0,0,AQ208*1000/AQ210)","v":{"v":0,"d":"0.00"}},{"$f":"IF(AR210=0,0,AR208*1000/AR210)","v":{"v":0,"d":"0.00"}}]
[{"$nulls":31},"ADJUSTABLE.V",{"$nulls":6},{"$f":"AM208 & \".V\"","v":"NAS.V"},"Объём","ед.",{"$f":"SUMIF($AS$9:$AW$9,AP$9,$AS210:$AW210)","v":{"v":0,"d":"0.00"}},{"v":0,"d":"0.00"},{"v":0,"d":"0.00"}]
[{"$nulls":31},"ADJUSTABLE.C",{"$nulls":6},"NAC","натрий углекислый","тыс.руб.",{"v":0,"d":"0.00"},{"v":0,"d":"0.00"},{"v":0,"d":"0.00"}]
[{"$nulls":31},"ADJUSTABLE.P",{"$nulls":6},{"$f":"AM211 & \".P\"","v":"NAC.P"},"Цена за единицу","руб./ед.",{"$f":"IF(AP213=0,0,AP211*1000/AP213)","v":{"v":0,"d":"0.00"}},{"$f":"IF(AQ213=0,0,AQ211*1000/AQ213)","v":{"v":0,"d":"0.00"}},{"$f":"IF(AR213=0,0,AR211*1000/AR213)","v":{"v":0,"d":"0.00"}}]
[{"$nulls":31},"ADJUSTABLE.V",{"$nulls":6},{"$f":"AM211 & \".V\"","v":"NAC.V"},"Объём","ед.",{"$f":"SUMIF($AS$9:$AW$9,AP$9,$AS213:$AW213)","v":{"v":0,"d":"0.00"}},{"v":0,"d":"0.00"},{"v":0,"d":"0.00"}]
[{"$nulls":31},"ADJUSTABLE.C",{"$nulls":6},"NAAC","натрий уксуснокислый","тыс.руб.",{"v":0,"d":"0.00"},{"v":0,"d":"0.00"},{"v":0,"d":"0.00"}]
[{"$nulls":31},"ADJUSTABLE.P",{"$nulls":6},{"$f":"AM214 & \".P\"","v":"NAAC.P"},"Цена за единицу","руб./ед.",{"$f":"IF(AP216=0,0,AP214*1000/AP216)","v":{"v":0,"d":"0.00"}},{"$f":"IF(AQ216=0,0,AQ214*1000/AQ216)","v":{"v":0,"d":"0.00"}},{"$f":"IF(AR216=0,0,AR214*1000/AR216)","v":{"v":0,"d":"0.00"}}]
[{"$nulls":31},"ADJUSTABLE.V",{"$nulls":6},{"$f":"AM214 & \".V\"","v":"NAAC.V"},"Объём","ед.",{"$f":"SUMIF($AS$9:$AW$9,AP$9,$AS216:$AW216)","v":{"v":0,"d":"0.00"}},{"v":0,"d":"0.00"},{"v":0,"d":"0.00"}]
[{"$nulls":31},"ADJUSTABLE.C",{"$nulls":6},"NACL","натрий хлористый","тыс.руб.",{"v":0,"d":"0.00"},{"v":0,"d":"0.00"},{"v":0,"d":"0.00"}]
[{"$nulls":31},"ADJUSTABLE.P",{"$nulls":6},{"$f":"AM217 & \".P\"","v":"NACL.P"},"Цена за единицу","руб./ед.",{"$f":"IF(AP219=0,0,AP217*1000/AP219)","v":{"v":0,"d":"0.00"}},{"$f":"IF(AQ219=0,0,AQ217*1000/AQ219)","v":{"v":0,"d":"0.00"}},{"$f":"IF(AR219=0,0,AR217*1000/AR219)","v":{"v":0,"d":"0.00"}}]
[{"$nulls":31},"ADJUSTABLE.V",{"$nulls":6},{"$f":"AM217 & \".V\"","v":"NACL.V"},"Объём","ед.",{"$f":"SUMIF($AS$9:$AW$9,AP$9,$AS219:$AW219)","v":{"v":0,"d":"0.00"}},{"v":0,"d":"0.00"},{"v":0,"d":"0.00"}]
[{"$nulls":31},"ADJUSTABLE.C",{"$nulls":6},"RGRS","реактив Грисса","тыс.руб.",{"v":0,"d":"0.00"},{"v":0,"d":"0.00"},{"v":0,"d":"0.00"}]
[{"$nulls":31},"ADJUSTABLE.P",{"$nulls":6},{"$f":"AM220 & \".P\"","v":"RGRS.P"},"Цена за единицу","руб./ед.",{"$f":"IF(AP222=0,0,AP220*1000/AP222)","v":{"v":0,"d":"0.00"}},{"$f":"IF(AQ222=0,0,AQ220*1000/AQ222)","v":{"v":0,"d":"0.00"}},{"$f":"IF(AR222=0,0,AR220*1000/AR222)","v":{"v":0,"d":"0.00"}}]
[{"$nulls":31},"ADJUSTABLE.V",{"$nulls":6},{"$f":"AM220 & \".V\"","v":"RGRS.V"},"Объём","ед.",{"$f":"SUMIF($AS$9:$AW$9,AP$9,$AS222:$AW222)","v":{"v":0,"d":"0.00"}},{"v":0,"d":"0.00"},{"v":0,"d":"0.00"}]
[{"$nulls":31},"ADJUSTABLE.C",{"$nulls":6},"RNSL","реактив Несслера","тыс.руб.",{"v":0,"d":"0.00"},{"v":0,"d":"0.00"},{"v":0,"d":"0.00"}]
[{"$nulls":31},"ADJUSTABLE.P",{"$nulls":6},{"$f":"AM223 & \".P\"","v":"RNSL.P"},"Цена за единицу","руб./ед.",{"$f":"IF(AP225=0,0,AP223*1000/AP225)","v":{"v":0,"d":"0.00"}},{"$f":"IF(AQ225=0,0,AQ223*1000/AQ225)","v":{"v":0,"d":"0.00"}},{"$f":"IF(AR225=0,0,AR223*1000/AR225)","v":{"v":0,"d":"0.00"}}]
[{"$nulls":31},"ADJUSTABLE.V",{"$nulls":6},{"$f":"AM223 & \".V\"","v":"RNSL.V"},"Объём","ед.",{"$f":"SUMIF($AS$9:$AW$9,AP$9,$AS225:$AW225)","v":{"v":0,"d":"0.00"}},{"v":0,"d":"0.00"},{"v":0,"d":"0.00"}]
[{"$nulls":31},"ADJUSTABLE.C",{"$nulls":6},"PBAC","свинец уксуснокислый","тыс.руб.",{"v":0,"d":"0.00"},{"v":0,"d":"0.00"},{"v":0,"d":"0.00"}]
[{"$nulls":31},"ADJUSTABLE.P",{"$nulls":6},{"$f":"AM226 & \".P\"","v":"PBAC.P"},"Цена за единицу","руб./ед.",{"$f":"IF(AP228=0,0,AP226*1000/AP228)","v":{"v":0,"d":"0.00"}},{"$f":"IF(AQ228=0,0,AQ226*1000/AQ228)","v":{"v":0,"d":"0.00"}},{"$f":"IF(AR228=0,0,AR226*1000/AR228)","v":{"v":0,"d":"0.00"}}]
[{"$nulls":31},"ADJUSTABLE.V",{"$nulls":6},{"$f":"AM226 & \".V\"","v":"PBAC.V"},"Объём","ед.",{"$f":"SUMIF($AS$9:$AW$9,AP$9,$AS228:$AW228)","v":{"v":0,"d":"0.00"}},{"v":0,"d":"0.00"},{"v":0,"d":"0.00"}]
[{"$nulls":31},"ADJUSTABLE.C",{"$nulls":6},"AGN","серебро азотнокислое","тыс.руб.",{"v":0,"d":"0.00"},{"v":0,"d":"0.00"},{"v":0,"d":"0.00"}]
[{"$nulls":31},"ADJUSTABLE.P",{"$nulls":6},{"$f":"AM229 & \".P\"","v":"AGN.P"},"Цена за единицу","руб./ед.",{"$f":"IF(AP231=0,0,AP229*1000/AP231)","v":{"v":0,"d":"0.00"}},{"$f":"IF(AQ231=0,0,AQ229*1000/AQ231)","v":{"v":0,"d":"0.00"}},{"$f":"IF(AR231=0,0,AR229*1000/AR231)","v":{"v":0,"d":"0.00"}}]
[{"$nulls":31},"ADJUSTABLE.V",{"$nulls":6},{"$f":"AM229 & \".V\"","v":"AGN.V"},"Объём","ед.",{"$f":"SUMIF($AS$9:$AW$9,AP$9,$AS231:$AW231)","v":{"v":0,"d":"0.00"}},{"v":0,"d":"0.00"},{"v":0,"d":"0.00"}]
[{"$nulls":31},"ADJUSTABLE.C",{"$nulls":6},"AGS","серебро сернокислое","тыс.руб.",{"v":0,"d":"0.00"},{"v":0,"d":"0.00"},{"v":0,"d":"0.00"}]
[{"$nulls":31},"ADJUSTABLE.P",{"$nulls":6},{"$f":"AM232 & \".P\"","v":"AGS.P"},"Цена за единицу","руб./ед.",{"$f":"IF(AP234=0,0,AP232*1000/AP234)","v":{"v":0,"d":"0.00"}},{"$f":"IF(AQ234=0,0,AQ232*1000/AQ234)","v":{"v":0,"d":"0.00"}},{"$f":"IF(AR234=0,0,AR232*1000/AR234)","v":{"v":0,"d":"0.00"}}]
[{"$nulls":31},"ADJUSTABLE.V",{"$nulls":6},{"$f":"AM232 & \".V\"","v":"AGS.V"},"Объём","ед.",{"$f":"SUMIF($AS$9:$AW$9,AP$9,$AS234:$AW234)","v":{"v":0,"d":"0.00"}},{"v":0,"d":"0.00"},{"v":0,"d":"0.00"}]
[{"$nulls":31},"ADJUSTABLE.C",{"$nulls":6},"SODACA","сода кальцинированная","тыс.руб.",{"v":0,"d":"0.00"},{"v":0,"d":"0.00"},{"v":0,"d":"0.00"}]
[{"$nulls":31},"ADJUSTABLE.P",{"$nulls":6},{"$f":"AM235 & \".P\"","v":"SODACA.P"},"Цена за единицу","руб./ед.",{"$f":"IF(AP237=0,0,AP235*1000/AP237)","v":{"v":0,"d":"0.00"}},{"$f":"IF(AQ237=0,0,AQ235*1000/AQ237)","v":{"v":0,"d":"0.00"}},{"$f":"IF(AR237=0,0,AR235*1000/AR237)","v":{"v":0,"d":"0.00"}}]
[{"$nulls":31},"ADJUSTABLE.V",{"$nulls":6},{"$f":"AM235 & \".V\"","v":"SODACA.V"},"Объём","ед.",{"$f":"SUMIF($AS$9:$AW$9,AP$9,$AS237:$AW237)","v":{"v":0,"d":"0.00"}},{"v":0,"d":"0.00"},{"v":0,"d":"0.00"}]
[{"$nulls":31},"ADJUSTABLE.C",{"$nulls":6},"SODACS","сода каустическая","тыс.руб.",{"v":0,"d":"0.00"},{"v":0,"d":"0.00"},{"v":0,"d":"0.00"}]
[{"$nulls":31},"ADJUSTABLE.P",{"$nulls":6},{"$f":"AM238 & \".P\"","v":"SODACS.P"},"Цена за единицу","руб./ед.",{"$f":"IF(AP240=0,0,AP238*1000/AP240)","v":{"v":0,"d":"0.00"}},{"$f":"IF(AQ240=0,0,AQ238*1000/AQ240)","v":{"v":0,"d":"0.00"}},{"$f":"IF(AR240=0,0,AR238*1000/AR240)","v":{"v":0,"d":"0.00"}}]
[{"$nulls":31},"ADJUSTABLE.V",{"$nulls":6},{"$f":"AM238 & \".V\"","v":"SODACS.V"},"Объём","ед.",{"$f":"SUMIF($AS$9:$AW$9,AP$9,$AS240:$AW240)","v":{"v":0,"d":"0.00"}},{"v":0,"d":"0.00"},{"v":0,"d":"0.00"}]
[{"$nulls":31},"ADJUSTABLE.C",{"$nulls":6},"SALT1G","соль 1 сорт","тыс.руб.",{"v":0,"d":"0.00"},{"v":0,"d":"0.00"},{"v":0,"d":"0.00"}]
[{"$nulls":31},"ADJUSTABLE.P",{"$nulls":6},{"$f":"AM241 & \".P\"","v":"SALT1G.P"},"Цена за единицу","руб./ед.",{"$f":"IF(AP243=0,0,AP241*1000/AP243)","v":{"v":0,"d":"0.00"}},{"$f":"IF(AQ243=0,0,AQ241*1000/AQ243)","v":{"v":0,"d":"0.00"}},{"$f":"IF(AR243=0,0,AR241*1000/AR243)","v":{"v":0,"d":"0.00"}}]
[{"$nulls":31},"ADJUSTABLE.V",{"$nulls":6},{"$f":"AM241 & \".V\"","v":"SALT1G.V"},"Объём","ед.",{"$f":"SUMIF($AS$9:$AW$9,AP$9,$AS243:$AW243)","v":{"v":0,"d":"0.00"}},{"v":0,"d":"0.00"},{"v":0,"d":"0.00"}]
[{"$nulls":31},"ADJUSTABLE.C",{"$nulls":6},"SALT","соль пищевая поваренная","тыс.руб.",{"v":0,"d":"0.00"},{"v":0,"d":"0.00"},{"v":0,"d":"0.00"}]
[{"$nulls":31},"ADJUSTABLE.P",{"$nulls":6},{"$f":"AM244 & \".P\"","v":"SALT.P"},"Цена за единицу","руб./ед.",{"$f":"IF(AP246=0,0,AP244*1000/AP246)","v":{"v":0,"d":"0.00"}},{"$f":"IF(AQ246=0,0,AQ244*1000/AQ246)","v":{"v":0,"d":"0.00"}},{"$f":"IF(AR246=0,0,AR244*1000/AR246)","v":{"v":0,"d":"0.00"}}]
[{"$nulls":31},"ADJUSTABLE.V",{"$nulls":6},{"$f":"AM244 & \".V\"","v":"SALT.V"},"Объём","ед.",{"$f":"SUMIF($AS$9:$AW$9,AP$9,$AS246:$AW246)","v":{"v":0,"d":"0.00"}},{"v":0,"d":"0.00"},{"v":0,"d":"0.00"}]
[{"$nulls":31},"ADJUSTABLE.C",{"$nulls":6},"SALTPL","соль таблетированная","тыс.руб.",{"v":0,"d":"0.00"},{"v":0,"d":"0.00"},{"v":0,"d":"0.00"}]
[{"$nulls":31},"ADJUSTABLE.P",{"$nulls":6},{"$f":"AM247 & \".P\"","v":"SALTPL.P"},"Цена за единицу","руб./ед.",{"$f":"IF(AP249=0,0,AP247*1000/AP249)","v":{"v":0,"d":"0.00"}},{"$f":"IF(AQ249=0,0,AQ247*1000/AQ249)","v":{"v":0,"d":"0.00"}},{"$f":"IF(AR249=0,0,AR247*1000/AR249)","v":{"v":0,"d":"0.00"}}]
[{"$nulls":31},"ADJUSTABLE.V",{"$nulls":6},{"$f":"AM247 & \".V\"","v":"SALTPL.V"},"Объём","ед.",{"$f":"SUMIF($AS$9:$AW$9,AP$9,$AS249:$AW249)","v":{"v":0,"d":"0.00"}},{"v":0,"d":"0.00"},{"v":0,"d":"0.00"}]
[{"$nulls":31},"ADJUSTABLE.C",{"$nulls":6},"SALTTH","соль техническая","тыс.руб.",{"v":0,"d":"0.00"},{"v":0,"d":"0.00"},{"v":0,"d":"0.00"}]
[{"$nulls":31},"ADJUSTABLE.P",{"$nulls":6},{"$f":"AM250 & \".P\"","v":"SALTTH.P"},"Цена за единицу","руб./ед.",{"$f":"IF(AP252=0,0,AP250*1000/AP252)","v":{"v":0,"d":"0.00"}},{"$f":"IF(AQ252=0,0,AQ250*1000/AQ252)","v":{"v":0,"d":"0.00"}},{"$f":"IF(AR252=0,0,AR250*1000/AR252)","v":{"v":0,"d":"0.00"}}]
[{"$nulls":31},"ADJUSTABLE.V",{"$nulls":6},{"$f":"AM250 & \".V\"","v":"SALTTH.V"},"Объём","ед.",{"$f":"SUMIF($AS$9:$AW$9,AP$9,$AS252:$AW252)","v":{"v":0,"d":"0.00"}},{"v":0,"d":"0.00"},{"v":0,"d":"0.00"}]
[{"$nulls":31},"ADJUSTABLE.C",{"$nulls":6},"SALTEX","соль экстра","тыс.руб.",{"v":0,"d":"0.00"},{"v":0,"d":"0.00"},{"v":0,"d":"0.00"}]
[{"$nulls":31},"ADJUSTABLE.P",{"$nulls":6},{"$f":"AM253 & \".P\"","v":"SALTEX.P"},"Цена за единицу","руб./ед.",{"$f":"IF(AP255=0,0,AP253*1000/AP255)","v":{"v":0,"d":"0.00"}},{"$f":"IF(AQ255=0,0,AQ253*1000/AQ255)","v":{"v":0,"d":"0.00"}},{"$f":"IF(AR255=0,0,AR253*1000/AR255)","v":{"v":0,"d":"0.00"}}]
[{"$nulls":31},"ADJUSTABLE.V",{"$nulls":6},{"$f":"AM253 & \".V\"","v":"SALTEX.V"},"Объём","ед.",{"$f":"SUMIF($AS$9:$AW$9,AP$9,$AS255:$AW255)","v":{"v":0,"d":"0.00"}},{"v":0,"d":"0.00"},{"v":0,"d":"0.00"}]
[{"$nulls":31},"ADJUSTABLE.C",{"$nulls":6},"C2H5OH","спирт","тыс.руб.",{"v":0,"d":"0.00"},{"v":0,"d":"0.00"},{"v":0,"d":"0.00"}]
[{"$nulls":31},"ADJUSTABLE.P",{"$nulls":6},{"$f":"AM256 & \".P\"","v":"C2H5OH.P"},"Цена за единицу","руб./ед.",{"$f":"IF(AP258=0,0,AP256*1000/AP258)","v":{"v":0,"d":"0.00"}},{"$f":"IF(AQ258=0,0,AQ256*1000/AQ258)","v":{"v":0,"d":"0.00"}},{"$f":"IF(AR258=0,0,AR256*1000/AR258)","v":{"v":0,"d":"0.00"}}]
[{"$nulls":31},"ADJUSTABLE.V",{"$nulls":6},{"$f":"AM256 & \".V\"","v":"C2H5OH.V"},"Объём","ед.",{"$f":"SUMIF($AS$9:$AW$9,AP$9,$AS258:$AW258)","v":{"v":0,"d":"0.00"}},{"v":0,"d":"0.00"},{"v":0,"d":"0.00"}]
[{"$nulls":31},"ADJUSTABLE.C",{"$nulls":6},"SFAL1G","сульфат алюминия 1 сорт","тыс.руб.",{"v":0,"d":"0.00"},{"v":0,"d":"0.00"},{"v":0,"d":"0.00"}]
[{"$nulls":31},"ADJUSTABLE.P",{"$nulls":6},{"$f":"AM259 & \".P\"","v":"SFAL1G.P"},"Цена за единицу","руб./ед.",{"$f":"IF(AP261=0,0,AP259*1000/AP261)","v":{"v":0,"d":"0.00"}},{"$f":"IF(AQ261=0,0,AQ259*1000/AQ261)","v":{"v":0,"d":"0.00"}},{"$f":"IF(AR261=0,0,AR259*1000/AR261)","v":{"v":0,"d":"0.00"}}]
[{"$nulls":31},"ADJUSTABLE.V",{"$nulls":6},{"$f":"AM259 & \".V\"","v":"SFAL1G.V"},"Объём","ед.",{"$f":"SUMIF($AS$9:$AW$9,AP$9,$AS261:$AW261)","v":{"v":0,"d":"0.00"}},{"v":0,"d":"0.00"},{"v":0,"d":"0.00"}]
[{"$nulls":31},"ADJUSTABLE.C",{"$nulls":6},"SFALLQD","сульфат алюминия жидкий","тыс.руб.",{"v":0,"d":"0.00"},{"v":0,"d":"0.00"},{"v":0,"d":"0.00"}]
[{"$nulls":31},"ADJUSTABLE.P",{"$nulls":6},{"$f":"AM262 & \".P\"","v":"SFALLQD.P"},"Цена за единицу","руб./ед.",{"$f":"IF(AP264=0,0,AP262*1000/AP264)","v":{"v":0,"d":"0.00"}},{"$f":"IF(AQ264=0,0,AQ262*1000/AQ264)","v":{"v":0,"d":"0.00"}},{"$f":"IF(AR264=0,0,AR262*1000/AR264)","v":{"v":0,"d":"0.00"}}]
[{"$nulls":31},"ADJUSTABLE.V",{"$nulls":6},{"$f":"AM262 & \".V\"","v":"SFALLQD.V"},"Объём","ед.",{"$f":"SUMIF($AS$9:$AW$9,AP$9,$AS264:$AW264)","v":{"v":0,"d":"0.00"}},{"v":0,"d":"0.00"},{"v":0,"d":"0.00"}]
[{"$nulls":31},"ADJUSTABLE.C",{"$nulls":6},"SFALT","сульфат алюминия технический","тыс.руб.",{"v":0,"d":"0.00"},{"v":0,"d":"0.00"},{"v":0,"d":"0.00"}]
[{"$nulls":31},"ADJUSTABLE.P",{"$nulls":6},{"$f":"AM265 & \".P\"","v":"SFALT.P"},"Цена за единицу","руб./ед.",{"$f":"IF(AP267=0,0,AP265*1000/AP267)","v":{"v":0,"d":"0.00"}},{"$f":"IF(AQ267=0,0,AQ265*1000/AQ267)","v":{"v":0,"d":"0.00"}},{"$f":"IF(AR267=0,0,AR265*1000/AR267)","v":{"v":0,"d":"0.00"}}]
[{"$nulls":31},"ADJUSTABLE.V",{"$nulls":6},{"$f":"AM265 & \".V\"","v":"SFALT.V"},"Объём","ед.",{"$f":"SUMIF($AS$9:$AW$9,AP$9,$AS267:$AW267)","v":{"v":0,"d":"0.00"}},{"v":0,"d":"0.00"},{"v":0,"d":"0.00"}]
[{"$nulls":31},"ADJUSTABLE.C",{"$nulls":6},"SFAMN","сульфат аммония","тыс.руб.",{"v":0,"d":"0.00"},{"v":0,"d":"0.00"},{"v":0,"d":"0.00"}]
[{"$nulls":31},"ADJUSTABLE.P",{"$nulls":6},{"$f":"AM268 & \".P\"","v":"SFAMN.P"},"Цена за единицу","руб./ед.",{"$f":"IF(AP270=0,0,AP268*1000/AP270)","v":{"v":0,"d":"0.00"}},{"$f":"IF(AQ270=0,0,AQ268*1000/AQ270)","v":{"v":0,"d":"0.00"}},{"$f":"IF(AR270=0,0,AR268*1000/AR270)","v":{"v":0,"d":"0.00"}}]
[{"$nulls":31},"ADJUSTABLE.V",{"$nulls":6},{"$f":"AM268 & \".V\"","v":"SFAMN.V"},"Объём","ед.",{"$f":"SUMIF($AS$9:$AW$9,AP$9,$AS270:$AW270)","v":{"v":0,"d":"0.00"}},{"v":0,"d":"0.00"},{"v":0,"d":"0.00"}]
[{"$nulls":31},"ADJUSTABLE.C",{"$nulls":6},"TM","тиомочевина","тыс.руб.",{"v":0,"d":"0.00"},{"v":0,"d":"0.00"},{"v":0,"d":"0.00"}]
[{"$nulls":31},"ADJUSTABLE.P",{"$nulls":6},{"$f":"AM271 & \".P\"","v":"TM.P"},"Цена за единицу","руб./ед.",{"$f":"IF(AP273=0,0,AP271*1000/AP273)","v":{"v":0,"d":"0.00"}},{"$f":"IF(AQ273=0,0,AQ271*1000/AQ273)","v":{"v":0,"d":"0.00"}},{"$f":"IF(AR273=0,0,AR271*1000/AR273)","v":{"v":0,"d":"0.00"}}]
[{"$nulls":31},"ADJUSTABLE.V",{"$nulls":6},{"$f":"AM271 & \".V\"","v":"TM.V"},"Объём","ед.",{"$f":"SUMIF($AS$9:$AW$9,AP$9,$AS273:$AW273)","v":{"v":0,"d":"0.00"}},{"v":0,"d":"0.00"},{"v":0,"d":"0.00"}]
[{"$nulls":31},"ADJUSTABLE.C",{"$nulls":6},"TSFNA","тиосульфат натрия","тыс.руб.",{"v":0,"d":"0.00"},{"v":0,"d":"0.00"},{"v":0,"d":"0.00"}]
[{"$nulls":31},"ADJUSTABLE.P",{"$nulls":6},{"$f":"AM274 & \".P\"","v":"TSFNA.P"},"Цена за единицу","руб./ед.",{"$f":"IF(AP276=0,0,AP274*1000/AP276)","v":{"v":0,"d":"0.00"}},{"$f":"IF(AQ276=0,0,AQ274*1000/AQ276)","v":{"v":0,"d":"0.00"}},{"$f":"IF(AR276=0,0,AR274*1000/AR276)","v":{"v":0,"d":"0.00"}}]
[{"$nulls":31},"ADJUSTABLE.V",{"$nulls":6},{"$f":"AM274 & \".V\"","v":"TSFNA.V"},"Объём","ед.",{"$f":"SUMIF($AS$9:$AW$9,AP$9,$AS276:$AW276)","v":{"v":0,"d":"0.00"}},{"v":0,"d":"0.00"},{"v":0,"d":"0.00"}]
[{"$nulls":31},"ADJUSTABLE.C",{"$nulls":6},"CCL4","углерод четырёххлористый","тыс.руб.",{"v":0,"d":"0.00"},{"v":0,"d":"0.00"},{"v":0,"d":"0.00"}]
[{"$nulls":31},"ADJUSTABLE.P",{"$nulls":6},{"$f":"AM277 & \".P\"","v":"CCL4.P"},"Цена за единицу","руб./ед.",{"$f":"IF(AP279=0,0,AP277*1000/AP279)","v":{"v":0,"d":"0.00"}},{"$f":"IF(AQ279=0,0,AQ277*1000/AQ279)","v":{"v":0,"d":"0.00"}},{"$f":"IF(AR279=0,0,AR277*1000/AR279)","v":{"v":0,"d":"0.00"}}]
[{"$nulls":31},"ADJUSTABLE.V",{"$nulls":6},{"$f":"AM277 & \".V\"","v":"CCL4.V"},"Объём","ед.",{"$f":"SUMIF($AS$9:$AW$9,AP$9,$AS279:$AW279)","v":{"v":0,"d":"0.00"}},{"v":0,"d":"0.00"},{"v":0,"d":"0.00"}]
[{"$nulls":31},"ADJUSTABLE.C",{"$nulls":6},"FFTLN","фенолфталеин","тыс.руб.",{"v":0,"d":"0.00"},{"v":0,"d":"0.00"},{"v":0,"d":"0.00"}]
[{"$nulls":31},"ADJUSTABLE.P",{"$nulls":6},{"$f":"AM280 & \".P\"","v":"FFTLN.P"},"Цена за единицу","руб./ед.",{"$f":"IF(AP282=0,0,AP280*1000/AP282)","v":{"v":0,"d":"0.00"}},{"$f":"IF(AQ282=0,0,AQ280*1000/AQ282)","v":{"v":0,"d":"0.00"}},{"$f":"IF(AR282=0,0,AR280*1000/AR282)","v":{"v":0,"d":"0.00"}}]
[{"$nulls":31},"ADJUSTABLE.V",{"$nulls":6},{"$f":"AM280 & \".V\"","v":"FFTLN.V"},"Объём","ед.",{"$f":"SUMIF($AS$9:$AW$9,AP$9,$AS282:$AW282)","v":{"v":0,"d":"0.00"}},{"v":0,"d":"0.00"},{"v":0,"d":"0.00"}]
[{"$nulls":31},"ADJUSTABLE.C",{"$nulls":6},"CL","хлор","тыс.руб.",{"v":0,"d":"0.00"},{"v":0,"d":"0.00"},{"v":0,"d":"0.00"}]
[{"$nulls":31},"ADJUSTABLE.P",{"$nulls":6},{"$f":"AM283 & \".P\"","v":"CL.P"},"Цена за единицу","руб./ед.",{"$f":"IF(AP285=0,0,AP283*1000/AP285)","v":{"v":0,"d":"0.00"}},{"$f":"IF(AQ285=0,0,AQ283*1000/AQ285)","v":{"v":0,"d":"0.00"}},{"$f":"IF(AR285=0,0,AR283*1000/AR285)","v":{"v":0,"d":"0.00"}}]
[{"$nulls":31},"ADJUSTABLE.V",{"$nulls":6},{"$f":"AM283 & \".V\"","v":"CL.V"},"Объём","ед.",{"$f":"SUMIF($AS$9:$AW$9,AP$9,$AS285:$AW285)","v":{"v":0,"d":"0.00"}},{"v":0,"d":"0.00"},{"v":0,"d":"0.00"}]
[{"$nulls":31},"ADJUSTABLE.C",{"$nulls":6},"CLLIQ","хлор жидкий","тыс.руб.",{"v":0,"d":"0.00"},{"v":0,"d":"0.00"},{"v":0,"d":"0.00"}]
[{"$nulls":31},"ADJUSTABLE.P",{"$nulls":6},{"$f":"AM286 & \".P\"","v":"CLLIQ.P"},"Цена за единицу","руб./ед.",{"$f":"IF(AP288=0,0,AP286*1000/AP288)","v":{"v":0,"d":"0.00"}},{"$f":"IF(AQ288=0,0,AQ286*1000/AQ288)","v":{"v":0,"d":"0.00"}},{"$f":"IF(AR288=0,0,AR286*1000/AR288)","v":{"v":0,"d":"0.00"}}]
[{"$nulls":31},"ADJUSTABLE.V",{"$nulls":6},{"$f":"AM286 & \".V\"","v":"CLLIQ.V"},"Объём","ед.",{"$f":"SUMIF($AS$9:$AW$9,AP$9,$AS288:$AW288)","v":{"v":0,"d":"0.00"}},{"v":0,"d":"0.00"},{"v":0,"d":"0.00"}]
[{"$nulls":31},"ADJUSTABLE.C",{"$nulls":6},"CLAMN","хлорамин","тыс.руб.",{"v":0,"d":"0.00"},{"v":0,"d":"0.00"},{"v":0,"d":"0.00"}]
[{"$nulls":31},"ADJUSTABLE.P",{"$nulls":6},{"$f":"AM289 & \".P\"","v":"CLAMN.P"},"Цена за единицу","руб./ед.",{"$f":"IF(AP291=0,0,AP289*1000/AP291)","v":{"v":0,"d":"0.00"}},{"$f":"IF(AQ291=0,0,AQ289*1000/AQ291)","v":{"v":0,"d":"0.00"}},{"$f":"IF(AR291=0,0,AR289*1000/AR291)","v":{"v":0,"d":"0.00"}}]
[{"$nulls":31},"ADJUSTABLE.V",{"$nulls":6},{"$f":"AM289 & \".V\"","v":"CLAMN.V"},"Объём","ед.",{"$f":"SUMIF($AS$9:$AW$9,AP$9,$AS291:$AW291)","v":{"v":0,"d":"0.00"}},{"v":0,"d":"0.00"},{"v":0,"d":"0.00"}]
[{"$nulls":31},"ADJUSTABLE.C",{"$nulls":6},"CLFRM","хлороформ","тыс.руб.",{"v":0,"d":"0.00"},{"v":0,"d":"0.00"},{"v":0,"d":"0.00"}]
[{"$nulls":31},"ADJUSTABLE.P",{"$nulls":6},{"$f":"AM292 & \".P\"","v":"CLFRM.P"},"Цена за единицу","руб./ед.",{"$f":"IF(AP294=0,0,AP292*1000/AP294)","v":{"v":0,"d":"0.00"}},{"$f":"IF(AQ294=0,0,AQ292*1000/AQ294)","v":{"v":0,"d":"0.00"}},{"$f":"IF(AR294=0,0,AR292*1000/AR294)","v":{"v":0,"d":"0.00"}}]
[{"$nulls":31},"ADJUSTABLE.V",{"$nulls":6},{"$f":"AM292 & \".V\"","v":"CLFRM.V"},"Объём","ед.",{"$f":"SUMIF($AS$9:$AW$9,AP$9,$AS294:$AW294)","v":{"v":0,"d":"0.00"}},{"v":0,"d":"0.00"},{"v":0,"d":"0.00"}]
[{"$nulls":31},"ADJUSTABLE.C",{"$nulls":6},"ETHL","этиленгликоль","тыс.руб.",{"v":0,"d":"0.00"},{"v":0,"d":"0.00"},{"v":0,"d":"0.00"}]
[{"$nulls":31},"ADJUSTABLE.P",{"$nulls":6},{"$f":"AM295 & \".P\"","v":"ETHL.P"},"Цена за единицу","руб./ед.",{"$f":"IF(AP297=0,0,AP295*1000/AP297)","v":{"v":0,"d":"0.00"}},{"$f":"IF(AQ297=0,0,AQ295*1000/AQ297)","v":{"v":0,"d":"0.00"}},{"$f":"IF(AR297=0,0,AR295*1000/AR297)","v":{"v":0,"d":"0.00"}}]
[{"$nulls":31},"ADJUSTABLE.V",{"$nulls":6},{"$f":"AM295 & \".V\"","v":"ETHL.V"},"Объём","ед.",{"$f":"SUMIF($AS$9:$AW$9,AP$9,$AS297:$AW297)","v":{"v":0,"d":"0.00"}},{"v":0,"d":"0.00"},{"v":0,"d":"0.00"}]
[{"$nulls":31},"ADJUSTABLE.OTH",{"$nulls":6},"OTH","прочие","тыс.руб.",{"v":0,"d":"0.00"},{"v":0,"d":"0.00"},{"v":0,"d":"0.00"}]
[]
[]
[{"$nulls":31},"ADJUSTABLE.OTH",{"$nulls":6},"OTH","Прочие","тыс.руб.",{"$f":"SUMIF($AS$9:$AW$9,AP$9,$AS301:$AW301)","v":{"v":0,"d":"0.00"}},{"$f":"SUMIF($AS$9:$AW$9,AQ$9,$AS301:$AW301)","v":{"v":0,"d":"0.00"}},{"$f":"SUMIF($AS$9:$AW$9,AR$9,$AS301:$AW301)","v":{"v":0,"d":"0.00"}}]
[]
[{"$nulls":38},"21","Полезный отпуск продукции всего","тыс.куб.м",{"$nulls":4},{"$f":"SUMIF(РО!$AS$15:$AW$15,AT$15,РО!$AS$240:$AW$240)","v":{"v":16745.303086,"d":"16,745.30"}},{"$f":"SUMIF(РО!$AS$15:$AW$15,AU$15,РО!$AS$240:$AW$240)","v":{"v":8787.817055,"d":"8,787.82"}},{"$f":"SUMIF(РО!$AS$15:$AW$15,AV$15,РО!$AS$240:$AW$240)","v":{"v":7957.486031,"d":"7,957.49"}}]

{"sheet":"Комментарии","index":23,"n_rows":9,"n_cols":6,"rows_kept":9}
{"$rows_empty":8}
[{"$nulls":5},"Ниже вы можете оставить свои комментарии"]

{"sheet":"Проверка","index":24,"n_rows":18,"n_cols":8,"rows_kept":18,"merged":[[8,4,8,7]]}
{"$rows_empty":8}
[{"$nulls":4},"Результаты проверки"]
[]
[{"$nulls":4},"Ссылка 1","Ссылка 2","Описание причины","Обязательность выполнения"]
[{"$nulls":4},"РО!AT135","РО!AT136","Не выполняется условие на листе 'РО' : п.2.2 >= п.2.2.1","Предупреждение"]
[{"$nulls":4},"РО!AU135","РО!AU136","Не выполняется условие на листе 'РО' : п.2.2 >= п.2.2.1","Предупреждение"]
[{"$nulls":4},"БПр!K132","БПр!AB132","Не выполняется условие на листе 'БПр' : п.1 = п.2+ п.3 + п.4 (DELTA = -4627435,914)","Предупреждение"]
[{"$nulls":4},"БПр!K134","БПр!AB134","Не выполняется условие на листе 'БПр' : п.1 = п.2+ п.3 + п.4 (DELTA = -4627435,914)","Предупреждение"]
[{"$nulls":4},"БПр!K132",null,"Не выполняется условие на листе 'БПр' : пропуск превышает подключенную нагрузку (DELTA = 3692903,086)","Предупреждение"]
[{"$nulls":4},"БПр!K134",null,"Не выполняется условие на листе 'БПр' : пропуск превышает подключенную нагрузку (DELTA = 3692903,086)","Предупреждение"]
[{"$nulls":4},"Р!AP25:AR25",null,"На листе Р нет данных о видах используемых реагентов по организации!","Предупреждение"]

{"sheet":"REESTR_MO","index":25,"n_rows":896,"n_cols":7,"rows_kept":896,"hidden":true}
["МР","МО","ОКТМО","ТИП МО","КОЛ-ВО ЖИТЕЛЕЙ","МР","ИМЯ ДИАПАЗОНА"]
["Абзелиловский муниципальный район","Абзелиловский муниципальный район","80601000","муниципальный район",44962,"Абзелиловский муниципальный район","MO_LIST_2"]
["Абзелиловский муниципальный район","Альмухаметовский сельский совет","80601404","сельское поселение",2709,"Альшеевский муниципальный район","MO_LIST_3"]
["Абзелиловский муниципальный район","Амангильдинский сельский совет","80601407","сельское поселение",2238,"Архангельский муниципальный район","MO_LIST_4"]
["Абзелиловский муниципальный район","Аскаровский сельский совет","80601410","сельское поселение",9326,"Аскинский муниципальный район","MO_LIST_5"]
["Абзелиловский муниципальный район","Баимовский сельский совет","80601413","сельское поселение",3579,"Аургазинский муниципальный район","MO_LIST_6"]
["Абзелиловский муниципальный район","Бурангуловский сельский совет","80601416","сельское поселение",1249,"Баймакский муниципальный район","MO_LIST_7"]
["Абзелиловский муниципальный район","Гусевский сельский совет","80601419","сельское поселение",2482,"Бакалинский муниципальный район","MO_LIST_8"]
["Абзелиловский муниципальный район","Давлетовский сельский совет","80601422","сельское поселение",1934,"Балтачевский муниципальный район","MO_LIST_9"]
["Абзелиловский муниципальный район","Кирдасовский сельский совет","80601425","сельское поселение",699,"Белебеевский муниципальный район","MO_LIST_10"]
["Абзелиловский муниципальный район","Краснобашкирский сельский совет","80601428","сельское поселение",3877,"Белокатайский муниципальный район","MO_LIST_11"]
["Абзелиловский муниципальный район","Равиловский сельский совет","80601431","сельское поселение",2310,"Белорецкий муниципальный район","MO_LIST_12"]
["Абзелиловский муниципальный район","Ташбулатовский сельский совет","80601434","сельское поселение",3909,"Бижбулякский муниципальный район","MO_LIST_13"]
["Абзелиловский муниципальный район","Таштимеровский сельский совет","80601437","сельское поселение",4060,"Бирский муниципальный район","MO_LIST_14"]
["Абзелиловский муниципальный район","Халиловский сельский совет","80601440","сельское поселение",2654,"Благоварский муниципальный район","MO_LIST_15"]
["Абзелиловский муниципальный район","Хамитовский сельский совет","80601443","сельское поселение",872,"Благовещенский муниципальный район","MO_LIST_16"]
["Абзелиловский муниципальный район","Янгильский сельский совет","80601446","сельское поселение",3064,"Буздякский муниципальный район","MO_LIST_17"]
["Альшеевский муниципальный район","Абдрашитовский сельский совет","80602404","сельское поселение",1234,"Бураевский муниципальный район","MO_LIST_18"]
["Альшеевский муниципальный район","Аксеновский сельский совет","80602406","сельское поселение",2412,"Бурзянский муниципальный район","MO_LIST_19"]
["Альшеевский муниципальный район","Альшеевский муниципальный район","80602000","муниципальный район",38874,"Гафурийский муниципальный район","MO_LIST_20"]
["Альшеевский муниципальный район","Воздвиженский сельский совет","80602413","сельское поселение",566,"Город Агидель","MO_LIST_21"]
["Альшеевский муниципальный район","Гайниямакский сельский совет","80602416","сельское поселение",928,"Город Кумертау","MO_LIST_22"]
["Альшеевский муниципальный район","Зеленоклиновский сельский совет","80602418","сельское поселение",466,"Город Нефтекамск","MO_LIST_23"]
["Альшеевский муниципальный район","Ибраевский сельский совет","80602419","сельское поселение",574,"Город Октябрьский","MO_LIST_24"]
["Альшеевский муниципальный район","Казанский сельский совет","80602422","сельское поселение",793,"Город Салават","MO_LIST_25"]
["Альшеевский муниципальный район","Кармышевский сельский совет","80602428","сельское поселение",1355,"Город Сибай","MO_LIST_26"]
["Альшеевский муниципальный район","Кипчак-Аскаровский сельский совет","80602431","сельское поселение",871,"Город Стерлитамак","MO_LIST_27"]
["Альшеевский муниципальный район","Кызыльский сельский совет","80602437","сельское поселение",910,"Город Уфа","MO_LIST_28"]
["Альшеевский муниципальный район","Мендяновский сельский совет","80602440","сельское поселение",477,"Давлекановский муниципальный район","MO_LIST_29"]
["Альшеевский муниципальный район","Нигматуллинский сельский совет","80602443","сельское поселение",779,"Дуванский муниципальный район","MO_LIST_30"]
["Альшеевский муниципальный район","Нижнеаврюзовский сельский совет","80602446","сельское поселение",986,"Дюртюлинский муниципальный район","MO_LIST_31"]
["Альшеевский муниципальный район","Никифаровский сельский совет","80602449","сельское поселение",928,"Ермекеевский муниципальный район","MO_LIST_32"]
["Альшеевский муниципальный район","Раевский сельский совет","80602451","сельское поселение",19384,"ЗАТО город Межгорье","MO_LIST_33"]
["Альшеевский муниципальный район","Слаковский сельский совет","80602455","сельское поселение",827,"Зианчуринский муниципальный район","MO_LIST_34"]
["Альшеевский муниципальный район","Ташлинский сельский совет","80602458","сельское поселение",524,"Зилаирский муниципальный район","MO_LIST_35"]
["Альшеевский муниципальный район","Трунтаишевский сельский совет","80602461","сельское поселение",979,"Иглинский муниципальный район","MO_LIST_36"]
["Альшеевский муниципальный район","Чебенлинский сельский совет","80602464","сельское поселение",580,"Илишевский муниципальный район","MO_LIST_37"]
["Альшеевский муниципальный район","Шафрановский сельский совет","80602470","сельское поселение",3301,"Ишимбайский муниципальный район","MO_LIST_38"]
["Архангельский муниципальный район","Абзановский сельский совет","80603404","сельское поселение",1028,"Калтасинский муниципальный район","MO_LIST_39"]
["Архангельский муниципальный район","Арх-Латышский сельский совет","80603413","сельское поселение",1932,"Караидельский муниципальный район","MO_LIST_40"]
["Архангельский муниципальный район","Архангельский муниципальный район","80603000","муниципальный район",17630,"Кармаскалинский муниципальный район","MO_LIST_41"]
["Архангельский муниципальный район","Архангельский сельский совет","80603410","сельское поселение",6027,"Кигинский муниципальный район","MO_LIST_42"]
["Архангельский муниципальный район","Бакалдинский сельский совет","80603416","сельское поселение",1720,"Краснокамский муниципальный район","MO_LIST_43"]
["Архангельский муниципальный район","Инзерский сельский совет","80603419","сельское поселение",1112,"Кугарчинский муниципальный район","MO_LIST_44"]
["Архангельский муниципальный район","Ирныкшинский сельский совет","80603422","сельское поселение",514,"Кушнаренковский муниципальный район","MO_LIST_45"]
["Архангельский муниципальный район","Краснозилимский сельский совет","80603425","сельское поселение",1200,"Куюргазинский муниципальный район","MO_LIST_46"]
["Архангельский муниципальный район","Краснокуртовский сельский совет","80603428","сельское поселение",349,"Мелеузовский муниципальный район","MO_LIST_47"]
["Архангельский муниципальный район","Липовский сельский совет","80603434","сельское поселение",1272,"Мечетлинский муниципальный район","MO_LIST_48"]
["Архангельский муниципальный район","Орловский сельский совет","80603440","сельское поселение",406,"Мишкинский муниципальный район","MO_LIST_49"]
["Архангельский муниципальный район","Тавакачевский сельский совет","80603446","сельское поселение",996,"Миякинский муниципальный район","MO_LIST_50"]
["Архангельский муниципальный район","Узунларовский сельский совет","80603450","сельское поселение",1074,"Нуримановский муниципальный район","MO_LIST_51"]
["Аскинский муниципальный район","Арбашевский сельский совет","80604402","сельское поселение",355,"Салаватский муниципальный район","MO_LIST_52"]
["Аскинский муниципальный район","Аскинский муниципальный район","80604000","муниципальный район",18867,"Стерлибашевский муниципальный район","MO_LIST_53"]
["Аскинский муниципальный район","Аскинский сельский совет","80604404","сельское поселение",8093,"Стерлитамакский муниципальный район","MO_LIST_54"]
["Аскинский муниципальный район","Евбулякский сельский совет","80604413","сельское поселение",729,"Татышлинский муниципальный район","MO_LIST_55"]
["Аскинский муниципальный район","Казанчинский сельский совет","80604416","сельское поселение",954,"Туймазинский муниципальный район","MO_LIST_56"]
["Аскинский муниципальный район","Карткисяковский сельский совет","80604418","сельское поселение",421,"Уфимский муниципальный район","MO_LIST_57"]
["Аскинский муниципальный район","Кашкинский сельский совет","80604419","сельское поселение",1443,"Учалинский муниципальный район","MO_LIST_58"]
["Аскинский муниципальный район","Ключевский сельский совет","80604425","сельское поселение",336,"Федоровский муниципальный район","MO_LIST_59"]
["Аскинский муниципальный район","Кубиязовский сельский совет","80604428","сельское поселение",1343,"Хайбуллинский муниципальный район","MO_LIST_60"]
["Аскинский муниципальный район","Кунгаковский сельский совет","80604431","сельское поселение",527,"Чекмагушевский муниципальный район","MO_LIST_61"]
["Аскинский муниципальный район","Кшлау-Елгинский сельский совет","80604437","сельское поселение",1057,"Чишминский муниципальный район","MO_LIST_62"]
["Аскинский муниципальный район","Мутабашевский сельский совет","80604440","сельское поселение",458,"Шаранский муниципальный район","MO_LIST_63"]
["Аскинский муниципальный район","Петропавловский сельский совет","80604442","сельское поселение",839,"Янаульский муниципальный район","MO_LIST_64"]
["Аскинский муниципальный район","Султанбековский сельский совет","80604443","сельское поселение",640]
["Аскинский муниципальный район","Урмиязовский сельский совет","80604446","сельское поселение",1230]
["Аскинский муниципальный район","Усть-Табасский сельский совет","80604450","сельское поселение",442]
["Аургазинский муниципальный район","Аургазинский муниципальный район","80605000","муниципальный район",33358]
["Аургазинский муниципальный район","Балыклыкульский сельский совет","80605402","сельское поселение",1103]
["Аургазинский муниципальный район","Батыровский сельский совет","80605404","сельское поселение",1984]
["Аургазинский муниципальный район","Бишкаинский сельский совет","80605407","сельское поселение",1095]
["Аургазинский муниципальный район","Ибраевский сельский совет","80605410","сельское поселение",1172]
["Аургазинский муниципальный район","Исмагиловский сельский совет","80605413","сельское поселение",1048]
["Аургазинский муниципальный район","Ишлинский сельский совет","80605416","сельское поселение",1336]
["Аургазинский муниципальный район","Кебячевский сельский совет","80605419","сельское поселение",669]
["Аургазинский муниципальный район","Меселинский сельский совет","80605422","сельское поселение",1200]
["Аургазинский муниципальный район","Михайловский сельский совет","80605425","сельское поселение",949]
["Аургазинский муниципальный район","Нагадакский сельский совет","80605428","сельское поселение",1398]
["Аургазинский муниципальный район","Новокальчировский сельский совет","80605431","сельское поселение",1299]
["Аургазинский муниципальный район","Семенкинский сельский совет","80605434","сельское поселение",2349]
["Аургазинский муниципальный район","Степановский сельский совет","80605437","сельское поселение",844]
["Аургазинский муниципальный район","Султанмуратовский сельский совет","80605440","сельское поселение",762]
["Аургазинский муниципальный район","Таштамакский сельский совет","80605443","сельское поселение",898]
["Аургазинский муниципальный район","Толбазинский сельский совет","80605446","сельское поселение",10572]
["Аургазинский муниципальный район","Тряпинский сельский совет","80605449","сельское поселение",846]
["Аургазинский муниципальный район","Тукаевский сельский совет","80605452","сельское поселение",1306]
["Аургазинский муниципальный район","Турумбетовский сельский совет","80605458","сельское поселение",783]
["Аургазинский муниципальный район","Уршакский сельский совет","80605461","сельское поселение",856]
["Аургазинский муниципальный район","Чуваш-Карамалинский сельский совет","80605472","сельское поселение",889]
["Баймакский муниципальный район","1-й Иткуловский сельский совет","80606416","сельское поселение",1332]
["Баймакский муниципальный район","Абдулкаримовский сельский совет","80606404","сельское поселение",802]
["Баймакский муниципальный район","Акмурунский сельский совет","80606407","сельское поселение",2929]
["Баймакский муниципальный район","Баймакский муниципальный район","80606000","муниципальный район",57043]
["Баймакский муниципальный район","Бекешевский сельский совет","80606409","сельское поселение",1457]
["Баймакский муниципальный район","Биляловский сельский совет","80606410","сельское поселение",1730]
["Баймакский муниципальный район","Город Баймак","80606101","городское поселение, в состав которого входит город",17529]
["Баймакский муниципальный район","Зилаирский сельский совет","80606413","сельское поселение",3415]
["Баймакский муниципальный район","Ишбердинский сельский совет","80606428","сельское поселение",1086]
["Баймакский муниципальный район","Ишмурзинский сельский совет","80606422","сельское поселение",1031]
["Баймакский муниципальный район","Ишмухаметовский сельский совет","80606425","сельское поселение",1108]
["Баймакский муниципальный район","Кульчуровский сельский совет","80606437","сельское поселение",1698]
["Баймакский муниципальный район","Кусеевский сельский совет","80606431","сельское поселение",892]
["Баймакский муниципальный район","Мерясовский сельский совет","80606438","сельское поселение",710]
["Баймакский муниципальный район","Мукасовский сельский совет","80606434","сельское поселение",2289]
["Баймакский муниципальный район","Нигаматовский сельский совет","80606440","сельское поселение",3044]
["Баймакский муниципальный район","Семеновский сельский совет","80606442","сельское поселение",360]
["Баймакский муниципальный район","Сибайский сельский совет","80606443","сельское поселение",3235]
["Баймакский муниципальный район","Тавлыкаевский сельский совет","80606446","сельское поселение",1816]
["Баймакский муниципальный район","Татлыбаевский сельский совет","80606449","сельское поселение",1390]
["Баймакский муниципальный район","Темясовский сельский совет","80606452","сельское поселение",5455]
["Баймакский муниципальный район","Тубинский сельский совет","80606453","сельское поселение",1229]
["Баймакский муниципальный район","Юмашевский сельский совет","80606455","сельское поселение",1450]
["Баймакский муниципальный район","Яратовский сельский совет","80606459","сельское поселение",1056]
["Бакалинский муниципальный район","Ахмановский сельский совет","80607404","сельское поселение",820]
["Бакалинский муниципальный район","Бакалинский муниципальный район","80607000","муниципальный район",26496]
["Бакалинский муниципальный район","Бакалинский сельский совет","80607407","сельское поселение",11848]
["Бакалинский муниципальный район","Бузюровский сельский совет","80607413","сельское поселение",666]
["Бакалинский муниципальный район","Дияшевский сельский совет","80607419","сельское поселение",1291]
["Бакалинский муниципальный район","Камышлытамакский сельский совет","80607425","сельское поселение",739]
["Бакалинский муниципальный район","Килеевский сельский совет","80607428","сельское поселение",1434]
["Бакалинский муниципальный район","Куштиряковский сельский совет","80607431","сельское поселение",546]
["Бакалинский муниципальный район","Михайловский сельский совет","80607410","сельское поселение",723]
["Бакалинский муниципальный район","Мустафинский сельский совет","80607434","сельское поселение",879]
["Бакалинский муниципальный район","Новокатаевский сельский совет","80607440","сельское поселение",844]
["Бакалинский муниципальный район","Новоурсаевский сельский совет","80607446","сельское поселение",674]
["Бакалинский муниципальный район","Старокостеевский сельский совет","80607451","сельское поселение",692]
["Бакалинский муниципальный район","Старокуручевский сельский совет","80607449","сельское поселение",2332]
["Бакалинский муниципальный район","Староматинский сельский совет","80607455","сельское поселение",1323]
["Бакалинский муниципальный район","Старошарашлинский сельский совет","80607458","сельское поселение",587]
["Бакалинский муниципальный район","Тактагуловский сельский совет","80607461","сельское поселение",448]
["Бакалинский муниципальный район","Урманаевский сельский совет","80607464","сельское поселение",650]
["Балтачевский муниципальный район","Балтачевский муниципальный район","80608000","муниципальный район",18981]
["Балтачевский муниципальный район","Богдановский сельский совет","80608404","сельское поселение",770]
["Балтачевский муниципальный район","Верхнеянактаевский сельский совет","80608407","сельское поселение",761]
["Балтачевский муниципальный район","Кундашлинский сельский совет","80608413","сельское поселение",666]
["Балтачевский муниципальный район","Кунтугушевский сельский совет","80608416","сельское поселение",1123]
["Балтачевский муниципальный район","Нижнекарышевский сельский совет","80608419","сельское поселение",1290]
["Балтачевский муниципальный район","Нижнесикиязовский сельский совет","80608422","сельское поселение",1087]
["Балтачевский муниципальный район","Норкинский сельский совет","80608425","сельское поселение",603]
["Балтачевский муниципальный район","Сейтяковский сельский совет","80608428","сельское поселение",884]
["Балтачевский муниципальный район","Старобалтачевский сельский совет","80608431","сельское поселение",6967]
["Балтачевский муниципальный район","Староянбаевский сельский совет","80608434","сельское поселение",937]
["Балтачевский муниципальный район","Тошкуровский сельский совет","80608437","сельское поселение",1185]
["Балтачевский муниципальный район","Тучубаевский сельский совет","80608440","сельское поселение",805]
["Балтачевский муниципальный район","Шавьядинский сельский совет","80608441","сельское поселение",549]
["Балтачевский муниципальный район","Штандинский сельский совет","80608443","сельское поселение",887]
["Балтачевский муниципальный район","Ялангачевский сельский совет","80608448","сельское поселение",467]
["Белебеевский муниципальный район","Аксаковский сельский совет","80609401","сельское поселение",3853]
["Белебеевский муниципальный район","Анновский сельский совет","80609413","сельское поселение",841]
["Белебеевский муниципальный район","Баженовский сельский совет","80609402","сельское поселение",1145]
["Белебеевский муниципальный район","Белебеевский муниципальный район","80609000","муниципальный район",97459]
["Белебеевский муниципальный район","Город Белебей","80609101","городское поселение, в состав которого входит город",59123]
["Белебеевский муниципальный район","Донской сельский совет","80609404","сельское поселение",734]
["Белебеевский муниципальный район","Ермолкинский сельский совет","80609407","сельское поселение",1332]
["Белебеевский муниципальный район","Знаменский сельский совет","80609410","сельское поселение",2107]
["Белебеевский муниципальный район","Максим-Горьковский сельский совет","80609416","сельское поселение",1788]
["Белебеевский муниципальный район","Малиновский сельский совет","80609419","сельское поселение",984]
["Белебеевский муниципальный район","Метевбашевский сельский совет","80609425","сельское поселение",917]
["Белебеевский муниципальный район","Приютовский поссовет","80609165","городское поселение, в состав которого входит поселок",19653]
["Белебеевский муниципальный район","Рассветовский сельский совет","80609428","сельское поселение",1028]
["Белебеевский муниципальный район","Семенкинский сельский совет","80609431","сельское поселение",673]
["Белебеевский муниципальный район","Слакбашевский сельский совет","80609434","сельское поселение",595]
["Белебеевский муниципальный район","Тузлукушевский сельский совет","80609437","сельское поселение",639]
["Белебеевский муниципальный район","Усень-Ивановский сельский совет","80609440","сельское поселение",1167]
["Белебеевский муниципальный район","Шаровский сельский совет","80609443","сельское поселение",880]
["Белокатайский муниципальный район","Атаршинский сельский совет","80610402","сельское поселение",612]
["Белокатайский муниципальный район","Белокатайский муниципальный район","80610000","муниципальный район",18389]
["Белокатайский муниципальный район","Белянковский сельский совет","80610404","сельское поселение",1532]
["Белокатайский муниципальный район","Емашинский сельский совет","80610407","сельское поселение",983]
["Белокатайский муниципальный район","Карлыхановский сельский совет","80610413","сельское поселение",1492]
["Белокатайский муниципальный район","Майгазинский сельский совет","80610416","сельское поселение",856]
["Белокатайский муниципальный район","Нижнеискушинский сельский совет","80610419","сельское поселение",554]
["Белокатайский муниципальный район","Новобелокатайский сельский совет","80610422","сельское поселение",6255]
["Белокатайский муниципальный район","Ногушинский сельский совет","80610425","сельское поселение",571]
["Белокатайский муниципальный район","Старобелокатайский сельский совет","80610428","сельское поселение",1006]
["Белокатайский муниципальный район","Тардавский сельский совет","80610431","сельское поселение",351]
["Белокатайский муниципальный район","Ургалинский сельский совет","80610434","сельское поселение",2223]
["Белокатайский муниципальный район","Утяшевский сельский совет","80610437","сельское поселение",902]
["Белокатайский муниципальный район","Яныбаевский сельский совет","80610440","сельское поселение",1052]
["Белорецкий муниципальный район","Абзаковский сельский совет","80611404","сельское поселение",2037]
["Белорецкий муниципальный район","Азикеевский сельский совет","80611407","сельское поселение",1975]
["Белорецкий муниципальный район","Ассинский сельский совет","80611410","сельское поселение",1735]
["Белорецкий муниципальный район","Белорецкий муниципальный район","80611000","муниципальный район",102143]
["Белорецкий муниципальный район","Верхнеавзянский сельский совет","80611415","сельское поселение",1963]
["Белорецкий муниципальный район","Город Белорецк","80611101","городское поселение, в состав которого входит город",65801]
["Белорецкий муниципальный район","Железнодорожный сельский совет","80611418","сельское поселение",2955]
["Белорецкий муниципальный район","Зигазинский сельский совет","80611416","сельское поселение",741]
["Белорецкий муниципальный район","Зуяковский сельский совет","80611417","сельское поселение",1311]
["Белорецкий муниципальный район","Инзерский сельский совет","80611420","сельское поселение",5971]
["Белорецкий муниципальный район","Ишлинский сельский совет","80611422","сельское поселение",894]
["Белорецкий муниципальный район","Кагинский сельский совет","80611425","сельское поселение",809]
["Белорецкий муниципальный район","Ломовский сельский совет","80611427","сельское поселение",2581]
["Белорецкий муниципальный район","Николаевский сельский совет","80611434","сельское поселение",758]
["Белорецкий муниципальный район","Нурский сельский совет","80611440","сельское поселение",342]
["Белорецкий муниципальный район","Серменевский сельский совет","80611443","сельское поселение",2377]
["Белорецкий муниципальный район","Сосновский сельский совет","80611446","сельское поселение",1230]
["Белорецкий муниципальный район","Тирлянский сельский совет","80611448","сельское поселение",4062]
["Белорецкий муниципальный район","Туканский сельский совет","80611449","сельское поселение",1191]
["Белорецкий муниципальный район","Узянский сельский совет","80611452","сельское поселение",1412]
["Белорецкий муниципальный район","Шигаевский сельский совет","80611455","сельское поселение",1998]
["Бижбулякский муниципальный район","Аитовский сельский совет","80612404","сельское поселение",1332]
["Бижбулякский муниципальный район","Базлыкский сельский совет","80612407","сельское поселение",1350]
["Бижбулякский муниципальный район","Бижбулякский муниципальный район","80612000","муниципальный район",22984]
["Бижбулякский муниципальный район","Бижбулякский сельский совет","80612410","сельское поселение",7677]
["Бижбулякский муниципальный район","Биккуловский сельский совет","80612413","сельское поселение",837]
["Бижбулякский муниципальный район","Демский сельский совет","80612416","сельское поселение",2185]
["Бижбулякский муниципальный район","Елбулактамакский сельский совет","80612419","сельское поселение",799]
["Бижбулякский муниципальный район","Зириклинский сельский совет","80612422","сельское поселение",1038]
["Бижбулякский муниципальный район","Калининский сельский совет","80612425","сельское поселение",1359]
["Бижбулякский муниципальный район","Каменский сельский совет","80612428","сельское поселение",467]
["Бижбулякский муниципальный район","Кенгер-Менеузовский сельский совет","80612431","сельское поселение",1928]
["Бижбулякский муниципальный район","Кош-Елгинский сельский совет","80612440","сельское поселение",1053]
["Бижбулякский муниципальный район","Михайловский сельский совет","80612442","сельское поселение",1779]
["Бижбулякский муниципальный район","Сухореченский сельский совет","80612443","сельское поселение",1180]
["Бирский муниципальный район","Бахтыбаевский сельский совет","80613407","сельское поселение",2094]
["Бирский муниципальный район","Березовский сельский совет","80613409","сельское поселение",1057]
["Бирский муниципальный район","Бирский муниципальный район","80613000","муниципальный район",64690]
["Бирский муниципальный район","Бурновский сельский совет","80613408","сельское поселение",1770]
["Бирский муниципальный район","Верхнелачентауский сельский совет","80613410","сельское поселение",588]
["Бирский муниципальный район","Город Бирск","80613101","городское поселение, в состав которого входит город",48235]
["Бирский муниципальный район","Калинниковский сельский совет","80613416","сельское поселение",1374]
["Бирский муниципальный район","Кусекеевский сельский совет","80613419","сельское поселение",1221]
["Бирский муниципальный район","Маядыковский сельский совет","80613422","сельское поселение",897]
["Бирский муниципальный район","Осиновский сельский совет","80613425","сельское поселение",1030]
["Бирский муниципальный район","Силантьевский сельский совет","80613431","сельское поселение",972]
["Бирский муниципальный район","Старобазановский сельский совет","80613434","сельское поселение",1254]
["Бирский муниципальный район","Старопетровский сельский совет","80613437","сельское поселение",1295]
["Бирский муниципальный район","Сусловский сельский совет","80613440","сельское поселение",1420]
["Бирский муниципальный район","Угузевский сельский совет","80613443","сельское поселение",383]
["Бирский муниципальный район","Чишминский сельский совет","80613446","сельское поселение",1100]
["Благоварский муниципальный район","Алексеевский сельский совет","80614404","сельское поселение",1795]
["Благоварский муниципальный район","Балышлинский сельский совет","80614407","сельское поселение",1039]
["Благоварский муниципальный район","Благоварский муниципальный район","80614000","муниципальный район",25423]
["Благоварский муниципальный район","Благоварский сельский совет","80614410","сельское поселение",2467]
["Благоварский муниципальный район","Дмитриевский сельский совет","80614413","сельское поселение",468]
["Благоварский муниципальный район","Каргалинский сельский совет","80614416","сельское поселение",710]
["Благоварский муниципальный район","Кашкалашинский сельский совет","80614419","сельское поселение",1101]
["Благоварский муниципальный район","Кучербаевский сельский совет","80614422","сельское поселение",2508]
["Благоварский муниципальный район","Мирновский сельский совет","80614423","сельское поселение",1263]
["Благоварский муниципальный район","Первомайский сельский совет","80614424","сельское поселение",1286]
["Благоварский муниципальный район","Тановский сельский совет","80614428","сельское поселение",1326]
["Благоварский муниципальный район","Троицкий сельский совет","80614431","сельское поселение",553]
["Благоварский муниципальный район","Удрякбашевский сельский совет","80614434","сельское поселение",887]
["Благоварский муниципальный район","Языковский сельский совет","80614437","сельское поселение",8546]
["Благоварский муниципальный район","Ямакаевский сельский совет","80614440","сельское поселение",560]
["Благоварский муниципальный район","Янышевский сельский совет","80614443","сельское поселение",914]
["Благовещенский муниципальный район","Бедеево-Полянский сельский совет","80615404","сельское поселение",2280]
["Благовещенский муниципальный район","Благовещенский муниципальный район","80615000","муниципальный район",49380]
["Благовещенский муниципальный район","Богородский сельский совет","80615407","сельское поселение",451]
["Благовещенский муниципальный район","Волковский сельский совет","80615413","сельское поселение",355]
["Благовещенский муниципальный район","Город Благовещенск","80615101","городское поселение, в состав которого входит город",34955]
["Благовещенский муниципальный район","Изяковский сельский совет","80615419","сельское поселение",1092]
["Благовещенский муниципальный район","Иликовский сельский совет","80615422","сельское поселение",489]
["Благовещенский муниципальный район","Ильино-Полянский сельский совет","80615425","сельское поселение",2791]
["Благовещенский муниципальный район","Николаевский сельский совет","80615428","сельское поселение",1036]
["Благовещенский муниципальный район","Новонадеждинский сельский совет","80615431","сельское поселение",1247]
["Благовещенский муниципальный район","Октябрьский сельский совет","80615434","сельское поселение",654]
["Благовещенский муниципальный район","Орловский сельский совет","80615437","сельское поселение",391]
["Благовещенский муниципальный район","Покровский сельский совет","80615440","сельское поселение",575]
["Благовещенский муниципальный район","Саннинский сельский совет","80615443","сельское поселение",466]
["Благовещенский муниципальный район","Старонадеждинский сельский совет","80615449","сельское поселение",965]
["Благовещенский муниципальный район","Тугайский сельский совет","80615453","сельское поселение",611]
["Благовещенский муниципальный район","Удельно-Дуванейский сельский совет","80615461","сельское поселение",1022]
["Буздякский муниципальный район","Арслановский сельский совет","80617404","сельское поселение",1860]
["Буздякский муниципальный район","Буздякский муниципальный район","80617000","муниципальный район",27337]
["Буздякский муниципальный район","Буздякский сельский совет","80617407","сельское поселение",11128]
["Буздякский муниципальный район","Гафурийский сельский совет","80617410","сельское поселение",2060]
["Буздякский муниципальный район","Канлы-Туркеевский сельский совет","80617413","сельское поселение",1192]
["Буздякский муниципальный район","Каранский сельский совет","80617416","сельское поселение",1706]
["Буздякский муниципальный район","Килимовский сельский совет","80617419","сельское поселение",1108]
["Буздякский муниципальный район","Копей-Кубовский сельский совет","80617422","сельское поселение",1663]
["Буздякский муниципальный район","Кузеевский сельский совет","80617425","сельское поселение",1029]
["Буздякский муниципальный район","Сабаевский сельский совет","80617431","сельское поселение",1186]
["Буздякский муниципальный район","Тавларовский сельский совет","80617437","сельское поселение",1507]
["Буздякский муниципальный район","Тюрюшевский сельский совет","80617440","сельское поселение",1346]
["Буздякский муниципальный район","Уртакульский сельский совет","80617446","сельское поселение",1552]
["Бураевский муниципальный район","Азяковский сельский совет","80618404","сельское поселение",1085]
["Бураевский муниципальный район","Бадраковский сельский совет","80618407","сельское поселение",1646]
["Бураевский муниципальный район","Бураевский муниципальный район","80618000","муниципальный район",22146]
["Бураевский муниципальный район","Бураевский сельский совет","80618413","сельское поселение",10227]
["Бураевский муниципальный район","Ванышевский сельский совет","80618416","сельское поселение",1113]
["Бураевский муниципальный район","Вострецовский сельский совет","80618419","сельское поселение",1006]
["Бураевский муниципальный район","Каинлыковский сельский совет","80618422","сельское поселение",1131]
["Бураевский муниципальный район","Кашкалевский сельский совет","80618425","сельское поселение",949]
["Бураевский муниципальный район","Кузбаевский сельский совет","80618431","сельское поселение",663]
["Бураевский муниципальный район","Кушманаковский сельский совет","80618428","сельское поселение",1084]
["Бураевский муниципальный район","Тазларовский сельский совет","80618437","сельское поселение",1422]
["Бураевский муниципальный район","Тангатаровский сельский совет","80618440","сельское поселение",511]
["Бураевский муниципальный район","Тепляковский сельский совет","80618443","сельское поселение",509]
["Бураевский муниципальный район","Челкаковский сельский совет","80618446","сельское поселение",800]
["Бурзянский муниципальный район","Аскаровский сельский совет","80619404","сельское поселение",1245]
["Бурзянский муниципальный район","Атиковский сельский совет","80619407","сельское поселение",471]
["Бурзянский муниципальный район","Байгазинский сельский совет","80619409","сельское поселение",755]
["Бурзянский муниципальный район","Байназаровский сельский совет","80619410","сельское поселение",2756]
["Бурзянский муниципальный район","Бурзянский муниципальный район","80619000","муниципальный район",16559]
["Бурзянский муниципальный район","Галиакберовский сельский совет","80619413","сельское поселение",494]
["Бурзянский муниципальный район","Иргизлинский сельский совет","80619416","сельское поселение",775]
["Бурзянский муниципальный район","Киекбаевский сельский совет","80619419","сельское поселение",820]
["Бурзянский муниципальный район","Кипчакский сельский совет","80619420","сельское поселение",1088]
["Бурзянский муниципальный район","Кулганинский сельский совет","80619440","сельское поселение",416]
["Бурзянский муниципальный район","Старомунасиповский сельский совет","80619422","сельское поселение",1346]
["Бурзянский муниципальный район","Старосубхангуловский сельский совет","80619425","сельское поселение",5938]
["Бурзянский муниципальный район","Тимировский сельский совет","80619430","сельское поселение",455]
["Гафурийский муниципальный район","Белоозерский сельский совет","80621407","сельское поселение",2835]
["Гафурийский муниципальный район","Бельский сельский совет","80621410","сельское поселение",762]
["Гафурийский муниципальный район","Бурлинский сельский совет","80621413","сельское поселение",1375]
["Гафурийский муниципальный район","Буруновский сельский совет","80621414","сельское поселение",448]
["Гафурийский муниципальный район","Гафурийский муниципальный район","80621000","муниципальный район",31364]
["Гафурийский муниципальный район","Зилим-Карановский сельский совет","80621416","сельское поселение",1575]
["Гафурийский муниципальный район","Имендяшевский сельский совет","80621419","сельское поселение",1162]
["Гафурийский муниципальный район","Ковардинский сельский совет","80621422","сельское поселение",1491]
["Гафурийский муниципальный район","Красноусольский сельский совет","80621423","сельское поселение",12929]
["Гафурийский муниципальный район","Мраковский сельский совет","80621425","сельское поселение",673]
["Гафурийский муниципальный район","Саитбабинский сельский совет","80621428","сельское поселение",2348]
["Гафурийский муниципальный район","Табынский сельский совет","80621431","сельское поселение",2713]
["Гафурийский муниципальный район","Ташбукановский сельский совет","80621434","сельское поселение",490]
["Гафурийский муниципальный район","Ташлинский сельский совет","80621437","сельское поселение",608]
["Гафурийский муниципальный район","Толпаровский сельский совет","80621440","сельское поселение",238]
["Гафурийский муниципальный район","Утяковский сельский совет","80621443","сельское поселение",828]
["Гафурийский муниципальный район","Янгискаинский сельский совет","80621446","сельское поселение",889]
["Город Агидель","Город Агидель","80703000","городской округ",15281]
["Город Кумертау","Город Кумертау","80723000","городской округ",64763]
["Город Нефтекамск","Город Нефтекамск","80727000","городской округ",138314]
["Город Октябрьский","Город Октябрьский","80735000","городской округ",113929]
["Город Салават","Город Салават","80739000","городской округ",153181]
["Город Сибай","Город Сибай","80743000","городской округ",62067]
["Город Стерлитамак","Город Стерлитамак","80745000","городской округ",280233]
["Город Уфа","Город Уфа","80701000","городской округ",1126098]
["Давлекановский муниципальный район","Алгинский сельский совет","80622404","сельское поселение",1573]
["Давлекановский муниципальный район","Бик-Кармалинский сельский совет","80622410","сельское поселение",983]
["Давлекановский муниципальный район","Город Давлеканово","80622101","городское поселение, в состав которого входит город",23774]
["Давлекановский муниципальный район","Давлекановский муниципальный район","80622000","муниципальный район",40162]
["Давлекановский муниципальный район","Ивановский сельский совет","80622413","сельское поселение",635]
["Давлекановский муниципальный район","Имай-Кармалинский сельский совет","80622416","сельское поселение",1305]
["Давлекановский муниципальный район","Кадыргуловский сельский совет","80622419","сельское поселение",1123]
["Давлекановский муниципальный район","Казангуловский сельский совет","80622422","сельское поселение",1100]
["Давлекановский муниципальный район","Кидрячевский сельский совет","80622425","сельское поселение",1060]
["Давлекановский муниципальный район","Курманкеевский сельский совет","80622428","сельское поселение",758]
["Давлекановский муниципальный район","Микяшевский сельский совет","80622431","сельское поселение",921]
["Давлекановский муниципальный район","Поляковский сельский совет","80622434","сельское поселение",1787]
["Давлекановский муниципальный район","Раевский сельский совет","80622437","сельское поселение",570]
["Давлекановский муниципальный район","Рассветовский сельский совет","80622440","сельское поселение",1348]
["Давлекановский муниципальный район","Сергиопольский сельский совет","80622443","сельское поселение",889]
["Давлекановский муниципальный район","Соколовский сельский совет","80622444","сельское поселение",616]
["Давлекановский муниципальный район","Чуюнчинский сельский совет","80622446","сельское поселение",1097]
["Давлекановский муниципальный район","Шестаевский сельский совет","80622449","сельское поселение",623]
["Дуванский муниципальный район","Ариевский сельский совет","80623404","сельское поселение",1298]
["Дуванский муниципальный район","Вознесенский сельский совет","80623406","сельское поселение",2208]
["Дуванский муниципальный район","Дуванский муниципальный район","80623000","муниципальный район",30930]
["Дуванский муниципальный район","Дуванский сельский совет","80623407","сельское поселение",4063]
["Дуванский муниципальный район","Заимкинский сельский совет","80623413","сельское поселение",519]
["Дуванский муниципальный район","Лемазинский сельский совет","80623419","сельское поселение",498]
["Дуванский муниципальный район","Месягутовский сельский совет","80623422","сельское поселение",13056]
["Дуванский муниципальный район","Метелинский сельский совет","80623425","сельское поселение",1054]
["Дуванский муниципальный район","Михайловский сельский совет","80623428","сельское поселение",1242]
["Дуванский муниципальный район","Рухтинский сельский совет","80623431","сельское поселение",1390]
["Дуванский муниципальный район","Сальевский сельский совет","80623433","сельское поселение",786]
["Дуванский муниципальный район","Сикиязский сельский совет","80623434","сельское поселение",1440]
["Дуванский муниципальный район","Улькундинский сельский совет","80623440","сельское поселение",1196]
["Дуванский муниципальный район","Ярославский сельский совет","80623443","сельское поселение",2180]
["Дюртюлинский муниципальный район","Ангасякский сельский совет","80624404","сельское поселение",1900]
["Дюртюлинский муниципальный район","Асяновский сельский совет","80624407","сельское поселение",1639]
["Дюртюлинский муниципальный район","Город Дюртюли","80624101","городское поселение, в состав которого входит город",31243]
["Дюртюлинский муниципальный район","Дюртюлинский муниципальный район","80624000","муниципальный район",61051]
["Дюртюлинский муниципальный район","Исмаиловский сельский совет","80624410","сельское поселение",3019]
["Дюртюлинский муниципальный район","Куккуяновский сельский совет","80624413","сельское поселение",1324]
["Дюртюлинский муниципальный район","Маядыковский сельский совет","80624416","сельское поселение",2006]
["Дюртюлинский муниципальный район","Московский сельский совет","80624422","сельское поселение",2030]
["Дюртюлинский муниципальный район","Семилетовский сельский совет","80624430","сельское поселение",5342]
["Дюртюлинский муниципальный район","Старобаишевский сельский совет","80624431","сельское поселение",1197]
["Дюртюлинский муниципальный район","Староянтузовский сельский совет","80624434","сельское поселение",1982]
["Дюртюлинский муниципальный район","Суккуловский сельский совет","80624437","сельское поселение",1476]
["Дюртюлинский муниципальный район","Таймурзинский сельский совет","80624440","сельское поселение",807]
["Дюртюлинский муниципальный район","Такарликовский сельский совет","80624443","сельское поселение",4329]
["Дюртюлинский муниципальный район","Учпилинский сельский совет","80624447","сельское поселение",1606]
["Дюртюлинский муниципальный район","Черлаковский сельский совет","80624449","сельское поселение",1151]
["Ермекеевский муниципальный район","Бекетовский сельский совет","80625402","сельское поселение",1147]
["Ермекеевский муниципальный район","Восьмомартовский сельский совет","80625404","сельское поселение",981]
["Ермекеевский муниципальный район","Ермекеевский муниципальный район","80625000","муниципальный район",15737]
["Ермекеевский муниципальный район","Ермекеевский сельский совет","80625407","сельское поселение",4704]
["Ермекеевский муниципальный район","Кызыл-Ярский сельский совет","80625411","сельское поселение",581]
["Ермекеевский муниципальный район","Нижнеулу-Елгинский сельский совет","80625413","сельское поселение",705]
["Ермекеевский муниципальный район","Рятамакский сельский совет","80625416","сельское поселение",705]
["Ермекеевский муниципальный район","Спартакский сельский совет","80625422","сельское поселение",1096]
["Ермекеевский муниципальный район","Среднекарамалинский сельский совет","80625425","сельское поселение",635]
["Ермекеевский муниципальный район","Старосуллинский сельский совет","80625428","сельское поселение",630]
["Ермекеевский муниципальный район","Старотураевский сельский совет","80625431","сельское поселение",903]
["Ермекеевский муниципальный район","Суккуловский сельский совет","80625434","сельское поселение",1737]
["Ермекеевский муниципальный район","Тарказинский сельский совет","80625437","сельское поселение",1036]
["Ермекеевский муниципальный район","Усман-Ташлинский сельский совет","80625440","сельское поселение",877]
["ЗАТО город Межгорье","ЗАТО город Межгорье","80707000","городской округ",15861]
["Зианчуринский муниципальный район","Абзановский сельский совет","80626404","сельское поселение",1867]
["Зианчуринский муниципальный район","Абуляисовский сельский совет","80626405","сельское поселение",570]
["Зианчуринский муниципальный район","Баишевский сельский совет","80626406","сельское поселение",1162]
["Зианчуринский муниципальный район","Байдавлетовский сельский совет","80626407","сельское поселение",966]
["Зианчуринский муниципальный район","Бикбауский сельский совет","80626410","сельское поселение",820]
["Зианчуринский муниципальный район","Зианчуринский муниципальный район","80626000","муниципальный район",25582]
["Зианчуринский муниципальный район","Исянгуловский сельский совет","80626416","сельское поселение",8485]
["Зианчуринский муниципальный район","Казанбулакский сельский совет","80626419","сельское поселение",1403]
["Зианчуринский муниципальный район","Муйнакский сельский совет","80626422","сельское поселение",1405]
["Зианчуринский муниципальный район","Новопетровский сельский совет","80626425","сельское поселение",1407]
["Зианчуринский муниципальный район","Новочебенкинский сельский совет","80626428","сельское поселение",1678]
["Зианчуринский муниципальный район","Сакмарский сельский совет","80626431","сельское поселение",663]
["Зианчуринский муниципальный район","Суренский сельский совет","80626434","сельское поселение",1313]
["Зианчуринский муниципальный район","Тазларовский сельский совет","80626437","сельское поселение",1293]
["Зианчуринский муниципальный район","Утягуловский сельский совет","80626440","сельское поселение",1207]
["Зианчуринский муниципальный район","Яныбаевский сельский совет","80626443","сельское поселение",1343]
["Зилаирский муниципальный район","Бердяшский сельский совет","80627404","сельское поселение",528]
["Зилаирский муниципальный район","Верхнегалеевский сельский совет","80627410","сельское поселение",512]
["Зилаирский муниципальный район","Дмитриевский сельский совет","80627413","сельское поселение",529]
["Зилаирский муниципальный район","Зилаирский муниципальный район","80627000","муниципальный район",14923]
["Зилаирский муниципальный район","Зилаирский сельский совет","80627416","сельское поселение",5580]
["Зилаирский муниципальный район","Ивано-Кувалатский сельский совет","80627419","сельское поселение",460]
["Зилаирский муниципальный район","Кананикольский сельский совет","80627421","сельское поселение",803]
["Зилаирский муниципальный район","Канзафаровский сельский совет","80627422","сельское поселение",565]
["Зилаирский муниципальный район","Кашкаровский сельский совет","80627423","сельское поселение",725]
["Зилаирский муниципальный район","Матраевский сельский совет","80627425","сельское поселение",1360]
["Зилаирский муниципальный район","Сабыровский сельский совет","80627432","сельское поселение",723]
["Зилаирский муниципальный район","Уркасский сельский совет","80627434","сельское поселение",286]
["Зилаирский муниципальный район","Юлдыбаевский сельский совет","80627436","сельское поселение",2005]
["Зилаирский муниципальный район","Ямансазский сельский совет","80627442","сельское поселение",847]
["Иглинский муниципальный район","Акбердинский сельский совет","80628403","сельское поселение",2964]
["Иглинский муниципальный район","Ауструмский сельский совет","80628405","сельское поселение",1120]
["Иглинский муниципальный район","Балтийский сельский совет","80628410","сельское поселение",1552]
["Иглинский муниципальный район","Ивано-Казанский сельский совет","80628415","сельское поселение",807]
["Иглинский муниципальный район","Иглинский муниципальный район","80628000","муниципальный район",60777]
["Иглинский муниципальный район","Иглинский сельский совет","80628416","сельское поселение",26876]
["Иглинский муниципальный район","Калтымановский сельский совет","80628420","сельское поселение",2752]
["Иглинский муниципальный район","Кальтовский сельский совет","80628425","сельское поселение",1270]
["Иглинский муниципальный район","Красновосходский сельский совет","80628430","сельское поселение",2263]
["Иглинский муниципальный район","Кудеевский сельский совет","80628432","сельское поселение",2996]
["Иглинский муниципальный район","Лемезинский сельский совет","80628435","сельское поселение",1133]
["Иглинский муниципальный район","Майский сельский совет","80628440","сельское поселение",462]
["Иглинский муниципальный район","Надеждинский сельский совет","80628445","сельское поселение",534]
["Иглинский муниципальный район","Охлебининский сельский совет","80628450","сельское поселение",1110]
["Иглинский муниципальный район","Тавтимановский сельский совет","80628455","сельское поселение",3023]
["Иглинский муниципальный район","Турбаслинский сельский совет","80628460","сельское поселение",791]
["Иглинский муниципальный район","Уктеевский сельский совет","80628470","сельское поселение",1705]
["Иглинский муниципальный район","Улу-Телякский сельский совет","80628472","сельское поселение",3427]
["Иглинский муниципальный район","Урманский сельский совет","80628474","сельское поселение",2690]
["Иглинский муниципальный район","Чуваш-Кубовский сельский совет","80628480","сельское поселение",3302]
["Илишевский муниципальный район","Аккузевский сельский совет","80630404","сельское поселение",735]
["Илишевский муниципальный район","Андреевский сельский совет","80630408","сельское поселение",1342]
["Илишевский муниципальный район","Базитамакский сельский совет","80630412","сельское поселение",1603]
["Илишевский муниципальный район","Бишкураевский сельский совет","80630416","сельское поселение",945]
["Илишевский муниципальный район","Дюмеевский сельский совет","80630424","сельское поселение",948]
["Илишевский муниципальный район","Игметовский сельский совет","80630426","сельское поселение",1019]
["Илишевский муниципальный район","Илишевский муниципальный район","80630000","муниципальный район",32244]
["Илишевский муниципальный район","Исаметовский сельский совет","80630428","сельское поселение",1007]
["Илишевский муниципальный район","Исанбаевский сельский совет","80630432","сельское поселение",813]
["Илишевский муниципальный район","Итеевский сельский совет","80630436","сельское поселение",938]
["Илишевский муниципальный район","Ишкаровский сельский совет","80630440","сельское поселение",1146]
["Илишевский муниципальный район","Кадыровский сельский совет","80630444","сельское поселение",982]
["Илишевский муниципальный район","Карабашевский сельский совет","80630448","сельское поселение",1293]
["Илишевский муниципальный район","Кужбахтинский сельский совет","80630452","сельское поселение",912]
["Илишевский муниципальный район","Новомедведевский сельский совет","80630456","сельское поселение",1189]
["Илишевский муниципальный район","Рсаевский сельский совет","80630460","сельское поселение",894]
["Илишевский муниципальный район","Старокуктовский сельский совет","80630464","сельское поселение",946]
["Илишевский муниципальный район","Сюльтинский сельский совет","80630468","сельское поселение",593]
["Илишевский муниципальный район","Урметовский сельский совет","80630472","сельское поселение",922]
["Илишевский муниципальный район","Черекулевский сельский совет","80630476","сельское поселение",978]
["Илишевский муниципальный район","Юнновский сельский совет","80630478","сельское поселение",2460]
["Илишевский муниципальный район","Ябалаковский сельский совет","80630480","сельское поселение",1195]
["Илишевский муниципальный район","Яркеевский сельский совет","80630484","сельское поселение",9384]
["Ишимбайский муниципальный район","Арметовский сельский совет","80631405","сельское поселение",780]
["Ишимбайский муниципальный район","Байгузинский сельский совет","80631415","сельское поселение",1798]
["Ишимбайский муниципальный район","Верхоторский сельский совет","80631425","сельское поселение",974]
["Ишимбайский муниципальный район","Город Ишимбай","80631101","городское поселение, в состав которого входит город",65422]
["Ишимбайский муниципальный район","Иткуловский сельский совет","80631430","сельское поселение",1648]
["Ишимбайский муниципальный район","Ишеевский сельский совет","80631435","сельское поселение",3281]
["Ишимбайский муниципальный район","Ишимбайский муниципальный район","80631000","муниципальный район",88092]
["Ишимбайский муниципальный район","Кузяновский сельский совет","80631440","сельское поселение",792]
["Ишимбайский муниципальный район","Кулгунинский сельский совет","80631445","сельское поселение",1063]
["Ишимбайский муниципальный район","Макаровский сельский совет","80631450","сельское поселение",1416]
["Ишимбайский муниципальный район","Петровский сельский совет","80631455","сельское поселение",4407]
["Ишимбайский муниципальный район","Сайрановский сельский совет","80631460","сельское поселение",2348]
["Ишимбайский муниципальный район","Скворчихинский сельский совет","80631470","сельское поселение",894]
["Ишимбайский муниципальный район","Урман-Бишкадакский сельский совет","80631475","сельское поселение",2436]
["Ишимбайский муниципальный район","Янурусовский сельский совет","80631480","сельское поселение",833]
["Калтасинский муниципальный район","Амзибашевский сельский совет","80633403","сельское поселение",651]
["Калтасинский муниципальный район","Большекачаковский сельский совет","80633405","сельское поселение",1253]
["Калтасинский муниципальный район","Калегинский сельский совет","80633415","сельское поселение",793]
["Калтасинский муниципальный район","Калмиябашевский сельский совет","80633420","сельское поселение",1013]
["Калтасинский муниципальный район","Калтасинский муниципальный район","80633000","муниципальный район",23613]
["Калтасинский муниципальный район","Калтасинский сельский совет","80633425","сельское поселение",5229]
["Калтасинский муниципальный район","Кельтеевский сельский совет","80633430","сельское поселение",2299]
["Калтасинский муниципальный район","Краснохолмский сельский совет","80633447","сельское поселение",9184]
["Калтасинский муниципальный район","Нижнекачмашевский сельский совет","80633445","сельское поселение",863]
["Калтасинский муниципальный район","Новокильбахтинский сельский совет","80633446","сельское поселение",722]
["Калтасинский муниципальный район","Старояшевский сельский совет","80633452","сельское поселение",727]
["Калтасинский муниципальный район","Тюльдинский сельский совет","80633450","сельское поселение",879]
["Караидельский муниципальный район","Артакульский сельский совет","80634404","сельское поселение",1034]
["Караидельский муниципальный район","Байкибашевский сельский совет","80634412","сельское поселение",1495]
["Караидельский муниципальный район","Байкинский сельский совет","80634416","сельское поселение",1512]
["Караидельский муниципальный район","Верхнесуянский сельский совет","80634424","сельское поселение",343]
["Караидельский муниципальный район","Караидельский муниципальный район","80634000","муниципальный район",25533]
["Караидельский муниципальный район","Караидельский сельский совет","80634432","сельское поселение",8200]
["Караидельский муниципальный район","Караярский сельский совет","80634436","сельское поселение",1624]
["Караидельский муниципальный район","Кирзинский сельский совет","80634440","сельское поселение",624]
["Караидельский муниципальный район","Куртлыкульский сельский совет","80634444","сельское поселение",630]
["Караидельский муниципальный район","Магинский сельский совет","80634445","сельское поселение",1510]
["Караидельский муниципальный район","Новобердяшский сельский совет","80634452","сельское поселение",1390]
["Караидельский муниципальный район","Новомуллакаевский сельский совет","80634456","сельское поселение",499]
["Караидельский муниципальный район","Озеркинский сельский совет","80634460","сельское поселение",797]
["Караидельский муниципальный район","Подлубовский сельский совет","80634464","сельское поселение",756]
["Караидельский муниципальный район","Староакбуляковский сельский совет","80634472","сельское поселение",1758]
["Караидельский муниципальный район","Ургушевский сельский совет","80634480","сельское поселение",1328]
["Караидельский муниципальный район","Урюш-Битуллинский сельский совет","80634484","сельское поселение",1140]
["Караидельский муниципальный район","Явгильдинский сельский совет","80634488","сельское поселение",893]
["Кармаскалинский муниципальный район","Адзитаровский сельский совет","80635405","сельское поселение",1008]
["Кармаскалинский муниципальный район","Бузовьязовский сельский совет","80635415","сельское поселение",1888]
["Кармаскалинский муниципальный район","Ефремкинский сельский совет","80635420","сельское поселение",2050]
["Кармаскалинский муниципальный район","Кабаковский сельский совет","80635423","сельское поселение",5505]
["Кармаскалинский муниципальный район","Камышлинский сельский совет","80635425","сельское поселение",1409]
["Кармаскалинский муниципальный район","Карламанский сельский совет","80635430","сельское поселение",5308]
["Кармаскалинский муниципальный район","Кармаскалинский муниципальный район","80635000","муниципальный район",50319]
["Кармаскалинский муниципальный район","Кармаскалинский сельский совет","80635435","сельское поселение",9772]
["Кармаскалинский муниципальный район","Николаевский сельский совет","80635440","сельское поселение",2733]
["Кармаскалинский муниципальный район","Новокиешкинский сельский совет","80635445","сельское поселение",2765]
["Кармаскалинский муниципальный район","Подлубовский сельский совет","80635450","сельское поселение",2992]
["Кармаскалинский муниципальный район","Прибельский сельский совет","80635451","сельское поселение",5027]
["Кармаскалинский муниципальный район","Савалеевский сельский совет","80635455","сельское поселение",2434]
["Кармаскалинский муниципальный район","Сахаевский сельский совет","80635475","сельское поселение",3170]
["Кармаскалинский муниципальный район","Старобабичевский сельский совет","80635465","сельское поселение",1034]
["Кармаскалинский муниципальный район","Старомусинский сельский совет","80635470","сельское поселение",1575]
["Кармаскалинский муниципальный район","Шаймуратовский сельский совет","80635480","сельское поселение",1649]
["Кигинский муниципальный район","Абзаевский сельский совет","80636405","сельское поселение",1118]
["Кигинский муниципальный район","Арслановский сельский совет","80636410","сельское поселение",1903]
["Кигинский муниципальный район","Верхнекигинский сельский совет","80636415","сельское поселение",6750]
["Кигинский муниципальный район","Душанбековский сельский совет","80636425","сельское поселение",984]
["Кигинский муниципальный район","Еланлинский сельский совет","80636420","сельское поселение",1378]
["Кигинский муниципальный район","Ибраевский сельский совет","80636430","сельское поселение",1426]
["Кигинский муниципальный район","Кандаковский сельский совет","80636435","сельское поселение",1070]
["Кигинский муниципальный район","Кигинский муниципальный район","80636000","муниципальный район",17235]
["Кигинский муниципальный район","Леузинский сельский совет","80636440","сельское поселение",1285]
["Кигинский муниципальный район","Нижнекигинский сельский совет","80636445","сельское поселение",1321]
["Краснокамский муниципальный район","Арлановский сельский совет","80637405","сельское поселение",1399]
["Краснокамский муниципальный район","Кариевский сельский совет","80637410","сельское поселение",1071]
["Краснокамский муниципальный район","Краснокамский муниципальный район","80637000","муниципальный район",27467]
["Краснокамский муниципальный район","Куяновский сельский совет","80637412","сельское поселение",4860]
["Краснокамский муниципальный район","Музяковский сельский совет","80637415","сельское поселение",1203]
["Краснокамский муниципальный район","Николо-Березовский сельский совет","80637421","сельское поселение",6202]
["Краснокамский муниципальный район","Никольский сельский совет","80637420","сельское поселение",1166]
["Краснокамский муниципальный район","Новобуринский сельский совет","80637425","сельское поселение",2223]
["Краснокамский муниципальный район","Новокабановский сельский совет","80637430","сельское поселение",1157]
["Краснокамский муниципальный район","Новокаинлыковский сельский совет","80637435","сельское поселение",1433]
["Краснокамский муниципальный район","Новонагаевский сельский совет","80637440","сельское поселение",1109]
["Краснокамский муниципальный район","Новоянзигитовский сельский совет","80637461","сельское поселение",1604]
["Краснокамский муниципальный район","Раздольевский сельский совет","80637443","сельское поселение",1494]
["Краснокамский муниципальный район","Саузбашевский сельский совет","80637450","сельское поселение",900]
["Краснокамский муниципальный район","Шушнурский сельский совет","80637465","сельское поселение",1646]
["Кугарчинский муниципальный район","Волостновский сельский совет","80638405","сельское поселение",1054]
["Кугарчинский муниципальный район","Зареченский сельский совет","80638410","сельское поселение",754]
["Кугарчинский муниципальный район","Ибраевский сельский совет","80638415","сельское поселение",858]
["Кугарчинский муниципальный район","Ижбердинский сельский совет","80638420","сельское поселение",380]
["Кугарчинский муниципальный район","Иртюбякский сельский совет","80638425","сельское поселение",606]
["Кугарчинский муниципальный район","Исимовский сельский совет","80638430","сельское поселение",1307]
["Кугарчинский муниципальный район","Кугарчинский муниципальный район","80638000","муниципальный район",28649]
["Кугарчинский муниципальный район","Кугарчинский сельский совет","80638440","сельское поселение",1237]
["Кугарчинский муниципальный район","Максютовский сельский совет","80638445","сельское поселение",1861]
["Кугарчинский муниципальный район","Мраковский сельский совет","80638450","сельское поселение",9542]
["Кугарчинский муниципальный район","Нижнебиккузинский сельский совет","80638455","сельское поселение",537]
["Кугарчинский муниципальный район","Новопетровский сельский совет","80638460","сельское поселение",627]
["Кугарчинский муниципальный район","Нукаевский сельский совет","80638463","сельское поселение",401]
["Кугарчинский муниципальный район","Побоищенский сельский совет","80638470","сельское поселение",182]
["Кугарчинский муниципальный район","Санзяповский сельский совет","80638473","сельское поселение",261]
["Кугарчинский муниципальный район","Тляумбетовский сельский совет","80638475","сельское поселение",1415]
["Кугарчинский муниципальный район","Уральский сельский совет","80638480","сельское поселение",451]
["Кугарчинский муниципальный район","Чапаевский сельский совет","80638483","сельское поселение",507]
["Кугарчинский муниципальный район","Юлдыбаевский сельский совет","80638485","сельское поселение",1201]
["Кугарчинский муниципальный район","Юмагузинский сельский совет","80638487","сельское поселение",4582]
["Кугарчинский муниципальный район","Ялчинский сельский совет","80638495","сельское поселение",886]
["Кушнаренковский муниципальный район","Ахметовский сельский совет","80640405","сельское поселение",1628]
["Кушнаренковский муниципальный район","Бакаевский сельский совет","80640410","сельское поселение",851]
["Кушнаренковский муниципальный район","Горьковский сельский совет","80640415","сельское поселение",977]
["Кушнаренковский муниципальный район","Карача-Елгинский сельский совет","80640430","сельское поселение",1331]
["Кушнаренковский муниципальный район","Кушнаренковский муниципальный район","80640000","муниципальный район",27074]
["Кушнаренковский муниципальный район","Кушнаренковский сельский совет","80640435","сельское поселение",12155]
["Кушнаренковский муниципальный район","Матвеевский сельский совет","80640440","сельское поселение",932]
["Кушнаренковский муниципальный район","Расмекеевский сельский совет","80640465","сельское поселение",839]
["Кушнаренковский муниципальный район","Старогумеровский сельский совет","80640470","сельское поселение",1151]
["Кушнаренковский муниципальный район","Старокамышлинский сельский совет","80640475","сельское поселение",1569]
["Кушнаренковский муниципальный район","Старокурмашевский сельский совет","80640477","сельское поселение",1372]
["Кушнаренковский муниципальный район","Старотукмаклинский сельский совет","80640480","сельское поселение",1975]
["Кушнаренковский муниципальный район","Шариповский сельский совет","80640490","сельское поселение",2294]
["Куюргазинский муниципальный район","Бахмутский сельский совет","80639410","сельское поселение",1078]
["Куюргазинский муниципальный район","Ермолаевский сельский совет","80639412","сельское поселение",8179]
["Куюргазинский муниципальный район","Зяк-Ишметовский сельский совет","80639417","сельское поселение",929]
["Куюргазинский муниципальный район","Илькинеевский сельский совет","80639415","сельское поселение",779]
["Куюргазинский муниципальный район","Кривле-Илюшкинский сельский совет","80639420","сельское поселение",1344]
["Куюргазинский муниципальный район","Куюргазинский муниципальный район","80639000","муниципальный район",23360]
["Куюргазинский муниципальный район","Ленинский сельский совет","80639425","сельское поселение",981]
["Куюргазинский муниципальный район","Мурапталовский сельский совет","80639435","сельское поселение",2703]
["Куюргазинский муниципальный район","Отрадинский сельский совет","80639440","сельское поселение",1087]
["Куюргазинский муниципальный район","Свободинский сельский совет","80639450","сельское поселение",1238]
["Куюргазинский муниципальный район","Таймасовский сельский совет","80639455","сельское поселение",1230]
["Куюргазинский муниципальный район","Шабагишский сельский совет","80639460","сельское поселение",1277]
["Куюргазинский муниципальный район","Якшимбетовский сельский совет","80639465","сельское поселение",2535]
["Мелеузовский муниципальный район","Абитовский сельский совет","80641402","сельское поселение",1538]
["Мелеузовский муниципальный район","Александровский сельский совет","80641405","сельское поселение",765]
["Мелеузовский муниципальный район","Аптраковский сельский совет","80641410","сельское поселение",793]
["Мелеузовский муниципальный район","Араслановский сельский совет","80641415","сельское поселение",1259]
["Мелеузовский муниципальный район","Воскресенский сельский совет","80641422","сельское поселение",1583]
["Мелеузовский муниципальный район","Город Мелеуз","80641101","городское поселение, в состав которого входит город",58536]
["Мелеузовский муниципальный район","Денисовский сельский совет","80641435","сельское поселение",1529]
["Мелеузовский муниципальный район","Зирганский сельский совет","80641430","сельское поселение",4846]
["Мелеузовский муниципальный район","Иштугановский сельский совет","80641445","сельское поселение",593]
["Мелеузовский муниципальный район","Корнеевский сельский совет","80641480","сельское поселение",1744]
["Мелеузовский муниципальный район","Мелеузовский муниципальный район","80641000","муниципальный район",84042]
["Мелеузовский муниципальный район","Мелеузовский сельский совет","80641450","сельское поселение",2587]
["Мелеузовский муниципальный район","Нордовский сельский совет","80641455","сельское поселение",1486]
["Мелеузовский муниципальный район","Нугушевский сельский совет","80641460","сельское поселение",1321]
["Мелеузовский муниципальный район","Партизанский сельский совет","80641465","сельское поселение",1637]
["Мелеузовский муниципальный район","Первомайский сельский совет","80641470","сельское поселение",2585]
["Мелеузовский муниципальный район","Сарышевский сельский совет","80641475","сельское поселение",652]
["Мелеузовский муниципальный район","Шевченковский сельский совет","80641485","сельское поселение",588]
["Мечетлинский муниципальный район","Абдуллинский сельский совет","80642401","сельское поселение",677]
["Мечетлинский муниципальный район","Алегазовский сельский совет","80642405","сельское поселение",2646]
["Мечетлинский муниципальный район","Большеокинский сельский совет","80642410","сельское поселение",1265]
["Мечетлинский муниципальный район","Большеустьикинский сельский совет","80642415","сельское поселение",9563]
["Мечетлинский муниципальный район","Дуван-Мечетлинский сельский совет","80642420","сельское поселение",1430]
["Мечетлинский муниципальный район","Кургатовский сельский совет","80642423","сельское поселение",463]
["Мечетлинский муниципальный район","Лемез-Тамакский сельский совет","80642425","сельское поселение",1571]
["Мечетлинский муниципальный район","Малоустьикинский сельский совет","80642430","сельское поселение",1227]
["Мечетлинский муниципальный район","Мечетлинский муниципальный район","80642000","муниципальный район",22983]
["Мечетлинский муниципальный район","Новомещеровский сельский совет","80642435","сельское поселение",1109]
["Мечетлинский муниципальный район","Новояушевский сельский совет","80642442","сельское поселение",792]
["Мечетлинский муниципальный район","Ростовский сельский совет","80642445","сельское поселение",892]
["Мечетлинский муниципальный район","Юнусовский сельский совет","80642450","сельское поселение",1348]
["Мишкинский муниципальный район","Акбулатовский сельский совет","80643405","сельское поселение",981]
["Мишкинский муниципальный район","Баймурзинский сельский совет","80643410","сельское поселение",1461]
["Мишкинский муниципальный район","Большесухоязовский сельский совет","80643415","сельское поселение",1470]
["Мишкинский муниципальный район","Большешадинский сельский совет","80643420","сельское поселение",945]
["Мишкинский муниципальный район","Ирсаевский сельский совет","80643425","сельское поселение",1686]
["Мишкинский муниципальный район","Кайраковский сельский совет","80643430","сельское поселение",1674]
["Мишкинский муниципальный район","Камеевский сельский совет","80643435","сельское поселение",1089]
["Мишкинский муниципальный район","Мавлютовский сельский совет","80643445","сельское поселение",656]
["Мишкинский муниципальный район","Мишкинский муниципальный район","80643000","муниципальный район",23419]
["Мишкинский муниципальный район","Мишкинский сельский совет","80643450","сельское поселение",7685]
["Мишкинский муниципальный район","Новотроицкий сельский совет","80643455","сельское поселение",1089]
["Мишкинский муниципальный район","Староарзаматовский сельский совет","80643460","сельское поселение",1219]
["Мишкинский муниципальный район","Тынбаевский сельский совет","80643465","сельское поселение",1179]
["Мишкинский муниципальный район","Урьядинский сельский совет","80643470","сельское поселение",813]
["Мишкинский муниципальный район","Чураевский сельский совет","80643480","сельское поселение",1472]
["Миякинский муниципальный район","Биккуловский сельский совет","80644405","сельское поселение",1332]
["Миякинский муниципальный район","Богдановский сельский совет","80644410","сельское поселение",1647]
["Миякинский муниципальный район","Большекаркалинский сельский совет","80644415","сельское поселение",1130]
["Миякинский муниципальный район","Енебей-Урсаевский сельский совет","80644420","сельское поселение",641]
["Миякинский муниципальный район","Зильдяровский сельский совет","80644425","сельское поселение",1479]
["Миякинский муниципальный район","Ильчигуловский сельский совет","80644428","сельское поселение",831]
["Миякинский муниципальный район","Карановский сельский совет","80644429","сельское поселение",792]
["Миякинский муниципальный район","Качегановский сельский совет","80644430","сельское поселение",1067]
["Миякинский муниципальный район","Кожай-Семеновский сельский совет","80644435","сельское поселение",1628]
["Миякинский муниципальный район","Менеузтамакский сельский совет","80644440","сельское поселение",1020]
["Миякинский муниципальный район","Миякибашевский сельский совет","80644445","сельское поселение",1377]
["Миякинский муниципальный район","Миякинский муниципальный район","80644000","муниципальный район",25620]
["Миякинский муниципальный район","Миякинский сельский совет","80644450","сельское поселение",9416]
["Миякинский муниципальный район","Новокарамалинский сельский совет","80644460","сельское поселение",930]
["Миякинский муниципальный район","Сатыевский сельский совет","80644465","сельское поселение",1232]
["Миякинский муниципальный район","Уршакбашкарамалинский сельский совет","80644470","сельское поселение",1098]
["Нуримановский муниципальный район","Байгильдинский сельский совет","80645405","сельское поселение",1749]
["Нуримановский муниципальный район","Баш-Шидинский сельский совет","80645410","сельское поселение",881]
["Нуримановский муниципальный район","Красногорский сельский совет","80645415","сельское поселение",4952]
["Нуримановский муниципальный район","Красноключевский сельский совет","80645416","сельское поселение",2575]
["Нуримановский муниципальный район","Никольский сельский совет","80645420","сельское поселение",878]
["Нуримановский муниципальный район","Новокулевский сельский совет","80645435","сельское поселение",2232]
["Нуримановский муниципальный район","Новосубаевский сельский совет","80645440","сельское поселение",531]
["Нуримановский муниципальный район","Нуримановский муниципальный район","80645000","муниципальный район",20353]
["Нуримановский муниципальный район","Павловский сельский совет","80645444","сельское поселение",3954]
["Нуримановский муниципальный район","Первомайский сельский совет","80645445","сельское поселение",306]
["Нуримановский муниципальный район","Сарвинский сельский совет","80645450","сельское поселение",249]
["Нуримановский муниципальный район","Старобедеевский сельский совет","80645452","сельское поселение",643]
["Нуримановский муниципальный район","Староисаевский сельский совет","80645455","сельское поселение",1403]
["Салаватский муниципальный район","Алькинский сельский совет","80647405","сельское поселение",1259]
["Салаватский муниципальный район","Аркауловский сельский совет","80647410","сельское поселение",1806]
["Салаватский муниципальный район","Ишимбаевский сельский совет","80647415","сельское поселение",1092]
["Салаватский муниципальный район","Лагеревский сельский совет","80647425","сельское поселение",1321]
["Салаватский муниципальный район","Лаклинский сельский совет","80647430","сельское поселение",1183]
["Салаватский муниципальный район","Малоязовский сельский совет","80647435","сельское поселение",861]
["Салаватский муниципальный район","Мечетлинский сельский совет","80647440","сельское поселение",1549]
["Салаватский муниципальный район","Мещегаровский сельский совет","80647445","сельское поселение",1357]
["Салаватский муниципальный район","Мурсалимкинский сельский совет","80647447","сельское поселение",2637]
["Салаватский муниципальный район","Насибашевский сельский совет","80647450","сельское поселение",803]
["Салаватский муниципальный район","Первомайский сельский совет","80647476","сельское поселение",357]
["Салаватский муниципальный район","Салаватский муниципальный район","80647000","муниципальный район",24196]
["Салаватский муниципальный район","Салаватский сельский совет","80647453","сельское поселение",5005]
["Салаватский муниципальный район","Таймеевский сельский совет","80647455","сельское поселение",1468]
["Салаватский муниципальный район","Терменевский сельский совет","80647460","сельское поселение",744]
["Салаватский муниципальный район","Турналинский сельский совет","80647465","сельское поселение",926]
["Салаватский муниципальный район","Янгантауский сельский совет","80647475","сельское поселение",1828]
["Стерлибашевский муниципальный район","Айдаралинский сельский совет","80648405","сельское поселение",655]
["Стерлибашевский муниципальный район","Аллагуватский сельский совет","80648402","сельское поселение",600]
["Стерлибашевский муниципальный район","Бакеевский сельский совет","80648410","сельское поселение",557]
["Стерлибашевский муниципальный район","Бузатовский сельский совет","80648415","сельское поселение",836]
["Стерлибашевский муниципальный район","Кабакушский сельский совет","80648418","сельское поселение",553]
["Стерлибашевский муниципальный район","Карагушский сельский совет","80648420","сельское поселение",606]
["Стерлибашевский муниципальный район","Куганакбашевский сельский совет","80648425","сельское поселение",867]
["Стерлибашевский муниципальный район","Кундрякский сельский совет","80648430","сельское поселение",532]
["Стерлибашевский муниципальный район","Сарайсинский сельский совет","80648435","сельское поселение",864]
["Стерлибашевский муниципальный район","Старокалкашевский сельский совет","80648440","сельское поселение",780]
["Стерлибашевский муниципальный район","Стерлибашевский муниципальный район","80648000","муниципальный район",18207]
["Стерлибашевский муниципальный район","Стерлибашевский сельский совет","80648445","сельское поселение",7848]
["Стерлибашевский муниципальный район","Тятер-Араслановский сельский совет","80648455","сельское поселение",894]
["Стерлибашевский муниципальный район","Халикеевский сельский совет","80648460","сельское поселение",689]
["Стерлибашевский муниципальный район","Янгурчинский сельский совет","80648465","сельское поселение",992]
["Стерлибашевский муниципальный район","Яшергановский сельский совет","80648470","сельское поселение",934]
["Стерлитамакский муниципальный район","Айгулевский сельский совет","80649404","сельское поселение",764]
["Стерлитамакский муниципальный район","Алатанинский сельский совет","80649412","сельское поселение",1859]
["Стерлитамакский муниципальный район","Ашкадарский сельский совет","80649416","сельское поселение",504]
["Стерлитамакский муниципальный район","Аючевский сельский совет","80649418","сельское поселение",652]
["Стерлитамакский муниципальный район","Буриказгановский сельский совет","80649428","сельское поселение",1910]
["Стерлитамакский муниципальный район","Казадаевский сельский совет","80649436","сельское поселение",1742]
["Стерлитамакский муниципальный район","Константиноградовский сельский совет","80649420","сельское поселение",674]
["Стерлитамакский муниципальный район","Красноярский сельский совет","80649444","сельское поселение",1521]
["Стерлитамакский муниципальный район","Куганакский сельский совет","80649440","сельское поселение",3230]
["Стерлитамакский муниципальный район","Максимовский сельский совет","80649424","сельское поселение",920]
["Стерлитамакский муниципальный район","Наумовский сельский совет","80649448","сельское поселение",5424]
["Стерлитамакский муниципальный район","Николаевский сельский совет","80649452","сельское поселение",1242]
["Стерлитамакский муниципальный район","Октябрьский сельский совет","80649460","сельское поселение",2080]
["Стерлитамакский муниципальный район","Отрадовский сельский совет","80649456","сельское поселение",9028]
["Стерлитамакский муниципальный район","Первомайский сельский совет","80649464","сельское поселение",2443]
["Стерлитамакский муниципальный район","Подлесненский сельский совет","80649468","сельское поселение",1884]
["Стерлитамакский муниципальный район","Рощинский сельский совет","80649478","сельское поселение",1995]
["Стерлитамакский муниципальный район","Рязановский сельский совет","80649480","сельское поселение",1015]
["Стерлитамакский муниципальный район","Стерлитамакский муниципальный район","80649000","муниципальный район",42281]
["Стерлитамакский муниципальный район","Тюрюшлинский сельский совет","80649488","сельское поселение",1408]
["Стерлитамакский муниципальный район","Услинский сельский совет","80649492","сельское поселение",1986]
["Татышлинский муниципальный район","Акбулатовский сельский совет","80650405","сельское поселение",839]
["Татышлинский муниципальный район","Аксаитовский сельский совет","80650410","сельское поселение",1764]
["Татышлинский муниципальный район","Бадряшевский сельский совет","80650415","сельское поселение",1093]
["Татышлинский муниципальный район","Буль-Кайпановский сельский совет","80650420","сельское поселение",1769]
["Татышлинский муниципальный район","Верхнетатышлинский сельский совет","80650425","сельское поселение",6761]
["Татышлинский муниципальный район","Кальмияровский сельский совет","80650430","сельское поселение",872]
["Татышлинский муниципальный район","Кальтяевский сельский совет","80650435","сельское поселение",1127]
["Татышлинский муниципальный район","Кудашевский сельский совет","80650440","сельское поселение",1656]
["Татышлинский муниципальный район","Курдымский сельский совет","80650445","сельское поселение",1730]
["Татышлинский муниципальный район","Нижнебалтачевский сельский совет","80650450","сельское поселение",1634]
["Татышлинский муниципальный район","Новотатышлинский сельский совет","80650455","сельское поселение",1217]
["Татышлинский муниципальный район","Татышлинский муниципальный район","80650000","муниципальный район",22918]
["Татышлинский муниципальный район","Шулгановский сельский совет","80650460","сельское поселение",1666]
["Татышлинский муниципальный район","Ялгыз-Наратский сельский совет","80650465","сельское поселение",790]
["Туймазинский муниципальный район","Бишкураевский сельский совет","80651405","сельское поселение",2022]
["Туймазинский муниципальный район","Верхнебишиндинский сельский совет","80651410","сельское поселение",2308]
["Туймазинский муниципальный район","Верхнетроицкий сельский совет","80651415","сельское поселение",1244]
["Туймазинский муниципальный район","Гафуровский сельский совет","80651417","сельское поселение",4122]
["Туймазинский муниципальный район","Город Туймазы","80651101","городское поселение, в состав которого входит город",68410]
["Туймазинский муниципальный район","Ильчимбетовский сельский совет","80651420","сельское поселение",2022]
["Туймазинский муниципальный район","Какрыбашевский сельский совет","80651425","сельское поселение",1791]
["Туймазинский муниципальный район","Кандринский сельский совет","80651427","сельское поселение",13068]
["Туймазинский муниципальный район","Карамалы-Губеевский сельский совет","80651430","сельское поселение",3237]
["Туймазинский муниципальный район","Каратовский сельский совет","80651435","сельское поселение",940]
["Туймазинский муниципальный район","Нижнетроицкий сельский совет","80651439","сельское поселение",3805]
["Туймазинский муниципальный район","Николаевский сельский совет","80651440","сельское поселение",2117]
["Туймазинский муниципальный район","Сайрановский сельский совет","80651445","сельское поселение",1466]
["Туймазинский муниципальный район","Серафимовский сельский совет","80651447","сельское поселение",9526]
["Туймазинский муниципальный район","Старотуймазинский сельский совет","80651455","сельское поселение",1935]
["Туймазинский муниципальный район","Субханкуловский сельский совет","80651461","сельское поселение",7944]
["Туймазинский муниципальный район","Татар-Улкановский сельский совет","80651465","сельское поселение",2105]
["Туймазинский муниципальный район","Туймазинский муниципальный район","80651000","муниципальный район",132463]
["Туймазинский муниципальный район","Тюменяковский сельский совет","80651470","сельское поселение",3696]
["Туймазинский муниципальный район","Чукадыбашевский сельский совет","80651475","сельское поселение",705]
["Уфимский муниципальный район","Авдонский сельский совет","80652405","сельское поселение",5263]
["Уфимский муниципальный район","Алексеевский сельский совет","80652403","сельское поселение",5426]
["Уфимский муниципальный район","Булгаковский сельский совет","80652410","сельское поселение",7325]
["Уфимский муниципальный район","Дмитриевский сельский совет","80652415","сельское поселение",8375]
["Уфимский муниципальный район","Жуковский сельский совет","80652418","сельское поселение",4686]
["Уфимский муниципальный район","Зубовский сельский совет","80652420","сельское поселение",7796]
["Уфимский муниципальный район","Кармасанский сельский совет","80652423","сельское поселение",1154]
["Уфимский муниципальный район","Кирилловский сельский совет","80652425","сельское поселение",3460]
["Уфимский муниципальный район","Красноярский сельский совет","80652430","сельское поселение",4620]
["Уфимский муниципальный район","Миловский сельский совет","80652435","сельское поселение",3795]
["Уфимский муниципальный район","Михайловский сельский совет","80652440","сельское поселение",8400]
["Уфимский муниципальный район","Николаевский сельский совет","80652450","сельское поселение",5459]
["Уфимский муниципальный район","Ольховский сельский совет","80652452","сельское поселение",999]
["Уфимский муниципальный район","Русско-Юрмашский сельский совет","80652455","сельское поселение",4878]
["Уфимский муниципальный район","Таптыковский сельский совет","80652460","сельское поселение",1956]
["Уфимский муниципальный район","Уфимский муниципальный район","80652000","муниципальный район",87798]
["Уфимский муниципальный район","Черкасский сельский совет","80652472","сельское поселение",1138]
["Уфимский муниципальный район","Чесноковский сельский совет","80652473","сельское поселение",6693]
["Уфимский муниципальный район","Шемякский сельский совет","80652475","сельское поселение",2577]
["Уфимский муниципальный район","Юматовский сельский совет","80652480","сельское поселение",3798]
["Учалинский муниципальный район","Амангильдинский сельский совет","80653410","сельское поселение",995]
["Учалинский муниципальный район","Ахуновский сельский совет","80653415","сельское поселение",2462]
["Учалинский муниципальный район","Буйдинский сельский совет","80653416","сельское поселение",691]
["Учалинский муниципальный район","Город Учалы","80653101","городское поселение, в состав которого входит город",37715]
["Учалинский муниципальный район","Ильчигуловский сельский совет","80653420","сельское поселение",1346]
["Учалинский муниципальный район","Ильчинский сельский совет","80653425","сельское поселение",1682]
["Учалинский муниципальный район","Имангуловский сельский совет","80653430","сельское поселение",1769]
["Учалинский муниципальный район","Кирябинский сельский совет","80653440","сельское поселение",448]
["Учалинский муниципальный район","Кунакбаевский сельский совет","80653445","сельское поселение",1913]
["Учалинский муниципальный район","Мансуровский сельский совет","80653449","сельское поселение",1497]
["Учалинский муниципальный район","Миндякский сельский совет","80653448","сельское поселение",3458]
["Учалинский муниципальный район","Наурузовский сельский совет","80653450","сельское поселение",788]
["Учалинский муниципальный район","Новобайрамгуловский сельский совет","80653455","сельское поселение",677]
["Учалинский муниципальный район","Поляковский сельский совет","80653465","сельское поселение",1029]
["Учалинский муниципальный район","Сафаровский сельский совет","80653470","сельское поселение",1528]
["Учалинский муниципальный район","Тунгатаровский сельский совет","80653484","сельское поселение",1997]
["Учалинский муниципальный район","Уразовский сельский совет","80653488","сельское поселение",1401]
["Учалинский муниципальный район","Уральский сельский совет","80653491","сельское поселение",2166]
["Учалинский муниципальный район","Учалинский муниципальный район","80653000","муниципальный район",71291]
["Учалинский муниципальный район","Учалинский сельский совет","80653496","сельское поселение",7729]
["Федоровский муниципальный район","Бала-Четырманский сельский совет","80654405","сельское поселение",2470]
["Федоровский муниципальный район","Балыклинский сельский совет","80654410","сельское поселение",842]
["Федоровский муниципальный район","Булякаевский сельский совет","80654415","сельское поселение",502]
["Федоровский муниципальный район","Верхнеяушевский сельский совет","80654416","сельское поселение",476]
["Федоровский муниципальный район","Гончаровский сельский совет","80654417","сельское поселение",1109]
["Федоровский муниципальный район","Дедовский сельский совет","80654420","сельское поселение",990]
["Федоровский муниципальный район","Денискинский сельский совет","80654425","сельское поселение",1736]
["Федоровский муниципальный район","Каралачикский сельский совет","80654427","сельское поселение",619]
["Федоровский муниципальный район","Михайловский сельский совет","80654430","сельское поселение",1075]
["Федоровский муниципальный район","Покровский сельский совет","80654440","сельское поселение",538]
["Федоровский муниципальный район","Пугачевский сельский совет","80654445","сельское поселение",752]
["Федоровский муниципальный район","Разинский сельский совет","80654450","сельское поселение",535]
["Федоровский муниципальный район","Теняевский сельский совет","80654455","сельское поселение",605]
["Федоровский муниципальный район","Федоровский муниципальный район","80654000","муниципальный район",17147]
["Федоровский муниципальный район","Федоровский сельский совет","80654460","сельское поселение",4898]
["Хайбуллинский муниципальный район","Абишевский сельский совет","80655405","сельское поселение",982]
["Хайбуллинский муниципальный район","Акъюловский сельский совет","80655410","сельское поселение",709]
["Хайбуллинский муниципальный район","Акъярский сельский совет","80655415","сельское поселение",8751]
["Хайбуллинский муниципальный район","Антинганский сельский совет","80655420","сельское поселение",915]
["Хайбуллинский муниципальный район","Бурибайский сельский совет","80655424","сельское поселение",4380]
["Хайбуллинский муниципальный район","Ивановский сельский совет","80655425","сельское поселение",1052]
["Хайбуллинский муниципальный район","Маканский сельский совет","80655430","сельское поселение",2198]
["Хайбуллинский муниципальный район","Новозирганский сельский совет","80655432","сельское поселение",960]
["Хайбуллинский муниципальный район","Самарский сельский совет","80655433","сельское поселение",1575]
["Хайбуллинский муниципальный район","Таналыкский сельский совет","80655440","сельское поселение",2123]
["Хайбуллинский муниципальный район","Татыр-Узякский сельский совет","80655435","сельское поселение",1603]
["Хайбуллинский муниципальный район","Уфимский сельский совет","80655445","сельское поселение",2646]
["Хайбуллинский муниципальный район","Федоровский сельский совет","80655450","сельское поселение",1088]
["Хайбуллинский муниципальный район","Хайбуллинский муниципальный район","80655000","муниципальный район",31112]
["Хайбуллинский муниципальный район","Целинный сельский совет","80655455","сельское поселение",2130]
["Чекмагушевский муниципальный район","Башировский сельский совет","80656410","сельское поселение",1079]
["Чекмагушевский муниципальный район","Имянликулевский сельский совет","80656415","сельское поселение",1172]
["Чекмагушевский муниципальный район","Калмашбашевский сельский совет","80656420","сельское поселение",1007]
["Чекмагушевский муниципальный район","Новобалтачевский сельский совет","80656425","сельское поселение",1345]
["Чекмагушевский муниципальный район","Новокутовский сельский совет","80656435","сельское поселение",839]
["Чекмагушевский муниципальный район","Рапатовский сельский совет","80656440","сельское поселение",884]
["Чекмагушевский муниципальный район","Резяповский сельский совет","80656445","сельское поселение",1085]
["Чекмагушевский муниципальный район","Старокалмашевский сельский совет","80656450","сельское поселение",1851]
["Чекмагушевский муниципальный район","Тайняшевский сельский совет","80656455","сельское поселение",1046]
["Чекмагушевский муниципальный район","Тузлукушевский сельский совет","80656460","сельское поселение",1683]
["Чекмагушевский муниципальный район","Урнякский сельский совет","80656465","сельское поселение",2137]
["Чекмагушевский муниципальный район","Чекмагушевский муниципальный район","80656000","муниципальный район",28546]
["Чекмагушевский муниципальный район","Чекмагушевский сельский совет","80656470","сельское поселение",12056]
["Чекмагушевский муниципальный район","Юмашевский сельский совет","80656475","сельское поселение",2362]
["Чишминский муниципальный район","Алкинский сельский совет","80657405","сельское поселение",2934]
["Чишминский муниципальный район","Аровский сельский совет","80657410","сельское поселение",1595]
["Чишминский муниципальный район","Арслановский сельский совет","80657415","сельское поселение",1549]
["Чишминский муниципальный район","Дмитриевский сельский совет","80657420","сельское поселение",562]
["Чишминский муниципальный район","Дурасовский сельский совет","80657425","сельское поселение",1119]
["Чишминский муниципальный район","Енгалышевский сельский совет","80657430","сельское поселение",877]
["Чишминский муниципальный район","Еремеевский сельский совет","80657435","сельское поселение",2057]
["Чишминский муниципальный район","Ибрагимовский сельский совет","80657440","сельское поселение",1354]
["Чишминский муниципальный район","Кара-Якуповский сельский совет","80657445","сельское поселение",1467]
["Чишминский муниципальный район","Лесной сельский совет","80657446","сельское поселение",5383]
["Чишминский муниципальный район","Новотроицкий сельский совет","80657450","сельское поселение",1431]
["Чишминский муниципальный район","Сафаровский сельский совет","80657455","сельское поселение",1458]
["Чишминский муниципальный район","Чишминский муниципальный район","80657000","муниципальный район",52607]
["Чишминский муниципальный район","Чишминский поссовет","80657151","городское поселение, в состав которого входит поселок",22408]
["Чишминский муниципальный район","Чишминский сельский совет","80657465","сельское поселение",2266]
["Чишминский муниципальный район","Чувалкиповский сельский совет","80657470","сельское поселение",1516]
["Чишминский муниципальный район","Шингак-Кульский сельский совет","80657475","сельское поселение",4631]
["Шаранский муниципальный район","Акбарисовский сельский совет","80658405","сельское поселение",1447]
["Шаранский муниципальный район","Базгиевский сельский совет","80658410","сельское поселение",1048]
["Шаранский муниципальный район","Дмитриево-Полянский сельский совет","80658415","сельское поселение",799]
["Шаранский муниципальный район","Дюртюлинский сельский совет","80658420","сельское поселение",1544]
["Шаранский муниципальный район","Зириклинский сельский совет","80658425","сельское поселение",1032]
["Шаранский муниципальный район","Мичуринский сельский совет","80658430","сельское поселение",2451]
["Шаранский муниципальный район","Нижнезаитовский сельский совет","80658435","сельское поселение",830]
["Шаранский муниципальный район","Нижнеташлинский сельский совет","80658440","сельское поселение",726]
["Шаранский муниципальный район","Нуреевский сельский совет","80658445","сельское поселение",1119]
["Шаранский муниципальный район","Писаревский сельский совет","80658455","сельское поселение",806]
["Шаранский муниципальный район","Старотумбагушевский сельский совет","80658465","сельское поселение",740]
["Шаранский муниципальный район","Чалмалинский сельский совет","80658475","сельское поселение",1305]
["Шаранский муниципальный район","Шаранский муниципальный район","80658000","муниципальный район",20518]
["Шаранский муниципальный район","Шаранский сельский совет","80658485","сельское поселение",6671]
["Янаульский муниципальный район","Асавдыбашский сельский совет","80659410","сельское поселение",539]
["Янаульский муниципальный район","Байгузинский сельский совет","80659415","сельское поселение",1669]
["Янаульский муниципальный район","Воядинский сельский совет","80659420","сельское поселение",584]
["Янаульский муниципальный район","Город Янаул","80659101","городское поселение, в состав которого входит город",25747]
["Янаульский муниципальный район","Ижболдинский сельский совет","80659430","сельское поселение",869]
["Янаульский муниципальный район","Истякский сельский совет","80659435","сельское поселение",1149]
["Янаульский муниципальный район","Иткинеевский сельский совет","80659440","сельское поселение",1257]
["Янаульский муниципальный район","Кармановский сельский совет","80659445","сельское поселение",1743]
["Янаульский муниципальный район","Кисак-Каинский сельский совет","80659450","сельское поселение",1373]
["Янаульский муниципальный район","Максимовский сельский совет","80659453","сельское поселение",704]
["Янаульский муниципальный район","Месягутовский сельский совет","80659455","сельское поселение",819]
["Янаульский муниципальный район","Новоартаульский сельский совет","80659460","сельское поселение",1662]
["Янаульский муниципальный район","Орловский сельский совет","80659465","сельское поселение",712]
["Янаульский муниципальный район","Первомайский сельский совет","80659470","сельское поселение",1266]
["Янаульский муниципальный район","Сандугачевский сельский совет","80659475","сельское поселение",1217]
["Янаульский муниципальный район","Староваряшский сельский совет","80659480","сельское поселение",652]
["Янаульский муниципальный район","Старокудашевский сельский совет","80659485","сельское поселение",625]
["Янаульский муниципальный район","Шудекский сельский совет","80659490","сельское поселение",773]
["Янаульский муниципальный район","Ямадинский сельский совет","80659495","сельское поселение",1551]
["Янаульский муниципальный район","Янаульский муниципальный район","80659000","муниципальный район",44911]

{"sheet":"REESTR_LOCATION","index":26,"n_rows":0,"n_cols":0,"rows_kept":0,"hidden":true}

{"sheet":"AUTHORISATION","index":27,"n_rows":2,"n_cols":1,"rows_kept":2,"hidden":true}
["L1"]
["ACCESS DENIED"]

{"sheet":"DICTIONARIES","index":28,"n_rows":128,"n_cols":2,"rows_kept":128,"hidden":true}
["DIC_NAME","DIC_VALUE"]
["FIND_OGRN_ASSIST_URL","https://egrul.nalog.ru/"]
["FIND_OKPO_ASSIST_URL","http://statreg.gks.ru/"]
["FIND_OPF_ASSIST_URL","http://www.consultant.ru/cons/cgi/online.cgi?req=doc;base=LAW;n=179370#0"]
["FULL_STATE_SHARE_OKOPF_LIST","6 51 00 | Унитарные предприятия, основанные на праве оперативного управления (казенные предприятия)"]
["FULL_STATE_SHARE_OKOPF_LIST","6 51 41 | Федеральные казенные предприятия"]
["FULL_STATE_SHARE_OKOPF_LIST","6 51 42 | Казенные предприятия субъектов Российской Федерации"]
["FULL_STATE_SHARE_OKOPF_LIST","6 51 43 | Муниципальные казенные предприятия"]
["FULL_STATE_SHARE_OKOPF_LIST","6 52 00 | Унитарные предприятия, основанные на праве хозяйственного ведения"]
["FULL_STATE_SHARE_OKOPF_LIST","6 52 41 | Федеральные государственные унитарные предприятия"]
["FULL_STATE_SHARE_OKOPF_LIST","6 52 42 | Государственные унитарные предприятия субъектов Российской Федерации"]
["FULL_STATE_SHARE_OKOPF_LIST","6 52 43 | Муниципальные унитарные предприятия"]
["FULL_STATE_SHARE_OKOPF_LIST","7 51 00 | Учреждения, созданные Российской Федерацией"]
["FULL_STATE_SHARE_OKOPF_LIST","7 51 01 | Федеральные государственные автономные учреждения"]
["FULL_STATE_SHARE_OKOPF_LIST","7 51 03 | Федеральные государственные бюджетные учреждения"]
["FULL_STATE_SHARE_OKOPF_LIST","7 51 04 | Федеральные государственные казенные учреждения"]
["FULL_STATE_SHARE_OKOPF_LIST","7 52 00 | Учреждения, созданные субъектами Российской Федерации"]
["FULL_STATE_SHARE_OKOPF_LIST","7 52 01 | Государственные автономные учреждения субъектов Российской Федерации"]
["FULL_STATE_SHARE_OKOPF_LIST","7 52 03 | Государственные бюджетные учреждения субъектов Российской Федерации"]
["FULL_STATE_SHARE_OKOPF_LIST","7 52 04 | Государственные казенные учреждения субъектов Российской Федерации"]
["FULL_STATE_SHARE_OKOPF_LIST","7 53 00 | Государственные академии наук"]
["FULL_STATE_SHARE_OKOPF_LIST","7 54 00 | Учреждения, созданные муниципальными образованиями"]
["FULL_STATE_SHARE_OKOPF_LIST","7 54 01 | Муниципальные автономные учреждения"]
["FULL_STATE_SHARE_OKOPF_LIST","7 54 03 | Муниципальные бюджетные учреждения"]
["FULL_STATE_SHARE_OKOPF_LIST","7 54 04 | Муниципальные казенные учреждения"]
["OKOPF_LIST","1 10 51 | Полные товарищества"]
["OKOPF_LIST","1 10 64 | Товарищества на вере (коммандитные товарищества)"]
["OKOPF_LIST","1 22 47 | Публичные акционерные общества"]
["OKOPF_LIST","1 22 67 | Непубличные акционерные общества"]
["OKOPF_LIST","1 23 00 | Общества с ограниченной ответственностью"]
["OKOPF_LIST","1 30 00 | Хозяйственные партнерства"]
["OKOPF_LIST","1 41 53 | Сельскохозяйственные артели (колхозы)"]
["OKOPF_LIST","1 41 54 | Рыболовецкие артели (колхозы)"]
["OKOPF_LIST","1 41 55 | Кооперативные хозяйства (коопхозы)"]
["OKOPF_LIST","1 42 00 | Производственные кооперативы (кроме сельскохозяйственных производственных кооперативов)"]
["OKOPF_LIST","1 53 00 | Крестьянские (фермерские) хозяйства"]
["OKOPF_LIST","1 90 00 | Прочие юридические лица, являющиеся коммерческими организациями"]
["OKOPF_LIST","2 01 01 | Гаражные и гаражно-строительные кооперативы"]
["OKOPF_LIST","2 01 02 | Жилищные или жилищно-строительные кооперативы"]
["OKOPF_LIST","2 01 03 | Жилищные накопительные кооперативы"]
["OKOPF_LIST","2 01 04 | Кредитные потребительские кооперативы"]
["OKOPF_LIST","2 01 05 | Кредитные потребительские кооперативы граждан"]
["OKOPF_LIST","2 01 06 | Кредитные кооперативы второго уровня"]
["OKOPF_LIST","2 01 07 | Потребительские общества"]
["OKOPF_LIST","2 01 08 | Общества взаимного страхования"]
["OKOPF_LIST","2 01 09 | Сельскохозяйственные потребительские перерабатывающие кооперативы"]
["OKOPF_LIST","2 01 10 | Сельскохозяйственные потребительские сбытовые (торговые) кооперативы"]
["OKOPF_LIST","2 01 11 | Сельскохозяйственные потребительские обслуживающие кооперативы"]
["OKOPF_LIST","2 01 12 | Сельскохозяйственные потребительские снабженческие кооперативы"]
["OKOPF_LIST","2 01 13 | Сельскохозяйственные потребительские садоводческие кооперативы"]
["OKOPF_LIST","2 01 14 | Сельскохозяйственные потребительские огороднические кооперативы"]
["OKOPF_LIST","2 01 15 | Сельскохозяйственные потребительские животноводческие кооперативы"]
["OKOPF_LIST","2 01 20 | Садоводческие, огороднические или дачные потребительские кооперативы"]
["OKOPF_LIST","2 01 21 | Фонды проката"]
["OKOPF_LIST","2 02 01 | Политические партии"]
["OKOPF_LIST","2 02 02 | Профсоюзные организации"]
["OKOPF_LIST","2 02 10 | Общественные движения"]
["OKOPF_LIST","2 02 11 | Органы общественной самодеятельности"]
["OKOPF_LIST","2 02 17 | Территориальные общественные самоуправления"]
["OKOPF_LIST","2 06 01 | Ассоциации (союзы) экономического взаимодействия субъектов Российской Федерации"]
["OKOPF_LIST","2 06 03 | Советы муниципальных образований субъектов Российской Федерации"]
["OKOPF_LIST","2 06 04 | Союзы (ассоциации) кредитных кооперативов"]
["OKOPF_LIST","2 06 05 | Союзы (ассоциации) кооперативов"]
["OKOPF_LIST","2 06 06 | Союзы (ассоциации) общественных объединений"]
["OKOPF_LIST","2 06 07 | Союзы (ассоциации) общин малочисленных народов"]
["OKOPF_LIST","2 06 08 | Союзы потребительских обществ"]
["OKOPF_LIST","2 06 09 | Адвокатские палаты"]
["OKOPF_LIST","2 06 10 | Нотариальные палаты"]
["OKOPF_LIST","2 06 11 | Торгово-промышленные палаты"]
["OKOPF_LIST","2 06 12 | Объединения работодателей"]
["OKOPF_LIST","2 06 13 | Объединения фермерских хозяйств"]
["OKOPF_LIST","2 06 14 | Некоммерческие партнерства"]
["OKOPF_LIST","2 06 15 | Адвокатские бюро"]
["OKOPF_LIST","2 06 16 | Коллегии адвокатов"]
["OKOPF_LIST","2 06 17 | Садоводческие, огороднические или дачные некоммерческие партнерства"]
["OKOPF_LIST","2 06 18 | Ассоциации (союзы) садоводческих, огороднических и дачных некоммерческих объединений"]
["OKOPF_LIST","2 06 19 | Саморегулируемые организации"]
["OKOPF_LIST","2 06 20 | Объединения (ассоциации и союзы) благотворительных организаций"]
["OKOPF_LIST","2 07 01 | Садоводческие, огороднические или дачные некоммерческие товарищества"]
["OKOPF_LIST","2 07 16 | Товарищества собственников жилья"]
["OKOPF_LIST","2 11 00 | Казачьи общества, внесенные в государственный реестр казачьих обществ в Российской Федерации"]
["OKOPF_LIST","2 12 00 | Общины коренных малочисленных народов Российской Федерации"]
["OKOPF_LIST","3 00 01 | Представительства юридических лиц"]
["OKOPF_LIST","3 00 02 | Филиалы юридических лиц"]
["OKOPF_LIST","3 00 03 | Обособленные подразделения юридических лиц"]
["OKOPF_LIST","3 00 04 | Структурные подразделения обособленных подразделений юридических лиц"]
["OKOPF_LIST","3 00 05 | Паевые инвестиционные фонды"]
["OKOPF_LIST","3 00 06 | Простые товарищества"]
["OKOPF_LIST","3 00 08 | Районные суды, городские суды, межрайонные суды (районные суды)"]
["OKOPF_LIST","4 00 01 | Межправительственные международные организации"]
["OKOPF_LIST","4 00 02 | Неправительственные международные организации"]
["OKOPF_LIST","5 01 01 | Главы крестьянских (фермерских) хозяйств"]
["OKOPF_LIST","5 01 02 | Индивидуальные предприниматели"]
["OKOPF_LIST","5 02 01 | Адвокаты, учредившие адвокатский кабинет"]
["OKOPF_LIST","5 02 02 | Нотариусы, занимающиеся частной практикой"]
["OKOPF_LIST","6 51 41 | Федеральные казенные предприятия"]
["OKOPF_LIST","6 51 42 | Казенные предприятия субъектов Российской Федерации"]
["OKOPF_LIST","6 51 43 | Муниципальные казенные предприятия"]
["OKOPF_LIST","6 52 41 | Федеральные государственные унитарные предприятия"]
["OKOPF_LIST","6 52 42 | Государственные унитарные предприятия субъектов Российской Федерации"]
["OKOPF_LIST","6 52 43 | Муниципальные унитарные предприятия"]
["OKOPF_LIST","7 04 01 | Благотворительные фонды"]
["OKOPF_LIST","7 04 02 | Негосударственные пенсионные фонды"]
["OKOPF_LIST","7 04 03 | Общественные фонды"]
["OKOPF_LIST","7 04 04 | Экологические фонды"]
["OKOPF_LIST","7 14 00 | Автономные некоммерческие организации"]
["OKOPF_LIST","7 15 00 | Религиозные организации"]
["OKOPF_LIST","7 16 01 | Государственные корпорации"]
["OKOPF_LIST","7 16 02 | Государственные компании"]
["OKOPF_LIST","7 16 10 | Отделения иностранных некоммерческих неправительственных организаций"]
["OKOPF_LIST","7 51 01 | Федеральные государственные автономные учреждения"]
["OKOPF_LIST","7 51 03 | Федеральные государственные бюджетные учреждения"]
["OKOPF_LIST","7 51 04 | Федеральные государственные казенные учреждения"]
["OKOPF_LIST","7 52 01 | Государственные автономные учреждения субъектов Российской Федерации"]
["OKOPF_LIST","7 52 03 | Государственные бюджетные учреждения субъектов Российской Федерации"]
["OKOPF_LIST","7 52 04 | Государственные казенные учреждения субъектов Российской Федерации"]
["OKOPF_LIST","7 53 00 | Государственные академии наук"]
["OKOPF_LIST","7 54 01 | Муниципальные автономные учреждения"]
["OKOPF_LIST","7 54 03 | Муниципальные бюджетные учреждения"]
["OKOPF_LIST","7 54 04 | Муниципальные казенные учреждения"]
["OKOPF_LIST","7 55 00 | Частные учреждения"]
["OKOPF_LIST","7 55 02 | Благотворительные учреждения"]
["OKOPF_LIST","7 55 05 | Общественные учреждения"]
["VOTV_CALC_EXTENDED_SALARY_FIELDS_CAN_BE_MISSED","ALLOWED"]
["VOTV_CALC_RESULT_BY_ORG_CAN_BE_NONZERO_LIST","FORBIDDEN"]
["VOTV_FILTER_OBJECTS_BY_INN","YES"]
["VOTV_MAX_COST_VALUE","2000000"]
["VOTV_MIN_COST_VALUE","1"]

{"sheet":"PLAN1X_LIST_ORG","index":29,"n_rows":127,"n_cols":21,"rows_kept":127,"hidden":true}
["NMBR","RST_ORG_ID","OKPO","OGRN","ORG","INN","KPP","FIL","VDET","INN_ID","KPP_ID","FIL_ID","VDET_ID","OKOPF","SPECIFIC_STATUS","SPECIFIC_STATUS_URL","TR_TARIFF","TAX","STATE_SHARE_EXISTENCE","STATE_SHARE_VALUE","LGL_ID"]
["1","26807163",null,null,"OOO \"Башэнергонефть\"","0265025917","027201001",null,"Приём сточных вод :: Очистка сточных вод","607432261","5416756","5412526","2385677281","1 23 00 | Общества с ограниченной ответственностью","нет",null,"руб/куб.м","да","нет","0 %","3774578307"]
["2","26807163",null,null,"OOO \"Башэнергонефть\"","0265025917","027201001",null,"Приём сточных вод :: Транспортировка сточных вод","607432261","5416756","5412526","2385677280","1 23 00 | Общества с ограниченной ответственностью","нет",null,"руб/куб.м","да","нет","0 %","3774578307"]
["3","26353700","50808210","1060274000192","АО \" Международный аэропорт \"Уфа\"","0274108180","024501001",null,"Приём сточных вод :: Очистка сточных вод","5167116","5416725","5412526","2385677281","1 22 47 | Публичные акционерные общества","нет",null,"руб/куб.м","да","нет","0 %","3774578307"]
["4","26472063","00203312","1020202079479","АО \"БСК\"","0268008010","997350001",null,"Приём сточных вод :: Очистка сточных вод :: Транспортировка сточных вод","5291072","5416764","5412526","2385677278","1 22 47 | Публичные акционерные общества","нет",null,"руб/куб.м","да","нет","0 %","3774578307"]
["5","30335229",null,null,"АО \"ГУ ЖКХ\"","5116000922","770401001",null,"Транспортировка сточных вод","57097245","5416916","5412526","2386228668","1 22 47 | Публичные акционерные общества","нет",null,"руб/куб.м","да","да","100 %","3774578307"]
["6","30860775","67842524","1110280005110","АО \"КОРПОРАЦИЯ РАЗВИТИЯ РЕСПУБЛИКИ БАШКОРТОСТАН\"","0274153834","027401001",null,"Транспортировка сточных вод","2895982548","5416758","5412526","2386228668","1 22 47 | Публичные акционерные общества","нет",null,"руб/куб.м","да","да","100 %","3774578307"]
["7","26353691","00194470","1020202279460","АО \"Учалинский горно-обогатительный комбинат\"","0270007455","997550001",null,"Приём сточных вод :: Очистка сточных вод :: Транспортировка сточных вод","5191288","5416938","5412526","2385677278","1 22 47 | Публичные акционерные общества","нет",null,"руб/куб.м","да","нет","0 %","3774578307"]
["8","30990030","032537998","1110280046580","АО «Башкоммунводоканал»","0278181938","027801001",null,"Приём сточных вод :: Очистка сточных вод :: Транспортировка сточных вод","3455767957","5416762","5412526","2385677278","1 22 47 | Публичные акционерные общества","да","https://portal.eias.ru/Portal/DownloadPage.aspx?type=15&guid=308d6fce-dc20-40be-a3b6-81ffc99cf48d","руб/куб.м","да","да","100 %","3774578307"]
["9","27588602",null,null,"АО «ЭКОЛАЙН»","0263012052","026301001",null,"Транспортировка сточных вод","5167312","5416747","5412526","2386228668","1 23 00 | Общества с ограниченной ответственностью","нет",null,"руб/куб.м","да","нет","0 %","3774578307"]
["10","26353653",null,null,"ГУП санаторий \"Юматово\"","0245011962","024501001",null,"Приём сточных вод :: Очистка сточных вод","5191276","5416725","5412526","2385677281","6 52 42 | Государственные унитарные предприятия субъектов Российской Федерации","нет",null,"руб/куб.м","да","да","100 %","3774578307"]
["11","27958466",null,null,"ГУП санаторий \"Янган-Тау\"","0240000558","024001001",null,"Приём сточных вод :: Очистка сточных вод","1389689771","56440039","5412526","2385677281","6 52 42 | Государственные унитарные предприятия субъектов Российской Федерации","нет",null,"руб/куб.м","да","да","100 %","3774578307"]
["12","26471917",null,null,"ГУП санаторий Ассы","0256013979","025601001",null,"Приём сточных вод :: Очистка сточных вод","5279076","5416739","5412526","2385677281","6 52 42 | Государственные унитарные предприятия субъектов Российской Федерации","нет",null,"руб/куб.м","да","да","100 %","3774578307"]
["13","26760341","05879764","1020201303100","ГУСП совхоз «Алексеевский» РБ","0245004926","024501001",null,"Приём сточных вод :: Очистка сточных вод","762559569","5416725","5412526","2385677281","2 01 13 | Сельскохозяйственные потребительские садоводческие кооперативы","нет",null,"руб/куб.м","нет","да","100 %","3774578307"]
["14","28152448","38476389","1120259000102","ДМУП \"ГорКомСервис\"","0259011320","025901001",null,"Приём сточных вод :: Очистка сточных вод :: Транспортировка сточных вод","1504888497","5416743","5412526","2385677278","6 52 43 | Муниципальные унитарные предприятия","нет",null,"руб/куб.м","нет","да","100 %","3774578307"]
["15","26758634","67829044","1100268002933","ЗАО \"ВодоСнабжающая Компания\"","0268055772","026801001",null,"Приём сточных вод :: Очистка сточных вод","502298559","56440075","5412526","2385677281","1 22 47 | Публичные акционерные общества","нет",null,"руб/куб.м","да","нет","0 %","3774578307"]
["16","26353680","00418449","1020201845400","ЗАО \"Мелеузовский молочноконсервный комбинат\"","0263002008","026301001",null,"Транспортировка сточных вод","5167295","5416747","5412526","2386228668","1 22 67 | Непубличные акционерные общества","нет",null,"руб/куб.м","да","нет","0 %","3774578307"]
["17","26825369","29797870","1070278003531","ЗАО \"Фирма \"Мир\"","0278134166","027801001",null,"Приём сточных вод :: Очистка сточных вод","762570113","5416762","5412526","2385677281","1 22 67 | Непубличные акционерные общества","нет",null,"руб/куб.м","да","нет","0 %","3774578307"]
["18","26472050","03253871","1020201773349","ИМУП \"Межрайкоммунводоканал\"","0261002348","026101001",null,"Приём сточных вод :: Очистка сточных вод","5279081","5416746","5412526","2385677281","6 52 43 | Муниципальные унитарные предприятия","да","https://portal.eias.ru/Portal/DownloadPage.aspx?type=15&guid=d0940585-b542-45dd-bd92-0a774a6f0c6d","руб/куб.м","да","да","100 %","3774578307"]
["19","28254451",null,null,"ИП Петров Валерий Юрьевич","021201532810","отсутствует",null,"Приём сточных вод :: Очистка сточных вод","1504886913","500187316","5412526","2385677281","5 01 02 | Индивидуальные предприниматели","нет",null,"руб/куб.м","нет","нет","0 %","3774578307"]
["20","26759540","01953050","1020201382739","МУЗ Чекмагушевская ЦРБ","0249002239","024901001",null,"Приём сточных вод :: Очистка сточных вод","57452863","56440073","5412526","2385677281","7 52 03 | Государственные бюджетные учреждения субъектов Российской Федерации","нет",null,"руб/куб.м","да","да","100 %","3774578307"]
["21","26805221","21553996","1040202122234","МУП \"Абзелиловское специализированное предприятие коммунального обслуживания\"","0201007969","020101001",null,"Приём сточных вод :: Очистка сточных вод","5279050","5416691","5412526","2385677281","6 52 43 | Муниципальные унитарные предприятия","нет",null,"руб/куб.м","да","да","100 %","3774578307"]
["22","30345497","20666758","1150280022045","МУП \"Аскар\"","0201012292","020101001",null,"Приём сточных вод :: Очистка сточных вод :: Транспортировка сточных вод","2210695472","5416691","5412526","2385677278","6 52 43 | Муниципальные унитарные предприятия","нет",null,"руб/куб.м","нет","да","100 %","3774578307"]
["23","28976576","09105901","1150280015160","МУП \"БУЗДЯКСКИЙ КОМСЕРВИС\"","0216007320","021601001",null,"Приём сточных вод :: Очистка сточных вод :: Транспортировка сточных вод","2107973325","5416702","5412526","2385677278","6 52 43 | Муниципальные унитарные предприятия","нет",null,"руб/куб.м","нет","да","100 %","3774578307"]
["24","26471939","96207378","1060258003750","МУП \"Водоканал\"","0258011092","025801001","Очистка сточных вод","Приём сточных вод :: Очистка сточных вод","5279078","5416742","465822482","2385677281","6 52 43 | Муниципальные унитарные предприятия","нет",null,"руб/куб.м","да","да","100 %","3774578307"]
["25","26471939","96207378","1060258003750","МУП \"Водоканал\"","0258011092","025801001",null,"Приём сточных вод :: Очистка сточных вод","5279078","5416742","5412526","2385677281","6 52 43 | Муниципальные унитарные предприятия","нет",null,"руб/куб.м","да","да","100 %","3774578307"]
["26","26471915","82043967","1070256001067","МУП \"Водоканал\" (Белорецк)","0256018871","025601001","Очистка сточных вод","Приём сточных вод :: Очистка сточных вод","5291068","5416739","465822482","2385677281","6 52 43 | Муниципальные унитарные предприятия","нет",null,"руб/куб.м","да","да","100 %","3774578307"]
["27","26471915","82043967","1070256001067","МУП \"Водоканал\" (Белорецк)","0256018871","025601001",null,"Приём сточных вод :: Очистка сточных вод","5291068","5416739","5412526","2385677281","6 52 43 | Муниципальные унитарные предприятия","нет",null,"руб/куб.м","да","да","100 %","3774578307"]
["28","27916300","38496972","1120269000675","МУП \"Водоканал\" (Шаранский)","0251006470","025101001",null,"Приём сточных вод :: Очистка сточных вод","1291491765","5416732","5412526","2385677281","6 52 43 | Муниципальные унитарные предприятия","нет",null,"руб/куб.м","нет","да","100 %","3774578307"]
["29","26472391",null,null,"МУП \"Водоканал\"Кугарчинский","0232002329","023201001",null,"Приём сточных вод :: Очистка сточных вод :: Транспортировка сточных вод","56440058","56440038","5412526","2385677278","6 52 43 | Муниципальные унитарные предприятия","нет",null,"руб/куб.м","нет","да","100 %","3774578307"]
["30","26353627","52946287","1020200782777","МУП \"Дуванводоканал\" МР Дуванский район РБ","0220004836","022001001",null,"Приём сточных вод :: Очистка сточных вод :: Транспортировка сточных вод","5167201","56440036","5412526","2385677278","6 52 43 | Муниципальные унитарные предприятия","нет",null,"руб/куб.м","да","да","100 %","3774578307"]
["31","27745143","48865324","1020201754396","МУП \"Дюртюливодоканал\"","0260006195","026001001",null,"Приём сточных вод :: Очистка сточных вод","5279080","5416744","5412526","2385677281","6 52 43 | Муниципальные унитарные предприятия","нет",null,"руб/куб.м","нет","да","100 %","3774578307"]
["32","26353670","94250625","1060256003400","МУП \"ЖКХ Железнодорожный\"","0256016835","025601001","Оказание услуг на территории: с Улуелга (ОКТМО: 80611422111)","Приём сточных вод :: Очистка сточных вод","5166673","5416739","2399114628","2385677281","6 52 43 | Муниципальные унитарные предприятия","нет",null,"руб/куб.м","нет","да","100 %","3774578307"]
["33","26353670","94250625","1060256003400","МУП \"ЖКХ Железнодорожный\"","0256016835","025601001",null,"Приём сточных вод :: Очистка сточных вод","5166673","5416739","5412526","2385677281","6 52 43 | Муниципальные унитарные предприятия","нет",null,"руб/куб.м","нет","да","100 %","3774578307"]
["34","26353716","48883701","1020203549915","МУП \"ЖКХ\" г.Межгорье","0279000849","027901001",null,"Приём сточных вод :: Очистка сточных вод","5167195","5416763","5412526","2385677281","6 52 43 | Муниципальные унитарные предприятия","нет",null,"руб/куб.м","да","да","100 %","3774578307"]
["35","26353620","33838652","1020201626081","МУП \"Инзерское ПУЖКХ\"","0211003931","025601001",null,"Приём сточных вод :: Очистка сточных вод","5166666","5416739","5412526","2385677281","6 52 43 | Муниципальные унитарные предприятия","нет",null,"руб/куб.м","нет","да","100 %","3774578307"]
["36","28876660","31227967","1140280409554","МУП \"КАЛТАСИНСКИЕ ТС СП КАЛТАСИНСКИЙ СЕЛЬСОВЕТ МР КАЛТАСИНСКИЙ РАЙОН РБ\"","0227006889","022701001",null,"Приём сточных вод :: Очистка сточных вод :: Транспортировка сточных вод","1922410508","5416711","5412526","2385677278","6 52 43 | Муниципальные унитарные предприятия","нет",null,"руб/куб.м","нет","да","100 %","3774578307"]
["37","28814581","27297399","1140280044630","МУП \"КРАСНОХОЛМСКИЕ ТС СП КС МР КАЛТАСИНСКИЙ РАЙОН РБ\"","0227038094","022701001",null,"Приём сточных вод :: Очистка сточных вод :: Транспортировка сточных вод","1840476538","5416711","5412526","2385677278","6 52 43 | Муниципальные унитарные предприятия","нет",null,"руб/куб.м","нет","да","100 %","3774578307"]
["38","26471886","94250915","1060207004990","МУП \"Коммунхоз\"","0207005936","020701001",null,"Приём сточных вод :: Очистка сточных вод","5279052","5416698","5412526","2385677281","6 52 43 | Муниципальные унитарные предприятия","нет",null,"руб/куб.м","нет","да","100 %","3774578307"]
["39","28489188","22664255","1140280004743","МУП \"Кушнаренковское ЖКХ\" РБ","0234008260","023401001",null,"Приём сточных вод :: Очистка сточных вод","1766556203","5416717","5412526","2385677281","6 52 43 | Муниципальные унитарные предприятия","нет",null,"руб/куб.м","нет","да","100 %","3774578307"]
["40","26471967","03253813","1020201812806","МУП \"Межрайкоммунводоканал\"","0262000343","026201001",null,"Приём сточных вод :: Очистка сточных вод","5279082","56440041","5412526","2385677281","6 52 43 | Муниципальные унитарные предприятия","нет",null,"руб/куб.м","да","да","100 %","3774578307"]
["41","26471975","03253888","1020201883481","МУП \"Нефтекамскводоканал\"","0264014479","026401001",null,"Приём сточных вод :: Очистка сточных вод","5279084","5416748","5412526","2385677281","6 52 43 | Муниципальные унитарные предприятия","нет",null,"руб/куб.м","да","да","100 %","3774578307"]
["42","26471975","03253888","1020201883481","МУП \"Нефтекамскводоканал\"","0264014479","026401001",null,"Приём сточных вод :: Очистка сточных вод :: Транспортировка сточных вод","5279084","5416748","5412526","2385677278","6 52 43 | Муниципальные унитарные предприятия","нет",null,"руб/куб.м","да","да","100 %","3774578307"]
["43","26472030","77841980","1050203331056","МУП \"Октябрьсккоммунводоканал\"","0265026710","026501001",null,"Приём сточных вод :: Очистка сточных вод","5279087","5416749","5412526","2385677281","6 52 43 | Муниципальные унитарные предприятия","нет",null,"руб/куб.м","да","да","100 %","3774578307"]
["44","26353676",null,null,"МУП \"Семилетовское ПУЖКХ\"","0260005970","026001001",null,"Приём сточных вод :: Очистка сточных вод","5167238","5416744","5412526","2385677281","6 52 43 | Муниципальные унитарные предприятия","нет",null,"руб/куб.м","нет","да","100 %","3774578307"]
["45","30350111","32006725","1150280011639","МУП \"Сибайводоканал\"","0267018087","026701001",null,"Приём сточных вод :: Очистка сточных вод :: Транспортировка сточных вод","2210695470","56440044","5412526","2385677278","6 52 43 | Муниципальные унитарные предприятия","нет",null,"руб/куб.м","да","да","100 %","3774578307"]
["46","26471953","61170012","1090242000892","МУП \"Тепловодоснабжение\"","0219007350","021901001",null,"Приём сточных вод :: Очистка сточных вод","56796250","5416704","5412526","2385677281","6 52 43 | Муниципальные унитарные предприятия","нет",null,"руб/куб.м","да","да","100 %","3774578307"]
["47","26472069","03253807","1020202856112","МУП \"Уфаводоканал\"","0275000238","027601001",null,"Приём сточных вод :: Очистка сточных вод :: Транспортировка сточных вод","5191298","5416760","5412526","2385677278","6 52 43 | Муниципальные унитарные предприятия","нет",null,"руб/куб.м","да","да","100 %","3774578307"]
["48","26472460","03253821","1020202281880","МУП \"Учалыводоканал\"","0270000570","027001001",null,"Приём сточных вод :: Очистка сточных вод","5279093","5416753","5412526","2385677281","6 52 43 | Муниципальные унитарные предприятия","нет",null,"руб/куб.м","нет","да","100 %","3774578307"]
["49","28464317","20836261","1130280056455","МУП \"ХАЙБУЛЛАЖИЛКОМСТРОЙ\"","0248008051","024801001",null,"Приём сточных вод :: Очистка сточных вод","1619458256","5416729","5412526","2385677281","6 52 43 | Муниципальные унитарные предприятия","нет",null,"руб/куб.м","нет","да","100 %","3774578307"]
["50","26651635","86135554","1080262000610","МУП \"Юмагузинский расчетный центр\"","0232007006","023201001",null,"Приём сточных вод :: Очистка сточных вод","57452861","56440038","5412526","2385677281","6 52 43 | Муниципальные унитарные предприятия","нет",null,"руб/куб.м","нет","да","100 %","3774578307"]
["51","30393783","31224182","1140280075264","МУП «Татышлинские электрические сети, жилье и благоустройство»","0243004938","024301001",null,"Приём сточных вод :: Очистка сточных вод :: Транспортировка сточных вод","2320387825","5416724","5412526","2385677278","6 52 43 | Муниципальные унитарные предприятия","нет",null,"руб/куб.м","нет","да","100 %","3774578307"]
["52","26472042","03253902","1020201992755","МУП Салаватводоканал","0266002905","026601001",null,"Приём сточных вод :: Очистка сточных вод","5279088","56440043","5412526","2385677281","6 52 43 | Муниципальные унитарные предприятия","да","https://portal.eias.ru/Portal/DownloadPage.aspx?type=15&guid=f16da96e-3022-420f-b30d-8c7c3ebe1b77","руб/куб.м","да","да","100 %","3774578307"]
["53","30953201","03279439","1020200880644","Муниципальное унитарное предприятие жилищно-коммунального хозяйства муниципального района Нуримановский район Республики Башкортостан","0239000200","023901001",null,"Приём сточных вод :: Очистка сточных вод :: Транспортировка сточных вод","5167230","5416721","5412526","2385677278","6 52 43 | Муниципальные унитарные предприятия","нет",null,"руб/куб.м","нет","да","100 %","3774578307"]
["54","26579145","22665438","1020201576515","ОАО \"Белебеевский завод \"Автонормаль\"","0255010527","025250001",null,"Приём сточных вод :: Очистка сточных вод :: Транспортировка сточных вод","5279073","5416734","5412526","2385677278","1 22 47 | Публичные акционерные общества","нет",null,"руб/куб.м","да","нет","0 %","3774578307"]
["55","26579145","22665438","1020201576515","ОАО \"Белебеевский завод \"Автонормаль\"","0255010527","025250001",null,"Транспортировка сточных вод","5279073","5416734","5412526","2386228668","1 22 47 | Публичные акционерные общества","нет",null,"руб/куб.м","да","нет","0 %","3774578307"]
["56","27578884","15302190","1030202318740","ОАО \"Птицефабрика \"Башкирская\"","0245012726","024501001",null,"Приём сточных вод :: Очистка сточных вод","57119748","5416725","5412526","2385677281","1 22 47 | Публичные акционерные общества","нет",null,"руб/куб.м","да","нет","0 %","3774578307"]
["57","26453912","15291291","1030203936091","ОАО \"УКХП\" город Уфа","0274092758","027401001",null,"Приём сточных вод :: Очистка сточных вод","56498135","5416758","5412526","2385677281","1 22 47 | Публичные акционерные общества","нет",null,"руб/куб.м","да","нет","0 %","3774578307"]
["58","26754510","61182216","1090271000820","ООО  «ЯнаулВодоканал» г.Янаул РБ","0271009046","027101001",null,"Приём сточных вод :: Очистка сточных вод","57119909","5416754","5412526","2385677281","1 23 00 | Общества с ограниченной ответственностью","нет",null,"руб/куб.м","нет","нет","0 %","3774578307"]
["59","26453470","45223750","1020202283804","ООО \"Абзаково\"","0256014475","025601001",null,"Приём сточных вод :: Очистка сточных вод","5191280","5416739","5412526","2385677281","1 23 00 | Общества с ограниченной ответственностью","нет",null,"руб/куб.м","да","нет","0 %","3774578307"]
["60","28953962","20835639","1130280056466","ООО \"БАШЖИЛСТРОЙПРОЕКТ\"","0261020957","026101001",null,"Приём сточных вод :: Очистка сточных вод :: Транспортировка сточных вод","2020338551","5416746","5412526","2385677278","1 23 00 | Общества с ограниченной ответственностью","нет",null,"руб/куб.м","да","нет","0 %","3774578307"]
["61","26471913","86135152","1080255000220","ООО \"Белебеевский водоканал\"","0255014715","025501001",null,"Приём сточных вод :: Очистка сточных вод :: Транспортировка сточных вод","56440065","5416738","5412526","2385677278","1 23 00 | Общества с ограниченной ответственностью","нет",null,"руб/куб.м","да","нет","0 %","3774578307"]
["62","26471913","86135152","1080255000220","ООО \"Белебеевский водоканал\"","0255014715","025501001",null,"Транспортировка сточных вод","56440065","5416738","5412526","2386228668","1 23 00 | Общества с ограниченной ответственностью","нет",null,"руб/куб.м","да","нет","0 %","3774578307"]
["63","30376832","05209319","1150280040008","ООО \"Водоканал\"","0263017332","026301001",null,"Приём сточных вод :: Очистка сточных вод :: Транспортировка сточных вод","2289821409","5416747","5412526","2385677278","1 23 00 | Общества с ограниченной ответственностью","нет",null,"руб/куб.м","да","да","100 %","3774578307"]
["64","26472379","96213060","1060229004912","ООО \"Водоканал\" Кармаскалинский район","0229010697","022901001",null,"Приём сточных вод :: Очистка сточных вод","56497987","5416713","5412526","2385677281","1 23 00 | Общества с ограниченной ответственностью","нет",null,"руб/куб.м","нет","нет","0 %","3774578307"]
["65","26472462","94270912","1060247002584","ООО \"Водоканал\" Федоровский район","0247004343","024701001",null,"Приём сточных вод :: Очистка сточных вод","5291066","5416728","5412526","2385677281","1 23 00 | Общества с ограниченной ответственностью","нет",null,"руб/куб.м","нет","нет","0 %","3774578307"]
["66","26471929",null,null,"ООО \"Водоканалстройсервис\" Бирский МР","0257008058","025701001",null,"Приём сточных вод :: Очистка сточных вод","5291069","5416741","5412526","2385677281","1 23 00 | Общества с ограниченной ответственностью","да","https://portal.eias.ru/Portal/DownloadPage.aspx?type=15&guid=308d6fce-dc20-40be-a3b6-81ffc99cf48d","руб/куб.м","да","нет","0 %","3774578307"]
["67","27129164","88096806","1080260000875","ООО \"Водолей\" Илишевского района","0225009394","022501001",null,"Приём сточных вод :: Очистка сточных вод","56497983","5416709","5412526","2385677281","1 23 00 | Общества с ограниченной ответственностью","нет",null,"руб/куб.м","нет","нет","0 %","3774578307"]
["68","26471937","88118666","1080250000907","ООО \"Водхоз\" Благоварский район","0214005052","021401001",null,"Приём сточных вод :: Очистка сточных вод :: Транспортировка сточных вод","57060500","5416701","5412526","2385677278","1 23 00 | Общества с ограниченной ответственностью","нет",null,"руб/куб.м","нет","нет","0 %","3774578307"]
["69","26471937","88118666","1080250000907","ООО \"Водхоз\" Благоварский район","0214005052","021401001",null,"Транспортировка сточных вод","57060500","5416701","5412526","2386228668","1 23 00 | Общества с ограниченной ответственностью","нет",null,"руб/куб.м","нет","нет","0 %","3774578307"]
["70","26453634","75813347","1050203261162","ООО \"ЖКО-7\" город Нефтекамск","0264051777","026401001",null,"Транспортировка сточных вод","5279085","5416748","5412526","2386228668","1 23 00 | Общества с ограниченной ответственностью","нет",null,"руб/куб.м","нет","нет","0 %","3774578307"]
["71","27182754","27311998","1140280058731","ООО \"ЖКХ С.МОСКОВО\"","0260012390","026001001",null,"Приём сточных вод :: Очистка сточных вод :: Транспортировка сточных вод","2210695473","5416744","5412526","2385677278","1 23 00 | Общества с ограниченной ответственностью","нет",null,"руб/куб.м","да","нет","0 %","3774578307"]
["72","26754409",null,null,"ООО \"Жилкомсервис\"","0249007050","024901001",null,"Приём сточных вод :: Очистка сточных вод","57119752","56440073","5412526","2385677281","1 23 00 | Общества с ограниченной ответственностью","нет",null,"руб/куб.м","нет","нет","0 %","3774578307"]
["73","28871722","12704255","1120264002176","ООО \"Камводсервис\"","0231008342","023101001",null,"Приём сточных вод :: Очистка сточных вод","1897989024","5416715","5412526","2385677281","1 23 00 | Общества с ограниченной ответственностью","нет",null,"руб/куб.м","нет","нет","0 %","3774578307"]
["74","26472247","88100689","1080264001652","ООО \"Коммунальник\" (Калтасинский МР)","0227006208","022701001",null,"Приём сточных вод :: Очистка сточных вод","56497986","5416711","5412526","2385677281","1 23 00 | Общества с ограниченной ответственностью","нет",null,"руб/куб.м","нет","нет","0 %","3774578307"]
["75","26353639","84454025","1070262000929","ООО \"Коммунальник\" Куюргазинский МР","0233006220","023301001",null,"Приём сточных вод :: Очистка сточных вод","5291060","5416716","5412526","2385677281","1 23 00 | Общества с ограниченной ответственностью","нет",null,"руб/куб.м","нет","нет","0 %","3774578307"]
["76","26453971","88097450","1080272002700","ООО \"Коммунальник\" с.Прибельский МР Кармаскалинский район РБ","0229012038","022901001",null,"Приём сточных вод :: Очистка сточных вод","56497988","5416713","5412526","2385677281","1 23 00 | Общества с ограниченной ответственностью","нет",null,"руб/куб.м","нет","нет","0 %","3774578307"]
["77","26472913","88101683","1080273005570","ООО \"Коммунальщик\" (Иглинский МР)","0224010750","022401001",null,"Приём сточных вод :: Очистка сточных вод","56497982","5416708","5412526","2385677281","1 23 00 | Общества с ограниченной ответственностью","нет",null,"руб/куб.м","нет","нет","0 %","3774578307"]
["78","28464376","71872543","1060267002718","ООО \"Коммунальщик\" (Хайбуллинский МР)","0248005540","024801001",null,"Приём сточных вод :: Очистка сточных вод","563029749","5416729","5412526","2385677281","1 23 00 | Общества с ограниченной ответственностью","нет",null,"руб/куб.м","нет","нет","0 %","3774578307"]
["79","26454029","88096031","1080220000662","ООО \"Коммунальщик\" Салаватский район","0240804502","024001001",null,"Приём сточных вод :: Очистка сточных вод","56440015","56440039","5412526","2385677281","1 23 00 | Общества с ограниченной ответственностью","нет",null,"руб/куб.м","нет","нет","0 %","3774578307"]
["80","28467602",null,null,"ООО \"Компания КРУС\"","0276049941","027401001",null,"Приём сточных вод :: Очистка сточных вод","1619458250","5416758","5412526","2385677281","1 23 00 | Общества с ограниченной ответственностью","нет",null,"руб/куб.м","да","нет","0 %","3774578307"]
["81","28467602",null,null,"ООО \"Компания КРУС\"","0276049941","027401001",null,"Транспортировка сточных вод","1619458250","5416758","5412526","2386228668","1 23 00 | Общества с ограниченной ответственностью","нет",null,"руб/куб.м","да","нет","0 %","3774578307"]
["82","26472412","84454156","1070220001818","ООО \"Мечетлинский водоканал\"","0236005391","023601001",null,"Приём сточных вод :: Очистка сточных вод","56440014","5416718","5412526","2385677281","1 23 00 | Общества с ограниченной ответственностью","нет",null,"руб/куб.м","нет","нет","0 %","3774578307"]
["83","28950884",null,null,"ООО \"ПАВЛОВКА-ВОДОКАНАЛ\"","0239005978","023901001",null,"Приём сточных вод :: Очистка сточных вод :: Транспортировка сточных вод","1983656616","5416721","5412526","2385677278","1 23 00 | Общества с ограниченной ответственностью","нет",null,"руб/куб.м","нет","нет","0 %","3774578307"]
["84","30838851","77847681","1050204485649","ООО \"ПКФ Промоборудование\"","0277070784","027701001",null,"Приём сточных вод :: Очистка сточных вод :: Транспортировка сточных вод","2783161977","56489666","5412526","2385677278","1 23 00 | Общества с ограниченной ответственностью","нет",null,"руб/куб.м","нет","нет","0 %","3774578307"]
["85","27676834","92840185","1140280067839","ООО \"Первая Сетевая Компания\"","0268072425","026801001",null,"Приём сточных вод :: Очистка сточных вод :: Транспортировка сточных вод","1988433808","56440075","5412526","2385677278","1 23 00 | Общества с ограниченной ответственностью","нет",null,"руб/куб.м","да","нет","0 %","3774578307"]
["86","28974612","20672285","1130280045411","ООО \"СК \"МИЛОВСКИЙ ПАРК\"","0276150349","027601001",null,"Приём сточных вод :: Очистка сточных вод :: Транспортировка сточных вод","2107973292","5416760","5412526","2385677278","1 23 00 | Общества с ограниченной ответственностью","нет",null,"руб/куб.м","да","нет","0 %","3774578307"]
["87","26453968","94274407","1060229004582","ООО \"Стройбытсервис\" МР Кармаскалинский район","0229010601","022901001",null,"Приём сточных вод :: Очистка сточных вод","5291058","5416713","5412526","2385677281","1 23 00 | Общества с ограниченной ответственностью","нет",null,"руб/куб.м","нет","нет","0 %","3774578307"]
["88","26454236","88091370","1080272002293","ООО \"Стройресурсы\"","0245019785","024501001",null,"Приём сточных вод :: Очистка сточных вод","56498058","5416725","5412526","2385677281","1 23 00 | Общества с ограниченной ответственностью","нет",null,"руб/куб.м","нет","нет","0 %","3774578307"]
["89","26454236","88091370","1080272002293","ООО \"Стройресурсы\"","0245019785","024501001",null,"Приём сточных вод :: Очистка сточных вод :: Транспортировка сточных вод","56498058","5416725","5412526","2385677278","1 23 00 | Общества с ограниченной ответственностью","нет",null,"руб/куб.м","нет","нет","0 %","3774578307"]
["90","27634723",null,null,"ООО \"Тепловодоканал\" Салаватский район","0240000389","024001001",null,"Приём сточных вод :: Очистка сточных вод","967804312","56440039","5412526","2385677281","1 23 00 | Общества с ограниченной ответственностью","нет",null,"руб/куб.м","нет","нет","0 %","3774578307"]
["91","26472450","64152776","1100269000160","ООО \"Туймазыводоканал\"","0269030971","026901001",null,"Приём сточных вод :: Очистка сточных вод","57385477","5416752","5412526","2385677281","1 23 00 | Общества с ограниченной ответственностью","нет",null,"руб/куб.м","да","нет","0 %","3774578307"]
["92","26766191","86135057","1080242000288","ООО \"УК ЖКХ\"","0242007975","024201001","Очистка сточных вод","Приём сточных вод :: Очистка сточных вод","56497994","5416723","465822482","2385677281","1 23 00 | Общества с ограниченной ответственностью","нет",null,"руб/куб.м","да","нет","0 %","3774578307"]
["93","26766191","86135057","1080242000288","ООО \"УК ЖКХ\"","0242007975","024201001",null,"Приём сточных вод :: Очистка сточных вод","56497994","5416723","5412526","2385677281","1 23 00 | Общества с ограниченной ответственностью","нет",null,"руб/куб.м","да","нет","0 %","3774578307"]
["94","26550657","88135653","1090264000683","ООО \"Управление жилищно-коммунального хозяйства\"","0253018658","025301001",null,"Приём сточных вод :: Очистка сточных вод","57069698","56440040","5412526","2385677281","1 23 00 | Общества с ограниченной ответственностью","нет",null,"руб/куб.м","да","нет","0 %","3774578307"]
["95","26353659","88101252","1080260001018","ООО \"Чекмагушевское ПУЖКХ\"","0249006970","024901001",null,"Приём сточных вод :: Очистка сточных вод","56532664","56440073","5412526","2385677281","1 23 00 | Общества с ограниченной ответственностью","нет",null,"руб/куб.м","нет","нет","0 %","3774578307"]
["96","26472492","84455898","1080250000126","ООО \"Чишмывода\"","0250012070","025001001",null,"Приём сточных вод :: Очистка сточных вод","56497996","5416730","5412526","2385677281","1 23 00 | Общества с ограниченной ответственностью","нет",null,"руб/куб.м","нет","нет","0 %","3774578307"]
["97","28005474","92827664","1110280053905","ООО «Башнефть – Сервис НПЗ»","0275075378","027501001",null,"Приём сточных вод :: Очистка сточных вод :: Транспортировка сточных вод","1363333479","5416759","5412526","2385677278","1 23 00 | Общества с ограниченной ответственностью","нет",null,"руб/куб.м","да","нет","0 %","3774578307"]
["98","26758794","86153730","1020201543493","ООО «Водоканал» (Баймакский МР)","0254011302","025401001",null,"Приём сточных вод :: Очистка сточных вод","502298550","5416736","5412526","2385677281","1 23 00 | Общества с ограниченной ответственностью","нет",null,"руб/куб.м","нет","нет","0 %","3774578307"]
["99","26754415","64154427","1100266000702","ООО «ПромВодоКанал»","0266033685","026601001","Оказание услуг на территории: город Салават (ОКТМО: 80739000) - для абонентов МУП \"Салаватводоканал\"","Приём сточных вод :: Очистка сточных вод","486284786","56440043","2423799377","2385677281","1 23 00 | Общества с ограниченной ответственностью","нет",null,"руб/куб.м","да","нет","0 %","3774578307"]
["100","26754415","64154427","1100266000702","ООО «ПромВодоКанал»","0266033685","026601001","Оказание услуг на территории: город Салават (ОКТМО: 80739000) - канализационные сооружения","Приём сточных вод :: Очистка сточных вод","486284786","56440043","2423799376","2385677281","1 23 00 | Общества с ограниченной ответственностью","нет",null,"руб/куб.м","да","нет","0 %","3774578307"]
["101","26754415","64154427","1100266000702","ООО «ПромВодоКанал»","0266033685","026601001","Очистка сточных вод","Приём сточных вод :: Очистка сточных вод","486284786","56440043","465822482","2385677281","1 23 00 | Общества с ограниченной ответственностью","нет",null,"руб/куб.м","да","нет","0 %","3774578307"]
["102","26754415","64154427","1100266000702","ООО «ПромВодоКанал»","0266033685","026601001",null,"Приём сточных вод :: Очистка сточных вод","486284786","56440043","5412526","2385677281","1 23 00 | Общества с ограниченной ответственностью","нет",null,"руб/куб.м","да","нет","0 %","3774578307"]
["103","26754415","64154427","1100266000702","ООО «ПромВодоКанал»","0266033685","026601001",null,"Приём сточных вод :: Очистка сточных вод :: Транспортировка сточных вод","486284786","56440043","5412526","2385677278","1 23 00 | Общества с ограниченной ответственностью","нет",null,"руб/куб.м","да","нет","0 %","3774578307"]
["104","26472019",null,null,"ООО БГК Кармановская ГРЭС","0277077282","026401001",null,"Приём сточных вод :: Очистка сточных вод :: Транспортировка сточных вод","5281306","5416748","5412526","2385677278","1 23 00 | Общества с ограниченной ответственностью","нет",null,"руб/куб.м","да","нет","0 %","3774578307"]
["105","26453118","86135301","1080220000464","ООО ЖКХ \"Ургалинское\" МР Белокатайский район","0210027577","021001001",null,"Приём сточных вод :: Очистка сточных вод","56497978","56440035","5412526","2385677281","1 23 00 | Общества с ограниченной ответственностью","нет",null,"руб/куб.м","нет","нет","0 %","3774578307"]
["106","26454242","61178700","1090280031203","ООО ЖКХ \"Шемяк\"","0245021015","024501001",null,"Приём сточных вод :: Очистка сточных вод","57119823","5416725","5412526","2385677281","1 23 00 | Общества с ограниченной ответственностью","нет",null,"руб/куб.м","да","нет","0 %","3774578307"]
["107","26454242","61178700","1090280031203","ООО ЖКХ \"Шемяк\"","0245021015","024501001",null,"Приём сточных вод :: Очистка сточных вод :: Транспортировка сточных вод","57119823","5416725","5412526","2385677278","1 23 00 | Общества с ограниченной ответственностью","нет",null,"руб/куб.м","да","нет","0 %","3774578307"]
["108","26353704","86158354","1080272002007","ООО КХ \"Авдон\"","0245019658","024501001",null,"Приём сточных вод :: Очистка сточных вод","56527445","5416725","5412526","2385677281","1 23 00 | Общества с ограниченной ответственностью","нет",null,"руб/куб.м","да","нет","0 %","3774578307"]
["109","26651697","15291983","1030202317991","ООО ПЖУ \"Нижегородское\"","0245012420","024501001",null,"Приём сточных вод :: Очистка сточных вод","57452862","5416725","5412526","2385677281","1 23 00 | Общества с ограниченной ответственностью","нет",null,"руб/куб.м","нет","нет","0 %","3774578307"]
["110","27687958",null,null,"ООО Строй-Комфорт","0203003938","020301001",null,"Приём сточных вод :: Очистка сточных вод","57069727","56440070","5412526","2385677281","1 23 00 | Общества с ограниченной ответственностью","нет",null,"руб/куб.м","нет","нет","0 %","3774578307"]
["111","30839066","12701647","1120280047403","ООО УК \"Керамик\"","0260011808","026001001",null,"Приём сточных вод :: Очистка сточных вод :: Транспортировка сточных вод","2783161974","5416744","5412526","2385677278","1 23 00 | Общества с ограниченной ответственностью","нет",null,"руб/куб.м","нет","да","100 %","3774578307"]
["112","28501481","16809790","1130280038789","ООО УК \"КомУслугиУфимский\"","0248008005","024801001",null,"Приём сточных вод :: Очистка сточных вод","1766556199","5416729","5412526","2385677281","1 23 00 | Общества с ограниченной ответственностью","нет",null,"руб/куб.м","нет","нет","0 %","3774578307"]
["113","28486251","16807644","1130280037513","ООО УК \"НовоБулгаково\"","0245025010","024501001",null,"Приём сточных вод :: Очистка сточных вод","1766556202","5416725","5412526","2385677281","1 23 00 | Общества с ограниченной ответственностью","нет",null,"руб/куб.м","нет","нет","0 %","3774578307"]
["114","26472452","026901001","1030203557218","ООО УПТК \"Водомонтажкомплект\"","0269019015","026901001",null,"Приём сточных вод :: Очистка сточных вод","5279091","5416752","5412526","2385677281","1 23 00 | Общества с ограниченной ответственностью","нет",null,"руб/куб.м","нет","нет","0 %","3774578307"]
["115","26353710","88090672","1080272002216","ООО\"Алексеевское коммунальное управление\" МР Уфимский район РБ","0245019753","024501001",null,"Приём сточных вод :: Очистка сточных вод","56498057","5416725","5412526","2385677281","1 23 00 | Общества с ограниченной ответственностью","нет",null,"руб/куб.м","нет","нет","0 %","3774578307"]
["116","28536502","75834941","1050202229880","Раевское МУП ПО МТО \"Агротехснаб\" Альшеевского района Республики Башкортостан","0202006277","020201001",null,"Приём сточных вод :: Очистка сточных вод","1773617424","5416694","5412526","2385677281","6 52 43 | Муниципальные унитарные предприятия","нет",null,"руб/куб.м","нет","да","100 %","3774578307"]
["117","26353692","73775370","1020202279460","Сибайский филиал ОАО \"Учалинский ГОК\"","0270007455","026702001",null,"Транспортировка сточных вод","5191288","5416750","5412526","2386228668","1 22 47 | Публичные акционерные общества","нет",null,"руб/куб.м","да","нет","0 %","3774578307"]
["118","26841421","00139608","1020203226230","Туймазинское нефтепроводное управление - филиал АО \"Транснефть-Урал\"","0278039018","026902001",null,"Приём сточных вод :: Очистка сточных вод","5177108","56796259","5412526","2385677281","1 22 47 | Публичные акционерные общества","нет",null,"руб/куб.м","да","нет","0 %","3774578307"]
["119","30914574","08371977","1027700430889","ФГБУ \"ЦЖКУ\" МИНОБОРОНЫ РОССИИ (по ЦВО)","7729314745","667043001",null,"Приём сточных вод :: Очистка сточных вод","3089489028","797183637","5412526","2385677281","7 51 03 | Федеральные государственные бюджетные учреждения","нет",null,"руб/куб.м","да","да","100 %","3774578307"]
["120","30914574","08371977","1027700430889","ФГБУ \"ЦЖКУ\" МИНОБОРОНЫ РОССИИ (по ЦВО)","7729314745","667043001",null,"Транспортировка сточных вод","3089489028","797183637","5412526","2386228668","7 51 03 | Федеральные государственные бюджетные учреждения","нет",null,"руб/куб.м","да","да","100 %","3774578307"]
["121","26453060","01911086","1020201578902","ФГБУ санаторий \"Глуховская\" Минздрава России","0209001038","025501001",null,"Приём сточных вод :: Очистка сточных вод :: Транспортировка сточных вод","5279053","5416738","5412526","2385677278","6 52 41 | Федеральные государственные унитарные предприятия","нет",null,"руб/куб.м","да","да","100 %","3774578307"]
["122","26471890","01911074","1020201579705","ФГБУ санаторий им. С.Т. Аксакова Минздрава России","0255002773","025501001",null,"Приём сточных вод :: Очистка сточных вод :: Транспортировка сточных вод","56497997","5416738","5412526","2385677278","6 52 41 | Федеральные государственные унитарные предприятия","нет",null,"руб/куб.м","нет","да","100 %","3774578307"]
["123","28829266","07508405","1020202089115","ФКП \"АВАНГАРД\"","0268005588","026801001",null,"Приём сточных вод :: Очистка сточных вод :: Транспортировка сточных вод","1897976451","56440075","5412526","2385677278","6 51 41 | Федеральные казенные предприятия","нет",null,"руб/куб.м","да","да","100 %","3774578307"]
["124","28829266","07508405","1020202089115","ФКП \"АВАНГАРД\"","0268005588","026801001",null,"Транспортировка сточных вод","1897976451","56440075","5412526","2386228668","6 51 41 | Федеральные казенные предприятия","нет",null,"руб/куб.м","да","да","100 %","3774578307"]
["125","26922298","1911100","1020201729789","Федеральное государственное бюджетное учреждение санаторий \"Шафраново\" Министерства здравоохранения Российской Федерации","0202000395","020201001",null,"Приём сточных вод :: Очистка сточных вод","762561930","5416694","5412526","2385677281","7 51 03 | Федеральные государственные бюджетные учреждения","нет",null,"руб/куб.м","да","да","100 %","3774578307"]
["126","27300211","00335338","1020201396412","Чишминский сахарный завод","0250005763","025001001",null,"Приём сточных вод :: Очистка сточных вод","5191278","5416730","5412526","2385677281","1 22 47 | Публичные акционерные общества","нет",null,"руб/куб.м","да","нет","0 %","3774578307"]

{"sheet":"PLAN1X_LIST_MO","index":30,"n_rows":2,"n_cols":8,"rows_kept":2,"hidden":true}
["POSITION","MR","MO","OKTMO","TAX","DPR","VTOV","LGL_ID"]
["22.1","Город Стерлитамак","Город Стерлитамак","80745000","да",null,"Без дифференциации","3774578307"]

{"sheet":"PLAN1X_LIST_SUBSIDIARY","index":31,"n_rows":2,"n_cols":2,"rows_kept":2,"hidden":true}
["DIC_NAME","DIC_VALUE"]
["SUBSIDIARY_LIST"]

{"sheet":"PLAN1X_LIST_DPR","index":32,"n_rows":8,"n_cols":2,"rows_kept":8,"hidden":true}
["DIC_NAME","DIC_VALUE"]
["DPR_LIST"]
["DPR_LIST","Оказание услуг на территории: город Салават (ОКТМО: 80739000) - для абонентов МУП \"Салаватводоканал\""]
["DPR_LIST","Оказание услуг на территории: город Салават (ОКТМО: 80739000) - канализационные сооружения"]
["DPR_LIST","Оказание услуг на территории: город Уфа (ОКТМО: 80701000) - военные городки № 1, 63, 66"]
["DPR_LIST","Оказание услуг на территории: с Железнодорожный (ОКТМО: 80611418101) и с Ломовка (ОКТМО: 80611427101)"]
["DPR_LIST","Оказание услуг на территории: с Улуелга (ОКТМО: 80611422111)"]
["DPR_LIST","Очистка сточных вод"]

{"sheet":"PLAN1X_LIST_SRC","index":33,"n_rows":15,"n_cols":31,"rows_kept":15,"hidden":true}
["CONTEXT_ID","№","ПРИЁМ","ОЧИСТКА","ТР-КА","Организация","ИНН","КПП","Филиал","№","Объект","Тип","Адрес. МР","Адрес. МО","Адрес. ОКТМО","Адрес. НП","Адрес. НП ОКТМО","Адрес. Улица","Адрес. Дом","","Территория. МР","Территория. МО","Территория. ОКТМО","Территория. НП","Территория. НП ОКТМО","Водоотведение. Установленная мощность","Водоотведение. Подключенная нагрузка","Очистка. Установленная мощность","Очистка. Подключенная нагрузка","Транспортировка. Установленная мощность","Транспортировка. Подключенная нагрузка"]
[null,"1","да","нет","нет",null,"0268055772","026801001",null,null,"Канализационная насосная станция","КНС","Город Стерлитамак","Город Стерлитамак","80745000","г Стерлитамак","80745000001","ул. Зои Космодемьянской","16","1","Город Стерлитамак","Город Стерлитамак","80745000","г Стерлитамак","80745000001","200","65"]
[null,"2","да","нет","нет",null,"0268055772","026801001",null,null,"Канализационная насосная станция","КНС","Город Стерлитамак","Город Стерлитамак","80745000","г Стерлитамак","80745000001","ул. Гоголя","141д","1","Город Стерлитамак","Город Стерлитамак","80745000","г Стерлитамак","80745000001","300","85"]
[null,"3","да","нет","нет",null,"0268055772","026801001",null,null,"Канализационная насосная станция","КНС","Город Стерлитамак","Город Стерлитамак","80745000","г Стерлитамак","80745000001","ул. Казина","7","1","Город Стерлитамак","Город Стерлитамак","80745000","г Стерлитамак","80745000001","300","50"]
[null,"4","да","нет","нет",null,"0268055772","026801001",null,null,"Канализационная насосная станция - 2","КНС","Город Стерлитамак","Город Стерлитамак","80745000","г Стерлитамак","80745000001","ул. Пугачева","88а","1","Город Стерлитамак","Город Стерлитамак","80745000","г Стерлитамак","80745000001","8100","0"]
[null,"5","да","нет","нет",null,"0268055772","026801001",null,null,"Насосная станция перекачки сточных вод","КНС","Город Стерлитамак","Город Стерлитамак","80745000","г Стерлитамак","80745000001","ул. 7 Ноября","111","1","Город Стерлитамак","Город Стерлитамак","80745000","г Стерлитамак","80745000001","3150","500"]
[null,"6","да","нет","нет",null,"0268055772","026801001",null,null,"Насосная станция перекачки сточных вод РНС-1","КНС","Город Стерлитамак","Город Стерлитамак","80745000","г Стерлитамак","80745000001","ул. Мира","128а","1","Город Стерлитамак","Город Стерлитамак","80745000","г Стерлитамак","80745000001","450","85"]
[null,"7","да","нет","нет",null,"0268055772","026801001",null,null,"Насосная станция перекачки сточных вод РНС-2 Бугоровка","КНС","Город Стерлитамак","Город Стерлитамак","80745000","г Стерлитамак","80745000001","ул. Кочетова","47","1","Город Стерлитамак","Город Стерлитамак","80745000","г Стерлитамак","80745000001","300","65"]
[null,"8","да","нет","нет",null,"0268055772","026801001",null,null,"Насосная станция перекачки сточных вод РНС-3","КНС","Город Стерлитамак","Город Стерлитамак","80745000","г Стерлитамак","80745000001","ул. Совхозная","2а","1","Город Стерлитамак","Город Стерлитамак","80745000","г Стерлитамак","80745000001","300","40"]
[null,"9","да","нет","нет",null,"0268055772","026801001",null,null,"Насосная станция перекачки сточных вод РНС-5","КНС","Город Стерлитамак","Город Стерлитамак","80745000","г Стерлитамак","80745000001","ул. Ильича","101а","1","Город Стерлитамак","Город Стерлитамак","80745000","г Стерлитамак","80745000001","272","40"]
[null,"10","нет","да","нет",null,"0268055772","026801001",null,null,"биологические очистные сооружения","ОС","Город Стерлитамак","Город Стерлитамак","80745000","г Стерлитамак","80745000001","ул. Бабушкина","12","1","Город Стерлитамак","Город Стерлитамак","80745000","г Стерлитамак","80745000001",null,null,"1040","1000"]
[null,"11","нет","нет","да",null,"0268055772","026801001",null,null,"канализационная сеть","сеть","Город Стерлитамак","Город Стерлитамак","80745000","г Стерлитамак","80745000001","г. Стерлитамак","/","1","Город Стерлитамак","Город Стерлитамак","80745000","г Стерлитамак","80745000001",{"$nulls":4},"16732","1490"]
[null,"12","да","нет","нет",null,"0268055772","026801001",null,null,"насосная станция","КНС","Город Стерлитамак","Город Стерлитамак","80745000","г Стерлитамак","80745000001","пер. Российский","26а","1","Город Стерлитамак","Город Стерлитамак","80745000","г Стерлитамак","80745000001","280","20"]
[null,"13","да","нет","нет",null,"0268055772","026801001",null,null,"насосная станция перекачки","КНС","Город Стерлитамак","Город Стерлитамак","80745000","г Стерлитамак","80745000001","тракт. Оренбургский","2","1","Город Стерлитамак","Город Стерлитамак","80745000","г Стерлитамак","80745000001","200","40"]
[null,"14","да","нет","нет",null,"0268055772","026801001",null,null,"насосная станция перекачки","КНС","Город Стерлитамак","Город Стерлитамак","80745000","г Стерлитамак","80745000001","ул. Днепровская","1","1","Город Стерлитамак","Город Стерлитамак","80745000","г Стерлитамак","80745000001","2880","500"]

{"sheet":"PLAN1X_LIST_TMX","index":34,"n_rows":139,"n_cols":19,"rows_kept":139,"hidden":true}
["NOMER","ORG","INN","KPP","FIL","VDET","DPR","MR","MO","OKTMO","DET","TF_I_RSL","TF_II_RSL","TF_I_BDG","TF_II_BDG","TF_I_PPL","TF_II_PPL","TF_I_OTH","TF_II_OTH"]
["13.16","OOO \"Башэнергонефть\"","0265025917","027201001",null,"Приём сточных вод :: Очистка сточных вод","1 объектов","Уфимский муниципальный район","Уфимский муниципальный район","80652000","Без дифференциации",{"$nulls":6},"117.48","119.49"]
["51.2","OOO \"Башэнергонефть\"","0265025917","027201001",null,"Приём сточных вод :: Очистка сточных вод","1 объектов","Янаульский муниципальный район","Янаульский муниципальный район","80659000","Без дифференциации",{"$nulls":6},"1053.3","1080.11"]
["32.2","OOO \"Башэнергонефть\"","0265025917","027201001",null,"Приём сточных вод :: Транспортировка сточных вод","1 объектов","Краснокамский муниципальный район","Краснокамский муниципальный район","80637000","Без дифференциации",{"$nulls":6},"219.33","230.87"]
["13.13","АО \" Международный аэропорт \"Уфа\"","0274108180","024501001",null,"Приём сточных вод :: Очистка сточных вод","1 объектов","Уфимский муниципальный район","Уфимский муниципальный район","80652000","Без дифференциации",{"$nulls":4},"14.52","15.46"]
["13.14","АО \" Международный аэропорт \"Уфа\"","0274108180","024501001",null,"Приём сточных вод :: Очистка сточных вод","1 объектов","Уфимский муниципальный район","Уфимский муниципальный район","80652000","Без дифференциации",null,null,"66.97","71.66",null,null,"66.97","71.66"]
["22.4","АО \"БСК\"","0268008010","997350001",null,"Приём сточных вод :: Очистка сточных вод :: Транспортировка сточных вод","9 объектов","Город Стерлитамак","Город Стерлитамак","80745000","ЖБО",{"$nulls":6},"3.22","3.22"]
["22.3","АО \"БСК\"","0268008010","997350001",null,"Приём сточных вод :: Очистка сточных вод :: Транспортировка сточных вод","10 объектов","Город Стерлитамак","Город Стерлитамак","80745000","ПСВ",{"$nulls":6},"21.8","22.96"]
["22.7","АО \"ГУ ЖКХ\"","5116000922","770401001",null,"Транспортировка сточных вод","1 объектов","Город Стерлитамак","Город Стерлитамак","80745000","Без дифференциации",null,null,"38.18","39.65"]
["13.9","АО \"КОРПОРАЦИЯ РАЗВИТИЯ РЕСПУБЛИКИ БАШКОРТОСТАН\"","0274153834","027401001",null,"Транспортировка сточных вод","1 объектов","Уфимский муниципальный район","Уфимский муниципальный район","80652000","Без дифференциации",{"$nulls":6},"145.36","146.78"]
["45.2","АО \"Учалинский горно-обогатительный комбинат\"","0270007455","997550001",null,"Приём сточных вод :: Очистка сточных вод :: Транспортировка сточных вод","2 объектов","Учалинский муниципальный район","Город Учалы","80653101","Без дифференциации",{"$nulls":6},"29.78","31.7"]
["52.2","АО «Башкоммунводоканал»","0278181938","027801001",null,"Приём сточных вод :: Очистка сточных вод :: Транспортировка сточных вод","1 объектов","Бирский муниципальный район","Бирский муниципальный район","80613000","Без дифференциации",{"$nulls":3},"25.04",null,"25.04",null,"25.04"]
["37.3","АО «ЭКОЛАЙН»","0263012052","026301001",null,"Транспортировка сточных вод","1 объектов","Мелеузовский муниципальный район","Город Мелеуз","80641101","Без дифференциации",{"$nulls":6},"48.2","49.52"]
["13.1","ГУП санаторий \"Юматово\"","0245011962","024501001",null,"Приём сточных вод :: Очистка сточных вод","9 объектов","Уфимский муниципальный район","Уфимский муниципальный район","80652000","Без дифференциации",null,null,"11.9","12.79","11.9","12.79","11.9","12.79"]
["40.3","ГУП санаторий \"Янган-Тау\"","0240000558","024001001",null,"Приём сточных вод :: Очистка сточных вод","2 объектов","Салаватский муниципальный район","Салаватский муниципальный район","80647000","Без дифференциации",null,null,"17.71","18.97","17.71","18.97","17.71","18.97"]
["8.7","ГУП санаторий Ассы","0256013979","025601001",null,"Приём сточных вод :: Очистка сточных вод","1 объектов","Белорецкий муниципальный район","Белорецкий муниципальный район","80611000","Без дифференциации",{"$nulls":4},"46.44","48.38","46.44","48.38"]
["13.7","ГУСП совхоз «Алексеевский» РБ","0245004926","024501001",null,"Приём сточных вод :: Очистка сточных вод","1 объектов","Уфимский муниципальный район","Уфимский муниципальный район","80652000","Без дифференциации","13.21","13.9"]
["24.1","ДМУП \"ГорКомСервис\"","0259011320","025901001",null,"Приём сточных вод :: Очистка сточных вод :: Транспортировка сточных вод","1 объектов","Давлекановский муниципальный район","Город Давлеканово","80622101","Без дифференциации",null,null,"36.63","39.19","36.63","39.19","36.63","39.19"]
["22.1","ЗАО \"ВодоСнабжающая Компания\"","0268055772","026801001",null,"Приём сточных вод :: Очистка сточных вод","14 объектов","Город Стерлитамак","Город Стерлитамак","80745000","Без дифференциации",null,null,"14.11","15.67","14.11","15.67","14.11","15.67"]
["37.2","ЗАО \"Мелеузовский молочноконсервный комбинат\"","0263002008","026301001",null,"Транспортировка сточных вод","1 объектов","Мелеузовский муниципальный район","Город Мелеуз","80641101","Без дифференциации",{"$nulls":6},"3.4","3.64"]
["23.5","ЗАО \"Фирма \"Мир\"","0278134166","027801001",null,"Приём сточных вод :: Очистка сточных вод","2 объектов","Город Уфа","Город Уфа","80701000","Без дифференциации",{"$nulls":6},"45.92","49.46"]
["29.1","ИМУП \"Межрайкоммунводоканал\"","0261002348","026101001",null,"Приём сточных вод :: Очистка сточных вод","10 объектов","Ишимбайский муниципальный район","Ишимбайский муниципальный район","80631000","Без дифференциации",null,null,"19.53","22.7","19.53","22.7","19.53","22.7"]
["9.1","ИП Петров Валерий Юрьевич","021201532810","отсутствует",null,"Приём сточных вод :: Очистка сточных вод","1 объектов","Бижбулякский муниципальный район","Бижбулякский муниципальный район","80612000","Без дифференциации",null,null,"14.68","16.07","14.68","16.07","14.68","16.07"]
["48.2","МУЗ Чекмагушевская ЦРБ","0249002239","024901001",null,"Приём сточных вод :: Очистка сточных вод","1 объектов","Чекмагушевский муниципальный район","Чекмагушевский муниципальный район","80656000","Без дифференциации",{"$nulls":4},"19.16","20.87","19.16","20.87"]
["1.1","МУП \"Абзелиловское специализированное предприятие коммунального обслуживания\"","0201007969","020101001",null,"Приём сточных вод :: Очистка сточных вод","5 объектов","Абзелиловский муниципальный район","Абзелиловский муниципальный район","80601000","Без дифференциации",null,null,"35.66","38.16","35.66","38.16","35.66","38.16"]
["1.2","МУП \"Аскар\"","0201012292","020101001",null,"Приём сточных вод :: Очистка сточных вод :: Транспортировка сточных вод","1 объектов","Абзелиловский муниципальный район","Абзелиловский муниципальный район","80601000","Без дифференциации",null,null,"31.07","33.24","31.07","33.24","31.07","33.24"]
["1.3","МУП \"Аскар\"","0201012292","020101001",null,"Приём сточных вод :: Очистка сточных вод :: Транспортировка сточных вод","1 объектов","Абзелиловский муниципальный район","Абзелиловский муниципальный район","80601000","Без дифференциации",null,null,"23.75","24.99","23.75","24.99"]
["12.1","МУП \"БУЗДЯКСКИЙ КОМСЕРВИС\"","0216007320","021601001",null,"Приём сточных вод :: Очистка сточных вод :: Транспортировка сточных вод","1 объектов","Буздякский муниципальный район","Буздякский муниципальный район","80617000","Без дифференциации",null,null,"47","50.29","47","50.29","47","50.29"]
["11.2","МУП \"Водоканал\"","0258011092","025801001","Очистка сточных вод","Приём сточных вод :: Очистка сточных вод","1 объектов","Благовещенский муниципальный район","Благовещенский муниципальный район","80615000","Без дифференциации",null,null,"6.52","6.97","6.52","6.97","6.52","6.97"]
["11.1","МУП \"Водоканал\"","0258011092","025801001",null,"Приём сточных вод :: Очистка сточных вод","1 объектов","Благовещенский муниципальный район","Благовещенский муниципальный район","80615000","Без дифференциации",null,null,"10.21","10.57","10.21","10.57","10.21","10.57"]
["8.5","МУП \"Водоканал\" (Белорецк)","0256018871","025601001","Очистка сточных вод","Приём сточных вод :: Очистка сточных вод","1 объектов","Белорецкий муниципальный район","Белорецкий муниципальный район","80611000","Без дифференциации","4.92","5.04"]
["8.4","МУП \"Водоканал\" (Белорецк)","0256018871","025601001",null,"Приём сточных вод :: Очистка сточных вод","1 объектов","Белорецкий муниципальный район","Белорецкий муниципальный район","80611000","Без дифференциации",{"$nulls":4},"10.86","11.06","10.86","11.06"]
["50.1","МУП \"Водоканал\" (Шаранский)","0251006470","025101001",null,"Приём сточных вод :: Очистка сточных вод","1 объектов","Шаранский муниципальный район","Шаранский муниципальный район","80658000","Без дифференциации",null,null,"34.63","37.05","34.63","37.05","34.63","37.05"]
["33.1","МУП \"Водоканал\"Кугарчинский","0232002329","023201001",null,"Приём сточных вод :: Очистка сточных вод :: Транспортировка сточных вод","1 объектов","Кугарчинский муниципальный район","Мраковский сельский совет","80638450","Без дифференциации",null,null,"55.72","56.54","55.72","56.54","55.72","56.54"]
["25.1","МУП \"Дуванводоканал\" МР Дуванский район РБ","0220004836","022001001",null,"Приём сточных вод :: Очистка сточных вод :: Транспортировка сточных вод","1 объектов","Дуванский муниципальный район","Дуванский муниципальный район","80623000","Без дифференциации",null,null,"23.24","24.52","23.24","24.52","23.24","24.52"]
["26.1","МУП \"Дюртюливодоканал\"","0260006195","026001001",null,"Приём сточных вод :: Очистка сточных вод","12 объектов","Дюртюлинский муниципальный район","Дюртюлинский муниципальный район","80624000","Без дифференциации",null,null,"29.62","36.72","29.62","36.72","29.62","36.72"]
["8.6","МУП \"ЖКХ Железнодорожный\"","0256016835","025601001","Оказание услуг на территории: с Улуелга (ОКТМО: 80611422111)","Приём сточных вод :: Очистка сточных вод","1 объектов","Белорецкий муниципальный район","Белорецкий муниципальный район","80611000","Без дифференциации",null,null,"62.07","63.06","62.07","63.06","62.07","63.06"]
["8.2","МУП \"ЖКХ Железнодорожный\"","0256016835","025601001",null,"Приём сточных вод :: Очистка сточных вод","1 объектов","Белорецкий муниципальный район","Белорецкий муниципальный район","80611000","Без дифференциации",null,null,"28.03","28.5","28.03","28.5","28.03","28.5"]
["15.1","МУП \"ЖКХ\" г.Межгорье","0279000849","027901001",null,"Приём сточных вод :: Очистка сточных вод","1 объектов","ЗАТО город Межгорье","ЗАТО город Межгорье","80707000","Без дифференциации",null,null,"72.26","77.32","72.26","77.32","72.26","77.32"]
["8.3","МУП \"Инзерское ПУЖКХ\"","0211003931","025601001",null,"Приём сточных вод :: Очистка сточных вод","2 объектов","Белорецкий муниципальный район","Белорецкий муниципальный район","80611000","Без дифференциации",null,null,"38.43","39.3","38.43","39.3","38.43","39.3"]
["30.2","МУП \"КАЛТАСИНСКИЕ ТС СП КАЛТАСИНСКИЙ СЕЛЬСОВЕТ МР КАЛТАСИНСКИЙ РАЙОН РБ\"","0227006889","022701001",null,"Приём сточных вод :: Очистка сточных вод :: Транспортировка сточных вод","3 объектов","Калтасинский муниципальный район","Калтасинский муниципальный район","80633000","Без дифференциации",null,null,"39.97","42.77","39.97","42.77","39.97","42.77"]
["30.1","МУП \"КРАСНОХОЛМСКИЕ ТС СП КС МР КАЛТАСИНСКИЙ РАЙОН РБ\"","0227038094","022701001",null,"Приём сточных вод :: Очистка сточных вод :: Транспортировка сточных вод","1 объектов","Калтасинский муниципальный район","Калтасинский муниципальный район","80633000","Без дифференциации",null,null,"31.17","33.35","31.17","33.35"]
["5.1","МУП \"Коммунхоз\"","0207005936","020701001",null,"Приём сточных вод :: Очистка сточных вод","4 объектов","Бакалинский муниципальный район","Бакалинский муниципальный район","80607000","Без дифференциации",null,null,"27.97","29.82","27.97","29.82","27.97","29.82"]
["35.1","МУП \"Кушнаренковское ЖКХ\" РБ","0234008260","023401001",null,"Приём сточных вод :: Очистка сточных вод","4 объектов","Кушнаренковский муниципальный район","Кушнаренковский сельский совет","80640435","Без дифференциации",null,null,"46.52","49.78","46.52","49.78","46.52","49.78"]
["16.1","МУП \"Межрайкоммунводоканал\"","0262000343","026201001",null,"Приём сточных вод :: Очистка сточных вод","2 объектов","Город Кумертау","город Кумертау","80723000","Без дифференциации",null,null,"11.3","11.97","11.3","11.97","11.3","11.97"]
["17.2","МУП \"Нефтекамскводоканал\"","0264014479","026401001",null,"Приём сточных вод :: Очистка сточных вод","2 объектов","Город Нефтекамск","город Нефтекамск","80727000","Без дифференциации",null,null,"8.3","8.88","8.3","8.88","8.3","8.88"]
["17.1","МУП \"Нефтекамскводоканал\"","0264014479","026401001",null,"Приём сточных вод :: Очистка сточных вод :: Транспортировка сточных вод","13 объектов","Город Нефтекамск","город Нефтекамск","80727000","Без дифференциации",null,null,"14.3","15.3","14.3","15.3","14.3","15.3"]
["20.1","МУП \"Октябрьсккоммунводоканал\"","0265026710","026501001",null,"Приём сточных вод :: Очистка сточных вод","3 объектов","Город Октябрьский","город Октябрьский","80735000","Без дифференциации",null,null,"11.18","12.41","11.18","12.41","11.18","12.41"]
["26.3","МУП \"Семилетовское ПУЖКХ\"","0260005970","026001001",null,"Приём сточных вод :: Очистка сточных вод","1 объектов","Дюртюлинский муниципальный район","Дюртюлинский муниципальный район","80624000","Без дифференциации",{"$nulls":4},"27.01","30.25","27.01","30.25"]
["21.2","МУП \"Сибайводоканал\"","0267018087","026701001",null,"Приём сточных вод :: Очистка сточных вод :: Транспортировка сточных вод","3 объектов","Город Сибай","Город Сибай","80743000","Без дифференциации",null,null,"16.5","18.61","16.5","18.61","16.5","18.61"]
["18.1","МУП \"Тепловодоснабжение\"","0219007350","021901001",null,"Приём сточных вод :: Очистка сточных вод","3 объектов","Гафурийский муниципальный район","Гафурийский муниципальный район","80621000","Без дифференциации",null,null,"18.15","19.38","18.15","19.38","18.15","19.38"]
["23.1","МУП \"Уфаводоканал\"","0275000238","027601001",null,"Приём сточных вод :: Очистка сточных вод :: Транспортировка сточных вод","60 объектов","Город Уфа","Город Уфа","80701000","Без дифференциации","17.35","20.19","17.35","20.19","17.35","20.19","17.35","20.19"]
["44.1","МУП \"Уфаводоканал\"","0275000238","027601001",null,"Приём сточных вод :: Очистка сточных вод :: Транспортировка сточных вод","1 объектов","Уфимский муниципальный район","Михайловский сельский совет","80652440","Без дифференциации","17.35","20.19"]
["45.1","МУП \"Учалыводоканал\"","0270000570","027001001",null,"Приём сточных вод :: Очистка сточных вод","2 объектов","Учалинский муниципальный район","Город Учалы","80653101","Без дифференциации",{"$nulls":4},"15.08","16.18","15.08","16.18"]
["47.1","МУП \"ХАЙБУЛЛАЖИЛКОМСТРОЙ\"","0248008051","024801001",null,"Приём сточных вод :: Очистка сточных вод","1 объектов","Хайбуллинский муниципальный район","Хайбуллинский муниципальный район","80655000","Без дифференциации",null,null,"20.24","21.66","20.24","21.66","20.24","21.66"]
["34.1","МУП \"Юмагузинский расчетный центр\"","0232007006","023201001",null,"Приём сточных вод :: Очистка сточных вод","4 объектов","Кугарчинский муниципальный район","Юмагузинский сельский совет","80638487","ЖБО",null,null,"23.14","25.06","23.14","25.06","23.14","25.06"]
["42.1","МУП «Татышлинские электрические сети, жилье и благоустройство»","0243004938","024301001",null,"Приём сточных вод :: Очистка сточных вод :: Транспортировка сточных вод","2 объектов","Татышлинский муниципальный район","Татышлинский муниципальный район","80650000","Без дифференциации",null,null,"64.63","67.04",null,null,"64.63","67.04"]
["19.3","МУП Салаватводоканал","0266002905","026601001",null,"Приём сточных вод :: Очистка сточных вод","11 объектов","Город Салават","город Салават","80739000","Без дифференциации",null,null,"14.14","15.64","14.14","15.64","14.14","15.64"]
["53.2","Муниципальное унитарное предприятие жилищно-коммунального хозяйства муниципального района Нуримановский район Республики Башкортостан","0239000200","023901001",null,"Приём сточных вод :: Очистка сточных вод :: Транспортировка сточных вод","4 объектов","Нуримановский муниципальный район","Нуримановский муниципальный район","80645000","Без дифференциации",{"$nulls":3},"61.48",null,"61.48",null,"61.48"]
["6.5","ОАО \"Белебеевский завод \"Автонормаль\"","0255010527","025250001",null,"Приём сточных вод :: Очистка сточных вод :: Транспортировка сточных вод","1 объектов","Белебеевский муниципальный район","Белебеевский муниципальный район","80609000","Без дифференциации",{"$nulls":4},"10.83","11.61","10.83","11.61"]
["6.6","ОАО \"Белебеевский завод \"Автонормаль\"","0255010527","025250001",null,"Транспортировка сточных вод","1 объектов","Белебеевский муниципальный район","Белебеевский муниципальный район","80609000","Без дифференциации",{"$nulls":6},"2.93","3.11"]
["13.6","ОАО \"Птицефабрика \"Башкирская\"","0245012726","024501001",null,"Приём сточных вод :: Очистка сточных вод","2 объектов","Уфимский муниципальный район","Уфимский муниципальный район","80652000","Без дифференциации","12.93","13.39"]
["23.2","ОАО \"УКХП\" город Уфа","0274092758","027401001",null,"Приём сточных вод :: Очистка сточных вод","2 объектов","Город Уфа","Город Уфа","80701000","Без дифференциации",null,null,"16.69","17.38","16.69","17.38","16.69","17.38"]
["51.1","ООО  «ЯнаулВодоканал» г.Янаул РБ","0271009046","027101001",null,"Приём сточных вод :: Очистка сточных вод","21 объектов","Янаульский муниципальный район","Янаульский муниципальный район","80659000","Без дифференциации",null,null,"36.23","38.5","36.23","38.5","36.23","38.5"]
["8.1","ООО \"Абзаково\"","0256014475","025601001",null,"Приём сточных вод :: Очистка сточных вод","4 объектов","Белорецкий муниципальный район","Белорецкий муниципальный район","80611000","Без дифференциации",{"$nulls":6},"81.93","86.03"]
["29.2","ООО \"БАШЖИЛСТРОЙПРОЕКТ\"","0261020957","026101001",null,"Приём сточных вод :: Очистка сточных вод :: Транспортировка сточных вод","3 объектов","Ишимбайский муниципальный район","Ишимбайский муниципальный район","80631000","Без дифференциации",{"$nulls":4},"24.52","23.37","24.52","23.37"]
["6.4","ООО \"Белебеевский водоканал\"","0255014715","025501001",null,"Приём сточных вод :: Очистка сточных вод :: Транспортировка сточных вод","4 объектов","Белебеевский муниципальный район","Белебеевский муниципальный район","80609000","Без дифференциации",null,null,"10.84","11.74","10.84","11.74","10.84","11.74"]
["6.3","ООО \"Белебеевский водоканал\"","0255014715","025501001",null,"Транспортировка сточных вод","1 объектов","Белебеевский муниципальный район","Белебеевский муниципальный район","80609000","Без дифференциации",null,null,"6.28","6.93","6.28","6.93","6.28","6.93"]
["37.1","ООО \"Водоканал\"","0263017332","026301001",null,"Приём сточных вод :: Очистка сточных вод :: Транспортировка сточных вод","13 объектов","Мелеузовский муниципальный район","Город Мелеуз","80641101","Без дифференциации",null,null,"22.58","24.16","22.58","24.16","22.58","24.16"]
["31.3","ООО \"Водоканал\" Кармаскалинский район","0229010697","022901001",null,"Приём сточных вод :: Очистка сточных вод","1 объектов","Кармаскалинский муниципальный район","Кармаскалинский муниципальный район","80635000","Без дифференциации",null,null,"43.01","44.17","43.01","44.17","43.01","44.17"]
["31.4","ООО \"Водоканал\" Кармаскалинский район","0229010697","022901001",null,"Приём сточных вод :: Очистка сточных вод","1 объектов","Кармаскалинский муниципальный район","Кармаскалинский муниципальный район","80635000","Без дифференциации",null,null,"39.99","42.27","39.99","42.27","39.99","42.27"]
["46.1","ООО \"Водоканал\" Федоровский район","0247004343","024701001",null,"Приём сточных вод :: Очистка сточных вод","1 объектов","Федоровский муниципальный район","Федоровский муниципальный район","80654000","Без дифференциации",null,null,"51.32","54.87","51.32","54.87","51.32","54.87"]
["52.1","ООО \"Водоканалстройсервис\" Бирский МР","0257008058","025701001",null,"Приём сточных вод :: Очистка сточных вод","1 объектов","Бирский муниципальный район","Бирский муниципальный район","80613000","Без дифференциации",{"$nulls":6},"21.53","23.35"]
["28.1","ООО \"Водолей\" Илишевского района","0225009394","022501001",null,"Приём сточных вод :: Очистка сточных вод","1 объектов","Илишевский муниципальный район","Яркеевский сельский совет","80630484","Без дифференциации",null,null,"31.21","32.99","31.21","32.99","31.21","32.99"]
["54.1","ООО \"Водхоз\" Благоварский район","0214005052","021401001",null,"Приём сточных вод :: Очистка сточных вод :: Транспортировка сточных вод","1 объектов","Благоварский муниципальный район","Языковский сельский совет","80614437","Без дифференциации",{"$nulls":3},"53.03",null,"53.03",null,"53.03"]
["10.1","ООО \"Водхоз\" Благоварский район","0214005052","021401001",null,"Транспортировка сточных вод","1 объектов","Благоварский муниципальный район","Первомайский сельский совет","80614424","Без дифференциации",{"$nulls":4},"28.65","30.66","28.65","30.66"]
["17.3","ООО \"ЖКО-7\" город Нефтекамск","0264051777","026401001",null,"Транспортировка сточных вод","1 объектов","Город Нефтекамск","город Нефтекамск","80727000","Без дифференциации","8.94","9.57"]
["26.2","ООО \"ЖКХ С.МОСКОВО\"","0260012390","026001001",null,"Приём сточных вод :: Очистка сточных вод :: Транспортировка сточных вод","5 объектов","Дюртюлинский муниципальный район","Дюртюлинский муниципальный район","80624000","Без дифференциации",null,null,"52.07","55.26","52.07","55.26","52.07","55.26"]
["48.3","ООО \"Жилкомсервис\"","0249007050","024901001",null,"Приём сточных вод :: Очистка сточных вод","1 объектов","Чекмагушевский муниципальный район","Чекмагушевский муниципальный район","80656000","Без дифференциации",{"$nulls":4},"36.03","38.69","36.03","38.69"]
["32.1","ООО \"Камводсервис\"","0231008342","023101001",null,"Приём сточных вод :: Очистка сточных вод","2 объектов","Краснокамский муниципальный район","Краснокамский муниципальный район","80637000","Без дифференциации",null,null,"28.06","30.03","28.06","30.03","28.06","30.03"]
["30.3","ООО \"Коммунальник\" (Калтасинский МР)","0227006208","022701001",null,"Приём сточных вод :: Очистка сточных вод","1 объектов","Калтасинский муниципальный район","Калтасинский муниципальный район","80633000","Без дифференциации",null,null,"27.98","29.65","27.98","29.65","27.98","29.65"]
["36.1","ООО \"Коммунальник\" Куюргазинский МР","0233006220","023301001",null,"Приём сточных вод :: Очистка сточных вод","2 объектов","Куюргазинский муниципальный район","Ермолаевский сельский совет","80639412","Без дифференциации",null,null,"13.3","13.56","13.3","13.56","13.3","13.56"]
["31.1","ООО \"Коммунальник\" с.Прибельский МР Кармаскалинский район РБ","0229012038","022901001",null,"Приём сточных вод :: Очистка сточных вод","1 объектов","Кармаскалинский муниципальный район","Кармаскалинский муниципальный район","80635000","Без дифференциации",null,null,"21.59","22.81","21.59","22.81","21.59","22.81"]
["27.1","ООО \"Коммунальщик\" (Иглинский МР)","0224010750","022401001",null,"Приём сточных вод :: Очистка сточных вод","3 объектов","Иглинский муниципальный район","Иглинский муниципальный район","80628000","Без дифференциации",null,null,"42.87","44.92","42.87","44.92","42.87","44.92"]
["47.2","ООО \"Коммунальщик\" (Хайбуллинский МР)","0248005540","024801001",null,"Приём сточных вод :: Очистка сточных вод","3 объектов","Хайбуллинский муниципальный район","Хайбуллинский муниципальный район","80655000","Без дифференциации",null,null,"26.9","28.78","26.9","28.78"]
["40.1","ООО \"Коммунальщик\" Салаватский район","0240804502","024001001",null,"Приём сточных вод :: Очистка сточных вод","1 объектов","Салаватский муниципальный район","Салаватский муниципальный район","80647000","Без дифференциации",{"$nulls":4},"30.21","32.32","30.21","32.32"]
["23.3","ООО \"Компания КРУС\"","0276049941","027401001",null,"Приём сточных вод :: Очистка сточных вод","1 объектов","Город Уфа","Город Уфа","80701000","Без дифференциации",{"$nulls":6},"80.87","84.35"]
["23.4","ООО \"Компания КРУС\"","0276049941","027401001",null,"Транспортировка сточных вод","1 объектов","Город Уфа","Город Уфа","80701000","Без дифференциации",{"$nulls":6},"19.43","21.31"]
["39.1","ООО \"Мечетлинский водоканал\"","0236005391","023601001",null,"Приём сточных вод :: Очистка сточных вод","1 объектов","Мечетлинский муниципальный район","Мечетлинский муниципальный район","80642000","Без дифференциации",{"$nulls":4},"23.64","23.75","23.64","23.75"]
["53.1","ООО \"ПАВЛОВКА-ВОДОКАНАЛ\"","0239005978","023901001",null,"Приём сточных вод :: Очистка сточных вод :: Транспортировка сточных вод","4 объектов","Нуримановский муниципальный район","Нуримановский муниципальный район","80645000","Без дифференциации",null,null,"56.98","60.97","56.98","60.97","56.98","60.97"]
["23.9","ООО \"ПКФ Промоборудование\"","0277070784","027701001",null,"Приём сточных вод :: Очистка сточных вод :: Транспортировка сточных вод","1 объектов","Город Уфа","Город Уфа","80701000","Без дифференциации",{"$nulls":6},"185.25","200.75"]
["22.2","ООО \"Первая Сетевая Компания\"","0268072425","026801001",null,"Приём сточных вод :: Очистка сточных вод :: Транспортировка сточных вод","1 объектов","Город Стерлитамак","Город Стерлитамак","80745000","Без дифференциации",{"$nulls":6},"45.73","51.99"]
["13.10","ООО \"СК \"МИЛОВСКИЙ ПАРК\"","0276150349","027601001",null,"Приём сточных вод :: Очистка сточных вод :: Транспортировка сточных вод","3 объектов","Уфимский муниципальный район","Уфимский муниципальный район","80652000","Без дифференциации",{"$nulls":4},"8.75","9.36"]
["31.2","ООО \"Стройбытсервис\" МР Кармаскалинский район","0229010601","022901001",null,"Приём сточных вод :: Очистка сточных вод","2 объектов","Кармаскалинский муниципальный район","Кармаскалинский муниципальный район","80635000","Без дифференциации",null,null,"44.1","45.75","44.1","45.75","44.1","45.75"]
["13.8","ООО \"Стройресурсы\"","0245019785","024501001",null,"Приём сточных вод :: Очистка сточных вод","1 объектов","Уфимский муниципальный район","Уфимский муниципальный район","80652000","Без дифференциации",{"$nulls":4},"26.57","28.43"]
["13.17","ООО \"Стройресурсы\"","0245019785","024501001",null,"Приём сточных вод :: Очистка сточных вод :: Транспортировка сточных вод","2 объектов","Уфимский муниципальный район","Уфимский муниципальный район","80652000","Без дифференциации",null,null,"25.61","26.73","25.61","26.73","25.61","26.73"]
["40.2","ООО \"Тепловодоканал\" Салаватский район","0240000389","024001001",null,"Приём сточных вод :: Очистка сточных вод","1 объектов","Салаватский муниципальный район","Салаватский муниципальный район","80647000","Без дифференциации",null,null,"26.24","28.08","26.24","28.08"]
["43.3","ООО \"Туймазыводоканал\"","0269030971","026901001",null,"Приём сточных вод :: Очистка сточных вод","13 объектов","Туймазинский муниципальный район","Туймазинский муниципальный район","80651000","Без дифференциации",null,null,"12.76","14.16","12.76","14.16","12.76","14.16"]
["41.2","ООО \"УК ЖКХ\"","0242007975","024201001","Очистка сточных вод","Приём сточных вод :: Очистка сточных вод","4 объектов","Стерлитамакский муниципальный район","Стерлитамакский муниципальный район","80649000","Без дифференциации",{"$nulls":4},"15.84","16.47","15.84","16.47"]
["41.1","ООО \"УК ЖКХ\"","0242007975","024201001",null,"Приём сточных вод :: Очистка сточных вод","4 объектов","Стерлитамакский муниципальный район","Стерлитамакский муниципальный район","80649000","Без дифференциации",{"$nulls":4},"23.08","24","23.08","24"]
["14.1","ООО \"Управление жилищно-коммунального хозяйства\"","0253018658","025301001",null,"Приём сточных вод :: Очистка сточных вод","6 объектов","Город Агидель","город Агидель","80703000","Без дифференциации",null,null,"38.72","40.59","38.72","40.59","38.72","40.59"]
["48.1","ООО \"Чекмагушевское ПУЖКХ\"","0249006970","024901001",null,"Приём сточных вод :: Очистка сточных вод","1 объектов","Чекмагушевский муниципальный район","Чекмагушевский муниципальный район","80656000","Без дифференциации",{"$nulls":4},"25.83","26.35","25.83","26.35"]
["49.3","ООО \"Чишмывода\"","0250012070","025001001",null,"Приём сточных вод :: Очистка сточных вод","21 объектов","Чишминский муниципальный район","Чишминский муниципальный район","80657000","Без дифференциации",null,null,"23.29","26.07","23.29","26.07","23.29","26.07"]
["23.8","ООО «Башнефть – Сервис НПЗ»","0275075378","027501001",null,"Приём сточных вод :: Очистка сточных вод :: Транспортировка сточных вод","3 объектов","Город Уфа","Город Уфа","80701000","ХБСВ",{"$nulls":6},"11.11","11.28"]
["23.7","ООО «Башнефть – Сервис НПЗ»","0275075378","027501001",null,"Приём сточных вод :: Очистка сточных вод :: Транспортировка сточных вод","3 объектов","Город Уфа","Город Уфа","80701000","СВ (иные)","45.34","48.32",{"$nulls":4},"45.34","48.32"]
["4.1","ООО «Водоканал» (Баймакский МР)","0254011302","025401001",null,"Приём сточных вод :: Очистка сточных вод","3 объектов","Баймакский муниципальный район","Баймакский муниципальный район","80606000","Без дифференциации",null,null,"18.32","19.08","18.32","19.08","18.32","19.08"]
["19.2","ООО «ПромВодоКанал»","0266033685","026601001","Оказание услуг на территории: город Салават (ОКТМО: 80739000) - для абонентов МУП \"Салаватводоканал\"","Приём сточных вод :: Очистка сточных вод","1 объектов","Город Салават","город Салават","80739000","Без дифференциации",{"$nulls":6},"5.57","5.9"]
["19.1","ООО «ПромВодоКанал»","0266033685","026601001","Оказание услуг на территории: город Салават (ОКТМО: 80739000) - канализационные сооружения","Приём сточных вод :: Очистка сточных вод","1 объектов","Город Салават","город Салават","80739000","Без дифференциации",{"$nulls":6},"21.65","24.33"]
["19.4","ООО «ПромВодоКанал»","0266033685","026601001","Очистка сточных вод","Приём сточных вод :: Очистка сточных вод","1 объектов","Город Салават","город Салават","80739000","Без дифференциации",{"$nulls":6},"17.89","21.28"]
["38.1","ООО «ПромВодоКанал»","0266033685","026601001",null,"Приём сточных вод :: Очистка сточных вод","1 объектов","Мелеузовский муниципальный район","Нугушевский сельский совет","80641460","ХБСВ",{"$nulls":4},"8.41","9"]
["29.3","ООО «ПромВодоКанал»","0266033685","026601001",null,"Приём сточных вод :: Очистка сточных вод :: Транспортировка сточных вод","1 объектов","Ишимбайский муниципальный район","Ишимбайский муниципальный район","80631000","Без дифференциации",{"$nulls":6},"204.01","252.79"]
["38.2","ООО «ПромВодоКанал»","0266033685","026601001",null,"Приём сточных вод :: Очистка сточных вод :: Транспортировка сточных вод","1 объектов","Мелеузовский муниципальный район","Нугушевский сельский совет","80641460","ПСВ",{"$nulls":6},"295.02","353.81"]
["17.4","ООО БГК Кармановская ГРЭС","0277077282","026401001",null,"Приём сточных вод :: Очистка сточных вод :: Транспортировка сточных вод","12 объектов","Город Нефтекамск","город Нефтекамск","80727000","Без дифференциации",null,null,"24.31","25.77","24.31","25.77"]
["7.1","ООО ЖКХ \"Ургалинское\" МР Белокатайский район","0210027577","021001001",null,"Приём сточных вод :: Очистка сточных вод","3 объектов","Белокатайский муниципальный район","Белокатайский муниципальный район","80610000","Без дифференциации",null,null,"45.67","48.87","45.67","48.87","45.67","48.87"]
["13.12","ООО ЖКХ \"Шемяк\"","0245021015","024501001",null,"Приём сточных вод :: Очистка сточных вод","5 объектов","Уфимский муниципальный район","Уфимский муниципальный район","80652000","Без дифференциации",{"$nulls":4},"18.59","19.62","18.59","19.62"]
["44.2","ООО ЖКХ \"Шемяк\"","0245021015","024501001",null,"Приём сточных вод :: Очистка сточных вод :: Транспортировка сточных вод","1 объектов","Уфимский муниципальный район","Михайловский сельский совет","80652440","Без дифференциации",null,null,"22.31","25.68","22.31","25.68","22.31","25.68"]
["13.11","ООО ЖКХ \"Шемяк\"","0245021015","024501001",null,"Приём сточных вод :: Очистка сточных вод :: Транспортировка сточных вод","2 объектов","Уфимский муниципальный район","Уфимский муниципальный район","80652000","Без дифференциации",{"$nulls":4},"36.42","38.22","36.42","38.22"]
["13.4","ООО КХ \"Авдон\"","0245019658","024501001",null,"Приём сточных вод :: Очистка сточных вод","1 объектов","Уфимский муниципальный район","Уфимский муниципальный район","80652000","Без дифференциации",null,null,"19.66","20.34","19.66","20.34","19.66","20.34"]
["13.5","ООО ПЖУ \"Нижегородское\"","0245012420","024501001",null,"Приём сточных вод :: Очистка сточных вод","3 объектов","Уфимский муниципальный район","Уфимский муниципальный район","80652000","Без дифференциации",null,null,"21.33","22.65","21.33","22.65","21.33","22.65"]
["3.1","ООО Строй-Комфорт","0203003938","020301001",null,"Приём сточных вод :: Очистка сточных вод","1 объектов","Архангельский муниципальный район","Архангельский муниципальный район","80603000","Без дифференциации",null,null,"41.79","44.65","41.79","44.65"]
["3.2","ООО Строй-Комфорт","0203003938","020301001",null,"Приём сточных вод :: Очистка сточных вод","1 объектов","Архангельский муниципальный район","Архангельский муниципальный район","80603000","Без дифференциации",null,null,"52.72","56.43","52.72","56.43"]
["26.4","ООО УК \"Керамик\"","0260011808","026001001",null,"Приём сточных вод :: Очистка сточных вод :: Транспортировка сточных вод","3 объектов","Дюртюлинский муниципальный район","Дюртюлинский муниципальный район","80624000","Без дифференциации",{"$nulls":4},"55.38","58.15","55.38","58.15"]
["47.3","ООО УК \"КомУслугиУфимский\"","0248008005","024801001",null,"Приём сточных вод :: Очистка сточных вод","1 объектов","Хайбуллинский муниципальный район","Хайбуллинский муниципальный район","80655000","Без дифференциации",null,null,"18.34","19.8","18.34","19.8"]
["13.15","ООО УК \"НовоБулгаково\"","0245025010","024501001",null,"Приём сточных вод :: Очистка сточных вод","1 объектов","Уфимский муниципальный район","Уфимский муниципальный район","80652000","Без дифференциации",{"$nulls":4},"50.98","56.02","50.98","56.02"]
["43.2","ООО УПТК \"Водомонтажкомплект\"","0269019015","026901001",null,"Приём сточных вод :: Очистка сточных вод","4 объектов","Туймазинский муниципальный район","Туймазинский муниципальный район","80651000","Без дифференциации",null,null,"18.07","19.3","18.07","19.3","18.07","19.3"]
["43.1","ООО УПТК \"Водомонтажкомплект\"","0269019015","026901001",null,"Приём сточных вод :: Очистка сточных вод","10 объектов","Туймазинский муниципальный район","Туймазинский муниципальный район","80651000","Без дифференциации",null,null,"8.95","9.58","8.95","9.58","8.95","9.58"]
["13.3","ООО\"Алексеевское коммунальное управление\" МР Уфимский район РБ","0245019753","024501001",null,"Приём сточных вод :: Очистка сточных вод","1 объектов","Уфимский муниципальный район","Уфимский муниципальный район","80652000","Без дифференциации",{"$nulls":4},"28.08","28.69","28.08","28.69"]
["13.2","ООО\"Алексеевское коммунальное управление\" МР Уфимский район РБ","0245019753","024501001",null,"Приём сточных вод :: Очистка сточных вод","2 объектов","Уфимский муниципальный район","Уфимский муниципальный район","80652000","Без дифференциации",null,null,"30.22","32.29","30.22","32.29","30.22","32.29"]
["2.2","Раевское МУП ПО МТО \"Агротехснаб\" Альшеевского района Республики Башкортостан","0202006277","020201001",null,"Приём сточных вод :: Очистка сточных вод","5 объектов","Альшеевский муниципальный район","Альшеевский муниципальный район","80602000","Без дифференциации",null,null,"61.47","65.24","61.47","65.24","61.47","65.24"]
["21.1","Сибайский филиал ОАО \"Учалинский ГОК\"","0270007455","026702001",null,"Транспортировка сточных вод","2 объектов","Город Сибай","Город Сибай","80743000","Без дифференциации",{"$nulls":6},"12.4","14.9"]
["43.4","Туймазинское нефтепроводное управление - филиал АО \"Транснефть-Урал\"","0278039018","026902001",null,"Приём сточных вод :: Очистка сточных вод","1 объектов","Туймазинский муниципальный район","Туймазинский муниципальный район","80651000","Без дифференциации",{"$nulls":6},"7.54","7.68"]
["49.2","ФГБУ \"ЦЖКУ\" МИНОБОРОНЫ РОССИИ (по ЦВО)","7729314745","667043001",null,"Приём сточных вод :: Очистка сточных вод","1 объектов","Чишминский муниципальный район","Чишминский муниципальный район","80657000","Без дифференциации",null,"34.38"]
["23.6","ФГБУ \"ЦЖКУ\" МИНОБОРОНЫ РОССИИ (по ЦВО)","7729314745","667043001",null,"Транспортировка сточных вод","1 объектов","Город Уфа","Город Уфа","80701000","Без дифференциации",{"$nulls":3},"9.8"]
["6.2","ФГБУ санаторий \"Глуховская\" Минздрава России","0209001038","025501001",null,"Приём сточных вод :: Очистка сточных вод :: Транспортировка сточных вод","2 объектов","Белебеевский муниципальный район","Белебеевский муниципальный район","80609000","Без дифференциации",null,null,"11.47","11.77","11.47","11.77","11.47","11.77"]
["6.1","ФГБУ санаторий им. С.Т. Аксакова Минздрава России","0255002773","025501001",null,"Приём сточных вод :: Очистка сточных вод :: Транспортировка сточных вод","1 объектов","Белебеевский муниципальный район","Белебеевский муниципальный район","80609000","Без дифференциации",{"$nulls":4},"13.68","15.34","13.68","15.34"]
["22.5","ФКП \"АВАНГАРД\"","0268005588","026801001",null,"Приём сточных вод :: Очистка сточных вод :: Транспортировка сточных вод","1 объектов","Город Стерлитамак","Город Стерлитамак","80745000","Без дифференциации",{"$nulls":6},"14.85","15.71"]
["22.6","ФКП \"АВАНГАРД\"","0268005588","026801001",null,"Транспортировка сточных вод","1 объектов","Город Стерлитамак","Город Стерлитамак","80745000","Без дифференциации",{"$nulls":6},"13.32","13.61"]
["2.1","Федеральное государственное бюджетное учреждение санаторий \"Шафраново\" Министерства здравоохранения Российской Федерации","0202000395","020201001",null,"Приём сточных вод :: Очистка сточных вод","2 объектов","Альшеевский муниципальный район","Альшеевский муниципальный район","80602000","Без дифференциации",null,null,"14.84","15.73","14.84","15.73"]
["49.1","Чишминский сахарный завод","0250005763","025001001",null,"Приём сточных вод :: Очистка сточных вод","1 объектов","Чишминский муниципальный район","Чишминский муниципальный район","80657000","Без дифференциации",{"$nulls":6},"6.23","6.67"]

{"sheet":"modGetGeoBase","index":35,"n_rows":0,"n_cols":0,"rows_kept":0,"hidden":true}

{"sheet":"modInfo","index":36,"n_rows":3,"n_cols":2,"rows_kept":3,"hidden":true}
[]
[]
[null,"Нет доступных обновлений, версия отчёта актуальна"]

{"sheet":"modUIButtons","index":37,"n_rows":0,"n_cols":0,"rows_kept":0,"hidden":true}

{"sheet":"modVLDCommon","index":38,"n_rows":0,"n_cols":0,"rows_kept":0,"hidden":true}

{"sheet":"modVLDIntegrity","index":39,"n_rows":0,"n_cols":0,"rows_kept":0,"hidden":true}

{"sheet":"modVLDData","index":40,"n_rows":0,"n_cols":0,"rows_kept":0,"hidden":true}

{"sheet":"modCommonProcedures","index":41,"n_rows":0,"n_cols":0,"rows_kept":0,"hidden":true}

{"sheet":"modBalPr","index":42,"n_rows":0,"n_cols":0,"rows_kept":0,"hidden":true}

{"sheet":"modBalTr","index":43,"n_rows":0,"n_cols":0,"rows_kept":0,"hidden":true}

{"sheet":"modCalc","index":44,"n_rows":0,"n_cols":0,"rows_kept":0,"hidden":true}

{"sheet":"modFuel","index":45,"n_rows":0,"n_cols":0,"rows_kept":0,"hidden":true}

{"sheet":"modReagent","index":46,"n_rows":0,"n_cols":0,"rows_kept":0,"hidden":true}

{"sheet":"modListMO","index":47,"n_rows":0,"n_cols":0,"rows_kept":0,"hidden":true}

{"sheet":"modListObjects","index":48,"n_rows":0,"n_cols":0,"rows_kept":0,"hidden":true}

{"sheet":"modRequestSpecificData","index":49,"n_rows":0,"n_cols":0,"rows_kept":0,"hidden":true}

{"sheet":"modRequestGenericData","index":50,"n_rows":0,"n_cols":0,"rows_kept":0,"hidden":true}

{"sheet":"modfrmRegion","index":51,"n_rows":0,"n_cols":0,"rows_kept":0,"hidden":true}

{"sheet":"modVLDGeneral","index":52,"n_rows":0,"n_cols":0,"rows_kept":0,"hidden":true}

{"sheet":"modPLAN1XUpdate","index":53,"n_rows":0,"n_cols":0,"rows_kept":0,"hidden":true}

{"sheet":"modVLDUniqueness","index":54,"n_rows":0,"n_cols":0,"rows_kept":0,"hidden":true}

{"sheet":"modfrmReestr","index":55,"n_rows":0,"n_cols":0,"rows_kept":0,"hidden":true}

{"sheet":"modfrmOrg","index":56,"n_rows":0,"n_cols":0,"rows_kept":0,"hidden":true}

{"sheet":"modUpdTemplMain","index":57,"n_rows":0,"n_cols":0,"rows_kept":0,"hidden":true}

{"sheet":"modfrmCheckUpdates","index":58,"n_rows":0,"n_cols":0,"rows_kept":0,"hidden":true}

{"sheet":"modfrmDateChoose","index":59,"n_rows":0,"n_cols":0,"rows_kept":0,"hidden":true}

{"sheet":"modIHLCommandBar","index":60,"n_rows":0,"n_cols":0,"rows_kept":0,"hidden":true}

{"sheet":"modfrmHEATAdditionalOrgData","index":61,"n_rows":0,"n_cols":0,"rows_kept":0,"hidden":true}

{"sheet":"modfrmHEATFUELSelector","index":62,"n_rows":0,"n_cols":0,"rows_kept":0,"hidden":true}

{"sheet":"modfrmPLAN1XCheckInIsInProgress","index":63,"n_rows":0,"n_cols":0,"rows_kept":0,"hidden":true}

{"sheet":"modfrmPLAN1XUpdateIsInProgress","index":64,"n_rows":0,"n_cols":0,"rows_kept":0,"hidden":true}

{"sheet":"modfrmReportMode","index":65,"n_rows":0,"n_cols":0,"rows_kept":0,"hidden":true}